{"text_format":"1","workbook":"xlsx","n_sheets":8,"sheets":["Formating rules","CDT","CDT Leaf","Instructions","Main Page","Sheet1","New item proposal","Dropdowns"],"not_rendered":{"charts":0,"images":6,"macros":1,"external_links":0,"defined_names":36,"comments":4,"pivot_tables":0},"unopened":[],"bounds":{"document_bytes":16777216,"sheet_cells":100000,"rows_first":2000,"rows_last":500,"rows_between":2000,"halvings":0,"cell_chars":16384,"cell_head_chars":4096},"cells_cut":0,"cells_raw":0,"read":"whole","date_system":"1900"}

{"sheet":"Formating rules","index":0,"n_rows":57,"n_cols":22,"rows_kept":57,"cut":false,"hidden":true,"merged":[[5,0,24,0],[39,0,40,0],[42,0,50,0],[51,0,53,0],[54,0,55,0],[25,0,32,0],[33,0,35,0],[36,0,38,0],[28,1,30,1]]}
["Mandatory field"]
["Automatic field"]
["Optional field"]
["Input is not allowed"]
[null,"EN","EE","LV","LT","ACTIVE TRANSLATION IN FILE",null,"Alcohol","Baby food","Cosmetics, hygiene and body care products","Fresh food","Household chemicals","Non-alcoholic beverages","Nonfood","Packed food (grocery)","Pet food","Wine, sparkling wine","Cigarettes, cigars, other tobacco","Press, magazines","Frozen food","Lottery tickets, prepaid mobile cards","Other Nearfood"]
[null,"Unit",{"$f":"_xlfn.XLOOKUP(B6,Instructions!B:B,Instructions!K:K)","v":"Üksus"},{"$f":"_xlfn.XLOOKUP(B6,Instructions!B:B,Instructions!O:O)","v":"Produkta struktūrvienība"},{"$f":"_xlfn.XLOOKUP(B6,Instructions!B:B,Instructions!S:S)","v":"Vienetas"},{"$f":"IF('New item proposal'!$A$2=\"EE\", C6,\nIF('New item proposal'!$A$2=\"LV\",D6,\nIF('New item proposal'!$A$2=\"LT\",E6,B6)))","v":"Unit"},null,"Automatic field","Automatic field","Automatic field","Automatic field","Automatic field","Automatic field","Automatic field","Automatic field","Automatic field","Automatic field","Automatic field","Automatic field","Automatic field","Automatic field","Automatic field"]
[null,"Product Category ID",{"$f":"_xlfn.XLOOKUP(B7,Instructions!B:B,Instructions!K:K)","v":"Tootekategooria ID"},{"$f":"_xlfn.XLOOKUP(B7,Instructions!B:B,Instructions!O:O)","v":"Produkta kategorijas ID"},{"$f":"_xlfn.XLOOKUP(B7,Instructions!B:B,Instructions!S:S)","v":"Produkto kategorija ID"},{"$f":"IF('New item proposal'!$A$2=\"EE\", C7,\nIF('New item proposal'!$A$2=\"LV\",D7,\nIF('New item proposal'!$A$2=\"LT\",E7,B7)))","v":"Product Category ID"},null,"Automatic field","Automatic field","Automatic field","Automatic field","Automatic field","Automatic field","Automatic field","Automatic field","Automatic field","Automatic field","Automatic field","Automatic field","Automatic field","Automatic field","Automatic field"]
[null,"Product category",{"$f":"_xlfn.XLOOKUP(B8,Instructions!B:B,Instructions!K:K)","v":"Tootekategooria"},{"$f":"_xlfn.XLOOKUP(B8,Instructions!B:B,Instructions!O:O)","v":"Produkta kategorija"},{"$f":"_xlfn.XLOOKUP(B8,Instructions!B:B,Instructions!S:S)","v":"Produkto kategorija"},{"$f":"IF('New item proposal'!$A$2=\"EE\", C8,\nIF('New item proposal'!$A$2=\"LV\",D8,\nIF('New item proposal'!$A$2=\"LT\",E8,B8)))","v":"Product category"},"Please select...","Automatic field","Automatic field","Automatic field","Automatic field","Automatic field","Automatic field","Automatic field","Automatic field","Automatic field","Automatic field","Automatic field","Automatic field","Automatic field","Automatic field","Automatic field"]
[null,"Category Tree ID",{"$f":"_xlfn.XLOOKUP(B9,Instructions!B:B,Instructions!K:K)","v":"Kategooriapuu ID"},{"$f":"_xlfn.XLOOKUP(B9,Instructions!B:B,Instructions!O:O)","v":"Kategoriju koka ID"},{"$f":"_xlfn.XLOOKUP(B9,Instructions!B:B,Instructions!S:S)","v":"Kategorijų medis ID"},{"$f":"IF('New item proposal'!$A$2=\"EE\", C9,\nIF('New item proposal'!$A$2=\"LV\",D9,\nIF('New item proposal'!$A$2=\"LT\",E9,B9)))","v":"Category Tree ID"},null,"Automatic field","Automatic field","Automatic field","Automatic field","Automatic field","Automatic field","Automatic field","Automatic field","Automatic field","Automatic field","Automatic field","Automatic field","Automatic field","Automatic field","Automatic field"]
[null,"Category Tree",{"$f":"_xlfn.XLOOKUP(B10,Instructions!B:B,Instructions!K:K)","v":"Kategooriapuu"},{"$f":"_xlfn.XLOOKUP(B10,Instructions!B:B,Instructions!O:O)","v":"Kategoriju koks"},{"$f":"_xlfn.XLOOKUP(B10,Instructions!B:B,Instructions!S:S)","v":"Kategorijų medis"},{"$f":"IF('New item proposal'!$A$2=\"EE\", C10,\nIF('New item proposal'!$A$2=\"LV\",D10,\nIF('New item proposal'!$A$2=\"LT\",E10,B10)))","v":"Category Tree"},null,"Mandatory field","Mandatory field","Mandatory field","Mandatory field","Mandatory field","Mandatory field","Mandatory field","Mandatory field","Mandatory field","Mandatory field","Mandatory field","Mandatory field","Mandatory field","Mandatory field","Mandatory field"]
[null,"EAN",{"$f":"_xlfn.XLOOKUP(B11,Instructions!B:B,Instructions!K:K)","v":"EAN"},{"$f":"_xlfn.XLOOKUP(B11,Instructions!B:B,Instructions!O:O)","v":"EAN"},{"$f":"_xlfn.XLOOKUP(B11,Instructions!B:B,Instructions!S:S)","v":"Prekės EAN kodas"},{"$f":"IF('New item proposal'!$A$2=\"EE\", C11,\nIF('New item proposal'!$A$2=\"LV\",D11,\nIF('New item proposal'!$A$2=\"LT\",E11,B11)))","v":"EAN"},null,"Mandatory field","Mandatory field","Mandatory field","Mandatory field","Mandatory field","Mandatory field","Mandatory field","Mandatory field","Mandatory field","Mandatory field","Mandatory field","Mandatory field","Mandatory field","Mandatory field","Mandatory field"]
[null,"Article full name",{"$f":"_xlfn.XLOOKUP(B12,Instructions!B:B,Instructions!K:K)","v":"Toote nimetus"},{"$f":"_xlfn.XLOOKUP(B12,Instructions!B:B,Instructions!O:O)","v":"Preces nosaukums"},{"$f":"_xlfn.XLOOKUP(B12,Instructions!B:B,Instructions!S:S)","v":"Prekės pilnas pavadinimas"},{"$f":"IF('New item proposal'!$A$2=\"EE\", C12,\nIF('New item proposal'!$A$2=\"LV\",D12,\nIF('New item proposal'!$A$2=\"LT\",E12,B12)))","v":"Article full name"},null,"Mandatory field","Mandatory field","Mandatory field","Mandatory field","Mandatory field","Mandatory field","Mandatory field","Mandatory field","Mandatory field","Mandatory field","Mandatory field","Mandatory field","Mandatory field","Mandatory field","Mandatory field"]
[null,"Additional EAN",{"$f":"_xlfn.XLOOKUP(B13,Instructions!B:B,Instructions!K:K)","v":"Täiendav EAN"},{"$f":"_xlfn.XLOOKUP(B13,Instructions!B:B,Instructions!O:O)","v":"Papildus EAN"},{"$f":"_xlfn.XLOOKUP(B13,Instructions!B:B,Instructions!S:S)","v":"Papildomas EAN"},{"$f":"IF('New item proposal'!$A$2=\"EE\", C13,\nIF('New item proposal'!$A$2=\"LV\",D13,\nIF('New item proposal'!$A$2=\"LT\",E13,B13)))","v":"Additional EAN"},null,"Optional field","Optional field","Optional field","Optional field","Optional field","Optional field","Optional field","Optional field","Optional field","Optional field","Optional field","Optional field","Optional field","Optional field","Optional field"]
[null,"Brand name",{"$f":"_xlfn.XLOOKUP(B14,Instructions!B:B,Instructions!K:K)","v":"Bränd"},{"$f":"_xlfn.XLOOKUP(B14,Instructions!B:B,Instructions!O:O)","v":"Zīmols"},{"$f":"_xlfn.XLOOKUP(B14,Instructions!B:B,Instructions!S:S)","v":"Prekinis ženklas"},{"$f":"IF('New item proposal'!$A$2=\"EE\", C14,\nIF('New item proposal'!$A$2=\"LV\",D14,\nIF('New item proposal'!$A$2=\"LT\",E14,B14)))","v":"Brand name"},null,"Mandatory field","Mandatory field","Mandatory field","Mandatory field","Mandatory field","Mandatory field","Mandatory field","Mandatory field","Mandatory field","Mandatory field","Mandatory field","Mandatory field","Mandatory field","Mandatory field","Mandatory field"]
[null,"Producer",{"$f":"_xlfn.XLOOKUP(B15,Instructions!B:B,Instructions!K:K)","v":"Tootja"},{"$f":"_xlfn.XLOOKUP(B15,Instructions!B:B,Instructions!O:O)","v":"Ražotājs"},{"$f":"_xlfn.XLOOKUP(B15,Instructions!B:B,Instructions!S:S)","v":"Gamintojas"},{"$f":"IF('New item proposal'!$A$2=\"EE\", C15,\nIF('New item proposal'!$A$2=\"LV\",D15,\nIF('New item proposal'!$A$2=\"LT\",E15,B15)))","v":"Producer"},null,"Mandatory field","Mandatory field","Mandatory field","Mandatory field","Mandatory field","Mandatory field","Mandatory field","Mandatory field","Mandatory field","Mandatory field","Mandatory field","Mandatory field","Mandatory field","Mandatory field","Mandatory field"]
[null,"Vendor name",{"$f":"_xlfn.XLOOKUP(B16,Instructions!B:B,Instructions!K:K)","v":"Hankija nimi"},{"$f":"_xlfn.XLOOKUP(B16,Instructions!B:B,Instructions!O:O)","v":"Piegādātājs"},{"$f":"_xlfn.XLOOKUP(B16,Instructions!B:B,Instructions!S:S)","v":"Tiekėjas"},{"$f":"IF('New item proposal'!$A$2=\"EE\", C16,\nIF('New item proposal'!$A$2=\"LV\",D16,\nIF('New item proposal'!$A$2=\"LT\",E16,B16)))","v":"Vendor name"},null,"Mandatory field","Mandatory field","Mandatory field","Mandatory field","Mandatory field","Mandatory field","Mandatory field","Mandatory field","Mandatory field","Mandatory field","Mandatory field","Mandatory field","Mandatory field","Mandatory field","Mandatory field"]
[null,"Country of origin",{"$f":"_xlfn.XLOOKUP(B17,Instructions!B:B,Instructions!K:K)","v":"Päritolumaa"},{"$f":"_xlfn.XLOOKUP(B17,Instructions!B:B,Instructions!O:O)","v":"Izcelsmes valsts"},{"$f":"_xlfn.XLOOKUP(B17,Instructions!B:B,Instructions!S:S)","v":"Kilmės šalis"},{"$f":"IF('New item proposal'!$A$2=\"EE\", C17,\nIF('New item proposal'!$A$2=\"LV\",D17,\nIF('New item proposal'!$A$2=\"LT\",E17,B17)))","v":"Country of origin"},null,"Mandatory field","Mandatory field","Mandatory field","Mandatory field","Mandatory field","Mandatory field","Mandatory field","Mandatory field","Mandatory field","Mandatory field","Mandatory field","Mandatory field","Mandatory field","Mandatory field","Mandatory field"]
[null,"Shelf life in days",{"$f":"_xlfn.XLOOKUP(B18,Instructions!B:B,Instructions!K:K)","v":"Kogu eluiga päevades"},{"$f":"_xlfn.XLOOKUP(B18,Instructions!B:B,Instructions!O:O)","v":"Derīguma termiņš (dienas)"},{"$f":"_xlfn.XLOOKUP(B18,Instructions!B:B,Instructions!S:S)","v":"Galiojimo trukmė"},{"$f":"IF('New item proposal'!$A$2=\"EE\", C18,\nIF('New item proposal'!$A$2=\"LV\",D18,\nIF('New item proposal'!$A$2=\"LT\",E18,B18)))","v":"Shelf life in days"},null,"Mandatory field","Mandatory field","Mandatory field","Mandatory field","Input is not allowed","Mandatory field","Input is not allowed","Mandatory field","Mandatory field","Mandatory field","Optional field","Input is not allowed","Mandatory field","Input is not allowed","Input is not allowed"]
[null,"Shelf life in days after opening packaging for weighted items",{"$f":"_xlfn.XLOOKUP(B19,Instructions!B:B,Instructions!K:K)","v":"Kogu eluiga päevades \npärast kaalutud esemete pakendi avamist"},{"$f":"_xlfn.XLOOKUP(B19,Instructions!B:B,Instructions!O:O)","v":"Derīguma termiņš (dienas) pēc sveramā iepakojuma atvēršanas"},{"$f":"_xlfn.XLOOKUP(B19,Instructions!B:B,Instructions!S:S)","v":"Galiojimo trukmė atidarius sveriamų prekės pakuotę"},{"$f":"IF('New item proposal'!$A$2=\"EE\", C19,\nIF('New item proposal'!$A$2=\"LV\",D19,\nIF('New item proposal'!$A$2=\"LT\",E19,B19)))","v":"Shelf life in days after opening packaging for weighted items"},null,"Optional field","Optional field","Optional field","Optional field","Input is not allowed","Optional field","Input is not allowed","Optional field","Optional field","Optional field","Optional field","Input is not allowed","Optional field","Input is not allowed","Input is not allowed"]
[null,"Need for storing temperature check",{"$f":"_xlfn.XLOOKUP(B20,Instructions!B:B,Instructions!K:K)","v":"Vajadus ladustamistemperatuuri kontrollimiseks"},{"$f":"_xlfn.XLOOKUP(B20,Instructions!B:B,Instructions!O:O)","v":"Nepieciešama uzglabāšanas temperatūras kontrole"},{"$f":"_xlfn.XLOOKUP(B20,Instructions!B:B,Instructions!S:S)","v":"Būtina patikrinti laikymo temperatūrą"},{"$f":"IF('New item proposal'!$A$2=\"EE\", C20,\nIF('New item proposal'!$A$2=\"LV\",D20,\nIF('New item proposal'!$A$2=\"LT\",E20,B20)))","v":"Need for storing temperature check"},null,"Mandatory field","Mandatory field","Input is not allowed","Mandatory field","Input is not allowed","Mandatory field","Input is not allowed","Mandatory field","Mandatory field","Mandatory field","Optional field","Input is not allowed","Mandatory field","Input is not allowed","Input is not allowed"]
[null,"Minimum storing temperature",{"$f":"_xlfn.XLOOKUP(B21,Instructions!B:B,Instructions!K:K)","v":"Minimaalne säilitustemperatuur"},{"$f":"_xlfn.XLOOKUP(B21,Instructions!B:B,Instructions!O:O)","v":"Minimālā uzglabāšanas temperatūra"},{"$f":"_xlfn.XLOOKUP(B21,Instructions!B:B,Instructions!S:S)","v":"Minimali laikymo temperatūra"},{"$f":"IF('New item proposal'!$A$2=\"EE\", C21,\nIF('New item proposal'!$A$2=\"LV\",D21,\nIF('New item proposal'!$A$2=\"LT\",E21,B21)))","v":"Minimum storing temperature"},null,"Optional field","Optional field","Input is not allowed","Optional field","Input is not allowed","Optional field","Input is not allowed","Optional field","Optional field","Optional field","Optional field","Input is not allowed","Optional field","Input is not allowed","Input is not allowed"]
[null,"Maximum storing temperature",{"$f":"_xlfn.XLOOKUP(B22,Instructions!B:B,Instructions!K:K)","v":"Maksimaalne säilitustemperatuur"},{"$f":"_xlfn.XLOOKUP(B22,Instructions!B:B,Instructions!O:O)","v":"Maksimālā uzglabāšanas temperatūra"},{"$f":"_xlfn.XLOOKUP(B22,Instructions!B:B,Instructions!S:S)","v":"Maksimali laikymo temperatūra"},{"$f":"IF('New item proposal'!$A$2=\"EE\", C22,\nIF('New item proposal'!$A$2=\"LV\",D22,\nIF('New item proposal'!$A$2=\"LT\",E22,B22)))","v":"Maximum storing temperature"},null,"Optional field","Optional field","Input is not allowed","Optional field","Input is not allowed","Optional field","Input is not allowed","Optional field","Optional field","Optional field","Optional field","Input is not allowed","Optional field","Input is not allowed","Input is not allowed"]
[null,"Purchase price for one unit",{"$f":"_xlfn.XLOOKUP(B23,Instructions!B:B,Instructions!K:K)","v":"Ühe ühiku ostuhind"},{"$f":"_xlfn.XLOOKUP(B23,Instructions!B:B,Instructions!O:O)","v":"Iepirkuma cena par vienu vienību"},{"$f":"_xlfn.XLOOKUP(B23,Instructions!B:B,Instructions!S:S)","v":"Prekės pirkimo kaina, 1 vnt."},{"$f":"IF('New item proposal'!$A$2=\"EE\", C23,\nIF('New item proposal'!$A$2=\"LV\",D23,\nIF('New item proposal'!$A$2=\"LT\",E23,B23)))","v":"Purchase price for one unit"},null,"Mandatory field","Mandatory field","Mandatory field","Mandatory field","Mandatory field","Mandatory field","Mandatory field","Mandatory field","Mandatory field","Mandatory field","Mandatory field","Mandatory field","Mandatory field","Mandatory field","Mandatory field"]
[null,"Purchase price currency",{"$f":"_xlfn.XLOOKUP(B24,Instructions!B:B,Instructions!K:K)","v":"Ostuhinna valuuta"},{"$f":"_xlfn.XLOOKUP(B24,Instructions!B:B,Instructions!O:O)","v":"Iepirkuma cenas valūta"},{"$f":"_xlfn.XLOOKUP(B24,Instructions!B:B,Instructions!S:S)","v":"Prekės pirkimo kainos valiuta"},{"$f":"IF('New item proposal'!$A$2=\"EE\", C24,\nIF('New item proposal'!$A$2=\"LV\",D24,\nIF('New item proposal'!$A$2=\"LT\",E24,B24)))","v":"Purchase price currency"},null,"Mandatory field","Mandatory field","Mandatory field","Mandatory field","Mandatory field","Mandatory field","Mandatory field","Mandatory field","Mandatory field","Mandatory field","Mandatory field","Mandatory field","Mandatory field","Mandatory field","Mandatory field"]
[null,"Purchase price for 1 KG/ 1L",{"$f":"_xlfn.XLOOKUP(B25,Instructions!B:B,Instructions!K:K)","v":"1KG/1L ostuhind"},{"$f":"_xlfn.XLOOKUP(B25,Instructions!B:B,Instructions!O:O)","v":"Iepirkuma cena par 1KG / 1L"},{"$f":"_xlfn.XLOOKUP(B25,Instructions!B:B,Instructions!S:S)","v":"Prekės pirkimo kaina, 1 kg/1l"},{"$f":"IF('New item proposal'!$A$2=\"EE\", C25,\nIF('New item proposal'!$A$2=\"LV\",D25,\nIF('New item proposal'!$A$2=\"LT\",E25,B25)))","v":"Purchase price for 1 KG/ 1L"},{"$f":"IF(OR(G23=\"\",G26=\"\")=TRUE,\"\",G23/G26)","v":""},"Automatic field","Automatic field","Automatic field","Automatic field","Automatic field","Automatic field","Automatic field","Automatic field","Automatic field","Automatic field","Automatic field","Automatic field","Automatic field","Automatic field","Automatic field"]
["Basic and transport unit data","One unit weight, volume or quantity",{"$f":"_xlfn.XLOOKUP(B26,Instructions!B:B,Instructions!K:K)","v":"Baasühiku kaal, maht või arv"},{"$f":"_xlfn.XLOOKUP(B26,Instructions!B:B,Instructions!O:O)","v":"Produkta svars (KG), tilpums (L) vai daudzums (gab.)"},{"$f":"_xlfn.XLOOKUP(B26,Instructions!B:B,Instructions!S:S)","v":"Prekės vieneto svoris, dydis ar kiekis"},{"$f":"IF('New item proposal'!$A$2=\"EE\", C26,\nIF('New item proposal'!$A$2=\"LV\",D26,\nIF('New item proposal'!$A$2=\"LT\",E26,B26)))","v":"One unit weight, volume or quantity"},null,"Mandatory field","Mandatory field","Mandatory field","Mandatory field","Mandatory field","Mandatory field","Mandatory field","Mandatory field","Mandatory field","Mandatory field","Mandatory field","Mandatory field","Mandatory field","Mandatory field","Mandatory field"]
[null,"Unit of measure: weight (KG), volume (L) or quantity (PC)",{"$f":"_xlfn.XLOOKUP(B27,Instructions!B:B,Instructions!K:K)","v":"Baasühiku nimetus: kaal (KG), maht (L) või kogus (TK)"},{"$f":"_xlfn.XLOOKUP(B27,Instructions!B:B,Instructions!O:O)","v":"Produkta svara mērvienība (KG, L, gab.)"},{"$f":"_xlfn.XLOOKUP(B27,Instructions!B:B,Instructions!S:S)","v":"Prekės matavimo vienetas: svoris (kg), talpa (l) ar vienetai (vnt.)"},{"$f":"IF('New item proposal'!$A$2=\"EE\", C27,\nIF('New item proposal'!$A$2=\"LV\",D27,\nIF('New item proposal'!$A$2=\"LT\",E27,B27)))","v":"Unit of measure: weight (KG), volume (L) or quantity (PC)"},null,"Mandatory field","Mandatory field","Mandatory field","Mandatory field","Mandatory field","Mandatory field","Mandatory field","Mandatory field","Mandatory field","Mandatory field","Mandatory field","Mandatory field","Mandatory field","Mandatory field","Mandatory field"]
[null,"Retail ready packaging",{"$f":"_xlfn.XLOOKUP(B28,Instructions!B:B,Instructions!K:K)","v":"Riiuldamiseks sobiv kast"},{"$f":"_xlfn.XLOOKUP(B28,Instructions!B:B,Instructions!O:O)","v":"Tirdzniecībai gatavs iepakojums"},{"$f":"_xlfn.XLOOKUP(B28,Instructions!B:B,Instructions!S:S)","v":"Pardavimui lentynoje skirta speciali pakuotė"},{"$f":"IF('New item proposal'!$A$2=\"EE\", C28,\nIF('New item proposal'!$A$2=\"LV\",D28,\nIF('New item proposal'!$A$2=\"LT\",E28,B28)))","v":"Retail ready packaging"},null,"Optional field","Optional field","Optional field","Optional field","Optional field","Optional field","Optional field","Optional field","Optional field","Optional field","Optional field","Optional field","Optional field","Optional field","Optional field"]
[null,"Basic unit dimensions",{"$f":"_xlfn.XLOOKUP(B29,Instructions!B:B,Instructions!K:K)","v":"Baasühikute mõõtmed"},{"$f":"_xlfn.XLOOKUP(B29,Instructions!B:B,Instructions!O:O)","v":"Pamatvienības dimensijas (izmēri)"},{"$f":"_xlfn.XLOOKUP(B29,Instructions!B:B,Instructions!S:S)","v":"Pagrindiniai vieneto matmenys"},{"$f":"IF('New item proposal'!$A$2=\"EE\", C29,\nIF('New item proposal'!$A$2=\"LV\",D29,\nIF('New item proposal'!$A$2=\"LT\",E29,B29)))","v":"Basic unit dimensions"},null,"Mandatory field","Mandatory field","Mandatory field","Mandatory field","Mandatory field","Mandatory field","Mandatory field","Mandatory field","Mandatory field","Mandatory field","Mandatory field","Mandatory field","Mandatory field","Mandatory field","Mandatory field"]
[null,null,{"$f":"_xlfn.XLOOKUP(B29,Instructions!B:B,Instructions!K:K)","v":"Baasühikute mõõtmed"},{"$f":"_xlfn.XLOOKUP(B29,Instructions!B:B,Instructions!O:O)","v":"Pamatvienības dimensijas (izmēri)"},{"$f":"_xlfn.XLOOKUP(B29,Instructions!B:B,Instructions!S:S)","v":"Pagrindiniai vieneto matmenys"},{"$f":"IF('New item proposal'!$A$2=\"EE\", C30,\nIF('New item proposal'!$A$2=\"LV\",D30,\nIF('New item proposal'!$A$2=\"LT\",E30,B29)))","v":"Basic unit dimensions"},null,"Mandatory field","Mandatory field","Mandatory field","Mandatory field","Mandatory field","Mandatory field","Mandatory field","Mandatory field","Mandatory field","Mandatory field","Mandatory field","Mandatory field","Mandatory field","Mandatory field","Mandatory field"]
[null,null,{"$f":"_xlfn.XLOOKUP(B29,Instructions!B:B,Instructions!K:K)","v":"Baasühikute mõõtmed"},{"$f":"_xlfn.XLOOKUP(B29,Instructions!B:B,Instructions!O:O)","v":"Pamatvienības dimensijas (izmēri)"},{"$f":"_xlfn.XLOOKUP(B29,Instructions!B:B,Instructions!S:S)","v":"Pagrindiniai vieneto matmenys"},{"$f":"IF('New item proposal'!$A$2=\"EE\", C31,\nIF('New item proposal'!$A$2=\"LV\",D31,\nIF('New item proposal'!$A$2=\"LT\",E31,B29)))","v":"Basic unit dimensions"},null,"Mandatory field","Mandatory field","Mandatory field","Mandatory field","Mandatory field","Mandatory field","Mandatory field","Mandatory field","Mandatory field","Mandatory field","Mandatory field","Mandatory field","Mandatory field","Mandatory field","Mandatory field"]
[null,"Number of Basic units in one DPA",{"$f":"_xlfn.XLOOKUP(B32,Instructions!B:B,Instructions!K:K)","v":"Baasühikute arv transpordipakendis"},{"$f":"_xlfn.XLOOKUP(B32,Instructions!B:B,Instructions!O:O)","v":"Pamatvienību skaits transporta iepakojumā"},{"$f":"_xlfn.XLOOKUP(B32,Instructions!B:B,Instructions!S:S)","v":"Prekės vnt. skaičius vienoje transportavimo pakuotėje (DPA)"},{"$f":"IF('New item proposal'!$A$2=\"EE\", C32,\nIF('New item proposal'!$A$2=\"LV\",D32,\nIF('New item proposal'!$A$2=\"LT\",E32,B32)))","v":"Number of Basic units in one DPA"},null,"Mandatory field","Mandatory field","Mandatory field","Mandatory field","Mandatory field","Mandatory field","Mandatory field","Mandatory field","Mandatory field","Mandatory field","Mandatory field","Mandatory field","Mandatory field","Mandatory field","Mandatory field"]
[null,"One DPA weight (KG)",{"$f":"_xlfn.XLOOKUP(B33,Instructions!B:B,Instructions!K:K)","v":"Ühe transpordipakendi (DPA) kaal (KG)"},{"$f":"_xlfn.XLOOKUP(B33,Instructions!B:B,Instructions!O:O)","v":"DPA (transporta vienības) svars (KG)"},{"$f":"_xlfn.XLOOKUP(B33,Instructions!B:B,Instructions!S:S)","v":"Vienos transportavimo pakuotės (DPA) svoris (KG)"},{"$f":"IF('New item proposal'!$A$2=\"EE\", C33,\nIF('New item proposal'!$A$2=\"LV\",D33,\nIF('New item proposal'!$A$2=\"LT\",E33,B33)))","v":"One DPA weight (KG)"},null,"Automatic field","Automatic field","Automatic field","Automatic field","Automatic field","Automatic field","Automatic field","Automatic field","Automatic field","Automatic field","Automatic field","Automatic field","Automatic field","Automatic field","Automatic field"]
["Availability and delivery","Product availability, date or period",{"$f":"_xlfn.XLOOKUP(B34,Instructions!B:B,Instructions!K:K)","v":"Toode saadaval (kuu või periood)"},{"$f":"_xlfn.XLOOKUP(B34,Instructions!B:B,Instructions!O:O)","v":"Plānotais produkta ieviešanas datums tirgū"},{"$f":"_xlfn.XLOOKUP(B34,Instructions!B:B,Instructions!S:S)","v":"Prekės prieinamumas, data arba laikotarpis"},{"$f":"IF('New item proposal'!$A$2=\"EE\", C34,\nIF('New item proposal'!$A$2=\"LV\",D34,\nIF('New item proposal'!$A$2=\"LT\",E34,B34)))","v":"Product availability, date or period"},null,"Optional field","Mandatory field","Optional field","Optional field","Optional field","Optional field","Optional field","Optional field","Optional field","Optional field","Optional field","Optional field","Optional field","Optional field","Optional field"]
[null,"Local or Baltic offer?",{"$f":"_xlfn.XLOOKUP(B35,Instructions!B:B,Instructions!K:K)","v":"Kohalik või Baltikumi pakkumine?"},{"$f":"_xlfn.XLOOKUP(B35,Instructions!B:B,Instructions!O:O)","v":"Vietējai vai Baltijas piedāvājums?"},{"$f":"_xlfn.XLOOKUP(B35,Instructions!B:B,Instructions!S:S)","v":"Vietinis ar Baltijos šalių pasiūlymas?"},{"$f":"IF('New item proposal'!$A$2=\"EE\", C35,\nIF('New item proposal'!$A$2=\"LV\",D35,\nIF('New item proposal'!$A$2=\"LT\",E35,B35)))","v":"Local or Baltic offer?"},null,"Mandatory field","Mandatory field","Mandatory field","Mandatory field","Mandatory field","Mandatory field","Mandatory field","Mandatory field","Mandatory field","Mandatory field","Mandatory field","Mandatory field","Mandatory field","Mandatory field","Mandatory field"]
[null,"Incoterms",{"$f":"_xlfn.XLOOKUP(B36,Instructions!B:B,Instructions!K:K)","v":"Tarneklausel"},{"$f":"_xlfn.XLOOKUP(B36,Instructions!B:B,Instructions!O:O)","v":"Starptautiskie tirdzniecības noteikumi (Incoterms)"},{"$f":"_xlfn.XLOOKUP(B36,Instructions!B:B,Instructions!S:S)","v":"Prekės pristatymo sąlygos"},{"$f":"IF('New item proposal'!$A$2=\"EE\", C36,\nIF('New item proposal'!$A$2=\"LV\",D36,\nIF('New item proposal'!$A$2=\"LT\",E36,B36)))","v":"Incoterms"},null,"Optional field","Optional field","Optional field","Optional field","Optional field","Optional field","Optional field","Optional field","Optional field","Optional field","Optional field","Optional field","Optional field","Optional field","Optional field"]
["Product replacement","Is the new item replacing some item from current assortment?",{"$f":"_xlfn.XLOOKUP(B37,Instructions!B:B,Instructions!K:K)","v":"Kas uus toode vahetab välja mõne sortimendis oleva toote?"},{"$f":"_xlfn.XLOOKUP(B37,Instructions!B:B,Instructions!O:O)","v":"Vai šī ir aizvietotājprece kādam citam sortimentā esošam produktam?"},{"$f":"_xlfn.XLOOKUP(B37,Instructions!B:B,Instructions!S:S)","v":"Ar siūloma prekė keičia, šiuo metu jau esančią asortimente?"},{"$f":"IF('New item proposal'!$A$2=\"EE\", C37,\nIF('New item proposal'!$A$2=\"LV\",D37,\nIF('New item proposal'!$A$2=\"LT\",E37,B37)))","v":"Is the new item replacing some item from current assortment?"},"No","Mandatory field","Mandatory field","Mandatory field","Mandatory field","Mandatory field","Mandatory field","Mandatory field","Mandatory field","Mandatory field","Mandatory field","Mandatory field","Mandatory field","Mandatory field","Mandatory field","Mandatory field"]
[null,"Product EAN to be delisted from assortment",{"$f":"_xlfn.XLOOKUP(B38,Instructions!B:B,Instructions!K:K)","v":"Toote EAN kood mida soovitakse sortimendist välja võtta"},{"$f":"_xlfn.XLOOKUP(B38,Instructions!B:B,Instructions!O:O)","v":"Preces, kura iziet no sortimenta -EAN"},{"$f":"_xlfn.XLOOKUP(B38,Instructions!B:B,Instructions!S:S)","v":"Prekės EAN kodas, kurią siūloma išimti iš asortimento"},{"$f":"IF('New item proposal'!$A$2=\"EE\", C38,\nIF('New item proposal'!$A$2=\"LV\",D38,\nIF('New item proposal'!$A$2=\"LT\",E38,B38)))","v":"Product EAN to be delisted from assortment"},null,"same conditions as in 1st row","same conditions as in 1st row","same conditions as in 1st row","same conditions as in 1st row","same conditions as in 1st row","same conditions as in 1st row","same conditions as in 1st row","same conditions as in 1st row","same conditions as in 1st row","same conditions as in 1st row","same conditions as in 1st row","same conditions as in 1st row","same conditions as in 1st row","same conditions as in 1st row","same conditions as in 1st row"]
[null,"Product name to be delisted from assortment",{"$f":"_xlfn.XLOOKUP(B39,Instructions!B:B,Instructions!K:K)","v":"Toote nimetus mida soovitakse sortimendist välja võtta"},{"$f":"_xlfn.XLOOKUP(B39,Instructions!B:B,Instructions!O:O)","v":"Preces, kura iziet no sortimenta - nosaukums"},{"$f":"_xlfn.XLOOKUP(B39,Instructions!B:B,Instructions!S:S)","v":"Prekės pavadinimas, kurią siūloma išimti iš asortimento"},{"$f":"IF('New item proposal'!$A$2=\"EE\", C39,\nIF('New item proposal'!$A$2=\"LV\",D39,\nIF('New item proposal'!$A$2=\"LT\",E39,B39)))","v":"Product name to be delisted from assortment"},null,"same conditions as in 1st row","same conditions as in 1st row","same conditions as in 1st row","same conditions as in 1st row","same conditions as in 1st row","same conditions as in 1st row","same conditions as in 1st row","same conditions as in 1st row","same conditions as in 1st row","same conditions as in 1st row","same conditions as in 1st row","same conditions as in 1st row","same conditions as in 1st row","same conditions as in 1st row","same conditions as in 1st row"]
["Product marketing","Marketing support",{"$f":"_xlfn.XLOOKUP(B40,Instructions!B:B,Instructions!K:K)","v":"Turundustugi"},{"$f":"_xlfn.XLOOKUP(B40,Instructions!B:B,Instructions!O:O)","v":"Mārketinga atbalsts"},{"$f":"_xlfn.XLOOKUP(B40,Instructions!B:B,Instructions!S:S)","v":"Marketinginis palaikymas"},{"$f":"IF('New item proposal'!$A$2=\"EE\", C40,\nIF('New item proposal'!$A$2=\"LV\",D40,\nIF('New item proposal'!$A$2=\"LT\",E40,B40)))","v":"Marketing support"},"No","Mandatory field","Mandatory field","Mandatory field","Mandatory field","Mandatory field","Mandatory field","Mandatory field","Mandatory field","Mandatory field","Mandatory field","Mandatory field","Mandatory field","Mandatory field","Mandatory field","Mandatory field"]
[null,"Comments about marketing support",{"$f":"_xlfn.XLOOKUP(B41,Instructions!B:B,Instructions!K:K)","v":"Kommentaarid turundustoe kohta"},{"$f":"_xlfn.XLOOKUP(B41,Instructions!B:B,Instructions!O:O)","v":"Komentāri par mārketinga atbalstu"},{"$f":"_xlfn.XLOOKUP(B41,Instructions!B:B,Instructions!S:S)","v":"Pastabos apie marketinginį palaikymą"},{"$f":"IF('New item proposal'!$A$2=\"EE\", C41,\nIF('New item proposal'!$A$2=\"LV\",D41,\nIF('New item proposal'!$A$2=\"LT\",E41,B41)))","v":"Comments about marketing support"},null,"same conditions as in 1st row","same conditions as in 1st row","same conditions as in 1st row","same conditions as in 1st row","same conditions as in 1st row","same conditions as in 1st row","same conditions as in 1st row","same conditions as in 1st row","same conditions as in 1st row","same conditions as in 1st row","same conditions as in 1st row","same conditions as in 1st row","same conditions as in 1st row","same conditions as in 1st row","same conditions as in 1st row"]
[null,"Contact\n(E-Mail)",{"$f":"_xlfn.XLOOKUP(B42,Instructions!B:B,Instructions!K:K)","v":"Kontakt*\n(e-mail)"},{"$f":"_xlfn.XLOOKUP(B42,Instructions!B:B,Instructions!O:O)","v":"Kontaktpersonas e-pasts"},{"$f":"_xlfn.XLOOKUP(B42,Instructions!B:B,Instructions!S:S)","v":"Kontaktinis el. paštas"},{"$f":"IF('New item proposal'!$A$2=\"EE\", C42,\nIF('New item proposal'!$A$2=\"LV\",D42,\nIF('New item proposal'!$A$2=\"LT\",E42,B42)))","v":"Contact\n(E-Mail)"},null,"Mandatory field","Mandatory field","Mandatory field","Mandatory field","Mandatory field","Mandatory field","Mandatory field","Mandatory field","Mandatory field","Mandatory field","Mandatory field","Mandatory field","Mandatory field","Mandatory field","Mandatory field"]
["Special product marks","GMO mark",{"$f":"_xlfn.XLOOKUP(B43,Instructions!B:B,Instructions!K:K)","v":"Sisaldab GMO-d"},{"$f":"_xlfn.XLOOKUP(B43,Instructions!B:B,Instructions!O:O)","v":"Produkts satur ĢMO"},{"$f":"_xlfn.XLOOKUP(B43,Instructions!B:B,Instructions!S:S)","v":"GMO žyma"},{"$f":"IF('New item proposal'!$A$2=\"EE\", C43,\nIF('New item proposal'!$A$2=\"LV\",D43,\nIF('New item proposal'!$A$2=\"LT\",E43,B43)))","v":"GMO mark"},null,"Optional field","Optional field","Input is not allowed","Input is not allowed","Input is not allowed","Optional field","Optional field","Optional field","Optional field","Optional field","Optional field","Input is not allowed","Optional field","Input is not allowed","Input is not allowed"]
[null,"Gluten-free",{"$f":"_xlfn.XLOOKUP(B44,Instructions!B:B,Instructions!K:K)","v":"Gluteenivaba"},{"$f":"_xlfn.XLOOKUP(B44,Instructions!B:B,Instructions!O:O)","v":"Nesatur lipekli"},{"$f":"_xlfn.XLOOKUP(B44,Instructions!B:B,Instructions!S:S)","v":"Be glitimo"},{"$f":"IF('New item proposal'!$A$2=\"EE\", C44,\nIF('New item proposal'!$A$2=\"LV\",D44,\nIF('New item proposal'!$A$2=\"LT\",E44,B44)))","v":"Gluten-free"},null,"Optional field","Optional field","Input is not allowed","Optional field","Input is not allowed","Optional field","Input is not allowed","Optional field","Input is not allowed","Optional field","Input is not allowed","Input is not allowed","Optional field","Input is not allowed","Input is not allowed"]
[null,"Sugars-free",{"$f":"_xlfn.XLOOKUP(B45,Instructions!B:B,Instructions!K:K)","v":"Suhkruvaba"},{"$f":"_xlfn.XLOOKUP(B45,Instructions!B:B,Instructions!O:O)","v":"Bez cukura"},{"$f":"_xlfn.XLOOKUP(B45,Instructions!B:B,Instructions!S:S)","v":"Be cukraus"},{"$f":"IF('New item proposal'!$A$2=\"EE\", C45,\nIF('New item proposal'!$A$2=\"LV\",D45,\nIF('New item proposal'!$A$2=\"LT\",E45,B45)))","v":"Sugars-free"},null,"Optional field","Optional field","Input is not allowed","Optional field","Input is not allowed","Optional field","Input is not allowed","Optional field","Input is not allowed","Optional field","Input is not allowed","Input is not allowed","Optional field","Input is not allowed","Input is not allowed"]
[null,"Lactose-free",{"$f":"_xlfn.XLOOKUP(B46,Instructions!B:B,Instructions!K:K)","v":"Laktoosivaba"},{"$f":"_xlfn.XLOOKUP(B46,Instructions!B:B,Instructions!O:O)","v":"Nesatur laktozi"},{"$f":"_xlfn.XLOOKUP(B46,Instructions!B:B,Instructions!S:S)","v":"Be laktozės"},{"$f":"IF('New item proposal'!$A$2=\"EE\", C46,\nIF('New item proposal'!$A$2=\"LV\",D46,\nIF('New item proposal'!$A$2=\"LT\",E46,B46)))","v":"Lactose-free"},null,"Input is not allowed","Optional field","Input is not allowed","Optional field","Input is not allowed","Input is not allowed","Input is not allowed","Optional field","Input is not allowed","Input is not allowed","Input is not allowed","Input is not allowed","Optional field","Input is not allowed","Input is not allowed"]
[null,"Dairy-free",{"$f":"_xlfn.XLOOKUP(B47,Instructions!B:B,Instructions!K:K)","v":"Piimavaba"},{"$f":"_xlfn.XLOOKUP(B47,Instructions!B:B,Instructions!O:O)","v":"Bez piena"},{"$f":"_xlfn.XLOOKUP(B47,Instructions!B:B,Instructions!S:S)","v":"Be pieno"},{"$f":"IF('New item proposal'!$A$2=\"EE\", C47,\nIF('New item proposal'!$A$2=\"LV\",D47,\nIF('New item proposal'!$A$2=\"LT\",E47,B47)))","v":"Dairy-free"},null,"Input is not allowed","Optional field","Input is not allowed","Optional field","Input is not allowed","Input is not allowed","Input is not allowed","Optional field","Input is not allowed","Input is not allowed","Input is not allowed","Input is not allowed","Optional field","Input is not allowed","Input is not allowed"]
[null,"Vegetarian",{"$f":"_xlfn.XLOOKUP(B48,Instructions!B:B,Instructions!K:K)","v":"Toode sobib vegetaarlastele"},{"$f":"_xlfn.XLOOKUP(B48,Instructions!B:B,Instructions!O:O)","v":"Piemērots veģetāriešiem"},{"$f":"_xlfn.XLOOKUP(B48,Instructions!B:B,Instructions!S:S)","v":"Tinka vegetarams"},{"$f":"IF('New item proposal'!$A$2=\"EE\", C48,\nIF('New item proposal'!$A$2=\"LV\",D48,\nIF('New item proposal'!$A$2=\"LT\",E48,B48)))","v":"Vegetarian"},null,"Optional field","Optional field","Input is not allowed","Optional field","Input is not allowed","Optional field","Input is not allowed","Optional field","Input is not allowed","Optional field","Input is not allowed","Input is not allowed","Optional field","Input is not allowed","Input is not allowed"]
[null,"Vegan",{"$f":"_xlfn.XLOOKUP(B49,Instructions!B:B,Instructions!K:K)","v":"Toode sobib veganitele"},{"$f":"_xlfn.XLOOKUP(B49,Instructions!B:B,Instructions!O:O)","v":"Piemērots vegāniem"},{"$f":"_xlfn.XLOOKUP(B49,Instructions!B:B,Instructions!S:S)","v":"Tinka veganams"},{"$f":"IF('New item proposal'!$A$2=\"EE\", C49,\nIF('New item proposal'!$A$2=\"LV\",D49,\nIF('New item proposal'!$A$2=\"LT\",E49,B49)))","v":"Vegan"},null,"Optional field","Optional field","Input is not allowed","Optional field","Input is not allowed","Optional field","Input is not allowed","Optional field","Input is not allowed","Optional field","Input is not allowed","Input is not allowed","Optional field","Input is not allowed","Input is not allowed"]
[null,"Animal milk type",{"$f":"_xlfn.XLOOKUP(B50,Instructions!B:B,Instructions!K:K)","v":"Loomset päritolu piima liik"},{"$f":"_xlfn.XLOOKUP(B50,Instructions!B:B,Instructions!O:O)","v":"Dzīvnieka piena veids"},{"$f":"_xlfn.XLOOKUP(B50,Instructions!B:B,Instructions!S:S)","v":"Gyvūlinės kilmės pienas"},{"$f":"IF('New item proposal'!$A$2=\"EE\", C50,\nIF('New item proposal'!$A$2=\"LV\",D50,\nIF('New item proposal'!$A$2=\"LT\",E50,B50)))","v":"Animal milk type"},"Please select...","Input is not allowed","Optional field","Input is not allowed","Optional field","Input is not allowed","Input is not allowed","Input is not allowed","Input is not allowed","Input is not allowed","Input is not allowed","Input is not allowed","Input is not allowed","Optional field","Input is not allowed","Input is not allowed"]
[null,"Rimi Good for you",{"$f":"_xlfn.XLOOKUP(B51,Instructions!B:B,Instructions!K:K)","v":"Vastab \"Rimi toitumisnõustaja soovitab\" kriteeriumitele"},{"$f":"_xlfn.XLOOKUP(B51,Instructions!B:B,Instructions!O:O)","v":"Rimi - Labākai dzīvei"},{"$f":"_xlfn.XLOOKUP(B51,Instructions!B:B,Instructions!S:S)","v":" Rimi Rinkis Sveikiau"},{"$f":"IF('New item proposal'!$A$2=\"EE\", C51,\nIF('New item proposal'!$A$2=\"LV\",D51,\nIF('New item proposal'!$A$2=\"LT\",E51,B51)))","v":"Rimi Good for you"},null,"Input is not allowed","Optional field","Input is not allowed","Optional field","Input is not allowed","Optional field","Input is not allowed","Optional field","Input is not allowed","Input is not allowed","Input is not allowed","Input is not allowed","Optional field","Input is not allowed","Input is not allowed"]
["Product certification","Organic",{"$f":"_xlfn.XLOOKUP(B52,Instructions!B:B,Instructions!K:K)","v":"Orgaaniline toode"},{"$f":"_xlfn.XLOOKUP(B52,Instructions!B:B,Instructions!O:O)","v":"Bioloģisks produkts"},{"$f":"_xlfn.XLOOKUP(B52,Instructions!B:B,Instructions!S:S)","v":"Ekologiškas"},{"$f":"IF('New item proposal'!$A$2=\"EE\", C52,\nIF('New item proposal'!$A$2=\"LV\",D52,\nIF('New item proposal'!$A$2=\"LT\",E52,B52)))","v":"Organic"},null,"Optional field","Optional field","Input is not allowed","Optional field","Input is not allowed","Optional field","Input is not allowed","Optional field","Input is not allowed","Optional field","Input is not allowed","Input is not allowed","Optional field","Input is not allowed","Input is not allowed"]
[null,"Environmental",{"$f":"_xlfn.XLOOKUP(B53,Instructions!B:B,Instructions!K:K)","v":"Keskkonnasõbralik toode"},{"$f":"_xlfn.XLOOKUP(B53,Instructions!B:B,Instructions!O:O)","v":"Saudzīgs videi"},{"$f":"_xlfn.XLOOKUP(B53,Instructions!B:B,Instructions!S:S)","v":"Draugiškas aplinkai"},{"$f":"IF('New item proposal'!$A$2=\"EE\", C53,\nIF('New item proposal'!$A$2=\"LV\",D53,\nIF('New item proposal'!$A$2=\"LT\",E53,B53)))","v":"Environmental"},null,"Input is not allowed","Optional field","Optional field","Optional field","Optional field","Input is not allowed","Optional field","Optional field","Optional field","Input is not allowed","Input is not allowed","Optional field","Optional field","Input is not allowed","Input is not allowed"]
[null,"Ethical",{"$f":"_xlfn.XLOOKUP(B54,Instructions!B:B,Instructions!K:K)","v":"Eetiline toode"},{"$f":"_xlfn.XLOOKUP(B54,Instructions!B:B,Instructions!O:O)","v":"Ētisks"},{"$f":"_xlfn.XLOOKUP(B54,Instructions!B:B,Instructions!S:S)","v":"Etiškas"},{"$f":"IF('New item proposal'!$A$2=\"EE\", C54,\nIF('New item proposal'!$A$2=\"LV\",D54,\nIF('New item proposal'!$A$2=\"LT\",E54,B54)))","v":"Ethical"},null,"Optional field","Optional field","Optional field","Optional field","Optional field","Optional field","Optional field","Optional field","Optional field","Optional field","Optional field","Optional field","Optional field","Input is not allowed","Input is not allowed"]
["Wine guide","Wine colour",{"$f":"_xlfn.XLOOKUP(B55,Instructions!B:B,Instructions!K:K)","v":"Veini värvus"},{"$f":"_xlfn.XLOOKUP(B55,Instructions!B:B,Instructions!O:O)","v":"Vīna krāsa"},{"$f":"_xlfn.XLOOKUP(B55,Instructions!B:B,Instructions!S:S)","v":"Vyno spalva"},{"$f":"IF('New item proposal'!$A$2=\"EE\", C55,\nIF('New item proposal'!$A$2=\"LV\",D55,\nIF('New item proposal'!$A$2=\"LT\",E55,B55)))","v":"Wine colour"},null,"Optional field","Input is not allowed","Input is not allowed","Input is not allowed","Input is not allowed","Input is not allowed","Input is not allowed","Input is not allowed","Input is not allowed","Mandatory field","Input is not allowed","Input is not allowed","Input is not allowed","Input is not allowed","Input is not allowed"]
[null,"Wine taste",{"$f":"_xlfn.XLOOKUP(B56,Instructions!B:B,Instructions!K:K)","v":"Veini maitse"},{"$f":"_xlfn.XLOOKUP(B56,Instructions!B:B,Instructions!O:O)","v":"Vīna garša"},{"$f":"_xlfn.XLOOKUP(B56,Instructions!B:B,Instructions!S:S)","v":"Vyno skoninės savybės"},{"$f":"IF('New item proposal'!$A$2=\"EE\", C56,\nIF('New item proposal'!$A$2=\"LV\",D56,\nIF('New item proposal'!$A$2=\"LT\",E56,B56)))","v":"Wine taste"},"Please select...","Optional field","Input is not allowed","Input is not allowed","Input is not allowed","Input is not allowed","Input is not allowed","Input is not allowed","Input is not allowed","Input is not allowed","Mandatory field","Input is not allowed","Input is not allowed","Input is not allowed","Input is not allowed","Input is not allowed"]
[null,"Comments",{"$f":"_xlfn.XLOOKUP(B57,Instructions!B:B,Instructions!K:K)","v":"Kommentaarid"},{"$f":"_xlfn.XLOOKUP(B57,Instructions!B:B,Instructions!O:O)","v":"Komentāri"},{"$f":"_xlfn.XLOOKUP(B57,Instructions!B:B,Instructions!S:S)","v":"Komentarai"},{"$f":"IF('New item proposal'!$A$2=\"EE\", C57,\nIF('New item proposal'!$A$2=\"LV\",D57,\nIF('New item proposal'!$A$2=\"LT\",E57,B57)))","v":"Comments"},null,"Optional field","Optional field","Optional field","Optional field","Optional field","Optional field","Optional field","Optional field","Optional field","Optional field","Optional field","Optional field","Optional field","Optional field","Optional field"]

{"sheet":"CDT","index":1,"n_rows":53,"n_cols":30,"rows_kept":53,"cut":false,"hidden":true,"merged":[]}
["Column1","Column2","Column3","Column4","Column5","Column6","Column7","Column8","Column9","Column10","Column11","Column12","Column13","Column14","Column15","Column16","Column17","Column18","Column19","Column20","Column21","Column22","Column23","Column24","Column25","Column26","Column27","Column28","Column29","Column30"]
["Alcohol","Alcohol","Baby food","Baby food","Cosmetics, hygiene and body care products","Cosmetics, hygiene and body care products","Fresh food","Fresh food","Household chemicals","Household chemicals","Non-alcoholic beverages","Non-alcoholic beverages","Other Nearfood","Other Nearfood","Nonfood","Nonfood","Packed food (grocery)","Packed food (grocery)","Pet food","Pet food","Wine, sparkling wine","Wine, sparkling wine","Cigarettes, cigars, other tobacco","Cigarettes, cigars, other tobacco","Press, magazines","Press, magazines","Frozen food","Frozen food","Lottery tickets, prepaid mobile cards","Lottery tickets, prepaid mobile cards"]
["ID","Description","ID","Description","ID","Description","ID","Description","ID","Description","ID","Description","ID","Description","ID","Description","ID","Description","ID","Description","ID","Description","ID","Description","ID","Description","ID","Description","ID","Description"]
["C.01.01","Bitter drinks, liquors","D.01.01","Baby food","D.07.01","Diapers and baby care","A.10.04","Fresh minced meat","D.05.01","Home laundry","C.09.01","Coffee, cocoa","D.11.02","National souvenirs","E.03.08"," Men's underwear","C.02.01","Biscuits, wafers","D.09.01","Pet food and accessories","C.01.04","Wine","C.14.01","Cigarettes, tobacco & accessories","D.08.01","Media,books,cards,calendars","A.08.02","Frozen food, meat, F&V","D.08.02","Partner services, lottery tickets"]
["C.01.02","Rum, whiskey, cognac, brandy",null,null,"D.10.01","Toilet paper, paper towels, handkerc","A.10.02","Fresh meat pork, beef, lamb","D.05.02","Household cleaning and dishwashing","C.09.02","Tea","D.12.02","Jewelry","E.03.09"," Swimwear","C.04.01","Canned (jarred) fruits and berries",null,null,"C.01.03","Vermouth, sparkling wine (Champagne)",null,null,null,null,"A.09.01","Ice cream, ice products"]
["C.01.05","Vodka, gin, tequila",null,null,"D.06.01","Intimate hygiene","A.10.01","Fresh meat marinade","D.05.03","Other homecare","C.10.01","Juices and nectars, concentrates and","D.12.01","Body accessories and sponges","E.03.11"," Women's underwear","C.04.02","Canned (jarred) vegetables, canned p",null,null,null,null,null,null,null,null,"A.08.01","Frozen fish and seafood"]
["C.03.01","Beer, cider, long drinks, cocktails",null,null,"D.02.08","Soaps, shower gels, bath foams, salt","A.10.03","Fresh meat poultry",null,null,"C.16.01","Lemonade, ice tea, kvass, tonic, par","D.12.03","Hair accessories","E.03.03"," Children underwear","C.04.03","Jam, marmalade, puree, honey, sweet spreads and sauces"]
[null,null,null,null,"D.02.05","Hand creams, foot care,  body lotion","A.06.01","Fresh fish",null,null,"C.16.02","Water, sports drinks",null,null,"E.06.10"," Napkins and table cover","C.05.01","Salty dry ingredients"]
[null,null,null,null,"D.02.04","Hair wash and styling","A.06.02","Processed fish and seafood",null,null,null,null,null,null,"E.06.06"," Party accessories","C.07.01","Nuts, dried fruits, dried fruit and"]
[null,null,null,null,"D.02.07","Oral care","A.05.01","Canned fish and seafood, Canned meat",null,null,null,null,null,null,"E.04.01"," Candles","C.08.01","Cereals and muesli products"]
[null,null,null,null,"D.02.03","Depilation, shaving","A.12.01","Processed meat",null,null,null,null,null,null,"E.07.06"," Outdoor furniture and supplies","C.08.02","Flakes,  groats, legume, rice"]
[null,null,null,null,"D.04.01","Face care","A.11.01","Ready to eat food;prepared food",null,null,null,null,null,null,"E.06.01"," Disposable tableware","C.08.03","Flours and baking mixtures"]
[null,null,null,null,"D.02.02","Deodorants; Fragrances","A.07.01","Bread, Rimi production bread product",null,null,null,null,null,null,"E.06.04"," Disposable materials","C.08.04","Pasta"]
[null,null,null,null,"D.04.04","Make-up","A.07.03","Confectionery, Rimi production confe",null,null,null,null,null,null,"E.03.07"," Men's socks","C.11.01","Free from"]
[null,null,null,null,"D.04.03","Gift sets in cosmetics","A.07.02","Coffee buns, Rimi production coffee",null,null,null,null,null,null,"E.03.12","Women's socks","C.11.02","Sports nutrition and supplements"]
[null,null,null,null,"D.04.05","Nail care treatments","A.15.01","Vegan",null,null,null,null,null,null,"E.03.10"," Women's socks & tights","C.13.01","Baking needs and dessert powders"]
[null,null,null,null,"D.03.01","Cotton and moist wipes","A.04.01","Eggs",null,null,null,null,null,null,"E.03.05"," Children's socks & tights","C.13.02","Cooking oils, vinegar"]
[null,null,null,null,"D.03.02","Home pharmacy","A.02.04","Milk",null,null,null,null,null,null,"E.06.08"," Table serving","C.13.03","Ethnic seasoning and meal ingredient"]
[null,null,null,null,null,null,"A.02.05","Sour milk",null,null,null,null,null,null,"E.06.03"," Kitchen Gadgets","C.13.04","Mustard, horseradish, sauces and ket"]
[null,null,null,null,null,null,"A.02.01","Creams",null,null,null,null,null,null,"E.06.02"," Food preparation","C.13.05","Spices"]
[null,null,null,null,null,null,"A.02.02","Curd and cottage cheese",null,null,null,null,null,null,"E.06.09"," Kitchen storage","C.13.06","Sweetening agents"]
[null,null,null,null,null,null,"A.02.03","Mayonnaise",null,null,null,null,null,null,"E.04.03"," Cleaning tools and accessories","C.15.01","Chips, dip mixes, snacks, popcorn"]
[null,null,null,null,null,null,"A.14.03","Yogurts",null,null,null,null,null,null,"E.02.06","School and office supplies","C.17.01","Chewing gums"]
[null,null,null,null,null,null,"A.14.02","Desserts and snacks",null,null,null,null,null,null,"E.04.05","Electric Bulbs","C.17.02","Chocolate tablets and bars"]
[null,null,null,null,null,null,"A.14.01","Curd bars",null,null,null,null,null,null,"E.04.04","DIY","C.17.03","Sweets bags, children sweets, other"]
[null,null,null,null,null,null,"A.03.01","Edible fats",null,null,null,null,null,null,"E.02.01","Batteries"]
[null,null,null,null,null,null,"A.01.01","Cheese",null,null,null,null,null,null,"E.04.08","Home textiles"]
[null,null,null,null,null,null,null,null,null,null,null,null,null,null,"E.04.09","Yarns and handicraft"]
[null,null,null,null,null,null,null,null,null,null,null,null,null,null,"E.06.05","Kitchen textiles"]
[null,null,null,null,null,null,null,null,null,null,null,null,null,null,"E.05.07","Baby accesories"]
[null,null,null,null,null,null,null,null,null,null,null,null,null,null,"E.05.02","Baby Toys"]
[null,null,null,null,null,null,null,null,null,null,null,null,null,null,"E.05.05","Toys for boys"]
[null,null,null,null,null,null,null,null,null,null,null,null,null,null,"E.05.06","Toys for girls"]
[null,null,null,null,null,null,null,null,null,null,null,null,null,null,"E.05.04","Soft Toys"]
[null,null,null,null,null,null,null,null,null,null,null,null,null,null,"E.05.01","Activity toys"]
[null,null,null,null,null,null,null,null,null,null,null,null,null,null,"E.05.08","Creative and educational toys"]
[null,null,null,null,null,null,null,null,null,null,null,null,null,null,"E.05.09","Games"]
[null,null,null,null,null,null,null,null,null,null,null,null,null,null,"E.05.03","Construction sets"]
[null,null,null,null,null,null,null,null,null,null,null,null,null,null,"E.02.03","Gifts and hobby"]
[null,null,null,null,null,null,null,null,null,null,null,null,null,null,"E.03.01","Adult's clothing--> Clothing accessories"]
[null,null,null,null,null,null,null,null,null,null,null,null,null,null,"E.03.04","Children`s clothing"]
[null,null,null,null,null,null,null,null,null,null,null,null,null,null,"E.01.03","Optical products"]
[null,null,null,null,null,null,null,null,null,null,null,null,null,null,"E.03.06","Footwear"]
[null,null,null,null,null,null,null,null,null,null,null,null,null,null,"E.07.09","Festivity"]
[null,null,null,null,null,null,null,null,null,null,null,null,null,null,"E.07.07","Sport and leisure"]
[null,null,null,null,null,null,null,null,null,null,null,null,null,null,"E.02.02","Consumer electronics"]
[null,null,null,null,null,null,null,null,null,null,null,null,null,null,"E.04.07","Home electric appliances"]
[null,null,null,null,null,null,null,null,null,null,null,null,null,null,"E.01.01","Beauty electronics"]
[null,null,null,null,null,null,null,null,null,null,null,null,null,null,"E.06.07","Small domestic appliances"]
[null,null,null,null,null,null,null,null,null,null,null,null,null,null,"E.04.02","Car accessories and chemicals"]
[null,null,null,null,null,null,null,null,null,null,null,null,null,null,"E.07.04","Grilling"]
[null,null,null,null,null,null,null,null,null,null,null,null,null,null,"E.07.03","Gardening supplies"]
[null,null,null,null,null,null,null,null,null,null,null,null,null,null,"E.04.10","Bathroom"]

{"sheet":"CDT Leaf","index":2,"n_rows":3008,"n_cols":35,"rows_kept":3008,"cut":false,"hidden":true,"merged":[[0,0,0,20]]}
["INPUT FROM SAP ZCDT_EXPORT"]
["Format Id","Format","Group Id","Group","Department Id","Department","Category Id","Category","Sub-Category Id","Sub-Category","Segment 1 Id","Segment 1","Segment 2 Id","Segment 2","Segment 3 Id","Segment 3","Segment 4 Id","Segment 4","Segment 5 Id","Segment 5","Leaf",null,"Category Id","Category","Sub-Category","Segment 1","Segment 2","Segment 3","Segment 4","Segment 5","Leaf Node ID","CDT Leaf",null,null,"CDT Leafs for Main Page Category"]
["AH","Baltic CDT","U1","01. Ultra-Fresh","U1.01","01. Convenience","A.11.01","22. Ready to eat food; ready to cook foo","17529","01. Ready to cook","17531","01. Pasta","17537","01. Rimi made","","","","","","","X",null,"A.11.01","Ready to eat food; ready to cook foo","Ready to cook","Pasta","Rimi made","","","","17537",{"$f":"_xlfn.TEXTJOIN(\"; \",TRUE,ZCDT_EXPORT_2[[#This Row],[Sub-Category]:[Segment 5]])","v":"Ready to cook; Pasta; Rimi made"},null,null,{"$f":"IFERROR(_xlfn._xlws.SORT(_xlfn._xlws.FILTER(ZCDT_EXPORT_2[CDT Leaf],ZCDT_EXPORT_2[Category Id]=_xlfn.XLOOKUP(SelectedCategory,CDT_Mapping[Translation Name],CDT_Mapping[ID],\"*\"))),\"\")","v":""}]
["AH","Baltic CDT","U1","01. Ultra-Fresh","U1.01","01. Convenience","A.11.01","22. Ready to eat food; ready to cook foo","17529","01. Ready to cook","17531","01. Pasta","17538","02. Vendor made","","","","","","","X",null,"A.11.01","Ready to eat food; ready to cook foo","Ready to cook","Pasta","Vendor made","","","","17538",{"$f":"_xlfn.TEXTJOIN(\"; \",TRUE,ZCDT_EXPORT_2[[#This Row],[Sub-Category]:[Segment 5]])","v":"Ready to cook; Pasta; Vendor made"}]
["AH","Baltic CDT","U1","01. Ultra-Fresh","U1.01","01. Convenience","A.11.01","22. Ready to eat food; ready to cook foo","17529","01. Ready to cook","19111","02. Semi-prepared products","","","","","","","","","X",null,"A.11.01","Ready to eat food; ready to cook foo","Ready to cook","Semi-prepared products","","","","","19111",{"$f":"_xlfn.TEXTJOIN(\"; \",TRUE,ZCDT_EXPORT_2[[#This Row],[Sub-Category]:[Segment 5]])","v":"Ready to cook; Semi-prepared products"}]
["AH","Baltic CDT","U1","01. Ultra-Fresh","U1.01","01. Convenience","A.11.01","22. Ready to eat food; ready to cook foo","17529","01. Ready to cook","19112","03. Dinner prescription","","","","","","","","","X",null,"A.11.01","Ready to eat food; ready to cook foo","Ready to cook","Dinner prescription","","","","","19112",{"$f":"_xlfn.TEXTJOIN(\"; \",TRUE,ZCDT_EXPORT_2[[#This Row],[Sub-Category]:[Segment 5]])","v":"Ready to cook; Dinner prescription"}]
["AH","Baltic CDT","U1","01. Ultra-Fresh","U1.01","01. Convenience","A.11.01","22. Ready to eat food; ready to cook foo","17529","01. Ready to cook","19115","04. Pizza","","","","","","","","","X",null,"A.11.01","Ready to eat food; ready to cook foo","Ready to cook","Pizza","","","","","19115",{"$f":"_xlfn.TEXTJOIN(\"; \",TRUE,ZCDT_EXPORT_2[[#This Row],[Sub-Category]:[Segment 5]])","v":"Ready to cook; Pizza"}]
["AH","Baltic CDT","U1","01. Ultra-Fresh","U1.01","01. Convenience","A.11.01","22. Ready to eat food; ready to cook foo","17529","01. Ready to cook","17535","05. Pancakes","17545","01. Rimi made","","","","","","","X",null,"A.11.01","Ready to eat food; ready to cook foo","Ready to cook","Pancakes","Rimi made","","","","17545",{"$f":"_xlfn.TEXTJOIN(\"; \",TRUE,ZCDT_EXPORT_2[[#This Row],[Sub-Category]:[Segment 5]])","v":"Ready to cook; Pancakes; Rimi made"}]
["AH","Baltic CDT","U1","01. Ultra-Fresh","U1.01","01. Convenience","A.11.01","22. Ready to eat food; ready to cook foo","17529","01. Ready to cook","17535","05. Pancakes","17546","02. Vendor made","","","","","","","X",null,"A.11.01","Ready to eat food; ready to cook foo","Ready to cook","Pancakes","Vendor made","","","","17546",{"$f":"_xlfn.TEXTJOIN(\"; \",TRUE,ZCDT_EXPORT_2[[#This Row],[Sub-Category]:[Segment 5]])","v":"Ready to cook; Pancakes; Vendor made"}]
["AH","Baltic CDT","U1","01. Ultra-Fresh","U1.01","01. Convenience","A.11.01","22. Ready to eat food; ready to cook foo","17529","01. Ready to cook","19113","06. Meal sets","","","","","","","","","X",null,"A.11.01","Ready to eat food; ready to cook foo","Ready to cook","Meal sets","","","","","19113",{"$f":"_xlfn.TEXTJOIN(\"; \",TRUE,ZCDT_EXPORT_2[[#This Row],[Sub-Category]:[Segment 5]])","v":"Ready to cook; Meal sets"}]
["AH","Baltic CDT","U1","01. Ultra-Fresh","U1.01","01. Convenience","A.11.01","22. Ready to eat food; ready to cook foo","17530","02. Ready to eat","19116","01. Pizza","","","","","","","","","X",null,"A.11.01","Ready to eat food; ready to cook foo","Ready to eat","Pizza","","","","","19116",{"$f":"_xlfn.TEXTJOIN(\"; \",TRUE,ZCDT_EXPORT_2[[#This Row],[Sub-Category]:[Segment 5]])","v":"Ready to eat; Pizza"}]
["AH","Baltic CDT","U1","01. Ultra-Fresh","U1.01","01. Convenience","A.11.01","22. Ready to eat food; ready to cook foo","17530","02. Ready to eat","17550","02. Salads","17563","01. Salad bar","","","","","","","X",null,"A.11.01","Ready to eat food; ready to cook foo","Ready to eat","Salads","Salad bar","","","","17563",{"$f":"_xlfn.TEXTJOIN(\"; \",TRUE,ZCDT_EXPORT_2[[#This Row],[Sub-Category]:[Segment 5]])","v":"Ready to eat; Salads; Salad bar"}]
["AH","Baltic CDT","U1","01. Ultra-Fresh","U1.01","01. Convenience","A.11.01","22. Ready to eat food; ready to cook foo","17530","02. Ready to eat","17550","02. Salads","19123","02. Salads with mayo","19125","01. Weighted","19127","01. Rimi made","","","X",null,"A.11.01","Ready to eat food; ready to cook foo","Ready to eat","Salads","Salads with mayo","Weighted","Rimi made","","19127",{"$f":"_xlfn.TEXTJOIN(\"; \",TRUE,ZCDT_EXPORT_2[[#This Row],[Sub-Category]:[Segment 5]])","v":"Ready to eat; Salads; Salads with mayo; Weighted; Rimi made"}]
["AH","Baltic CDT","U1","01. Ultra-Fresh","U1.01","01. Convenience","A.11.01","22. Ready to eat food; ready to cook foo","17530","02. Ready to eat","17550","02. Salads","19123","02. Salads with mayo","19125","01. Weighted","19128","02. Vendor made","","","X",null,"A.11.01","Ready to eat food; ready to cook foo","Ready to eat","Salads","Salads with mayo","Weighted","Vendor made","","19128",{"$f":"_xlfn.TEXTJOIN(\"; \",TRUE,ZCDT_EXPORT_2[[#This Row],[Sub-Category]:[Segment 5]])","v":"Ready to eat; Salads; Salads with mayo; Weighted; Vendor made"}]
["AH","Baltic CDT","U1","01. Ultra-Fresh","U1.01","01. Convenience","A.11.01","22. Ready to eat food; ready to cook foo","17530","02. Ready to eat","17550","02. Salads","19123","02. Salads with mayo","19126","02. Packed","19129","01. Rimi made","","","X",null,"A.11.01","Ready to eat food; ready to cook foo","Ready to eat","Salads","Salads with mayo","Packed","Rimi made","","19129",{"$f":"_xlfn.TEXTJOIN(\"; \",TRUE,ZCDT_EXPORT_2[[#This Row],[Sub-Category]:[Segment 5]])","v":"Ready to eat; Salads; Salads with mayo; Packed; Rimi made"}]
["AH","Baltic CDT","U1","01. Ultra-Fresh","U1.01","01. Convenience","A.11.01","22. Ready to eat food; ready to cook foo","17530","02. Ready to eat","17550","02. Salads","19123","02. Salads with mayo","19126","02. Packed","19130","02. Vendor made","","","X",null,"A.11.01","Ready to eat food; ready to cook foo","Ready to eat","Salads","Salads with mayo","Packed","Vendor made","","19130",{"$f":"_xlfn.TEXTJOIN(\"; \",TRUE,ZCDT_EXPORT_2[[#This Row],[Sub-Category]:[Segment 5]])","v":"Ready to eat; Salads; Salads with mayo; Packed; Vendor made"}]
["AH","Baltic CDT","U1","01. Ultra-Fresh","U1.01","01. Convenience","A.11.01","22. Ready to eat food; ready to cook foo","17530","02. Ready to eat","17550","02. Salads","19124","03. Fresh salad","19131","01. Weighted","19133","01. Rimi made","","","X",null,"A.11.01","Ready to eat food; ready to cook foo","Ready to eat","Salads","Fresh salad","Weighted","Rimi made","","19133",{"$f":"_xlfn.TEXTJOIN(\"; \",TRUE,ZCDT_EXPORT_2[[#This Row],[Sub-Category]:[Segment 5]])","v":"Ready to eat; Salads; Fresh salad; Weighted; Rimi made"}]
["AH","Baltic CDT","U1","01. Ultra-Fresh","U1.01","01. Convenience","A.11.01","22. Ready to eat food; ready to cook foo","17530","02. Ready to eat","17550","02. Salads","19124","03. Fresh salad","19131","01. Weighted","19134","02. Vendor made","","","X",null,"A.11.01","Ready to eat food; ready to cook foo","Ready to eat","Salads","Fresh salad","Weighted","Vendor made","","19134",{"$f":"_xlfn.TEXTJOIN(\"; \",TRUE,ZCDT_EXPORT_2[[#This Row],[Sub-Category]:[Segment 5]])","v":"Ready to eat; Salads; Fresh salad; Weighted; Vendor made"}]
["AH","Baltic CDT","U1","01. Ultra-Fresh","U1.01","01. Convenience","A.11.01","22. Ready to eat food; ready to cook foo","17530","02. Ready to eat","17550","02. Salads","19124","03. Fresh salad","19132","02. Packed","19135","01. Rimi made","","","X",null,"A.11.01","Ready to eat food; ready to cook foo","Ready to eat","Salads","Fresh salad","Packed","Rimi made","","19135",{"$f":"_xlfn.TEXTJOIN(\"; \",TRUE,ZCDT_EXPORT_2[[#This Row],[Sub-Category]:[Segment 5]])","v":"Ready to eat; Salads; Fresh salad; Packed; Rimi made"}]
["AH","Baltic CDT","U1","01. Ultra-Fresh","U1.01","01. Convenience","A.11.01","22. Ready to eat food; ready to cook foo","17530","02. Ready to eat","17550","02. Salads","19124","03. Fresh salad","19132","02. Packed","19136","02. Vendor made","","","X",null,"A.11.01","Ready to eat food; ready to cook foo","Ready to eat","Salads","Fresh salad","Packed","Vendor made","","19136",{"$f":"_xlfn.TEXTJOIN(\"; \",TRUE,ZCDT_EXPORT_2[[#This Row],[Sub-Category]:[Segment 5]])","v":"Ready to eat; Salads; Fresh salad; Packed; Vendor made"}]
["AH","Baltic CDT","U1","01. Ultra-Fresh","U1.01","01. Convenience","A.11.01","22. Ready to eat food; ready to cook foo","17530","02. Ready to eat","19117","03. Sushi","","","","","","","","","X",null,"A.11.01","Ready to eat food; ready to cook foo","Ready to eat","Sushi","","","","","19117",{"$f":"_xlfn.TEXTJOIN(\"; \",TRUE,ZCDT_EXPORT_2[[#This Row],[Sub-Category]:[Segment 5]])","v":"Ready to eat; Sushi"}]
["AH","Baltic CDT","U1","01. Ultra-Fresh","U1.01","01. Convenience","A.11.01","22. Ready to eat food; ready to cook foo","17530","02. Ready to eat","17552","04. Sandwich type snacks","17576","01. Sandwiches","17579","01. Rimi made","","","","","X",null,"A.11.01","Ready to eat food; ready to cook foo","Ready to eat","Sandwich type snacks","Sandwiches","Rimi made","","","17579",{"$f":"_xlfn.TEXTJOIN(\"; \",TRUE,ZCDT_EXPORT_2[[#This Row],[Sub-Category]:[Segment 5]])","v":"Ready to eat; Sandwich type snacks; Sandwiches; Rimi made"}]
["AH","Baltic CDT","U1","01. Ultra-Fresh","U1.01","01. Convenience","A.11.01","22. Ready to eat food; ready to cook foo","17530","02. Ready to eat","17552","04. Sandwich type snacks","17576","01. Sandwiches","17580","02. Vendor made","","","","","X",null,"A.11.01","Ready to eat food; ready to cook foo","Ready to eat","Sandwich type snacks","Sandwiches","Vendor made","","","17580",{"$f":"_xlfn.TEXTJOIN(\"; \",TRUE,ZCDT_EXPORT_2[[#This Row],[Sub-Category]:[Segment 5]])","v":"Ready to eat; Sandwich type snacks; Sandwiches; Vendor made"}]
["AH","Baltic CDT","U1","01. Ultra-Fresh","U1.01","01. Convenience","A.11.01","22. Ready to eat food; ready to cook foo","17530","02. Ready to eat","17552","04. Sandwich type snacks","17577","02. Wraps","17581","01. Rimi made","","","","","X",null,"A.11.01","Ready to eat food; ready to cook foo","Ready to eat","Sandwich type snacks","Wraps","Rimi made","","","17581",{"$f":"_xlfn.TEXTJOIN(\"; \",TRUE,ZCDT_EXPORT_2[[#This Row],[Sub-Category]:[Segment 5]])","v":"Ready to eat; Sandwich type snacks; Wraps; Rimi made"}]
["AH","Baltic CDT","U1","01. Ultra-Fresh","U1.01","01. Convenience","A.11.01","22. Ready to eat food; ready to cook foo","17530","02. Ready to eat","17552","04. Sandwich type snacks","17577","02. Wraps","17582","02. Vendor made","","","","","X",null,"A.11.01","Ready to eat food; ready to cook foo","Ready to eat","Sandwich type snacks","Wraps","Vendor made","","","17582",{"$f":"_xlfn.TEXTJOIN(\"; \",TRUE,ZCDT_EXPORT_2[[#This Row],[Sub-Category]:[Segment 5]])","v":"Ready to eat; Sandwich type snacks; Wraps; Vendor made"}]
["AH","Baltic CDT","U1","01. Ultra-Fresh","U1.01","01. Convenience","A.11.01","22. Ready to eat food; ready to cook foo","17530","02. Ready to eat","17552","04. Sandwich type snacks","17578","03. Other","17583","01. Rimi made","","","","","X",null,"A.11.01","Ready to eat food; ready to cook foo","Ready to eat","Sandwich type snacks","Other","Rimi made","","","17583",{"$f":"_xlfn.TEXTJOIN(\"; \",TRUE,ZCDT_EXPORT_2[[#This Row],[Sub-Category]:[Segment 5]])","v":"Ready to eat; Sandwich type snacks; Other; Rimi made"}]
["AH","Baltic CDT","U1","01. Ultra-Fresh","U1.01","01. Convenience","A.11.01","22. Ready to eat food; ready to cook foo","17530","02. Ready to eat","17552","04. Sandwich type snacks","17578","03. Other","17584","02. Vendor made","","","","","X",null,"A.11.01","Ready to eat food; ready to cook foo","Ready to eat","Sandwich type snacks","Other","Vendor made","","","17584",{"$f":"_xlfn.TEXTJOIN(\"; \",TRUE,ZCDT_EXPORT_2[[#This Row],[Sub-Category]:[Segment 5]])","v":"Ready to eat; Sandwich type snacks; Other; Vendor made"}]
["AH","Baltic CDT","U1","01. Ultra-Fresh","U1.01","01. Convenience","A.11.01","22. Ready to eat food; ready to cook foo","17530","02. Ready to eat","17554","05. Drinks","17587","01. Cold","17589","01. Smoothies/ Cocktails","","","","","X",null,"A.11.01","Ready to eat food; ready to cook foo","Ready to eat","Drinks","Cold","Smoothies/ Cocktails","","","17589",{"$f":"_xlfn.TEXTJOIN(\"; \",TRUE,ZCDT_EXPORT_2[[#This Row],[Sub-Category]:[Segment 5]])","v":"Ready to eat; Drinks; Cold; Smoothies/ Cocktails"}]
["AH","Baltic CDT","U1","01. Ultra-Fresh","U1.01","01. Convenience","A.11.01","22. Ready to eat food; ready to cook foo","17530","02. Ready to eat","17554","05. Drinks","17587","01. Cold","17590","02. Fresh juice","","","","","X",null,"A.11.01","Ready to eat food; ready to cook foo","Ready to eat","Drinks","Cold","Fresh juice","","","17590",{"$f":"_xlfn.TEXTJOIN(\"; \",TRUE,ZCDT_EXPORT_2[[#This Row],[Sub-Category]:[Segment 5]])","v":"Ready to eat; Drinks; Cold; Fresh juice"}]
["AH","Baltic CDT","U1","01. Ultra-Fresh","U1.01","01. Convenience","A.11.01","22. Ready to eat food; ready to cook foo","17530","02. Ready to eat","17554","05. Drinks","17587","01. Cold","17591","03. Other","","","","","X",null,"A.11.01","Ready to eat food; ready to cook foo","Ready to eat","Drinks","Cold","Other","","","17591",{"$f":"_xlfn.TEXTJOIN(\"; \",TRUE,ZCDT_EXPORT_2[[#This Row],[Sub-Category]:[Segment 5]])","v":"Ready to eat; Drinks; Cold; Other"}]
["AH","Baltic CDT","U1","01. Ultra-Fresh","U1.01","01. Convenience","A.11.01","22. Ready to eat food; ready to cook foo","17530","02. Ready to eat","17554","05. Drinks","17588","02. Hot","","","","","","","X",null,"A.11.01","Ready to eat food; ready to cook foo","Ready to eat","Drinks","Hot","","","","17588",{"$f":"_xlfn.TEXTJOIN(\"; \",TRUE,ZCDT_EXPORT_2[[#This Row],[Sub-Category]:[Segment 5]])","v":"Ready to eat; Drinks; Hot"}]
["AH","Baltic CDT","U1","01. Ultra-Fresh","U1.01","01. Convenience","A.11.01","22. Ready to eat food; ready to cook foo","17530","02. Ready to eat","17555","06. Cold starters","17593","01. Sandwiches cakes and quiche","","","","","","","X",null,"A.11.01","Ready to eat food; ready to cook foo","Ready to eat","Cold starters","Sandwiches cakes and quiche","","","","17593",{"$f":"_xlfn.TEXTJOIN(\"; \",TRUE,ZCDT_EXPORT_2[[#This Row],[Sub-Category]:[Segment 5]])","v":"Ready to eat; Cold starters; Sandwiches cakes and quiche"}]
["AH","Baltic CDT","U1","01. Ultra-Fresh","U1.01","01. Convenience","A.11.01","22. Ready to eat food; ready to cook foo","17530","02. Ready to eat","17555","06. Cold starters","17595","02. Antipasti","17600","01. Rimi made","","","","","X",null,"A.11.01","Ready to eat food; ready to cook foo","Ready to eat","Cold starters","Antipasti","Rimi made","","","17600",{"$f":"_xlfn.TEXTJOIN(\"; \",TRUE,ZCDT_EXPORT_2[[#This Row],[Sub-Category]:[Segment 5]])","v":"Ready to eat; Cold starters; Antipasti; Rimi made"}]
["AH","Baltic CDT","U1","01. Ultra-Fresh","U1.01","01. Convenience","A.11.01","22. Ready to eat food; ready to cook foo","17530","02. Ready to eat","17555","06. Cold starters","17595","02. Antipasti","17601","02. Vendor made","","","","","X",null,"A.11.01","Ready to eat food; ready to cook foo","Ready to eat","Cold starters","Antipasti","Vendor made","","","17601",{"$f":"_xlfn.TEXTJOIN(\"; \",TRUE,ZCDT_EXPORT_2[[#This Row],[Sub-Category]:[Segment 5]])","v":"Ready to eat; Cold starters; Antipasti; Vendor made"}]
["AH","Baltic CDT","U1","01. Ultra-Fresh","U1.01","01. Convenience","A.11.01","22. Ready to eat food; ready to cook foo","17530","02. Ready to eat","17555","06. Cold starters","19118","03. Plates","19119","01. Sweet","","","","","X",null,"A.11.01","Ready to eat food; ready to cook foo","Ready to eat","Cold starters","Plates","Sweet","","","19119",{"$f":"_xlfn.TEXTJOIN(\"; \",TRUE,ZCDT_EXPORT_2[[#This Row],[Sub-Category]:[Segment 5]])","v":"Ready to eat; Cold starters; Plates; Sweet"}]
["AH","Baltic CDT","U1","01. Ultra-Fresh","U1.01","01. Convenience","A.11.01","22. Ready to eat food; ready to cook foo","17530","02. Ready to eat","17555","06. Cold starters","19118","03. Plates","19120","02. Sour","","","","","X",null,"A.11.01","Ready to eat food; ready to cook foo","Ready to eat","Cold starters","Plates","Sour","","","19120",{"$f":"_xlfn.TEXTJOIN(\"; \",TRUE,ZCDT_EXPORT_2[[#This Row],[Sub-Category]:[Segment 5]])","v":"Ready to eat; Cold starters; Plates; Sour"}]
["AH","Baltic CDT","U1","01. Ultra-Fresh","U1.01","01. Convenience","A.11.01","22. Ready to eat food; ready to cook foo","17530","02. Ready to eat","17555","06. Cold starters","19121","04. Spreads / Pates","","","","","","","X",null,"A.11.01","Ready to eat food; ready to cook foo","Ready to eat","Cold starters","Spreads / Pates","","","","19121",{"$f":"_xlfn.TEXTJOIN(\"; \",TRUE,ZCDT_EXPORT_2[[#This Row],[Sub-Category]:[Segment 5]])","v":"Ready to eat; Cold starters; Spreads / Pates"}]
["AH","Baltic CDT","U1","01. Ultra-Fresh","U1.01","01. Convenience","A.11.01","22. Ready to eat food; ready to cook foo","17530","02. Ready to eat","17555","06. Cold starters","17599","05. Other","","","","","","","X",null,"A.11.01","Ready to eat food; ready to cook foo","Ready to eat","Cold starters","Other","","","","17599",{"$f":"_xlfn.TEXTJOIN(\"; \",TRUE,ZCDT_EXPORT_2[[#This Row],[Sub-Category]:[Segment 5]])","v":"Ready to eat; Cold starters; Other"}]
["AH","Baltic CDT","U1","01. Ultra-Fresh","U1.01","01. Convenience","A.11.01","22. Ready to eat food; ready to cook foo","17530","02. Ready to eat","17556","07. Meals","19137","01. Meal bar / hot buffee","19145","01. Fish","","","","","X",null,"A.11.01","Ready to eat food; ready to cook foo","Ready to eat","Meals","Meal bar / hot buffee","Fish","","","19145",{"$f":"_xlfn.TEXTJOIN(\"; \",TRUE,ZCDT_EXPORT_2[[#This Row],[Sub-Category]:[Segment 5]])","v":"Ready to eat; Meals; Meal bar / hot buffee; Fish"}]
["AH","Baltic CDT","U1","01. Ultra-Fresh","U1.01","01. Convenience","A.11.01","22. Ready to eat food; ready to cook foo","17530","02. Ready to eat","17556","07. Meals","19137","01. Meal bar / hot buffee","19146","02. Meat","19152","01. Pork","","","X",null,"A.11.01","Ready to eat food; ready to cook foo","Ready to eat","Meals","Meal bar / hot buffee","Meat","Pork","","19152",{"$f":"_xlfn.TEXTJOIN(\"; \",TRUE,ZCDT_EXPORT_2[[#This Row],[Sub-Category]:[Segment 5]])","v":"Ready to eat; Meals; Meal bar / hot buffee; Meat; Pork"}]
["AH","Baltic CDT","U1","01. Ultra-Fresh","U1.01","01. Convenience","A.11.01","22. Ready to eat food; ready to cook foo","17530","02. Ready to eat","17556","07. Meals","19137","01. Meal bar / hot buffee","19146","02. Meat","19153","02. Beef","","","X",null,"A.11.01","Ready to eat food; ready to cook foo","Ready to eat","Meals","Meal bar / hot buffee","Meat","Beef","","19153",{"$f":"_xlfn.TEXTJOIN(\"; \",TRUE,ZCDT_EXPORT_2[[#This Row],[Sub-Category]:[Segment 5]])","v":"Ready to eat; Meals; Meal bar / hot buffee; Meat; Beef"}]
["AH","Baltic CDT","U1","01. Ultra-Fresh","U1.01","01. Convenience","A.11.01","22. Ready to eat food; ready to cook foo","17530","02. Ready to eat","17556","07. Meals","19137","01. Meal bar / hot buffee","19146","02. Meat","19154","03. Poultry","","","X",null,"A.11.01","Ready to eat food; ready to cook foo","Ready to eat","Meals","Meal bar / hot buffee","Meat","Poultry","","19154",{"$f":"_xlfn.TEXTJOIN(\"; \",TRUE,ZCDT_EXPORT_2[[#This Row],[Sub-Category]:[Segment 5]])","v":"Ready to eat; Meals; Meal bar / hot buffee; Meat; Poultry"}]
["AH","Baltic CDT","U1","01. Ultra-Fresh","U1.01","01. Convenience","A.11.01","22. Ready to eat food; ready to cook foo","17530","02. Ready to eat","17556","07. Meals","19137","01. Meal bar / hot buffee","19146","02. Meat","19155","04. Minced meat","","","X",null,"A.11.01","Ready to eat food; ready to cook foo","Ready to eat","Meals","Meal bar / hot buffee","Meat","Minced meat","","19155",{"$f":"_xlfn.TEXTJOIN(\"; \",TRUE,ZCDT_EXPORT_2[[#This Row],[Sub-Category]:[Segment 5]])","v":"Ready to eat; Meals; Meal bar / hot buffee; Meat; Minced meat"}]
["AH","Baltic CDT","U1","01. Ultra-Fresh","U1.01","01. Convenience","A.11.01","22. Ready to eat food; ready to cook foo","17530","02. Ready to eat","17556","07. Meals","19137","01. Meal bar / hot buffee","19147","03. Casserolls","","","","","X",null,"A.11.01","Ready to eat food; ready to cook foo","Ready to eat","Meals","Meal bar / hot buffee","Casserolls","","","19147",{"$f":"_xlfn.TEXTJOIN(\"; \",TRUE,ZCDT_EXPORT_2[[#This Row],[Sub-Category]:[Segment 5]])","v":"Ready to eat; Meals; Meal bar / hot buffee; Casserolls"}]
["AH","Baltic CDT","U1","01. Ultra-Fresh","U1.01","01. Convenience","A.11.01","22. Ready to eat food; ready to cook foo","17530","02. Ready to eat","17556","07. Meals","19137","01. Meal bar / hot buffee","19148","04. Vegetable / Curd","","","","","X",null,"A.11.01","Ready to eat food; ready to cook foo","Ready to eat","Meals","Meal bar / hot buffee","Vegetable / Curd","","","19148",{"$f":"_xlfn.TEXTJOIN(\"; \",TRUE,ZCDT_EXPORT_2[[#This Row],[Sub-Category]:[Segment 5]])","v":"Ready to eat; Meals; Meal bar / hot buffee; Vegetable / Curd"}]
["AH","Baltic CDT","U1","01. Ultra-Fresh","U1.01","01. Convenience","A.11.01","22. Ready to eat food; ready to cook foo","17530","02. Ready to eat","17556","07. Meals","19137","01. Meal bar / hot buffee","19149","05. Pancakes","","","","","X",null,"A.11.01","Ready to eat food; ready to cook foo","Ready to eat","Meals","Meal bar / hot buffee","Pancakes","","","19149",{"$f":"_xlfn.TEXTJOIN(\"; \",TRUE,ZCDT_EXPORT_2[[#This Row],[Sub-Category]:[Segment 5]])","v":"Ready to eat; Meals; Meal bar / hot buffee; Pancakes"}]
["AH","Baltic CDT","U1","01. Ultra-Fresh","U1.01","01. Convenience","A.11.01","22. Ready to eat food; ready to cook foo","17530","02. Ready to eat","17556","07. Meals","19137","01. Meal bar / hot buffee","19150","06. Side dishes","","","","","X",null,"A.11.01","Ready to eat food; ready to cook foo","Ready to eat","Meals","Meal bar / hot buffee","Side dishes","","","19150",{"$f":"_xlfn.TEXTJOIN(\"; \",TRUE,ZCDT_EXPORT_2[[#This Row],[Sub-Category]:[Segment 5]])","v":"Ready to eat; Meals; Meal bar / hot buffee; Side dishes"}]
["AH","Baltic CDT","U1","01. Ultra-Fresh","U1.01","01. Convenience","A.11.01","22. Ready to eat food; ready to cook foo","17530","02. Ready to eat","17556","07. Meals","19137","01. Meal bar / hot buffee","19151","07. Other","","","","","X",null,"A.11.01","Ready to eat food; ready to cook foo","Ready to eat","Meals","Meal bar / hot buffee","Other","","","19151",{"$f":"_xlfn.TEXTJOIN(\"; \",TRUE,ZCDT_EXPORT_2[[#This Row],[Sub-Category]:[Segment 5]])","v":"Ready to eat; Meals; Meal bar / hot buffee; Other"}]
["AH","Baltic CDT","U1","01. Ultra-Fresh","U1.01","01. Convenience","A.11.01","22. Ready to eat food; ready to cook foo","17530","02. Ready to eat","17556","07. Meals","19138","02. Grill zone / bar","","","","","","","X",null,"A.11.01","Ready to eat food; ready to cook foo","Ready to eat","Meals","Grill zone / bar","","","","19138",{"$f":"_xlfn.TEXTJOIN(\"; \",TRUE,ZCDT_EXPORT_2[[#This Row],[Sub-Category]:[Segment 5]])","v":"Ready to eat; Meals; Grill zone / bar"}]
["AH","Baltic CDT","U1","01. Ultra-Fresh","U1.01","01. Convenience","A.11.01","22. Ready to eat food; ready to cook foo","17530","02. Ready to eat","17556","07. Meals","17614","03. Porridge","","","","","","","X",null,"A.11.01","Ready to eat food; ready to cook foo","Ready to eat","Meals","Porridge","","","","17614",{"$f":"_xlfn.TEXTJOIN(\"; \",TRUE,ZCDT_EXPORT_2[[#This Row],[Sub-Category]:[Segment 5]])","v":"Ready to eat; Meals; Porridge"}]
["AH","Baltic CDT","U1","01. Ultra-Fresh","U1.01","01. Convenience","A.11.01","22. Ready to eat food; ready to cook foo","17530","02. Ready to eat","17556","07. Meals","19139","04. Soups","19140","01. Rimi made","","","","","X",null,"A.11.01","Ready to eat food; ready to cook foo","Ready to eat","Meals","Soups","Rimi made","","","19140",{"$f":"_xlfn.TEXTJOIN(\"; \",TRUE,ZCDT_EXPORT_2[[#This Row],[Sub-Category]:[Segment 5]])","v":"Ready to eat; Meals; Soups; Rimi made"}]
["AH","Baltic CDT","U1","01. Ultra-Fresh","U1.01","01. Convenience","A.11.01","22. Ready to eat food; ready to cook foo","17530","02. Ready to eat","17556","07. Meals","19139","04. Soups","19141","02. Vendor made","","","","","X",null,"A.11.01","Ready to eat food; ready to cook foo","Ready to eat","Meals","Soups","Vendor made","","","19141",{"$f":"_xlfn.TEXTJOIN(\"; \",TRUE,ZCDT_EXPORT_2[[#This Row],[Sub-Category]:[Segment 5]])","v":"Ready to eat; Meals; Soups; Vendor made"}]
["AH","Baltic CDT","U1","01. Ultra-Fresh","U1.01","01. Convenience","A.11.01","22. Ready to eat food; ready to cook foo","17530","02. Ready to eat","19142","08. Fresh desserts","19143","01. Rimi made","","","","","","","X",null,"A.11.01","Ready to eat food; ready to cook foo","Ready to eat","Fresh desserts","Rimi made","","","","19143",{"$f":"_xlfn.TEXTJOIN(\"; \",TRUE,ZCDT_EXPORT_2[[#This Row],[Sub-Category]:[Segment 5]])","v":"Ready to eat; Fresh desserts; Rimi made"}]
["AH","Baltic CDT","U1","01. Ultra-Fresh","U1.01","01. Convenience","A.11.01","22. Ready to eat food; ready to cook foo","17530","02. Ready to eat","19142","08. Fresh desserts","19144","02. Vendor made","","","","","","","X",null,"A.11.01","Ready to eat food; ready to cook foo","Ready to eat","Fresh desserts","Vendor made","","","","19144",{"$f":"_xlfn.TEXTJOIN(\"; \",TRUE,ZCDT_EXPORT_2[[#This Row],[Sub-Category]:[Segment 5]])","v":"Ready to eat; Fresh desserts; Vendor made"}]
["AH","Baltic CDT","U1","01. Ultra-Fresh","U1.01","01. Convenience","A.11.01","22. Ready to eat food; ready to cook foo","17530","02. Ready to eat","19264","09. Festivity meals","19265","01. Sandwich type snacks","","","","","","","X",null,"A.11.01","Ready to eat food; ready to cook foo","Ready to eat","Festivity meals","Sandwich type snacks","","","","19265",{"$f":"_xlfn.TEXTJOIN(\"; \",TRUE,ZCDT_EXPORT_2[[#This Row],[Sub-Category]:[Segment 5]])","v":"Ready to eat; Festivity meals; Sandwich type snacks"}]
["AH","Baltic CDT","U1","01. Ultra-Fresh","U1.01","01. Convenience","A.11.01","22. Ready to eat food; ready to cook foo","17530","02. Ready to eat","19264","09. Festivity meals","19266","02. Cold starters","","","","","","","X",null,"A.11.01","Ready to eat food; ready to cook foo","Ready to eat","Festivity meals","Cold starters","","","","19266",{"$f":"_xlfn.TEXTJOIN(\"; \",TRUE,ZCDT_EXPORT_2[[#This Row],[Sub-Category]:[Segment 5]])","v":"Ready to eat; Festivity meals; Cold starters"}]
["AH","Baltic CDT","U1","01. Ultra-Fresh","U1.01","01. Convenience","A.11.01","22. Ready to eat food; ready to cook foo","17530","02. Ready to eat","19264","09. Festivity meals","19267","03. Salads","","","","","","","X",null,"A.11.01","Ready to eat food; ready to cook foo","Ready to eat","Festivity meals","Salads","","","","19267",{"$f":"_xlfn.TEXTJOIN(\"; \",TRUE,ZCDT_EXPORT_2[[#This Row],[Sub-Category]:[Segment 5]])","v":"Ready to eat; Festivity meals; Salads"}]
["AH","Baltic CDT","U1","01. Ultra-Fresh","U1.01","01. Convenience","A.11.01","22. Ready to eat food; ready to cook foo","17530","02. Ready to eat","19264","09. Festivity meals","19268","04. Drinks","","","","","","","X",null,"A.11.01","Ready to eat food; ready to cook foo","Ready to eat","Festivity meals","Drinks","","","","19268",{"$f":"_xlfn.TEXTJOIN(\"; \",TRUE,ZCDT_EXPORT_2[[#This Row],[Sub-Category]:[Segment 5]])","v":"Ready to eat; Festivity meals; Drinks"}]
["AH","Baltic CDT","U1","01. Ultra-Fresh","U1.01","01. Convenience","A.11.01","22. Ready to eat food; ready to cook foo","17530","02. Ready to eat","19264","09. Festivity meals","19269","05. Meals","","","","","","","X",null,"A.11.01","Ready to eat food; ready to cook foo","Ready to eat","Festivity meals","Meals","","","","19269",{"$f":"_xlfn.TEXTJOIN(\"; \",TRUE,ZCDT_EXPORT_2[[#This Row],[Sub-Category]:[Segment 5]])","v":"Ready to eat; Festivity meals; Meals"}]
["AH","Baltic CDT","U1","01. Ultra-Fresh","U1.01","01. Convenience","A.11.01","22. Ready to eat food; ready to cook foo","17530","02. Ready to eat","19264","09. Festivity meals","19270","06. Pizza","","","","","","","X",null,"A.11.01","Ready to eat food; ready to cook foo","Ready to eat","Festivity meals","Pizza","","","","19270",{"$f":"_xlfn.TEXTJOIN(\"; \",TRUE,ZCDT_EXPORT_2[[#This Row],[Sub-Category]:[Segment 5]])","v":"Ready to eat; Festivity meals; Pizza"}]
["AH","Baltic CDT","U1","01. Ultra-Fresh","U1.01","01. Convenience","A.11.01","22. Ready to eat food; ready to cook foo","17530","02. Ready to eat","19264","09. Festivity meals","19271","07. Fresh desserts","","","","","","","X",null,"A.11.01","Ready to eat food; ready to cook foo","Ready to eat","Festivity meals","Fresh desserts","","","","19271",{"$f":"_xlfn.TEXTJOIN(\"; \",TRUE,ZCDT_EXPORT_2[[#This Row],[Sub-Category]:[Segment 5]])","v":"Ready to eat; Festivity meals; Fresh desserts"}]
["AH","Baltic CDT","U1","01. Ultra-Fresh","U1.02","02. Fresh Meat & Fish","A.06.01","10. Fresh fish","16912","01. Fish fillet","16917","01. Packed","16919","01. Salmon type fish","","","","","","","X",null,"A.06.01","Fresh fish","Fish fillet","Packed","Salmon type fish","","","","16919",{"$f":"_xlfn.TEXTJOIN(\"; \",TRUE,ZCDT_EXPORT_2[[#This Row],[Sub-Category]:[Segment 5]])","v":"Fish fillet; Packed; Salmon type fish"}]
["AH","Baltic CDT","U1","01. Ultra-Fresh","U1.02","02. Fresh Meat & Fish","A.06.01","10. Fresh fish","16912","01. Fish fillet","16917","01. Packed","16920","02. Other fish","","","","","","","X",null,"A.06.01","Fresh fish","Fish fillet","Packed","Other fish","","","","16920",{"$f":"_xlfn.TEXTJOIN(\"; \",TRUE,ZCDT_EXPORT_2[[#This Row],[Sub-Category]:[Segment 5]])","v":"Fish fillet; Packed; Other fish"}]
["AH","Baltic CDT","U1","01. Ultra-Fresh","U1.02","02. Fresh Meat & Fish","A.06.01","10. Fresh fish","16912","01. Fish fillet","16918","02. Unpacked","16921","01. Salmon type fish","","","","","","","X",null,"A.06.01","Fresh fish","Fish fillet","Unpacked","Salmon type fish","","","","16921",{"$f":"_xlfn.TEXTJOIN(\"; \",TRUE,ZCDT_EXPORT_2[[#This Row],[Sub-Category]:[Segment 5]])","v":"Fish fillet; Unpacked; Salmon type fish"}]
["AH","Baltic CDT","U1","01. Ultra-Fresh","U1.02","02. Fresh Meat & Fish","A.06.01","10. Fresh fish","16912","01. Fish fillet","16918","02. Unpacked","16922","02. Other fish","","","","","","","X",null,"A.06.01","Fresh fish","Fish fillet","Unpacked","Other fish","","","","16922",{"$f":"_xlfn.TEXTJOIN(\"; \",TRUE,ZCDT_EXPORT_2[[#This Row],[Sub-Category]:[Segment 5]])","v":"Fish fillet; Unpacked; Other fish"}]
["AH","Baltic CDT","U1","01. Ultra-Fresh","U1.02","02. Fresh Meat & Fish","A.06.01","10. Fresh fish","16913","02. Fresh seafood","","","","","","","","","","","X",null,"A.06.01","Fresh fish","Fresh seafood","","","","","","16913",{"$f":"_xlfn.TEXTJOIN(\"; \",TRUE,ZCDT_EXPORT_2[[#This Row],[Sub-Category]:[Segment 5]])","v":"Fresh seafood"}]
["AH","Baltic CDT","U1","01. Ultra-Fresh","U1.02","02. Fresh Meat & Fish","A.06.01","10. Fresh fish","16914","03. Marinated fish","","","","","","","","","","","X",null,"A.06.01","Fresh fish","Marinated fish","","","","","","16914",{"$f":"_xlfn.TEXTJOIN(\"; \",TRUE,ZCDT_EXPORT_2[[#This Row],[Sub-Category]:[Segment 5]])","v":"Marinated fish"}]
["AH","Baltic CDT","U1","01. Ultra-Fresh","U1.02","02. Fresh Meat & Fish","A.06.01","10. Fresh fish","16915","04. Other fresh fish","","","","","","","","","","","X",null,"A.06.01","Fresh fish","Other fresh fish","","","","","","16915",{"$f":"_xlfn.TEXTJOIN(\"; \",TRUE,ZCDT_EXPORT_2[[#This Row],[Sub-Category]:[Segment 5]])","v":"Other fresh fish"}]
["AH","Baltic CDT","U1","01. Ultra-Fresh","U1.02","02. Fresh Meat & Fish","A.06.01","10. Fresh fish","16916","05. Whole fish","16923","01. Live fish","","","","","","","","","X",null,"A.06.01","Fresh fish","Whole fish","Live fish","","","","","16923",{"$f":"_xlfn.TEXTJOIN(\"; \",TRUE,ZCDT_EXPORT_2[[#This Row],[Sub-Category]:[Segment 5]])","v":"Whole fish; Live fish"}]
["AH","Baltic CDT","U1","01. Ultra-Fresh","U1.02","02. Fresh Meat & Fish","A.06.01","10. Fresh fish","16916","05. Whole fish","16924","02. Packed","16926","01. Salmon type fish","","","","","","","X",null,"A.06.01","Fresh fish","Whole fish","Packed","Salmon type fish","","","","16926",{"$f":"_xlfn.TEXTJOIN(\"; \",TRUE,ZCDT_EXPORT_2[[#This Row],[Sub-Category]:[Segment 5]])","v":"Whole fish; Packed; Salmon type fish"}]
["AH","Baltic CDT","U1","01. Ultra-Fresh","U1.02","02. Fresh Meat & Fish","A.06.01","10. Fresh fish","16916","05. Whole fish","16924","02. Packed","16927","02. Other fish","","","","","","","X",null,"A.06.01","Fresh fish","Whole fish","Packed","Other fish","","","","16927",{"$f":"_xlfn.TEXTJOIN(\"; \",TRUE,ZCDT_EXPORT_2[[#This Row],[Sub-Category]:[Segment 5]])","v":"Whole fish; Packed; Other fish"}]
["AH","Baltic CDT","U1","01. Ultra-Fresh","U1.02","02. Fresh Meat & Fish","A.06.01","10. Fresh fish","16916","05. Whole fish","16925","03. Unpacked","16929","01. Salmon type fish","","","","","","","X",null,"A.06.01","Fresh fish","Whole fish","Unpacked","Salmon type fish","","","","16929",{"$f":"_xlfn.TEXTJOIN(\"; \",TRUE,ZCDT_EXPORT_2[[#This Row],[Sub-Category]:[Segment 5]])","v":"Whole fish; Unpacked; Salmon type fish"}]
["AH","Baltic CDT","U1","01. Ultra-Fresh","U1.02","02. Fresh Meat & Fish","A.06.01","10. Fresh fish","16916","05. Whole fish","16925","03. Unpacked","16930","02. Other fish","","","","","","","X",null,"A.06.01","Fresh fish","Whole fish","Unpacked","Other fish","","","","16930",{"$f":"_xlfn.TEXTJOIN(\"; \",TRUE,ZCDT_EXPORT_2[[#This Row],[Sub-Category]:[Segment 5]])","v":"Whole fish; Unpacked; Other fish"}]
["AH","Baltic CDT","U1","01. Ultra-Fresh","U1.02","02. Fresh Meat & Fish","A.10.01","18. Fresh meat marinade","18822","01. Meat marinade","18827","01. Pork","18839","01. Packed","","","","","","","X",null,"A.10.01","Fresh meat marinade","Meat marinade","Pork","Packed","","","","18839",{"$f":"_xlfn.TEXTJOIN(\"; \",TRUE,ZCDT_EXPORT_2[[#This Row],[Sub-Category]:[Segment 5]])","v":"Meat marinade; Pork; Packed"}]
["AH","Baltic CDT","U1","01. Ultra-Fresh","U1.02","02. Fresh Meat & Fish","A.10.01","18. Fresh meat marinade","18822","01. Meat marinade","18827","01. Pork","18840","02. Counter","","","","","","","X",null,"A.10.01","Fresh meat marinade","Meat marinade","Pork","Counter","","","","18840",{"$f":"_xlfn.TEXTJOIN(\"; \",TRUE,ZCDT_EXPORT_2[[#This Row],[Sub-Category]:[Segment 5]])","v":"Meat marinade; Pork; Counter"}]
["AH","Baltic CDT","U1","01. Ultra-Fresh","U1.02","02. Fresh Meat & Fish","A.10.01","18. Fresh meat marinade","18822","01. Meat marinade","18828","02. Beef","18841","01. Packed","","","","","","","X",null,"A.10.01","Fresh meat marinade","Meat marinade","Beef","Packed","","","","18841",{"$f":"_xlfn.TEXTJOIN(\"; \",TRUE,ZCDT_EXPORT_2[[#This Row],[Sub-Category]:[Segment 5]])","v":"Meat marinade; Beef; Packed"}]
["AH","Baltic CDT","U1","01. Ultra-Fresh","U1.02","02. Fresh Meat & Fish","A.10.01","18. Fresh meat marinade","18822","01. Meat marinade","18828","02. Beef","18842","02. Counter","","","","","","","X",null,"A.10.01","Fresh meat marinade","Meat marinade","Beef","Counter","","","","18842",{"$f":"_xlfn.TEXTJOIN(\"; \",TRUE,ZCDT_EXPORT_2[[#This Row],[Sub-Category]:[Segment 5]])","v":"Meat marinade; Beef; Counter"}]
["AH","Baltic CDT","U1","01. Ultra-Fresh","U1.02","02. Fresh Meat & Fish","A.10.01","18. Fresh meat marinade","18822","01. Meat marinade","18829","03. Other","18843","01. Packed","","","","","","","X",null,"A.10.01","Fresh meat marinade","Meat marinade","Other","Packed","","","","18843",{"$f":"_xlfn.TEXTJOIN(\"; \",TRUE,ZCDT_EXPORT_2[[#This Row],[Sub-Category]:[Segment 5]])","v":"Meat marinade; Other; Packed"}]
["AH","Baltic CDT","U1","01. Ultra-Fresh","U1.02","02. Fresh Meat & Fish","A.10.01","18. Fresh meat marinade","18822","01. Meat marinade","18829","03. Other","18844","02. Counter","","","","","","","X",null,"A.10.01","Fresh meat marinade","Meat marinade","Other","Counter","","","","18844",{"$f":"_xlfn.TEXTJOIN(\"; \",TRUE,ZCDT_EXPORT_2[[#This Row],[Sub-Category]:[Segment 5]])","v":"Meat marinade; Other; Counter"}]
["AH","Baltic CDT","U1","01. Ultra-Fresh","U1.02","02. Fresh Meat & Fish","A.10.01","18. Fresh meat marinade","18823","02. Minced meat products","18830","01. Minced meat products","18845","01. Packed","","","","","","","X",null,"A.10.01","Fresh meat marinade","Minced meat products","Minced meat products","Packed","","","","18845",{"$f":"_xlfn.TEXTJOIN(\"; \",TRUE,ZCDT_EXPORT_2[[#This Row],[Sub-Category]:[Segment 5]])","v":"Minced meat products; Minced meat products; Packed"}]
["AH","Baltic CDT","U1","01. Ultra-Fresh","U1.02","02. Fresh Meat & Fish","A.10.01","18. Fresh meat marinade","18823","02. Minced meat products","18830","01. Minced meat products","18846","02. Counter","","","","","","","X",null,"A.10.01","Fresh meat marinade","Minced meat products","Minced meat products","Counter","","","","18846",{"$f":"_xlfn.TEXTJOIN(\"; \",TRUE,ZCDT_EXPORT_2[[#This Row],[Sub-Category]:[Segment 5]])","v":"Minced meat products; Minced meat products; Counter"}]
["AH","Baltic CDT","U1","01. Ultra-Fresh","U1.02","02. Fresh Meat & Fish","A.10.01","18. Fresh meat marinade","18824","03. Roast meat","18831","01. Pork","18847","01. Packed","","","","","","","X",null,"A.10.01","Fresh meat marinade","Roast meat","Pork","Packed","","","","18847",{"$f":"_xlfn.TEXTJOIN(\"; \",TRUE,ZCDT_EXPORT_2[[#This Row],[Sub-Category]:[Segment 5]])","v":"Roast meat; Pork; Packed"}]
["AH","Baltic CDT","U1","01. Ultra-Fresh","U1.02","02. Fresh Meat & Fish","A.10.01","18. Fresh meat marinade","18824","03. Roast meat","18831","01. Pork","18848","02. Counter","","","","","","","X",null,"A.10.01","Fresh meat marinade","Roast meat","Pork","Counter","","","","18848",{"$f":"_xlfn.TEXTJOIN(\"; \",TRUE,ZCDT_EXPORT_2[[#This Row],[Sub-Category]:[Segment 5]])","v":"Roast meat; Pork; Counter"}]
["AH","Baltic CDT","U1","01. Ultra-Fresh","U1.02","02. Fresh Meat & Fish","A.10.01","18. Fresh meat marinade","18824","03. Roast meat","18832","02. Beef","18849","01. Packed","","","","","","","X",null,"A.10.01","Fresh meat marinade","Roast meat","Beef","Packed","","","","18849",{"$f":"_xlfn.TEXTJOIN(\"; \",TRUE,ZCDT_EXPORT_2[[#This Row],[Sub-Category]:[Segment 5]])","v":"Roast meat; Beef; Packed"}]
["AH","Baltic CDT","U1","01. Ultra-Fresh","U1.02","02. Fresh Meat & Fish","A.10.01","18. Fresh meat marinade","18824","03. Roast meat","18832","02. Beef","18850","02. Counter","","","","","","","X",null,"A.10.01","Fresh meat marinade","Roast meat","Beef","Counter","","","","18850",{"$f":"_xlfn.TEXTJOIN(\"; \",TRUE,ZCDT_EXPORT_2[[#This Row],[Sub-Category]:[Segment 5]])","v":"Roast meat; Beef; Counter"}]
["AH","Baltic CDT","U1","01. Ultra-Fresh","U1.02","02. Fresh Meat & Fish","A.10.01","18. Fresh meat marinade","18824","03. Roast meat","18833","03. Chicken","18851","01. Packed","","","","","","","X",null,"A.10.01","Fresh meat marinade","Roast meat","Chicken","Packed","","","","18851",{"$f":"_xlfn.TEXTJOIN(\"; \",TRUE,ZCDT_EXPORT_2[[#This Row],[Sub-Category]:[Segment 5]])","v":"Roast meat; Chicken; Packed"}]
["AH","Baltic CDT","U1","01. Ultra-Fresh","U1.02","02. Fresh Meat & Fish","A.10.01","18. Fresh meat marinade","18824","03. Roast meat","18833","03. Chicken","18852","02. Counter","","","","","","","X",null,"A.10.01","Fresh meat marinade","Roast meat","Chicken","Counter","","","","18852",{"$f":"_xlfn.TEXTJOIN(\"; \",TRUE,ZCDT_EXPORT_2[[#This Row],[Sub-Category]:[Segment 5]])","v":"Roast meat; Chicken; Counter"}]
["AH","Baltic CDT","U1","01. Ultra-Fresh","U1.02","02. Fresh Meat & Fish","A.10.01","18. Fresh meat marinade","18824","03. Roast meat","18834","04. Turkey","18853","01. Packed","","","","","","","X",null,"A.10.01","Fresh meat marinade","Roast meat","Turkey","Packed","","","","18853",{"$f":"_xlfn.TEXTJOIN(\"; \",TRUE,ZCDT_EXPORT_2[[#This Row],[Sub-Category]:[Segment 5]])","v":"Roast meat; Turkey; Packed"}]
["AH","Baltic CDT","U1","01. Ultra-Fresh","U1.02","02. Fresh Meat & Fish","A.10.01","18. Fresh meat marinade","18824","03. Roast meat","18834","04. Turkey","18854","02. Counter","","","","","","","X",null,"A.10.01","Fresh meat marinade","Roast meat","Turkey","Counter","","","","18854",{"$f":"_xlfn.TEXTJOIN(\"; \",TRUE,ZCDT_EXPORT_2[[#This Row],[Sub-Category]:[Segment 5]])","v":"Roast meat; Turkey; Counter"}]
["AH","Baltic CDT","U1","01. Ultra-Fresh","U1.02","02. Fresh Meat & Fish","A.10.01","18. Fresh meat marinade","18825","04. Poultry marinade","18835","01. Chicken","18855","01. Packed","","","","","","","X",null,"A.10.01","Fresh meat marinade","Poultry marinade","Chicken","Packed","","","","18855",{"$f":"_xlfn.TEXTJOIN(\"; \",TRUE,ZCDT_EXPORT_2[[#This Row],[Sub-Category]:[Segment 5]])","v":"Poultry marinade; Chicken; Packed"}]
["AH","Baltic CDT","U1","01. Ultra-Fresh","U1.02","02. Fresh Meat & Fish","A.10.01","18. Fresh meat marinade","18825","04. Poultry marinade","18835","01. Chicken","18856","02. Counter","","","","","","","X",null,"A.10.01","Fresh meat marinade","Poultry marinade","Chicken","Counter","","","","18856",{"$f":"_xlfn.TEXTJOIN(\"; \",TRUE,ZCDT_EXPORT_2[[#This Row],[Sub-Category]:[Segment 5]])","v":"Poultry marinade; Chicken; Counter"}]
["AH","Baltic CDT","U1","01. Ultra-Fresh","U1.02","02. Fresh Meat & Fish","A.10.01","18. Fresh meat marinade","18825","04. Poultry marinade","18836","02. Turkey","18857","01. Packed","","","","","","","X",null,"A.10.01","Fresh meat marinade","Poultry marinade","Turkey","Packed","","","","18857",{"$f":"_xlfn.TEXTJOIN(\"; \",TRUE,ZCDT_EXPORT_2[[#This Row],[Sub-Category]:[Segment 5]])","v":"Poultry marinade; Turkey; Packed"}]
["AH","Baltic CDT","U1","01. Ultra-Fresh","U1.02","02. Fresh Meat & Fish","A.10.01","18. Fresh meat marinade","18825","04. Poultry marinade","18836","02. Turkey","18858","02. Counter","","","","","","","X",null,"A.10.01","Fresh meat marinade","Poultry marinade","Turkey","Counter","","","","18858",{"$f":"_xlfn.TEXTJOIN(\"; \",TRUE,ZCDT_EXPORT_2[[#This Row],[Sub-Category]:[Segment 5]])","v":"Poultry marinade; Turkey; Counter"}]
["AH","Baltic CDT","U1","01. Ultra-Fresh","U1.02","02. Fresh Meat & Fish","A.10.01","18. Fresh meat marinade","18825","04. Poultry marinade","18837","03. Other","18859","01. Packed","","","","","","","X",null,"A.10.01","Fresh meat marinade","Poultry marinade","Other","Packed","","","","18859",{"$f":"_xlfn.TEXTJOIN(\"; \",TRUE,ZCDT_EXPORT_2[[#This Row],[Sub-Category]:[Segment 5]])","v":"Poultry marinade; Other; Packed"}]
["AH","Baltic CDT","U1","01. Ultra-Fresh","U1.02","02. Fresh Meat & Fish","A.10.01","18. Fresh meat marinade","18825","04. Poultry marinade","18837","03. Other","18860","02. Counter","","","","","","","X",null,"A.10.01","Fresh meat marinade","Poultry marinade","Other","Counter","","","","18860",{"$f":"_xlfn.TEXTJOIN(\"; \",TRUE,ZCDT_EXPORT_2[[#This Row],[Sub-Category]:[Segment 5]])","v":"Poultry marinade; Other; Counter"}]
["AH","Baltic CDT","U1","01. Ultra-Fresh","U1.02","02. Fresh Meat & Fish","A.10.01","18. Fresh meat marinade","18826","05. Other","18838","01. Other","18861","01. Packed","","","","","","","X",null,"A.10.01","Fresh meat marinade","Other","Other","Packed","","","","18861",{"$f":"_xlfn.TEXTJOIN(\"; \",TRUE,ZCDT_EXPORT_2[[#This Row],[Sub-Category]:[Segment 5]])","v":"Other; Other; Packed"}]
["AH","Baltic CDT","U1","01. Ultra-Fresh","U1.02","02. Fresh Meat & Fish","A.10.01","18. Fresh meat marinade","18826","05. Other","18838","01. Other","18862","02. Counter","","","","","","","X",null,"A.10.01","Fresh meat marinade","Other","Other","Counter","","","","18862",{"$f":"_xlfn.TEXTJOIN(\"; \",TRUE,ZCDT_EXPORT_2[[#This Row],[Sub-Category]:[Segment 5]])","v":"Other; Other; Counter"}]
["AH","Baltic CDT","U1","01. Ultra-Fresh","U1.02","02. Fresh Meat & Fish","A.10.01","18. Fresh meat marinade","19258","06. Festivity fresh and marinated meat","19259","01. Meat marinade","","","","","","","","","X",null,"A.10.01","Fresh meat marinade","Festivity fresh and marinated meat","Meat marinade","","","","","19259",{"$f":"_xlfn.TEXTJOIN(\"; \",TRUE,ZCDT_EXPORT_2[[#This Row],[Sub-Category]:[Segment 5]])","v":"Festivity fresh and marinated meat; Meat marinade"}]
["AH","Baltic CDT","U1","01. Ultra-Fresh","U1.02","02. Fresh Meat & Fish","A.10.01","18. Fresh meat marinade","19258","06. Festivity fresh and marinated meat","19260","02. Roast meat","","","","","","","","","X",null,"A.10.01","Fresh meat marinade","Festivity fresh and marinated meat","Roast meat","","","","","19260",{"$f":"_xlfn.TEXTJOIN(\"; \",TRUE,ZCDT_EXPORT_2[[#This Row],[Sub-Category]:[Segment 5]])","v":"Festivity fresh and marinated meat; Roast meat"}]
["AH","Baltic CDT","U1","01. Ultra-Fresh","U1.02","02. Fresh Meat & Fish","A.10.01","18. Fresh meat marinade","19258","06. Festivity fresh and marinated meat","19261","03. Other","","","","","","","","","X",null,"A.10.01","Fresh meat marinade","Festivity fresh and marinated meat","Other","","","","","19261",{"$f":"_xlfn.TEXTJOIN(\"; \",TRUE,ZCDT_EXPORT_2[[#This Row],[Sub-Category]:[Segment 5]])","v":"Festivity fresh and marinated meat; Other"}]
["AH","Baltic CDT","U1","01. Ultra-Fresh","U1.02","02. Fresh Meat & Fish","A.10.01","18. Fresh meat marinade","19258","06. Festivity fresh and marinated meat","19262","04. Poultry marinade","","","","","","","","","X",null,"A.10.01","Fresh meat marinade","Festivity fresh and marinated meat","Poultry marinade","","","","","19262",{"$f":"_xlfn.TEXTJOIN(\"; \",TRUE,ZCDT_EXPORT_2[[#This Row],[Sub-Category]:[Segment 5]])","v":"Festivity fresh and marinated meat; Poultry marinade"}]
["AH","Baltic CDT","U1","01. Ultra-Fresh","U1.02","02. Fresh Meat & Fish","A.10.01","18. Fresh meat marinade","19258","06. Festivity fresh and marinated meat","19263","05. Minced meat products","","","","","","","","","X",null,"A.10.01","Fresh meat marinade","Festivity fresh and marinated meat","Minced meat products","","","","","19263",{"$f":"_xlfn.TEXTJOIN(\"; \",TRUE,ZCDT_EXPORT_2[[#This Row],[Sub-Category]:[Segment 5]])","v":"Festivity fresh and marinated meat; Minced meat products"}]
["AH","Baltic CDT","U1","01. Ultra-Fresh","U1.02","02. Fresh Meat & Fish","A.10.02","19. Fresh meat pork, beef, lamb","17666","01. Pork","17672","01. Weighted","","","","","","","","","X",null,"A.10.02","Fresh meat pork, beef, lamb","Pork","Weighted","","","","","17672",{"$f":"_xlfn.TEXTJOIN(\"; \",TRUE,ZCDT_EXPORT_2[[#This Row],[Sub-Category]:[Segment 5]])","v":"Pork; Weighted"}]
["AH","Baltic CDT","U1","01. Ultra-Fresh","U1.02","02. Fresh Meat & Fish","A.10.02","19. Fresh meat pork, beef, lamb","17666","01. Pork","17673","02. Prepacked","","","","","","","","","X",null,"A.10.02","Fresh meat pork, beef, lamb","Pork","Prepacked","","","","","17673",{"$f":"_xlfn.TEXTJOIN(\"; \",TRUE,ZCDT_EXPORT_2[[#This Row],[Sub-Category]:[Segment 5]])","v":"Pork; Prepacked"}]
["AH","Baltic CDT","U1","01. Ultra-Fresh","U1.02","02. Fresh Meat & Fish","A.10.02","19. Fresh meat pork, beef, lamb","17667","02. Beef","17674","01. Weighted","","","","","","","","","X",null,"A.10.02","Fresh meat pork, beef, lamb","Beef","Weighted","","","","","17674",{"$f":"_xlfn.TEXTJOIN(\"; \",TRUE,ZCDT_EXPORT_2[[#This Row],[Sub-Category]:[Segment 5]])","v":"Beef; Weighted"}]
["AH","Baltic CDT","U1","01. Ultra-Fresh","U1.02","02. Fresh Meat & Fish","A.10.02","19. Fresh meat pork, beef, lamb","17667","02. Beef","17675","02. Prepacked","","","","","","","","","X",null,"A.10.02","Fresh meat pork, beef, lamb","Beef","Prepacked","","","","","17675",{"$f":"_xlfn.TEXTJOIN(\"; \",TRUE,ZCDT_EXPORT_2[[#This Row],[Sub-Category]:[Segment 5]])","v":"Beef; Prepacked"}]
["AH","Baltic CDT","U1","01. Ultra-Fresh","U1.02","02. Fresh Meat & Fish","A.10.02","19. Fresh meat pork, beef, lamb","17668","03. Veal","17676","01. Weighted","","","","","","","","","X",null,"A.10.02","Fresh meat pork, beef, lamb","Veal","Weighted","","","","","17676",{"$f":"_xlfn.TEXTJOIN(\"; \",TRUE,ZCDT_EXPORT_2[[#This Row],[Sub-Category]:[Segment 5]])","v":"Veal; Weighted"}]
["AH","Baltic CDT","U1","01. Ultra-Fresh","U1.02","02. Fresh Meat & Fish","A.10.02","19. Fresh meat pork, beef, lamb","17668","03. Veal","17677","02. Prepacked","","","","","","","","","X",null,"A.10.02","Fresh meat pork, beef, lamb","Veal","Prepacked","","","","","17677",{"$f":"_xlfn.TEXTJOIN(\"; \",TRUE,ZCDT_EXPORT_2[[#This Row],[Sub-Category]:[Segment 5]])","v":"Veal; Prepacked"}]
["AH","Baltic CDT","U1","01. Ultra-Fresh","U1.02","02. Fresh Meat & Fish","A.10.02","19. Fresh meat pork, beef, lamb","17669","04. Lamb, mutton","17678","01. Weighted","","","","","","","","","X",null,"A.10.02","Fresh meat pork, beef, lamb","Lamb, mutton","Weighted","","","","","17678",{"$f":"_xlfn.TEXTJOIN(\"; \",TRUE,ZCDT_EXPORT_2[[#This Row],[Sub-Category]:[Segment 5]])","v":"Lamb, mutton; Weighted"}]
["AH","Baltic CDT","U1","01. Ultra-Fresh","U1.02","02. Fresh Meat & Fish","A.10.02","19. Fresh meat pork, beef, lamb","17669","04. Lamb, mutton","17679","02. Prepacked","","","","","","","","","X",null,"A.10.02","Fresh meat pork, beef, lamb","Lamb, mutton","Prepacked","","","","","17679",{"$f":"_xlfn.TEXTJOIN(\"; \",TRUE,ZCDT_EXPORT_2[[#This Row],[Sub-Category]:[Segment 5]])","v":"Lamb, mutton; Prepacked"}]
["AH","Baltic CDT","U1","01. Ultra-Fresh","U1.02","02. Fresh Meat & Fish","A.10.02","19. Fresh meat pork, beef, lamb","17670","05. Subproducts","17680","01. Weighted","","","","","","","","","X",null,"A.10.02","Fresh meat pork, beef, lamb","Subproducts","Weighted","","","","","17680",{"$f":"_xlfn.TEXTJOIN(\"; \",TRUE,ZCDT_EXPORT_2[[#This Row],[Sub-Category]:[Segment 5]])","v":"Subproducts; Weighted"}]
["AH","Baltic CDT","U1","01. Ultra-Fresh","U1.02","02. Fresh Meat & Fish","A.10.02","19. Fresh meat pork, beef, lamb","17670","05. Subproducts","17681","02. Prepacked","","","","","","","","","X",null,"A.10.02","Fresh meat pork, beef, lamb","Subproducts","Prepacked","","","","","17681",{"$f":"_xlfn.TEXTJOIN(\"; \",TRUE,ZCDT_EXPORT_2[[#This Row],[Sub-Category]:[Segment 5]])","v":"Subproducts; Prepacked"}]
["AH","Baltic CDT","U1","01. Ultra-Fresh","U1.02","02. Fresh Meat & Fish","A.10.02","19. Fresh meat pork, beef, lamb","17671","06. Other","17682","01. Weighted","","","","","","","","","X",null,"A.10.02","Fresh meat pork, beef, lamb","Other","Weighted","","","","","17682",{"$f":"_xlfn.TEXTJOIN(\"; \",TRUE,ZCDT_EXPORT_2[[#This Row],[Sub-Category]:[Segment 5]])","v":"Other; Weighted"}]
["AH","Baltic CDT","U1","01. Ultra-Fresh","U1.02","02. Fresh Meat & Fish","A.10.02","19. Fresh meat pork, beef, lamb","17671","06. Other","17683","02. Prepacked","","","","","","","","","X",null,"A.10.02","Fresh meat pork, beef, lamb","Other","Prepacked","","","","","17683",{"$f":"_xlfn.TEXTJOIN(\"; \",TRUE,ZCDT_EXPORT_2[[#This Row],[Sub-Category]:[Segment 5]])","v":"Other; Prepacked"}]
["AH","Baltic CDT","U1","01. Ultra-Fresh","U1.02","02. Fresh Meat & Fish","A.10.03","20. Fresh meat poultry","17684","01. Chicken","17689","01. Weighted","","","","","","","","","X",null,"A.10.03","Fresh meat poultry","Chicken","Weighted","","","","","17689",{"$f":"_xlfn.TEXTJOIN(\"; \",TRUE,ZCDT_EXPORT_2[[#This Row],[Sub-Category]:[Segment 5]])","v":"Chicken; Weighted"}]
["AH","Baltic CDT","U1","01. Ultra-Fresh","U1.02","02. Fresh Meat & Fish","A.10.03","20. Fresh meat poultry","17684","01. Chicken","17690","02. Prepacked","","","","","","","","","X",null,"A.10.03","Fresh meat poultry","Chicken","Prepacked","","","","","17690",{"$f":"_xlfn.TEXTJOIN(\"; \",TRUE,ZCDT_EXPORT_2[[#This Row],[Sub-Category]:[Segment 5]])","v":"Chicken; Prepacked"}]
["AH","Baltic CDT","U1","01. Ultra-Fresh","U1.02","02. Fresh Meat & Fish","A.10.03","20. Fresh meat poultry","17685","02. Turkey","17691","01. Weighted","","","","","","","","","X",null,"A.10.03","Fresh meat poultry","Turkey","Weighted","","","","","17691",{"$f":"_xlfn.TEXTJOIN(\"; \",TRUE,ZCDT_EXPORT_2[[#This Row],[Sub-Category]:[Segment 5]])","v":"Turkey; Weighted"}]
["AH","Baltic CDT","U1","01. Ultra-Fresh","U1.02","02. Fresh Meat & Fish","A.10.03","20. Fresh meat poultry","17685","02. Turkey","17692","02. Prepacked","","","","","","","","","X",null,"A.10.03","Fresh meat poultry","Turkey","Prepacked","","","","","17692",{"$f":"_xlfn.TEXTJOIN(\"; \",TRUE,ZCDT_EXPORT_2[[#This Row],[Sub-Category]:[Segment 5]])","v":"Turkey; Prepacked"}]
["AH","Baltic CDT","U1","01. Ultra-Fresh","U1.02","02. Fresh Meat & Fish","A.10.03","20. Fresh meat poultry","17686","03. Duck","17693","01. Weighted","","","","","","","","","X",null,"A.10.03","Fresh meat poultry","Duck","Weighted","","","","","17693",{"$f":"_xlfn.TEXTJOIN(\"; \",TRUE,ZCDT_EXPORT_2[[#This Row],[Sub-Category]:[Segment 5]])","v":"Duck; Weighted"}]
["AH","Baltic CDT","U1","01. Ultra-Fresh","U1.02","02. Fresh Meat & Fish","A.10.03","20. Fresh meat poultry","17686","03. Duck","17694","02. Prepacked","","","","","","","","","X",null,"A.10.03","Fresh meat poultry","Duck","Prepacked","","","","","17694",{"$f":"_xlfn.TEXTJOIN(\"; \",TRUE,ZCDT_EXPORT_2[[#This Row],[Sub-Category]:[Segment 5]])","v":"Duck; Prepacked"}]
["AH","Baltic CDT","U1","01. Ultra-Fresh","U1.02","02. Fresh Meat & Fish","A.10.03","20. Fresh meat poultry","17687","04. Subproducts","17695","01. Weighted","","","","","","","","","X",null,"A.10.03","Fresh meat poultry","Subproducts","Weighted","","","","","17695",{"$f":"_xlfn.TEXTJOIN(\"; \",TRUE,ZCDT_EXPORT_2[[#This Row],[Sub-Category]:[Segment 5]])","v":"Subproducts; Weighted"}]
["AH","Baltic CDT","U1","01. Ultra-Fresh","U1.02","02. Fresh Meat & Fish","A.10.03","20. Fresh meat poultry","17687","04. Subproducts","17696","02. Prepacked","","","","","","","","","X",null,"A.10.03","Fresh meat poultry","Subproducts","Prepacked","","","","","17696",{"$f":"_xlfn.TEXTJOIN(\"; \",TRUE,ZCDT_EXPORT_2[[#This Row],[Sub-Category]:[Segment 5]])","v":"Subproducts; Prepacked"}]
["AH","Baltic CDT","U1","01. Ultra-Fresh","U1.02","02. Fresh Meat & Fish","A.10.03","20. Fresh meat poultry","17688","05. Other","17697","01. Weighted","","","","","","","","","X",null,"A.10.03","Fresh meat poultry","Other","Weighted","","","","","17697",{"$f":"_xlfn.TEXTJOIN(\"; \",TRUE,ZCDT_EXPORT_2[[#This Row],[Sub-Category]:[Segment 5]])","v":"Other; Weighted"}]
["AH","Baltic CDT","U1","01. Ultra-Fresh","U1.02","02. Fresh Meat & Fish","A.10.03","20. Fresh meat poultry","17688","05. Other","17698","02. Prepacked","","","","","","","","","X",null,"A.10.03","Fresh meat poultry","Other","Prepacked","","","","","17698",{"$f":"_xlfn.TEXTJOIN(\"; \",TRUE,ZCDT_EXPORT_2[[#This Row],[Sub-Category]:[Segment 5]])","v":"Other; Prepacked"}]
["AH","Baltic CDT","U1","01. Ultra-Fresh","U1.02","02. Fresh Meat & Fish","A.10.04","21. Fresh minced meat","17700","01. Beef","17706","01. Weighted","","","","","","","","","X",null,"A.10.04","Fresh minced meat","Beef","Weighted","","","","","17706",{"$f":"_xlfn.TEXTJOIN(\"; \",TRUE,ZCDT_EXPORT_2[[#This Row],[Sub-Category]:[Segment 5]])","v":"Beef; Weighted"}]
["AH","Baltic CDT","U1","01. Ultra-Fresh","U1.02","02. Fresh Meat & Fish","A.10.04","21. Fresh minced meat","17700","01. Beef","17707","02. Prepacked","","","","","","","","","X",null,"A.10.04","Fresh minced meat","Beef","Prepacked","","","","","17707",{"$f":"_xlfn.TEXTJOIN(\"; \",TRUE,ZCDT_EXPORT_2[[#This Row],[Sub-Category]:[Segment 5]])","v":"Beef; Prepacked"}]
["AH","Baltic CDT","U1","01. Ultra-Fresh","U1.02","02. Fresh Meat & Fish","A.10.04","21. Fresh minced meat","17701","02. Mixed","17708","01. Weighted","","","","","","","","","X",null,"A.10.04","Fresh minced meat","Mixed","Weighted","","","","","17708",{"$f":"_xlfn.TEXTJOIN(\"; \",TRUE,ZCDT_EXPORT_2[[#This Row],[Sub-Category]:[Segment 5]])","v":"Mixed; Weighted"}]
["AH","Baltic CDT","U1","01. Ultra-Fresh","U1.02","02. Fresh Meat & Fish","A.10.04","21. Fresh minced meat","17701","02. Mixed","17709","02. Prepacked","","","","","","","","","X",null,"A.10.04","Fresh minced meat","Mixed","Prepacked","","","","","17709",{"$f":"_xlfn.TEXTJOIN(\"; \",TRUE,ZCDT_EXPORT_2[[#This Row],[Sub-Category]:[Segment 5]])","v":"Mixed; Prepacked"}]
["AH","Baltic CDT","U1","01. Ultra-Fresh","U1.02","02. Fresh Meat & Fish","A.10.04","21. Fresh minced meat","17702","03. Pork","17710","01. Weighted","","","","","","","","","X",null,"A.10.04","Fresh minced meat","Pork","Weighted","","","","","17710",{"$f":"_xlfn.TEXTJOIN(\"; \",TRUE,ZCDT_EXPORT_2[[#This Row],[Sub-Category]:[Segment 5]])","v":"Pork; Weighted"}]
["AH","Baltic CDT","U1","01. Ultra-Fresh","U1.02","02. Fresh Meat & Fish","A.10.04","21. Fresh minced meat","17702","03. Pork","17711","02. Prepacked","","","","","","","","","X",null,"A.10.04","Fresh minced meat","Pork","Prepacked","","","","","17711",{"$f":"_xlfn.TEXTJOIN(\"; \",TRUE,ZCDT_EXPORT_2[[#This Row],[Sub-Category]:[Segment 5]])","v":"Pork; Prepacked"}]
["AH","Baltic CDT","U1","01. Ultra-Fresh","U1.02","02. Fresh Meat & Fish","A.10.04","21. Fresh minced meat","17703","04. Chicken","17712","01. Weighted","","","","","","","","","X",null,"A.10.04","Fresh minced meat","Chicken","Weighted","","","","","17712",{"$f":"_xlfn.TEXTJOIN(\"; \",TRUE,ZCDT_EXPORT_2[[#This Row],[Sub-Category]:[Segment 5]])","v":"Chicken; Weighted"}]
["AH","Baltic CDT","U1","01. Ultra-Fresh","U1.02","02. Fresh Meat & Fish","A.10.04","21. Fresh minced meat","17703","04. Chicken","17713","02. Prepacked","","","","","","","","","X",null,"A.10.04","Fresh minced meat","Chicken","Prepacked","","","","","17713",{"$f":"_xlfn.TEXTJOIN(\"; \",TRUE,ZCDT_EXPORT_2[[#This Row],[Sub-Category]:[Segment 5]])","v":"Chicken; Prepacked"}]
["AH","Baltic CDT","U1","01. Ultra-Fresh","U1.02","02. Fresh Meat & Fish","A.10.04","21. Fresh minced meat","17704","05. Turkey","17714","01. Weighted","","","","","","","","","X",null,"A.10.04","Fresh minced meat","Turkey","Weighted","","","","","17714",{"$f":"_xlfn.TEXTJOIN(\"; \",TRUE,ZCDT_EXPORT_2[[#This Row],[Sub-Category]:[Segment 5]])","v":"Turkey; Weighted"}]
["AH","Baltic CDT","U1","01. Ultra-Fresh","U1.02","02. Fresh Meat & Fish","A.10.04","21. Fresh minced meat","17704","05. Turkey","17715","02. Prepacked","","","","","","","","","X",null,"A.10.04","Fresh minced meat","Turkey","Prepacked","","","","","17715",{"$f":"_xlfn.TEXTJOIN(\"; \",TRUE,ZCDT_EXPORT_2[[#This Row],[Sub-Category]:[Segment 5]])","v":"Turkey; Prepacked"}]
["AH","Baltic CDT","U1","01. Ultra-Fresh","U1.02","02. Fresh Meat & Fish","A.10.04","21. Fresh minced meat","17705","06. Other","17716","01. Weighted","","","","","","","","","X",null,"A.10.04","Fresh minced meat","Other","Weighted","","","","","17716",{"$f":"_xlfn.TEXTJOIN(\"; \",TRUE,ZCDT_EXPORT_2[[#This Row],[Sub-Category]:[Segment 5]])","v":"Other; Weighted"}]
["AH","Baltic CDT","U1","01. Ultra-Fresh","U1.02","02. Fresh Meat & Fish","A.10.04","21. Fresh minced meat","17705","06. Other","17717","02. Prepacked","","","","","","","","","X",null,"A.10.04","Fresh minced meat","Other","Prepacked","","","","","17717",{"$f":"_xlfn.TEXTJOIN(\"; \",TRUE,ZCDT_EXPORT_2[[#This Row],[Sub-Category]:[Segment 5]])","v":"Other; Prepacked"}]
["AH","Baltic CDT","U1","01. Ultra-Fresh","U1.03","03. Fruits & Flowers","B.01.01","01. Banana","11682","01. Banana","11684","01. Banana  loose","","","","","","","","","X",null,"B.01.01","Banana","Banana","Banana  loose","","","","","11684",{"$f":"_xlfn.TEXTJOIN(\"; \",TRUE,ZCDT_EXPORT_2[[#This Row],[Sub-Category]:[Segment 5]])","v":"Banana; Banana  loose"}]
["AH","Baltic CDT","U1","01. Ultra-Fresh","U1.03","03. Fruits & Flowers","B.01.01","01. Banana","11682","01. Banana","11685","02. Banana packed","","","","","","","","","X",null,"B.01.01","Banana","Banana","Banana packed","","","","","11685",{"$f":"_xlfn.TEXTJOIN(\"; \",TRUE,ZCDT_EXPORT_2[[#This Row],[Sub-Category]:[Segment 5]])","v":"Banana; Banana packed"}]
["AH","Baltic CDT","U1","01. Ultra-Fresh","U1.03","03. Fruits & Flowers","B.01.01","01. Banana","11682","01. Banana","11686","03. Other banana","","","","","","","","","X",null,"B.01.01","Banana","Banana","Other banana","","","","","11686",{"$f":"_xlfn.TEXTJOIN(\"; \",TRUE,ZCDT_EXPORT_2[[#This Row],[Sub-Category]:[Segment 5]])","v":"Banana; Other banana"}]
["AH","Baltic CDT","U1","01. Ultra-Fresh","U1.03","03. Fruits & Flowers","B.01.01","01. Banana","11683","02. Banana Bio/Eco","11687","01. Banana  loose","","","","","","","","","X",null,"B.01.01","Banana","Banana Bio/Eco","Banana  loose","","","","","11687",{"$f":"_xlfn.TEXTJOIN(\"; \",TRUE,ZCDT_EXPORT_2[[#This Row],[Sub-Category]:[Segment 5]])","v":"Banana Bio/Eco; Banana  loose"}]
["AH","Baltic CDT","U1","01. Ultra-Fresh","U1.03","03. Fruits & Flowers","B.01.01","01. Banana","11683","02. Banana Bio/Eco","11688","02. Banana packed","","","","","","","","","X",null,"B.01.01","Banana","Banana Bio/Eco","Banana packed","","","","","11688",{"$f":"_xlfn.TEXTJOIN(\"; \",TRUE,ZCDT_EXPORT_2[[#This Row],[Sub-Category]:[Segment 5]])","v":"Banana Bio/Eco; Banana packed"}]
["AH","Baltic CDT","U1","01. Ultra-Fresh","U1.03","03. Fruits & Flowers","B.01.01","01. Banana","11683","02. Banana Bio/Eco","11689","03. Other banana","","","","","","","","","X",null,"B.01.01","Banana","Banana Bio/Eco","Other banana","","","","","11689",{"$f":"_xlfn.TEXTJOIN(\"; \",TRUE,ZCDT_EXPORT_2[[#This Row],[Sub-Category]:[Segment 5]])","v":"Banana Bio/Eco; Other banana"}]
["AH","Baltic CDT","U1","01. Ultra-Fresh","U1.03","03. Fruits & Flowers","B.01.02","02. Citrus Fruit","11690","01. Oranges","11725","01. Oranges","11727","01. Oranges loose","","","","","","","X",null,"B.01.02","Citrus Fruit","Oranges","Oranges","Oranges loose","","","","11727",{"$f":"_xlfn.TEXTJOIN(\"; \",TRUE,ZCDT_EXPORT_2[[#This Row],[Sub-Category]:[Segment 5]])","v":"Oranges; Oranges; Oranges loose"}]
["AH","Baltic CDT","U1","01. Ultra-Fresh","U1.03","03. Fruits & Flowers","B.01.02","02. Citrus Fruit","11690","01. Oranges","11725","01. Oranges","11728","02. Oranges packed","","","","","","","X",null,"B.01.02","Citrus Fruit","Oranges","Oranges","Oranges packed","","","","11728",{"$f":"_xlfn.TEXTJOIN(\"; \",TRUE,ZCDT_EXPORT_2[[#This Row],[Sub-Category]:[Segment 5]])","v":"Oranges; Oranges; Oranges packed"}]
["AH","Baltic CDT","U1","01. Ultra-Fresh","U1.03","03. Fruits & Flowers","B.01.02","02. Citrus Fruit","11690","01. Oranges","11725","01. Oranges","11729","03. Other Oranges","11730","01. Other Oranges loose","","","","","X",null,"B.01.02","Citrus Fruit","Oranges","Oranges","Other Oranges","Other Oranges loose","","","11730",{"$f":"_xlfn.TEXTJOIN(\"; \",TRUE,ZCDT_EXPORT_2[[#This Row],[Sub-Category]:[Segment 5]])","v":"Oranges; Oranges; Other Oranges; Other Oranges loose"}]
["AH","Baltic CDT","U1","01. Ultra-Fresh","U1.03","03. Fruits & Flowers","B.01.02","02. Citrus Fruit","11690","01. Oranges","11725","01. Oranges","11729","03. Other Oranges","11731","02. Other Oranges packed","","","","","X",null,"B.01.02","Citrus Fruit","Oranges","Oranges","Other Oranges","Other Oranges packed","","","11731",{"$f":"_xlfn.TEXTJOIN(\"; \",TRUE,ZCDT_EXPORT_2[[#This Row],[Sub-Category]:[Segment 5]])","v":"Oranges; Oranges; Other Oranges; Other Oranges packed"}]
["AH","Baltic CDT","U1","01. Ultra-Fresh","U1.03","03. Fruits & Flowers","B.01.02","02. Citrus Fruit","11690","01. Oranges","11726","02. Oranges Bio","11732","01. Oranges loose","","","","","","","X",null,"B.01.02","Citrus Fruit","Oranges","Oranges Bio","Oranges loose","","","","11732",{"$f":"_xlfn.TEXTJOIN(\"; \",TRUE,ZCDT_EXPORT_2[[#This Row],[Sub-Category]:[Segment 5]])","v":"Oranges; Oranges Bio; Oranges loose"}]
["AH","Baltic CDT","U1","01. Ultra-Fresh","U1.03","03. Fruits & Flowers","B.01.02","02. Citrus Fruit","11690","01. Oranges","11726","02. Oranges Bio","11733","02. Oranges packed","","","","","","","X",null,"B.01.02","Citrus Fruit","Oranges","Oranges Bio","Oranges packed","","","","11733",{"$f":"_xlfn.TEXTJOIN(\"; \",TRUE,ZCDT_EXPORT_2[[#This Row],[Sub-Category]:[Segment 5]])","v":"Oranges; Oranges Bio; Oranges packed"}]
["AH","Baltic CDT","U1","01. Ultra-Fresh","U1.03","03. Fruits & Flowers","B.01.02","02. Citrus Fruit","11690","01. Oranges","11726","02. Oranges Bio","11734","03. Other Oranges","11735","01. Other Oranges loose","","","","","X",null,"B.01.02","Citrus Fruit","Oranges","Oranges Bio","Other Oranges","Other Oranges loose","","","11735",{"$f":"_xlfn.TEXTJOIN(\"; \",TRUE,ZCDT_EXPORT_2[[#This Row],[Sub-Category]:[Segment 5]])","v":"Oranges; Oranges Bio; Other Oranges; Other Oranges loose"}]
["AH","Baltic CDT","U1","01. Ultra-Fresh","U1.03","03. Fruits & Flowers","B.01.02","02. Citrus Fruit","11690","01. Oranges","11726","02. Oranges Bio","11734","03. Other Oranges","11736","02. Other Oranges packed","","","","","X",null,"B.01.02","Citrus Fruit","Oranges","Oranges Bio","Other Oranges","Other Oranges packed","","","11736",{"$f":"_xlfn.TEXTJOIN(\"; \",TRUE,ZCDT_EXPORT_2[[#This Row],[Sub-Category]:[Segment 5]])","v":"Oranges; Oranges Bio; Other Oranges; Other Oranges packed"}]
["AH","Baltic CDT","U1","01. Ultra-Fresh","U1.03","03. Fruits & Flowers","B.01.02","02. Citrus Fruit","11721","02. Mandarins","11737","01. Mandarins","11739","01. Mandarins loose","","","","","","","X",null,"B.01.02","Citrus Fruit","Mandarins","Mandarins","Mandarins loose","","","","11739",{"$f":"_xlfn.TEXTJOIN(\"; \",TRUE,ZCDT_EXPORT_2[[#This Row],[Sub-Category]:[Segment 5]])","v":"Mandarins; Mandarins; Mandarins loose"}]
["AH","Baltic CDT","U1","01. Ultra-Fresh","U1.03","03. Fruits & Flowers","B.01.02","02. Citrus Fruit","11721","02. Mandarins","11737","01. Mandarins","11740","02. Mandarins  packed","","","","","","","X",null,"B.01.02","Citrus Fruit","Mandarins","Mandarins","Mandarins  packed","","","","11740",{"$f":"_xlfn.TEXTJOIN(\"; \",TRUE,ZCDT_EXPORT_2[[#This Row],[Sub-Category]:[Segment 5]])","v":"Mandarins; Mandarins; Mandarins  packed"}]
["AH","Baltic CDT","U1","01. Ultra-Fresh","U1.03","03. Fruits & Flowers","B.01.02","02. Citrus Fruit","11721","02. Mandarins","11737","01. Mandarins","11741","03. Other Mandarins","","","","","","","X",null,"B.01.02","Citrus Fruit","Mandarins","Mandarins","Other Mandarins","","","","11741",{"$f":"_xlfn.TEXTJOIN(\"; \",TRUE,ZCDT_EXPORT_2[[#This Row],[Sub-Category]:[Segment 5]])","v":"Mandarins; Mandarins; Other Mandarins"}]
["AH","Baltic CDT","U1","01. Ultra-Fresh","U1.03","03. Fruits & Flowers","B.01.02","02. Citrus Fruit","11721","02. Mandarins","11738","02. Mandarins Bio/Eco","11742","01. Mandarins loose","","","","","","","X",null,"B.01.02","Citrus Fruit","Mandarins","Mandarins Bio/Eco","Mandarins loose","","","","11742",{"$f":"_xlfn.TEXTJOIN(\"; \",TRUE,ZCDT_EXPORT_2[[#This Row],[Sub-Category]:[Segment 5]])","v":"Mandarins; Mandarins Bio/Eco; Mandarins loose"}]
["AH","Baltic CDT","U1","01. Ultra-Fresh","U1.03","03. Fruits & Flowers","B.01.02","02. Citrus Fruit","11721","02. Mandarins","11738","02. Mandarins Bio/Eco","11743","02. Mandarins  packed","","","","","","","X",null,"B.01.02","Citrus Fruit","Mandarins","Mandarins Bio/Eco","Mandarins  packed","","","","11743",{"$f":"_xlfn.TEXTJOIN(\"; \",TRUE,ZCDT_EXPORT_2[[#This Row],[Sub-Category]:[Segment 5]])","v":"Mandarins; Mandarins Bio/Eco; Mandarins  packed"}]
["AH","Baltic CDT","U1","01. Ultra-Fresh","U1.03","03. Fruits & Flowers","B.01.02","02. Citrus Fruit","11721","02. Mandarins","11738","02. Mandarins Bio/Eco","11744","03. Other Mandarins","","","","","","","X",null,"B.01.02","Citrus Fruit","Mandarins","Mandarins Bio/Eco","Other Mandarins","","","","11744",{"$f":"_xlfn.TEXTJOIN(\"; \",TRUE,ZCDT_EXPORT_2[[#This Row],[Sub-Category]:[Segment 5]])","v":"Mandarins; Mandarins Bio/Eco; Other Mandarins"}]
["AH","Baltic CDT","U1","01. Ultra-Fresh","U1.03","03. Fruits & Flowers","B.01.02","02. Citrus Fruit","11722","03. Grapefruits","11745","01. Grapefruits","11747","01. Grapefruits red","11749","01. Grapefruits  red loose","","","","","X",null,"B.01.02","Citrus Fruit","Grapefruits","Grapefruits","Grapefruits red","Grapefruits  red loose","","","11749",{"$f":"_xlfn.TEXTJOIN(\"; \",TRUE,ZCDT_EXPORT_2[[#This Row],[Sub-Category]:[Segment 5]])","v":"Grapefruits; Grapefruits; Grapefruits red; Grapefruits  red loose"}]
["AH","Baltic CDT","U1","01. Ultra-Fresh","U1.03","03. Fruits & Flowers","B.01.02","02. Citrus Fruit","11722","03. Grapefruits","11745","01. Grapefruits","11747","01. Grapefruits red","11750","02. Grapefruits red packed","","","","","X",null,"B.01.02","Citrus Fruit","Grapefruits","Grapefruits","Grapefruits red","Grapefruits red packed","","","11750",{"$f":"_xlfn.TEXTJOIN(\"; \",TRUE,ZCDT_EXPORT_2[[#This Row],[Sub-Category]:[Segment 5]])","v":"Grapefruits; Grapefruits; Grapefruits red; Grapefruits red packed"}]
["AH","Baltic CDT","U1","01. Ultra-Fresh","U1.03","03. Fruits & Flowers","B.01.02","02. Citrus Fruit","11722","03. Grapefruits","11745","01. Grapefruits","11748","02. Other Grapefruits","11751","01. Other Grapefruits loose","","","","","X",null,"B.01.02","Citrus Fruit","Grapefruits","Grapefruits","Other Grapefruits","Other Grapefruits loose","","","11751",{"$f":"_xlfn.TEXTJOIN(\"; \",TRUE,ZCDT_EXPORT_2[[#This Row],[Sub-Category]:[Segment 5]])","v":"Grapefruits; Grapefruits; Other Grapefruits; Other Grapefruits loose"}]
["AH","Baltic CDT","U1","01. Ultra-Fresh","U1.03","03. Fruits & Flowers","B.01.02","02. Citrus Fruit","11722","03. Grapefruits","11745","01. Grapefruits","11748","02. Other Grapefruits","11752","02. Other Grapefruits packed","","","","","X",null,"B.01.02","Citrus Fruit","Grapefruits","Grapefruits","Other Grapefruits","Other Grapefruits packed","","","11752",{"$f":"_xlfn.TEXTJOIN(\"; \",TRUE,ZCDT_EXPORT_2[[#This Row],[Sub-Category]:[Segment 5]])","v":"Grapefruits; Grapefruits; Other Grapefruits; Other Grapefruits packed"}]
["AH","Baltic CDT","U1","01. Ultra-Fresh","U1.03","03. Fruits & Flowers","B.01.02","02. Citrus Fruit","11722","03. Grapefruits","11746","02. Grapefruits Bio/ECO","11753","01. Grapefruits loose","","","","","","","X",null,"B.01.02","Citrus Fruit","Grapefruits","Grapefruits Bio/ECO","Grapefruits loose","","","","11753",{"$f":"_xlfn.TEXTJOIN(\"; \",TRUE,ZCDT_EXPORT_2[[#This Row],[Sub-Category]:[Segment 5]])","v":"Grapefruits; Grapefruits Bio/ECO; Grapefruits loose"}]
["AH","Baltic CDT","U1","01. Ultra-Fresh","U1.03","03. Fruits & Flowers","B.01.02","02. Citrus Fruit","11722","03. Grapefruits","11746","02. Grapefruits Bio/ECO","11754","02. Grapefruits packed","","","","","","","X",null,"B.01.02","Citrus Fruit","Grapefruits","Grapefruits Bio/ECO","Grapefruits packed","","","","11754",{"$f":"_xlfn.TEXTJOIN(\"; \",TRUE,ZCDT_EXPORT_2[[#This Row],[Sub-Category]:[Segment 5]])","v":"Grapefruits; Grapefruits Bio/ECO; Grapefruits packed"}]
["AH","Baltic CDT","U1","01. Ultra-Fresh","U1.03","03. Fruits & Flowers","B.01.02","02. Citrus Fruit","11723","04. Lemons","11755","01. Lemons","11757","01. Lemons loose","","","","","","","X",null,"B.01.02","Citrus Fruit","Lemons","Lemons","Lemons loose","","","","11757",{"$f":"_xlfn.TEXTJOIN(\"; \",TRUE,ZCDT_EXPORT_2[[#This Row],[Sub-Category]:[Segment 5]])","v":"Lemons; Lemons; Lemons loose"}]
["AH","Baltic CDT","U1","01. Ultra-Fresh","U1.03","03. Fruits & Flowers","B.01.02","02. Citrus Fruit","11723","04. Lemons","11755","01. Lemons","11758","02. Lemons packed","","","","","","","X",null,"B.01.02","Citrus Fruit","Lemons","Lemons","Lemons packed","","","","11758",{"$f":"_xlfn.TEXTJOIN(\"; \",TRUE,ZCDT_EXPORT_2[[#This Row],[Sub-Category]:[Segment 5]])","v":"Lemons; Lemons; Lemons packed"}]
["AH","Baltic CDT","U1","01. Ultra-Fresh","U1.03","03. Fruits & Flowers","B.01.02","02. Citrus Fruit","11723","04. Lemons","11755","01. Lemons","11759","03. Other Lemons","","","","","","","X",null,"B.01.02","Citrus Fruit","Lemons","Lemons","Other Lemons","","","","11759",{"$f":"_xlfn.TEXTJOIN(\"; \",TRUE,ZCDT_EXPORT_2[[#This Row],[Sub-Category]:[Segment 5]])","v":"Lemons; Lemons; Other Lemons"}]
["AH","Baltic CDT","U1","01. Ultra-Fresh","U1.03","03. Fruits & Flowers","B.01.02","02. Citrus Fruit","11723","04. Lemons","11756","02. Lemons Bio/Eco","11760","01. Lemons loose","","","","","","","X",null,"B.01.02","Citrus Fruit","Lemons","Lemons Bio/Eco","Lemons loose","","","","11760",{"$f":"_xlfn.TEXTJOIN(\"; \",TRUE,ZCDT_EXPORT_2[[#This Row],[Sub-Category]:[Segment 5]])","v":"Lemons; Lemons Bio/Eco; Lemons loose"}]
["AH","Baltic CDT","U1","01. Ultra-Fresh","U1.03","03. Fruits & Flowers","B.01.02","02. Citrus Fruit","11723","04. Lemons","11756","02. Lemons Bio/Eco","11761","02. Lemons packed","","","","","","","X",null,"B.01.02","Citrus Fruit","Lemons","Lemons Bio/Eco","Lemons packed","","","","11761",{"$f":"_xlfn.TEXTJOIN(\"; \",TRUE,ZCDT_EXPORT_2[[#This Row],[Sub-Category]:[Segment 5]])","v":"Lemons; Lemons Bio/Eco; Lemons packed"}]
["AH","Baltic CDT","U1","01. Ultra-Fresh","U1.03","03. Fruits & Flowers","B.01.02","02. Citrus Fruit","11723","04. Lemons","11756","02. Lemons Bio/Eco","11762","03. Other Lemons","","","","","","","X",null,"B.01.02","Citrus Fruit","Lemons","Lemons Bio/Eco","Other Lemons","","","","11762",{"$f":"_xlfn.TEXTJOIN(\"; \",TRUE,ZCDT_EXPORT_2[[#This Row],[Sub-Category]:[Segment 5]])","v":"Lemons; Lemons Bio/Eco; Other Lemons"}]
["AH","Baltic CDT","U1","01. Ultra-Fresh","U1.03","03. Fruits & Flowers","B.01.02","02. Citrus Fruit","11724","05. Pomelo","11763","01. Pomelo","11766","01. Pomelo loose","","","","","","","X",null,"B.01.02","Citrus Fruit","Pomelo","Pomelo","Pomelo loose","","","","11766",{"$f":"_xlfn.TEXTJOIN(\"; \",TRUE,ZCDT_EXPORT_2[[#This Row],[Sub-Category]:[Segment 5]])","v":"Pomelo; Pomelo; Pomelo loose"}]
["AH","Baltic CDT","U1","01. Ultra-Fresh","U1.03","03. Fruits & Flowers","B.01.02","02. Citrus Fruit","11724","05. Pomelo","11763","01. Pomelo","11767","02. Pomelo pieces","","","","","","","X",null,"B.01.02","Citrus Fruit","Pomelo","Pomelo","Pomelo pieces","","","","11767",{"$f":"_xlfn.TEXTJOIN(\"; \",TRUE,ZCDT_EXPORT_2[[#This Row],[Sub-Category]:[Segment 5]])","v":"Pomelo; Pomelo; Pomelo pieces"}]
["AH","Baltic CDT","U1","01. Ultra-Fresh","U1.03","03. Fruits & Flowers","B.01.02","02. Citrus Fruit","11724","05. Pomelo","11764","02. Other pomelo","11768","01. Pomelo loose","","","","","","","X",null,"B.01.02","Citrus Fruit","Pomelo","Other pomelo","Pomelo loose","","","","11768",{"$f":"_xlfn.TEXTJOIN(\"; \",TRUE,ZCDT_EXPORT_2[[#This Row],[Sub-Category]:[Segment 5]])","v":"Pomelo; Other pomelo; Pomelo loose"}]
["AH","Baltic CDT","U1","01. Ultra-Fresh","U1.03","03. Fruits & Flowers","B.01.02","02. Citrus Fruit","11724","05. Pomelo","11764","02. Other pomelo","11769","02. Pomelo pieces","","","","","","","X",null,"B.01.02","Citrus Fruit","Pomelo","Other pomelo","Pomelo pieces","","","","11769",{"$f":"_xlfn.TEXTJOIN(\"; \",TRUE,ZCDT_EXPORT_2[[#This Row],[Sub-Category]:[Segment 5]])","v":"Pomelo; Other pomelo; Pomelo pieces"}]
["AH","Baltic CDT","U1","01. Ultra-Fresh","U1.03","03. Fruits & Flowers","B.01.02","02. Citrus Fruit","11724","05. Pomelo","11765","03. Pomelo Bio/Eco","11770","01. Pomelo loose","","","","","","","X",null,"B.01.02","Citrus Fruit","Pomelo","Pomelo Bio/Eco","Pomelo loose","","","","11770",{"$f":"_xlfn.TEXTJOIN(\"; \",TRUE,ZCDT_EXPORT_2[[#This Row],[Sub-Category]:[Segment 5]])","v":"Pomelo; Pomelo Bio/Eco; Pomelo loose"}]
["AH","Baltic CDT","U1","01. Ultra-Fresh","U1.03","03. Fruits & Flowers","B.01.02","02. Citrus Fruit","11724","05. Pomelo","11765","03. Pomelo Bio/Eco","11771","02. Pomelo pieces","","","","","","","X",null,"B.01.02","Citrus Fruit","Pomelo","Pomelo Bio/Eco","Pomelo pieces","","","","11771",{"$f":"_xlfn.TEXTJOIN(\"; \",TRUE,ZCDT_EXPORT_2[[#This Row],[Sub-Category]:[Segment 5]])","v":"Pomelo; Pomelo Bio/Eco; Pomelo pieces"}]
["AH","Baltic CDT","U1","01. Ultra-Fresh","U1.03","03. Fruits & Flowers","B.01.03","03. Apples","11772","01. Apples","11775","01. Import Apples","11779","01. Apples loose","","","","","","","X",null,"B.01.03","Apples","Apples","Import Apples","Apples loose","","","","11779",{"$f":"_xlfn.TEXTJOIN(\"; \",TRUE,ZCDT_EXPORT_2[[#This Row],[Sub-Category]:[Segment 5]])","v":"Apples; Import Apples; Apples loose"}]
["AH","Baltic CDT","U1","01. Ultra-Fresh","U1.03","03. Fruits & Flowers","B.01.03","03. Apples","11772","01. Apples","11775","01. Import Apples","11780","02. Apples packed","","","","","","","X",null,"B.01.03","Apples","Apples","Import Apples","Apples packed","","","","11780",{"$f":"_xlfn.TEXTJOIN(\"; \",TRUE,ZCDT_EXPORT_2[[#This Row],[Sub-Category]:[Segment 5]])","v":"Apples; Import Apples; Apples packed"}]
["AH","Baltic CDT","U1","01. Ultra-Fresh","U1.03","03. Fruits & Flowers","B.01.03","03. Apples","11772","01. Apples","11776","02. Import Apples Bio/Eco","11783","01. Apples loose","","","","","","","X",null,"B.01.03","Apples","Apples","Import Apples Bio/Eco","Apples loose","","","","11783",{"$f":"_xlfn.TEXTJOIN(\"; \",TRUE,ZCDT_EXPORT_2[[#This Row],[Sub-Category]:[Segment 5]])","v":"Apples; Import Apples Bio/Eco; Apples loose"}]
["AH","Baltic CDT","U1","01. Ultra-Fresh","U1.03","03. Fruits & Flowers","B.01.03","03. Apples","11772","01. Apples","11776","02. Import Apples Bio/Eco","11784","02. Apples packed","","","","","","","X",null,"B.01.03","Apples","Apples","Import Apples Bio/Eco","Apples packed","","","","11784",{"$f":"_xlfn.TEXTJOIN(\"; \",TRUE,ZCDT_EXPORT_2[[#This Row],[Sub-Category]:[Segment 5]])","v":"Apples; Import Apples Bio/Eco; Apples packed"}]
["AH","Baltic CDT","U1","01. Ultra-Fresh","U1.03","03. Fruits & Flowers","B.01.03","03. Apples","11772","01. Apples","11777","03. Local Apples","11785","01. Apples loose","","","","","","","X",null,"B.01.03","Apples","Apples","Local Apples","Apples loose","","","","11785",{"$f":"_xlfn.TEXTJOIN(\"; \",TRUE,ZCDT_EXPORT_2[[#This Row],[Sub-Category]:[Segment 5]])","v":"Apples; Local Apples; Apples loose"}]
["AH","Baltic CDT","U1","01. Ultra-Fresh","U1.03","03. Fruits & Flowers","B.01.03","03. Apples","11772","01. Apples","11777","03. Local Apples","11786","02. Apples packed","","","","","","","X",null,"B.01.03","Apples","Apples","Local Apples","Apples packed","","","","11786",{"$f":"_xlfn.TEXTJOIN(\"; \",TRUE,ZCDT_EXPORT_2[[#This Row],[Sub-Category]:[Segment 5]])","v":"Apples; Local Apples; Apples packed"}]
["AH","Baltic CDT","U1","01. Ultra-Fresh","U1.03","03. Fruits & Flowers","B.01.03","03. Apples","11772","01. Apples","11778","04. Local Apples Bio/Eco","11787","01. Apples loose","","","","","","","X",null,"B.01.03","Apples","Apples","Local Apples Bio/Eco","Apples loose","","","","11787",{"$f":"_xlfn.TEXTJOIN(\"; \",TRUE,ZCDT_EXPORT_2[[#This Row],[Sub-Category]:[Segment 5]])","v":"Apples; Local Apples Bio/Eco; Apples loose"}]
["AH","Baltic CDT","U1","01. Ultra-Fresh","U1.03","03. Fruits & Flowers","B.01.03","03. Apples","11772","01. Apples","11778","04. Local Apples Bio/Eco","11788","02. Apples packed","","","","","","","X",null,"B.01.03","Apples","Apples","Local Apples Bio/Eco","Apples packed","","","","11788",{"$f":"_xlfn.TEXTJOIN(\"; \",TRUE,ZCDT_EXPORT_2[[#This Row],[Sub-Category]:[Segment 5]])","v":"Apples; Local Apples Bio/Eco; Apples packed"}]
["AH","Baltic CDT","U1","01. Ultra-Fresh","U1.03","03. Fruits & Flowers","B.01.04","04. Pears","11789","01. Pears","11790","01. Import Pears","11794","01. Pears loose","","","","","","","X",null,"B.01.04","Pears","Pears","Import Pears","Pears loose","","","","11794",{"$f":"_xlfn.TEXTJOIN(\"; \",TRUE,ZCDT_EXPORT_2[[#This Row],[Sub-Category]:[Segment 5]])","v":"Pears; Import Pears; Pears loose"}]
["AH","Baltic CDT","U1","01. Ultra-Fresh","U1.03","03. Fruits & Flowers","B.01.04","04. Pears","11789","01. Pears","11790","01. Import Pears","11795","02. Pears packed","","","","","","","X",null,"B.01.04","Pears","Pears","Import Pears","Pears packed","","","","11795",{"$f":"_xlfn.TEXTJOIN(\"; \",TRUE,ZCDT_EXPORT_2[[#This Row],[Sub-Category]:[Segment 5]])","v":"Pears; Import Pears; Pears packed"}]
["AH","Baltic CDT","U1","01. Ultra-Fresh","U1.03","03. Fruits & Flowers","B.01.04","04. Pears","11789","01. Pears","11791","02. Import Pears Bio/Eco","11796","01. Pears loose","","","","","","","X",null,"B.01.04","Pears","Pears","Import Pears Bio/Eco","Pears loose","","","","11796",{"$f":"_xlfn.TEXTJOIN(\"; \",TRUE,ZCDT_EXPORT_2[[#This Row],[Sub-Category]:[Segment 5]])","v":"Pears; Import Pears Bio/Eco; Pears loose"}]
["AH","Baltic CDT","U1","01. Ultra-Fresh","U1.03","03. Fruits & Flowers","B.01.04","04. Pears","11789","01. Pears","11791","02. Import Pears Bio/Eco","11797","02. Pears packed","","","","","","","X",null,"B.01.04","Pears","Pears","Import Pears Bio/Eco","Pears packed","","","","11797",{"$f":"_xlfn.TEXTJOIN(\"; \",TRUE,ZCDT_EXPORT_2[[#This Row],[Sub-Category]:[Segment 5]])","v":"Pears; Import Pears Bio/Eco; Pears packed"}]
["AH","Baltic CDT","U1","01. Ultra-Fresh","U1.03","03. Fruits & Flowers","B.01.04","04. Pears","11789","01. Pears","11792","03. Local Pears","11798","01. Pears loose","","","","","","","X",null,"B.01.04","Pears","Pears","Local Pears","Pears loose","","","","11798",{"$f":"_xlfn.TEXTJOIN(\"; \",TRUE,ZCDT_EXPORT_2[[#This Row],[Sub-Category]:[Segment 5]])","v":"Pears; Local Pears; Pears loose"}]
["AH","Baltic CDT","U1","01. Ultra-Fresh","U1.03","03. Fruits & Flowers","B.01.04","04. Pears","11789","01. Pears","11792","03. Local Pears","11799","02. Pears packed","","","","","","","X",null,"B.01.04","Pears","Pears","Local Pears","Pears packed","","","","11799",{"$f":"_xlfn.TEXTJOIN(\"; \",TRUE,ZCDT_EXPORT_2[[#This Row],[Sub-Category]:[Segment 5]])","v":"Pears; Local Pears; Pears packed"}]
["AH","Baltic CDT","U1","01. Ultra-Fresh","U1.03","03. Fruits & Flowers","B.01.04","04. Pears","11789","01. Pears","11793","04. Local Pears Bio/Eco","11800","01. Pears loose","","","","","","","X",null,"B.01.04","Pears","Pears","Local Pears Bio/Eco","Pears loose","","","","11800",{"$f":"_xlfn.TEXTJOIN(\"; \",TRUE,ZCDT_EXPORT_2[[#This Row],[Sub-Category]:[Segment 5]])","v":"Pears; Local Pears Bio/Eco; Pears loose"}]
["AH","Baltic CDT","U1","01. Ultra-Fresh","U1.03","03. Fruits & Flowers","B.01.04","04. Pears","11789","01. Pears","11793","04. Local Pears Bio/Eco","11801","02. Pears packed","","","","","","","X",null,"B.01.04","Pears","Pears","Local Pears Bio/Eco","Pears packed","","","","11801",{"$f":"_xlfn.TEXTJOIN(\"; \",TRUE,ZCDT_EXPORT_2[[#This Row],[Sub-Category]:[Segment 5]])","v":"Pears; Local Pears Bio/Eco; Pears packed"}]
["AH","Baltic CDT","U1","01. Ultra-Fresh","U1.03","03. Fruits & Flowers","B.01.05","05. Melons","11802","01. Watermelons","11805","01. Watermelons Import","11808","01. Watermelons ImportSeeded","11810","01. Black","","","","","X",null,"B.01.05","Melons","Watermelons","Watermelons Import","Watermelons ImportSeeded","Black","","","11810",{"$f":"_xlfn.TEXTJOIN(\"; \",TRUE,ZCDT_EXPORT_2[[#This Row],[Sub-Category]:[Segment 5]])","v":"Watermelons; Watermelons Import; Watermelons ImportSeeded; Black"}]
["AH","Baltic CDT","U1","01. Ultra-Fresh","U1.03","03. Fruits & Flowers","B.01.05","05. Melons","11802","01. Watermelons","11805","01. Watermelons Import","11808","01. Watermelons ImportSeeded","11811","02. Yellow","","","","","X",null,"B.01.05","Melons","Watermelons","Watermelons Import","Watermelons ImportSeeded","Yellow","","","11811",{"$f":"_xlfn.TEXTJOIN(\"; \",TRUE,ZCDT_EXPORT_2[[#This Row],[Sub-Category]:[Segment 5]])","v":"Watermelons; Watermelons Import; Watermelons ImportSeeded; Yellow"}]
["AH","Baltic CDT","U1","01. Ultra-Fresh","U1.03","03. Fruits & Flowers","B.01.05","05. Melons","11802","01. Watermelons","11805","01. Watermelons Import","11809","02. Watermelons ImportSeedless","11812","01. Black","","","","","X",null,"B.01.05","Melons","Watermelons","Watermelons Import","Watermelons ImportSeedless","Black","","","11812",{"$f":"_xlfn.TEXTJOIN(\"; \",TRUE,ZCDT_EXPORT_2[[#This Row],[Sub-Category]:[Segment 5]])","v":"Watermelons; Watermelons Import; Watermelons ImportSeedless; Black"}]
["AH","Baltic CDT","U1","01. Ultra-Fresh","U1.03","03. Fruits & Flowers","B.01.05","05. Melons","11802","01. Watermelons","11805","01. Watermelons Import","11809","02. Watermelons ImportSeedless","11813","02. Yellow","","","","","X",null,"B.01.05","Melons","Watermelons","Watermelons Import","Watermelons ImportSeedless","Yellow","","","11813",{"$f":"_xlfn.TEXTJOIN(\"; \",TRUE,ZCDT_EXPORT_2[[#This Row],[Sub-Category]:[Segment 5]])","v":"Watermelons; Watermelons Import; Watermelons ImportSeedless; Yellow"}]
["AH","Baltic CDT","U1","01. Ultra-Fresh","U1.03","03. Fruits & Flowers","B.01.05","05. Melons","11802","01. Watermelons","11806","02. Watermelons Local","","","","","","","","","X",null,"B.01.05","Melons","Watermelons","Watermelons Local","","","","","11806",{"$f":"_xlfn.TEXTJOIN(\"; \",TRUE,ZCDT_EXPORT_2[[#This Row],[Sub-Category]:[Segment 5]])","v":"Watermelons; Watermelons Local"}]
["AH","Baltic CDT","U1","01. Ultra-Fresh","U1.03","03. Fruits & Flowers","B.01.05","05. Melons","11802","01. Watermelons","11807","03. Watermelons other","11814","01. Watermelons other Seeded","","","","","","","X",null,"B.01.05","Melons","Watermelons","Watermelons other","Watermelons other Seeded","","","","11814",{"$f":"_xlfn.TEXTJOIN(\"; \",TRUE,ZCDT_EXPORT_2[[#This Row],[Sub-Category]:[Segment 5]])","v":"Watermelons; Watermelons other; Watermelons other Seeded"}]
["AH","Baltic CDT","U1","01. Ultra-Fresh","U1.03","03. Fruits & Flowers","B.01.05","05. Melons","11802","01. Watermelons","11807","03. Watermelons other","11815","02. Watermelons other Seedless","","","","","","","X",null,"B.01.05","Melons","Watermelons","Watermelons other","Watermelons other Seedless","","","","11815",{"$f":"_xlfn.TEXTJOIN(\"; \",TRUE,ZCDT_EXPORT_2[[#This Row],[Sub-Category]:[Segment 5]])","v":"Watermelons; Watermelons other; Watermelons other Seedless"}]
["AH","Baltic CDT","U1","01. Ultra-Fresh","U1.03","03. Fruits & Flowers","B.01.05","05. Melons","11803","02. Watermelons Bio/Eco","11816","01. Watermelons Import Bio/Eco","11819","01. Watermelons Import Bio/Eco Seeded","11823","01. Black","","","","","X",null,"B.01.05","Melons","Watermelons Bio/Eco","Watermelons Import Bio/Eco","Watermelons Import Bio/Eco Seeded","Black","","","11823",{"$f":"_xlfn.TEXTJOIN(\"; \",TRUE,ZCDT_EXPORT_2[[#This Row],[Sub-Category]:[Segment 5]])","v":"Watermelons Bio/Eco; Watermelons Import Bio/Eco; Watermelons Import Bio/Eco Seeded; Black"}]
["AH","Baltic CDT","U1","01. Ultra-Fresh","U1.03","03. Fruits & Flowers","B.01.05","05. Melons","11803","02. Watermelons Bio/Eco","11816","01. Watermelons Import Bio/Eco","11819","01. Watermelons Import Bio/Eco Seeded","11824","02. Yellow","","","","","X",null,"B.01.05","Melons","Watermelons Bio/Eco","Watermelons Import Bio/Eco","Watermelons Import Bio/Eco Seeded","Yellow","","","11824",{"$f":"_xlfn.TEXTJOIN(\"; \",TRUE,ZCDT_EXPORT_2[[#This Row],[Sub-Category]:[Segment 5]])","v":"Watermelons Bio/Eco; Watermelons Import Bio/Eco; Watermelons Import Bio/Eco Seeded; Yellow"}]
["AH","Baltic CDT","U1","01. Ultra-Fresh","U1.03","03. Fruits & Flowers","B.01.05","05. Melons","11803","02. Watermelons Bio/Eco","11816","01. Watermelons Import Bio/Eco","11820","02. Watermelons Import Bio/Eco Seedless","11825","01. Black","","","","","X",null,"B.01.05","Melons","Watermelons Bio/Eco","Watermelons Import Bio/Eco","Watermelons Import Bio/Eco Seedless","Black","","","11825",{"$f":"_xlfn.TEXTJOIN(\"; \",TRUE,ZCDT_EXPORT_2[[#This Row],[Sub-Category]:[Segment 5]])","v":"Watermelons Bio/Eco; Watermelons Import Bio/Eco; Watermelons Import Bio/Eco Seedless; Black"}]
["AH","Baltic CDT","U1","01. Ultra-Fresh","U1.03","03. Fruits & Flowers","B.01.05","05. Melons","11803","02. Watermelons Bio/Eco","11816","01. Watermelons Import Bio/Eco","11820","02. Watermelons Import Bio/Eco Seedless","11826","02. Yellow","","","","","X",null,"B.01.05","Melons","Watermelons Bio/Eco","Watermelons Import Bio/Eco","Watermelons Import Bio/Eco Seedless","Yellow","","","11826",{"$f":"_xlfn.TEXTJOIN(\"; \",TRUE,ZCDT_EXPORT_2[[#This Row],[Sub-Category]:[Segment 5]])","v":"Watermelons Bio/Eco; Watermelons Import Bio/Eco; Watermelons Import Bio/Eco Seedless; Yellow"}]
["AH","Baltic CDT","U1","01. Ultra-Fresh","U1.03","03. Fruits & Flowers","B.01.05","05. Melons","11803","02. Watermelons Bio/Eco","11817","02. Watermelons Local Bio/Eco","","","","","","","","","X",null,"B.01.05","Melons","Watermelons Bio/Eco","Watermelons Local Bio/Eco","","","","","11817",{"$f":"_xlfn.TEXTJOIN(\"; \",TRUE,ZCDT_EXPORT_2[[#This Row],[Sub-Category]:[Segment 5]])","v":"Watermelons Bio/Eco; Watermelons Local Bio/Eco"}]
["AH","Baltic CDT","U1","01. Ultra-Fresh","U1.03","03. Fruits & Flowers","B.01.05","05. Melons","11803","02. Watermelons Bio/Eco","11818","03. Watermelons other Bio/Eco","11827","01. Watermelons other Bio/EcoSeeded","","","","","","","X",null,"B.01.05","Melons","Watermelons Bio/Eco","Watermelons other Bio/Eco","Watermelons other Bio/EcoSeeded","","","","11827",{"$f":"_xlfn.TEXTJOIN(\"; \",TRUE,ZCDT_EXPORT_2[[#This Row],[Sub-Category]:[Segment 5]])","v":"Watermelons Bio/Eco; Watermelons other Bio/Eco; Watermelons other Bio/EcoSeeded"}]
["AH","Baltic CDT","U1","01. Ultra-Fresh","U1.03","03. Fruits & Flowers","B.01.05","05. Melons","11803","02. Watermelons Bio/Eco","11818","03. Watermelons other Bio/Eco","11828","02. Watermelons other Bio/EcoSeedless","","","","","","","X",null,"B.01.05","Melons","Watermelons Bio/Eco","Watermelons other Bio/Eco","Watermelons other Bio/EcoSeedless","","","","11828",{"$f":"_xlfn.TEXTJOIN(\"; \",TRUE,ZCDT_EXPORT_2[[#This Row],[Sub-Category]:[Segment 5]])","v":"Watermelons Bio/Eco; Watermelons other Bio/Eco; Watermelons other Bio/EcoSeedless"}]
["AH","Baltic CDT","U1","01. Ultra-Fresh","U1.03","03. Fruits & Flowers","B.01.05","05. Melons","11804","03. Melons","11829","01. Melons  Import","11833","01. Melons yellow","","","","","","","X",null,"B.01.05","Melons","Melons","Melons  Import","Melons yellow","","","","11833",{"$f":"_xlfn.TEXTJOIN(\"; \",TRUE,ZCDT_EXPORT_2[[#This Row],[Sub-Category]:[Segment 5]])","v":"Melons; Melons  Import; Melons yellow"}]
["AH","Baltic CDT","U1","01. Ultra-Fresh","U1.03","03. Fruits & Flowers","B.01.05","05. Melons","11804","03. Melons","11829","01. Melons  Import","11834","02. Melons green","","","","","","","X",null,"B.01.05","Melons","Melons","Melons  Import","Melons green","","","","11834",{"$f":"_xlfn.TEXTJOIN(\"; \",TRUE,ZCDT_EXPORT_2[[#This Row],[Sub-Category]:[Segment 5]])","v":"Melons; Melons  Import; Melons green"}]
["AH","Baltic CDT","U1","01. Ultra-Fresh","U1.03","03. Fruits & Flowers","B.01.05","05. Melons","11804","03. Melons","11829","01. Melons  Import","11835","03. Other melons","","","","","","","X",null,"B.01.05","Melons","Melons","Melons  Import","Other melons","","","","11835",{"$f":"_xlfn.TEXTJOIN(\"; \",TRUE,ZCDT_EXPORT_2[[#This Row],[Sub-Category]:[Segment 5]])","v":"Melons; Melons  Import; Other melons"}]
["AH","Baltic CDT","U1","01. Ultra-Fresh","U1.03","03. Fruits & Flowers","B.01.05","05. Melons","11804","03. Melons","11830","02. Melons  Local","11836","01. Melons yellow","","","","","","","X",null,"B.01.05","Melons","Melons","Melons  Local","Melons yellow","","","","11836",{"$f":"_xlfn.TEXTJOIN(\"; \",TRUE,ZCDT_EXPORT_2[[#This Row],[Sub-Category]:[Segment 5]])","v":"Melons; Melons  Local; Melons yellow"}]
["AH","Baltic CDT","U1","01. Ultra-Fresh","U1.03","03. Fruits & Flowers","B.01.05","05. Melons","11804","03. Melons","11830","02. Melons  Local","11837","02. Melons green","","","","","","","X",null,"B.01.05","Melons","Melons","Melons  Local","Melons green","","","","11837",{"$f":"_xlfn.TEXTJOIN(\"; \",TRUE,ZCDT_EXPORT_2[[#This Row],[Sub-Category]:[Segment 5]])","v":"Melons; Melons  Local; Melons green"}]
["AH","Baltic CDT","U1","01. Ultra-Fresh","U1.03","03. Fruits & Flowers","B.01.05","05. Melons","11804","03. Melons","11830","02. Melons  Local","11838","03. Other melons","","","","","","","X",null,"B.01.05","Melons","Melons","Melons  Local","Other melons","","","","11838",{"$f":"_xlfn.TEXTJOIN(\"; \",TRUE,ZCDT_EXPORT_2[[#This Row],[Sub-Category]:[Segment 5]])","v":"Melons; Melons  Local; Other melons"}]
["AH","Baltic CDT","U1","01. Ultra-Fresh","U1.03","03. Fruits & Flowers","B.01.05","05. Melons","11804","03. Melons","11831","03. Melons Bio/Eco import","11839","01. Melons yellow","","","","","","","X",null,"B.01.05","Melons","Melons","Melons Bio/Eco import","Melons yellow","","","","11839",{"$f":"_xlfn.TEXTJOIN(\"; \",TRUE,ZCDT_EXPORT_2[[#This Row],[Sub-Category]:[Segment 5]])","v":"Melons; Melons Bio/Eco import; Melons yellow"}]
["AH","Baltic CDT","U1","01. Ultra-Fresh","U1.03","03. Fruits & Flowers","B.01.05","05. Melons","11804","03. Melons","11831","03. Melons Bio/Eco import","11840","02. Melons green","","","","","","","X",null,"B.01.05","Melons","Melons","Melons Bio/Eco import","Melons green","","","","11840",{"$f":"_xlfn.TEXTJOIN(\"; \",TRUE,ZCDT_EXPORT_2[[#This Row],[Sub-Category]:[Segment 5]])","v":"Melons; Melons Bio/Eco import; Melons green"}]
["AH","Baltic CDT","U1","01. Ultra-Fresh","U1.03","03. Fruits & Flowers","B.01.05","05. Melons","11804","03. Melons","11831","03. Melons Bio/Eco import","11841","03. Other melons","","","","","","","X",null,"B.01.05","Melons","Melons","Melons Bio/Eco import","Other melons","","","","11841",{"$f":"_xlfn.TEXTJOIN(\"; \",TRUE,ZCDT_EXPORT_2[[#This Row],[Sub-Category]:[Segment 5]])","v":"Melons; Melons Bio/Eco import; Other melons"}]
["AH","Baltic CDT","U1","01. Ultra-Fresh","U1.03","03. Fruits & Flowers","B.01.05","05. Melons","11804","03. Melons","11832","04. Melons Bio/Eco  local","11842","01. Melons yellow","","","","","","","X",null,"B.01.05","Melons","Melons","Melons Bio/Eco  local","Melons yellow","","","","11842",{"$f":"_xlfn.TEXTJOIN(\"; \",TRUE,ZCDT_EXPORT_2[[#This Row],[Sub-Category]:[Segment 5]])","v":"Melons; Melons Bio/Eco  local; Melons yellow"}]
["AH","Baltic CDT","U1","01. Ultra-Fresh","U1.03","03. Fruits & Flowers","B.01.05","05. Melons","11804","03. Melons","11832","04. Melons Bio/Eco  local","11843","02. Melons green","","","","","","","X",null,"B.01.05","Melons","Melons","Melons Bio/Eco  local","Melons green","","","","11843",{"$f":"_xlfn.TEXTJOIN(\"; \",TRUE,ZCDT_EXPORT_2[[#This Row],[Sub-Category]:[Segment 5]])","v":"Melons; Melons Bio/Eco  local; Melons green"}]
["AH","Baltic CDT","U1","01. Ultra-Fresh","U1.03","03. Fruits & Flowers","B.01.05","05. Melons","11804","03. Melons","11832","04. Melons Bio/Eco  local","11844","03. Other melons","","","","","","","X",null,"B.01.05","Melons","Melons","Melons Bio/Eco  local","Other melons","","","","11844",{"$f":"_xlfn.TEXTJOIN(\"; \",TRUE,ZCDT_EXPORT_2[[#This Row],[Sub-Category]:[Segment 5]])","v":"Melons; Melons Bio/Eco  local; Other melons"}]
["AH","Baltic CDT","U1","01. Ultra-Fresh","U1.03","03. Fruits & Flowers","B.01.06","06. Avocados","11845","01. Avocado","11847","01. Avocado loose","","","","","","","","","X",null,"B.01.06","Avocados","Avocado","Avocado loose","","","","","11847",{"$f":"_xlfn.TEXTJOIN(\"; \",TRUE,ZCDT_EXPORT_2[[#This Row],[Sub-Category]:[Segment 5]])","v":"Avocado; Avocado loose"}]
["AH","Baltic CDT","U1","01. Ultra-Fresh","U1.03","03. Fruits & Flowers","B.01.06","06. Avocados","11845","01. Avocado","11848","02. Avocado pieces","","","","","","","","","X",null,"B.01.06","Avocados","Avocado","Avocado pieces","","","","","11848",{"$f":"_xlfn.TEXTJOIN(\"; \",TRUE,ZCDT_EXPORT_2[[#This Row],[Sub-Category]:[Segment 5]])","v":"Avocado; Avocado pieces"}]
["AH","Baltic CDT","U1","01. Ultra-Fresh","U1.03","03. Fruits & Flowers","B.01.06","06. Avocados","11845","01. Avocado","11849","03. Avocado packed","","","","","","","","","X",null,"B.01.06","Avocados","Avocado","Avocado packed","","","","","11849",{"$f":"_xlfn.TEXTJOIN(\"; \",TRUE,ZCDT_EXPORT_2[[#This Row],[Sub-Category]:[Segment 5]])","v":"Avocado; Avocado packed"}]
["AH","Baltic CDT","U1","01. Ultra-Fresh","U1.03","03. Fruits & Flowers","B.01.06","06. Avocados","11846","02. Avocado Bio/Eco","11850","01. Avocado loose","","","","","","","","","X",null,"B.01.06","Avocados","Avocado Bio/Eco","Avocado loose","","","","","11850",{"$f":"_xlfn.TEXTJOIN(\"; \",TRUE,ZCDT_EXPORT_2[[#This Row],[Sub-Category]:[Segment 5]])","v":"Avocado Bio/Eco; Avocado loose"}]
["AH","Baltic CDT","U1","01. Ultra-Fresh","U1.03","03. Fruits & Flowers","B.01.06","06. Avocados","11846","02. Avocado Bio/Eco","11851","02. Avocado pieces","","","","","","","","","X",null,"B.01.06","Avocados","Avocado Bio/Eco","Avocado pieces","","","","","11851",{"$f":"_xlfn.TEXTJOIN(\"; \",TRUE,ZCDT_EXPORT_2[[#This Row],[Sub-Category]:[Segment 5]])","v":"Avocado Bio/Eco; Avocado pieces"}]
["AH","Baltic CDT","U1","01. Ultra-Fresh","U1.03","03. Fruits & Flowers","B.01.06","06. Avocados","11846","02. Avocado Bio/Eco","11852","03. Avocado packed","","","","","","","","","X",null,"B.01.06","Avocados","Avocado Bio/Eco","Avocado packed","","","","","11852",{"$f":"_xlfn.TEXTJOIN(\"; \",TRUE,ZCDT_EXPORT_2[[#This Row],[Sub-Category]:[Segment 5]])","v":"Avocado Bio/Eco; Avocado packed"}]
["AH","Baltic CDT","U1","01. Ultra-Fresh","U1.03","03. Fruits & Flowers","B.01.07","07. Stone Fruits","11853","01. Nectarins","11857","01. Nectarins","11860","01. Nectarines loose","","","","","","","X",null,"B.01.07","Stone Fruits","Nectarins","Nectarins","Nectarines loose","","","","11860",{"$f":"_xlfn.TEXTJOIN(\"; \",TRUE,ZCDT_EXPORT_2[[#This Row],[Sub-Category]:[Segment 5]])","v":"Nectarins; Nectarins; Nectarines loose"}]
["AH","Baltic CDT","U1","01. Ultra-Fresh","U1.03","03. Fruits & Flowers","B.01.07","07. Stone Fruits","11853","01. Nectarins","11857","01. Nectarins","11861","02. Nectarines packed","","","","","","","X",null,"B.01.07","Stone Fruits","Nectarins","Nectarins","Nectarines packed","","","","11861",{"$f":"_xlfn.TEXTJOIN(\"; \",TRUE,ZCDT_EXPORT_2[[#This Row],[Sub-Category]:[Segment 5]])","v":"Nectarins; Nectarins; Nectarines packed"}]
["AH","Baltic CDT","U1","01. Ultra-Fresh","U1.03","03. Fruits & Flowers","B.01.07","07. Stone Fruits","11853","01. Nectarins","11857","01. Nectarins","11862","03. Other nectarines","","","","","","","X",null,"B.01.07","Stone Fruits","Nectarins","Nectarins","Other nectarines","","","","11862",{"$f":"_xlfn.TEXTJOIN(\"; \",TRUE,ZCDT_EXPORT_2[[#This Row],[Sub-Category]:[Segment 5]])","v":"Nectarins; Nectarins; Other nectarines"}]
["AH","Baltic CDT","U1","01. Ultra-Fresh","U1.03","03. Fruits & Flowers","B.01.07","07. Stone Fruits","11853","01. Nectarins","11858","02. Nectarins flat","11863","01. Nectarines loose","","","","","","","X",null,"B.01.07","Stone Fruits","Nectarins","Nectarins flat","Nectarines loose","","","","11863",{"$f":"_xlfn.TEXTJOIN(\"; \",TRUE,ZCDT_EXPORT_2[[#This Row],[Sub-Category]:[Segment 5]])","v":"Nectarins; Nectarins flat; Nectarines loose"}]
["AH","Baltic CDT","U1","01. Ultra-Fresh","U1.03","03. Fruits & Flowers","B.01.07","07. Stone Fruits","11853","01. Nectarins","11858","02. Nectarins flat","11864","02. Nectarines packed","","","","","","","X",null,"B.01.07","Stone Fruits","Nectarins","Nectarins flat","Nectarines packed","","","","11864",{"$f":"_xlfn.TEXTJOIN(\"; \",TRUE,ZCDT_EXPORT_2[[#This Row],[Sub-Category]:[Segment 5]])","v":"Nectarins; Nectarins flat; Nectarines packed"}]
["AH","Baltic CDT","U1","01. Ultra-Fresh","U1.03","03. Fruits & Flowers","B.01.07","07. Stone Fruits","11853","01. Nectarins","11859","03. Nectarins Bio/Eco","11865","01. Nectarines loose","","","","","","","X",null,"B.01.07","Stone Fruits","Nectarins","Nectarins Bio/Eco","Nectarines loose","","","","11865",{"$f":"_xlfn.TEXTJOIN(\"; \",TRUE,ZCDT_EXPORT_2[[#This Row],[Sub-Category]:[Segment 5]])","v":"Nectarins; Nectarins Bio/Eco; Nectarines loose"}]
["AH","Baltic CDT","U1","01. Ultra-Fresh","U1.03","03. Fruits & Flowers","B.01.07","07. Stone Fruits","11853","01. Nectarins","11859","03. Nectarins Bio/Eco","11866","02. Nectarines packed","","","","","","","X",null,"B.01.07","Stone Fruits","Nectarins","Nectarins Bio/Eco","Nectarines packed","","","","11866",{"$f":"_xlfn.TEXTJOIN(\"; \",TRUE,ZCDT_EXPORT_2[[#This Row],[Sub-Category]:[Segment 5]])","v":"Nectarins; Nectarins Bio/Eco; Nectarines packed"}]
["AH","Baltic CDT","U1","01. Ultra-Fresh","U1.03","03. Fruits & Flowers","B.01.07","07. Stone Fruits","11853","01. Nectarins","11859","03. Nectarins Bio/Eco","11867","03. Other nectarines","","","","","","","X",null,"B.01.07","Stone Fruits","Nectarins","Nectarins Bio/Eco","Other nectarines","","","","11867",{"$f":"_xlfn.TEXTJOIN(\"; \",TRUE,ZCDT_EXPORT_2[[#This Row],[Sub-Category]:[Segment 5]])","v":"Nectarins; Nectarins Bio/Eco; Other nectarines"}]
["AH","Baltic CDT","U1","01. Ultra-Fresh","U1.03","03. Fruits & Flowers","B.01.07","07. Stone Fruits","11854","02. Peaches","11868","01. Peaches","11873","01. Peaches loose","","","","","","","X",null,"B.01.07","Stone Fruits","Peaches","Peaches","Peaches loose","","","","11873",{"$f":"_xlfn.TEXTJOIN(\"; \",TRUE,ZCDT_EXPORT_2[[#This Row],[Sub-Category]:[Segment 5]])","v":"Peaches; Peaches; Peaches loose"}]
["AH","Baltic CDT","U1","01. Ultra-Fresh","U1.03","03. Fruits & Flowers","B.01.07","07. Stone Fruits","11854","02. Peaches","11868","01. Peaches","11871","02. Peaches packed","","","","","","","X",null,"B.01.07","Stone Fruits","Peaches","Peaches","Peaches packed","","","","11871",{"$f":"_xlfn.TEXTJOIN(\"; \",TRUE,ZCDT_EXPORT_2[[#This Row],[Sub-Category]:[Segment 5]])","v":"Peaches; Peaches; Peaches packed"}]
["AH","Baltic CDT","U1","01. Ultra-Fresh","U1.03","03. Fruits & Flowers","B.01.07","07. Stone Fruits","11854","02. Peaches","11868","01. Peaches","11872","03. Other peaches","","","","","","","X",null,"B.01.07","Stone Fruits","Peaches","Peaches","Other peaches","","","","11872",{"$f":"_xlfn.TEXTJOIN(\"; \",TRUE,ZCDT_EXPORT_2[[#This Row],[Sub-Category]:[Segment 5]])","v":"Peaches; Peaches; Other peaches"}]
["AH","Baltic CDT","U1","01. Ultra-Fresh","U1.03","03. Fruits & Flowers","B.01.07","07. Stone Fruits","11854","02. Peaches","11869","02. Peaches flat","11874","01. Peaches loose","","","","","","","X",null,"B.01.07","Stone Fruits","Peaches","Peaches flat","Peaches loose","","","","11874",{"$f":"_xlfn.TEXTJOIN(\"; \",TRUE,ZCDT_EXPORT_2[[#This Row],[Sub-Category]:[Segment 5]])","v":"Peaches; Peaches flat; Peaches loose"}]
["AH","Baltic CDT","U1","01. Ultra-Fresh","U1.03","03. Fruits & Flowers","B.01.07","07. Stone Fruits","11854","02. Peaches","11869","02. Peaches flat","11875","02. Peaches packed","","","","","","","X",null,"B.01.07","Stone Fruits","Peaches","Peaches flat","Peaches packed","","","","11875",{"$f":"_xlfn.TEXTJOIN(\"; \",TRUE,ZCDT_EXPORT_2[[#This Row],[Sub-Category]:[Segment 5]])","v":"Peaches; Peaches flat; Peaches packed"}]
["AH","Baltic CDT","U1","01. Ultra-Fresh","U1.03","03. Fruits & Flowers","B.01.07","07. Stone Fruits","11854","02. Peaches","11870","03. Peaches Bio/Eco","11878","01. Peaches loose","","","","","","","X",null,"B.01.07","Stone Fruits","Peaches","Peaches Bio/Eco","Peaches loose","","","","11878",{"$f":"_xlfn.TEXTJOIN(\"; \",TRUE,ZCDT_EXPORT_2[[#This Row],[Sub-Category]:[Segment 5]])","v":"Peaches; Peaches Bio/Eco; Peaches loose"}]
["AH","Baltic CDT","U1","01. Ultra-Fresh","U1.03","03. Fruits & Flowers","B.01.07","07. Stone Fruits","11854","02. Peaches","11870","03. Peaches Bio/Eco","11876","02. Peaches packed","","","","","","","X",null,"B.01.07","Stone Fruits","Peaches","Peaches Bio/Eco","Peaches packed","","","","11876",{"$f":"_xlfn.TEXTJOIN(\"; \",TRUE,ZCDT_EXPORT_2[[#This Row],[Sub-Category]:[Segment 5]])","v":"Peaches; Peaches Bio/Eco; Peaches packed"}]
["AH","Baltic CDT","U1","01. Ultra-Fresh","U1.03","03. Fruits & Flowers","B.01.07","07. Stone Fruits","11854","02. Peaches","11870","03. Peaches Bio/Eco","11877","03. Other peaches","","","","","","","X",null,"B.01.07","Stone Fruits","Peaches","Peaches Bio/Eco","Other peaches","","","","11877",{"$f":"_xlfn.TEXTJOIN(\"; \",TRUE,ZCDT_EXPORT_2[[#This Row],[Sub-Category]:[Segment 5]])","v":"Peaches; Peaches Bio/Eco; Other peaches"}]
["AH","Baltic CDT","U1","01. Ultra-Fresh","U1.03","03. Fruits & Flowers","B.01.07","07. Stone Fruits","11855","03. Apricots","11879","01. Apricots","11881","01. Apricots loose","","","","","","","X",null,"B.01.07","Stone Fruits","Apricots","Apricots","Apricots loose","","","","11881",{"$f":"_xlfn.TEXTJOIN(\"; \",TRUE,ZCDT_EXPORT_2[[#This Row],[Sub-Category]:[Segment 5]])","v":"Apricots; Apricots; Apricots loose"}]
["AH","Baltic CDT","U1","01. Ultra-Fresh","U1.03","03. Fruits & Flowers","B.01.07","07. Stone Fruits","11855","03. Apricots","11879","01. Apricots","11882","02. Apricots packed","","","","","","","X",null,"B.01.07","Stone Fruits","Apricots","Apricots","Apricots packed","","","","11882",{"$f":"_xlfn.TEXTJOIN(\"; \",TRUE,ZCDT_EXPORT_2[[#This Row],[Sub-Category]:[Segment 5]])","v":"Apricots; Apricots; Apricots packed"}]
["AH","Baltic CDT","U1","01. Ultra-Fresh","U1.03","03. Fruits & Flowers","B.01.07","07. Stone Fruits","11855","03. Apricots","11879","01. Apricots","11883","03. Other apricots","","","","","","","X",null,"B.01.07","Stone Fruits","Apricots","Apricots","Other apricots","","","","11883",{"$f":"_xlfn.TEXTJOIN(\"; \",TRUE,ZCDT_EXPORT_2[[#This Row],[Sub-Category]:[Segment 5]])","v":"Apricots; Apricots; Other apricots"}]
["AH","Baltic CDT","U1","01. Ultra-Fresh","U1.03","03. Fruits & Flowers","B.01.07","07. Stone Fruits","11855","03. Apricots","11880","02. Aprikots Bio/Eco","11884","01. Apricots loose","","","","","","","X",null,"B.01.07","Stone Fruits","Apricots","Aprikots Bio/Eco","Apricots loose","","","","11884",{"$f":"_xlfn.TEXTJOIN(\"; \",TRUE,ZCDT_EXPORT_2[[#This Row],[Sub-Category]:[Segment 5]])","v":"Apricots; Aprikots Bio/Eco; Apricots loose"}]
["AH","Baltic CDT","U1","01. Ultra-Fresh","U1.03","03. Fruits & Flowers","B.01.07","07. Stone Fruits","11855","03. Apricots","11880","02. Aprikots Bio/Eco","11885","02. Apricots packed","","","","","","","X",null,"B.01.07","Stone Fruits","Apricots","Aprikots Bio/Eco","Apricots packed","","","","11885",{"$f":"_xlfn.TEXTJOIN(\"; \",TRUE,ZCDT_EXPORT_2[[#This Row],[Sub-Category]:[Segment 5]])","v":"Apricots; Aprikots Bio/Eco; Apricots packed"}]
["AH","Baltic CDT","U1","01. Ultra-Fresh","U1.03","03. Fruits & Flowers","B.01.07","07. Stone Fruits","11855","03. Apricots","11880","02. Aprikots Bio/Eco","11886","03. Other apricots","","","","","","","X",null,"B.01.07","Stone Fruits","Apricots","Aprikots Bio/Eco","Other apricots","","","","11886",{"$f":"_xlfn.TEXTJOIN(\"; \",TRUE,ZCDT_EXPORT_2[[#This Row],[Sub-Category]:[Segment 5]])","v":"Apricots; Aprikots Bio/Eco; Other apricots"}]
["AH","Baltic CDT","U1","01. Ultra-Fresh","U1.03","03. Fruits & Flowers","B.01.07","07. Stone Fruits","11856","04. Plums","11887","01. Import plums","11897","01. Plums Red","11901","01. Loose","","","","","X",null,"B.01.07","Stone Fruits","Plums","Import plums","Plums Red","Loose","","","11901",{"$f":"_xlfn.TEXTJOIN(\"; \",TRUE,ZCDT_EXPORT_2[[#This Row],[Sub-Category]:[Segment 5]])","v":"Plums; Import plums; Plums Red; Loose"}]
["AH","Baltic CDT","U1","01. Ultra-Fresh","U1.03","03. Fruits & Flowers","B.01.07","07. Stone Fruits","11856","04. Plums","11887","01. Import plums","11897","01. Plums Red","11902","02. Packed","","","","","X",null,"B.01.07","Stone Fruits","Plums","Import plums","Plums Red","Packed","","","11902",{"$f":"_xlfn.TEXTJOIN(\"; \",TRUE,ZCDT_EXPORT_2[[#This Row],[Sub-Category]:[Segment 5]])","v":"Plums; Import plums; Plums Red; Packed"}]
["AH","Baltic CDT","U1","01. Ultra-Fresh","U1.03","03. Fruits & Flowers","B.01.07","07. Stone Fruits","11856","04. Plums","11887","01. Import plums","11898","02. Plums Yellow","11903","01. Loose","","","","","X",null,"B.01.07","Stone Fruits","Plums","Import plums","Plums Yellow","Loose","","","11903",{"$f":"_xlfn.TEXTJOIN(\"; \",TRUE,ZCDT_EXPORT_2[[#This Row],[Sub-Category]:[Segment 5]])","v":"Plums; Import plums; Plums Yellow; Loose"}]
["AH","Baltic CDT","U1","01. Ultra-Fresh","U1.03","03. Fruits & Flowers","B.01.07","07. Stone Fruits","11856","04. Plums","11887","01. Import plums","11898","02. Plums Yellow","11904","02. Packed","","","","","X",null,"B.01.07","Stone Fruits","Plums","Import plums","Plums Yellow","Packed","","","11904",{"$f":"_xlfn.TEXTJOIN(\"; \",TRUE,ZCDT_EXPORT_2[[#This Row],[Sub-Category]:[Segment 5]])","v":"Plums; Import plums; Plums Yellow; Packed"}]
["AH","Baltic CDT","U1","01. Ultra-Fresh","U1.03","03. Fruits & Flowers","B.01.07","07. Stone Fruits","11856","04. Plums","11887","01. Import plums","11899","03. Dark plums","11905","01. Loose","","","","","X",null,"B.01.07","Stone Fruits","Plums","Import plums","Dark plums","Loose","","","11905",{"$f":"_xlfn.TEXTJOIN(\"; \",TRUE,ZCDT_EXPORT_2[[#This Row],[Sub-Category]:[Segment 5]])","v":"Plums; Import plums; Dark plums; Loose"}]
["AH","Baltic CDT","U1","01. Ultra-Fresh","U1.03","03. Fruits & Flowers","B.01.07","07. Stone Fruits","11856","04. Plums","11887","01. Import plums","11899","03. Dark plums","11906","02. Packed","","","","","X",null,"B.01.07","Stone Fruits","Plums","Import plums","Dark plums","Packed","","","11906",{"$f":"_xlfn.TEXTJOIN(\"; \",TRUE,ZCDT_EXPORT_2[[#This Row],[Sub-Category]:[Segment 5]])","v":"Plums; Import plums; Dark plums; Packed"}]
["AH","Baltic CDT","U1","01. Ultra-Fresh","U1.03","03. Fruits & Flowers","B.01.07","07. Stone Fruits","11856","04. Plums","11887","01. Import plums","11900","04. Other plums","11907","01. Loose","","","","","X",null,"B.01.07","Stone Fruits","Plums","Import plums","Other plums","Loose","","","11907",{"$f":"_xlfn.TEXTJOIN(\"; \",TRUE,ZCDT_EXPORT_2[[#This Row],[Sub-Category]:[Segment 5]])","v":"Plums; Import plums; Other plums; Loose"}]
["AH","Baltic CDT","U1","01. Ultra-Fresh","U1.03","03. Fruits & Flowers","B.01.07","07. Stone Fruits","11856","04. Plums","11887","01. Import plums","11900","04. Other plums","11908","02. Packed","","","","","X",null,"B.01.07","Stone Fruits","Plums","Import plums","Other plums","Packed","","","11908",{"$f":"_xlfn.TEXTJOIN(\"; \",TRUE,ZCDT_EXPORT_2[[#This Row],[Sub-Category]:[Segment 5]])","v":"Plums; Import plums; Other plums; Packed"}]
["AH","Baltic CDT","U1","01. Ultra-Fresh","U1.03","03. Fruits & Flowers","B.01.07","07. Stone Fruits","11856","04. Plums","11888","02. Local plums","11909","01. Plums Red","11913","01. Loose","","","","","X",null,"B.01.07","Stone Fruits","Plums","Local plums","Plums Red","Loose","","","11913",{"$f":"_xlfn.TEXTJOIN(\"; \",TRUE,ZCDT_EXPORT_2[[#This Row],[Sub-Category]:[Segment 5]])","v":"Plums; Local plums; Plums Red; Loose"}]
["AH","Baltic CDT","U1","01. Ultra-Fresh","U1.03","03. Fruits & Flowers","B.01.07","07. Stone Fruits","11856","04. Plums","11888","02. Local plums","11909","01. Plums Red","11914","02. Packed","","","","","X",null,"B.01.07","Stone Fruits","Plums","Local plums","Plums Red","Packed","","","11914",{"$f":"_xlfn.TEXTJOIN(\"; \",TRUE,ZCDT_EXPORT_2[[#This Row],[Sub-Category]:[Segment 5]])","v":"Plums; Local plums; Plums Red; Packed"}]
["AH","Baltic CDT","U1","01. Ultra-Fresh","U1.03","03. Fruits & Flowers","B.01.07","07. Stone Fruits","11856","04. Plums","11888","02. Local plums","11910","02. Plums Yellow","11915","01. Loose","","","","","X",null,"B.01.07","Stone Fruits","Plums","Local plums","Plums Yellow","Loose","","","11915",{"$f":"_xlfn.TEXTJOIN(\"; \",TRUE,ZCDT_EXPORT_2[[#This Row],[Sub-Category]:[Segment 5]])","v":"Plums; Local plums; Plums Yellow; Loose"}]
["AH","Baltic CDT","U1","01. Ultra-Fresh","U1.03","03. Fruits & Flowers","B.01.07","07. Stone Fruits","11856","04. Plums","11888","02. Local plums","11910","02. Plums Yellow","11916","02. Packed","","","","","X",null,"B.01.07","Stone Fruits","Plums","Local plums","Plums Yellow","Packed","","","11916",{"$f":"_xlfn.TEXTJOIN(\"; \",TRUE,ZCDT_EXPORT_2[[#This Row],[Sub-Category]:[Segment 5]])","v":"Plums; Local plums; Plums Yellow; Packed"}]
["AH","Baltic CDT","U1","01. Ultra-Fresh","U1.03","03. Fruits & Flowers","B.01.07","07. Stone Fruits","11856","04. Plums","11888","02. Local plums","11911","03. Dark plums","11917","01. Loose","","","","","X",null,"B.01.07","Stone Fruits","Plums","Local plums","Dark plums","Loose","","","11917",{"$f":"_xlfn.TEXTJOIN(\"; \",TRUE,ZCDT_EXPORT_2[[#This Row],[Sub-Category]:[Segment 5]])","v":"Plums; Local plums; Dark plums; Loose"}]
["AH","Baltic CDT","U1","01. Ultra-Fresh","U1.03","03. Fruits & Flowers","B.01.07","07. Stone Fruits","11856","04. Plums","11888","02. Local plums","11911","03. Dark plums","11918","02. Packed","","","","","X",null,"B.01.07","Stone Fruits","Plums","Local plums","Dark plums","Packed","","","11918",{"$f":"_xlfn.TEXTJOIN(\"; \",TRUE,ZCDT_EXPORT_2[[#This Row],[Sub-Category]:[Segment 5]])","v":"Plums; Local plums; Dark plums; Packed"}]
["AH","Baltic CDT","U1","01. Ultra-Fresh","U1.03","03. Fruits & Flowers","B.01.07","07. Stone Fruits","11856","04. Plums","11888","02. Local plums","11912","04. Other plums","11919","01. Loose","","","","","X",null,"B.01.07","Stone Fruits","Plums","Local plums","Other plums","Loose","","","11919",{"$f":"_xlfn.TEXTJOIN(\"; \",TRUE,ZCDT_EXPORT_2[[#This Row],[Sub-Category]:[Segment 5]])","v":"Plums; Local plums; Other plums; Loose"}]
["AH","Baltic CDT","U1","01. Ultra-Fresh","U1.03","03. Fruits & Flowers","B.01.07","07. Stone Fruits","11856","04. Plums","11888","02. Local plums","11912","04. Other plums","11920","02. Packed","","","","","X",null,"B.01.07","Stone Fruits","Plums","Local plums","Other plums","Packed","","","11920",{"$f":"_xlfn.TEXTJOIN(\"; \",TRUE,ZCDT_EXPORT_2[[#This Row],[Sub-Category]:[Segment 5]])","v":"Plums; Local plums; Other plums; Packed"}]
["AH","Baltic CDT","U1","01. Ultra-Fresh","U1.03","03. Fruits & Flowers","B.01.07","07. Stone Fruits","11856","04. Plums","11889","03. Plums Bio/Eco","11921","01. Plums Red","11925","01. Loose","","","","","X",null,"B.01.07","Stone Fruits","Plums","Plums Bio/Eco","Plums Red","Loose","","","11925",{"$f":"_xlfn.TEXTJOIN(\"; \",TRUE,ZCDT_EXPORT_2[[#This Row],[Sub-Category]:[Segment 5]])","v":"Plums; Plums Bio/Eco; Plums Red; Loose"}]
["AH","Baltic CDT","U1","01. Ultra-Fresh","U1.03","03. Fruits & Flowers","B.01.07","07. Stone Fruits","11856","04. Plums","11889","03. Plums Bio/Eco","11921","01. Plums Red","11926","02. Packed","","","","","X",null,"B.01.07","Stone Fruits","Plums","Plums Bio/Eco","Plums Red","Packed","","","11926",{"$f":"_xlfn.TEXTJOIN(\"; \",TRUE,ZCDT_EXPORT_2[[#This Row],[Sub-Category]:[Segment 5]])","v":"Plums; Plums Bio/Eco; Plums Red; Packed"}]
["AH","Baltic CDT","U1","01. Ultra-Fresh","U1.03","03. Fruits & Flowers","B.01.07","07. Stone Fruits","11856","04. Plums","11889","03. Plums Bio/Eco","11922","02. Plums Yellow","11927","01. Loose","","","","","X",null,"B.01.07","Stone Fruits","Plums","Plums Bio/Eco","Plums Yellow","Loose","","","11927",{"$f":"_xlfn.TEXTJOIN(\"; \",TRUE,ZCDT_EXPORT_2[[#This Row],[Sub-Category]:[Segment 5]])","v":"Plums; Plums Bio/Eco; Plums Yellow; Loose"}]
["AH","Baltic CDT","U1","01. Ultra-Fresh","U1.03","03. Fruits & Flowers","B.01.07","07. Stone Fruits","11856","04. Plums","11889","03. Plums Bio/Eco","11922","02. Plums Yellow","11928","02. Packed","","","","","X",null,"B.01.07","Stone Fruits","Plums","Plums Bio/Eco","Plums Yellow","Packed","","","11928",{"$f":"_xlfn.TEXTJOIN(\"; \",TRUE,ZCDT_EXPORT_2[[#This Row],[Sub-Category]:[Segment 5]])","v":"Plums; Plums Bio/Eco; Plums Yellow; Packed"}]
["AH","Baltic CDT","U1","01. Ultra-Fresh","U1.03","03. Fruits & Flowers","B.01.07","07. Stone Fruits","11856","04. Plums","11889","03. Plums Bio/Eco","11923","03. Dark plums","11929","01. Loose","","","","","X",null,"B.01.07","Stone Fruits","Plums","Plums Bio/Eco","Dark plums","Loose","","","11929",{"$f":"_xlfn.TEXTJOIN(\"; \",TRUE,ZCDT_EXPORT_2[[#This Row],[Sub-Category]:[Segment 5]])","v":"Plums; Plums Bio/Eco; Dark plums; Loose"}]
["AH","Baltic CDT","U1","01. Ultra-Fresh","U1.03","03. Fruits & Flowers","B.01.07","07. Stone Fruits","11856","04. Plums","11889","03. Plums Bio/Eco","11923","03. Dark plums","11930","02. Packed","","","","","X",null,"B.01.07","Stone Fruits","Plums","Plums Bio/Eco","Dark plums","Packed","","","11930",{"$f":"_xlfn.TEXTJOIN(\"; \",TRUE,ZCDT_EXPORT_2[[#This Row],[Sub-Category]:[Segment 5]])","v":"Plums; Plums Bio/Eco; Dark plums; Packed"}]
["AH","Baltic CDT","U1","01. Ultra-Fresh","U1.03","03. Fruits & Flowers","B.01.07","07. Stone Fruits","11856","04. Plums","11889","03. Plums Bio/Eco","11924","04. Other plums","11931","01. Loose","","","","","X",null,"B.01.07","Stone Fruits","Plums","Plums Bio/Eco","Other plums","Loose","","","11931",{"$f":"_xlfn.TEXTJOIN(\"; \",TRUE,ZCDT_EXPORT_2[[#This Row],[Sub-Category]:[Segment 5]])","v":"Plums; Plums Bio/Eco; Other plums; Loose"}]
["AH","Baltic CDT","U1","01. Ultra-Fresh","U1.03","03. Fruits & Flowers","B.01.07","07. Stone Fruits","11856","04. Plums","11889","03. Plums Bio/Eco","11924","04. Other plums","11932","02. Packed","","","","","X",null,"B.01.07","Stone Fruits","Plums","Plums Bio/Eco","Other plums","Packed","","","11932",{"$f":"_xlfn.TEXTJOIN(\"; \",TRUE,ZCDT_EXPORT_2[[#This Row],[Sub-Category]:[Segment 5]])","v":"Plums; Plums Bio/Eco; Other plums; Packed"}]
["AH","Baltic CDT","U1","01. Ultra-Fresh","U1.03","03. Fruits & Flowers","B.01.08","08. Daily Exotic Fruits","11933","01. Pinapples","11938","01. Pinapples","","","","","","","","","X",null,"B.01.08","Daily Exotic Fruits","Pinapples","Pinapples","","","","","11938",{"$f":"_xlfn.TEXTJOIN(\"; \",TRUE,ZCDT_EXPORT_2[[#This Row],[Sub-Category]:[Segment 5]])","v":"Pinapples; Pinapples"}]
["AH","Baltic CDT","U1","01. Ultra-Fresh","U1.03","03. Fruits & Flowers","B.01.08","08. Daily Exotic Fruits","11933","01. Pinapples","11939","02. Pinapples  Bio/Eco","","","","","","","","","X",null,"B.01.08","Daily Exotic Fruits","Pinapples","Pinapples  Bio/Eco","","","","","11939",{"$f":"_xlfn.TEXTJOIN(\"; \",TRUE,ZCDT_EXPORT_2[[#This Row],[Sub-Category]:[Segment 5]])","v":"Pinapples; Pinapples  Bio/Eco"}]
["AH","Baltic CDT","U1","01. Ultra-Fresh","U1.03","03. Fruits & Flowers","B.01.08","08. Daily Exotic Fruits","11933","01. Pinapples","11940","03. Other pinapples","","","","","","","","","X",null,"B.01.08","Daily Exotic Fruits","Pinapples","Other pinapples","","","","","11940",{"$f":"_xlfn.TEXTJOIN(\"; \",TRUE,ZCDT_EXPORT_2[[#This Row],[Sub-Category]:[Segment 5]])","v":"Pinapples; Other pinapples"}]
["AH","Baltic CDT","U1","01. Ultra-Fresh","U1.03","03. Fruits & Flowers","B.01.08","08. Daily Exotic Fruits","11934","02. Persimmon","11941","01. Persimmon","11944","01. Persimmon loose","","","","","","","X",null,"B.01.08","Daily Exotic Fruits","Persimmon","Persimmon","Persimmon loose","","","","11944",{"$f":"_xlfn.TEXTJOIN(\"; \",TRUE,ZCDT_EXPORT_2[[#This Row],[Sub-Category]:[Segment 5]])","v":"Persimmon; Persimmon; Persimmon loose"}]
["AH","Baltic CDT","U1","01. Ultra-Fresh","U1.03","03. Fruits & Flowers","B.01.08","08. Daily Exotic Fruits","11934","02. Persimmon","11941","01. Persimmon","11945","02. Persimon packed","","","","","","","X",null,"B.01.08","Daily Exotic Fruits","Persimmon","Persimmon","Persimon packed","","","","11945",{"$f":"_xlfn.TEXTJOIN(\"; \",TRUE,ZCDT_EXPORT_2[[#This Row],[Sub-Category]:[Segment 5]])","v":"Persimmon; Persimmon; Persimon packed"}]
["AH","Baltic CDT","U1","01. Ultra-Fresh","U1.03","03. Fruits & Flowers","B.01.08","08. Daily Exotic Fruits","11934","02. Persimmon","11942","02. Persimmon Bio/Eco","11946","01. Persimmon loose","","","","","","","X",null,"B.01.08","Daily Exotic Fruits","Persimmon","Persimmon Bio/Eco","Persimmon loose","","","","11946",{"$f":"_xlfn.TEXTJOIN(\"; \",TRUE,ZCDT_EXPORT_2[[#This Row],[Sub-Category]:[Segment 5]])","v":"Persimmon; Persimmon Bio/Eco; Persimmon loose"}]
["AH","Baltic CDT","U1","01. Ultra-Fresh","U1.03","03. Fruits & Flowers","B.01.08","08. Daily Exotic Fruits","11934","02. Persimmon","11942","02. Persimmon Bio/Eco","11947","02. Persimon packed","","","","","","","X",null,"B.01.08","Daily Exotic Fruits","Persimmon","Persimmon Bio/Eco","Persimon packed","","","","11947",{"$f":"_xlfn.TEXTJOIN(\"; \",TRUE,ZCDT_EXPORT_2[[#This Row],[Sub-Category]:[Segment 5]])","v":"Persimmon; Persimmon Bio/Eco; Persimon packed"}]
["AH","Baltic CDT","U1","01. Ultra-Fresh","U1.03","03. Fruits & Flowers","B.01.08","08. Daily Exotic Fruits","11934","02. Persimmon","11943","03. Other persimon","11948","01. Persimmon loose","","","","","","","X",null,"B.01.08","Daily Exotic Fruits","Persimmon","Other persimon","Persimmon loose","","","","11948",{"$f":"_xlfn.TEXTJOIN(\"; \",TRUE,ZCDT_EXPORT_2[[#This Row],[Sub-Category]:[Segment 5]])","v":"Persimmon; Other persimon; Persimmon loose"}]
["AH","Baltic CDT","U1","01. Ultra-Fresh","U1.03","03. Fruits & Flowers","B.01.08","08. Daily Exotic Fruits","11934","02. Persimmon","11943","03. Other persimon","11949","02. Persimon packed","","","","","","","X",null,"B.01.08","Daily Exotic Fruits","Persimmon","Other persimon","Persimon packed","","","","11949",{"$f":"_xlfn.TEXTJOIN(\"; \",TRUE,ZCDT_EXPORT_2[[#This Row],[Sub-Category]:[Segment 5]])","v":"Persimmon; Other persimon; Persimon packed"}]
["AH","Baltic CDT","U1","01. Ultra-Fresh","U1.03","03. Fruits & Flowers","B.01.08","08. Daily Exotic Fruits","11935","03. Kiwi","11950","01. Kiwi","11953","01. Kiwi loose","","","","","","","X",null,"B.01.08","Daily Exotic Fruits","Kiwi","Kiwi","Kiwi loose","","","","11953",{"$f":"_xlfn.TEXTJOIN(\"; \",TRUE,ZCDT_EXPORT_2[[#This Row],[Sub-Category]:[Segment 5]])","v":"Kiwi; Kiwi; Kiwi loose"}]
["AH","Baltic CDT","U1","01. Ultra-Fresh","U1.03","03. Fruits & Flowers","B.01.08","08. Daily Exotic Fruits","11935","03. Kiwi","11950","01. Kiwi","11954","02. Kiwi packed","","","","","","","X",null,"B.01.08","Daily Exotic Fruits","Kiwi","Kiwi","Kiwi packed","","","","11954",{"$f":"_xlfn.TEXTJOIN(\"; \",TRUE,ZCDT_EXPORT_2[[#This Row],[Sub-Category]:[Segment 5]])","v":"Kiwi; Kiwi; Kiwi packed"}]
["AH","Baltic CDT","U1","01. Ultra-Fresh","U1.03","03. Fruits & Flowers","B.01.08","08. Daily Exotic Fruits","11935","03. Kiwi","11951","02. Kiwi Bio/Eco","11955","01. Kiwi loose","","","","","","","X",null,"B.01.08","Daily Exotic Fruits","Kiwi","Kiwi Bio/Eco","Kiwi loose","","","","11955",{"$f":"_xlfn.TEXTJOIN(\"; \",TRUE,ZCDT_EXPORT_2[[#This Row],[Sub-Category]:[Segment 5]])","v":"Kiwi; Kiwi Bio/Eco; Kiwi loose"}]
["AH","Baltic CDT","U1","01. Ultra-Fresh","U1.03","03. Fruits & Flowers","B.01.08","08. Daily Exotic Fruits","11935","03. Kiwi","11951","02. Kiwi Bio/Eco","11956","02. Kiwi packed","","","","","","","X",null,"B.01.08","Daily Exotic Fruits","Kiwi","Kiwi Bio/Eco","Kiwi packed","","","","11956",{"$f":"_xlfn.TEXTJOIN(\"; \",TRUE,ZCDT_EXPORT_2[[#This Row],[Sub-Category]:[Segment 5]])","v":"Kiwi; Kiwi Bio/Eco; Kiwi packed"}]
["AH","Baltic CDT","U1","01. Ultra-Fresh","U1.03","03. Fruits & Flowers","B.01.08","08. Daily Exotic Fruits","11935","03. Kiwi","11952","03. Other Kiwi","11957","01. Kiwi loose","","","","","","","X",null,"B.01.08","Daily Exotic Fruits","Kiwi","Other Kiwi","Kiwi loose","","","","11957",{"$f":"_xlfn.TEXTJOIN(\"; \",TRUE,ZCDT_EXPORT_2[[#This Row],[Sub-Category]:[Segment 5]])","v":"Kiwi; Other Kiwi; Kiwi loose"}]
["AH","Baltic CDT","U1","01. Ultra-Fresh","U1.03","03. Fruits & Flowers","B.01.08","08. Daily Exotic Fruits","11935","03. Kiwi","11952","03. Other Kiwi","11958","02. Kiwi packed","","","","","","","X",null,"B.01.08","Daily Exotic Fruits","Kiwi","Other Kiwi","Kiwi packed","","","","11958",{"$f":"_xlfn.TEXTJOIN(\"; \",TRUE,ZCDT_EXPORT_2[[#This Row],[Sub-Category]:[Segment 5]])","v":"Kiwi; Other Kiwi; Kiwi packed"}]
["AH","Baltic CDT","U1","01. Ultra-Fresh","U1.03","03. Fruits & Flowers","B.01.08","08. Daily Exotic Fruits","11936","04. Pomegranates","11959","01. Pomegranates","11961","01. Pomegranates loose","","","","","","","X",null,"B.01.08","Daily Exotic Fruits","Pomegranates","Pomegranates","Pomegranates loose","","","","11961",{"$f":"_xlfn.TEXTJOIN(\"; \",TRUE,ZCDT_EXPORT_2[[#This Row],[Sub-Category]:[Segment 5]])","v":"Pomegranates; Pomegranates; Pomegranates loose"}]
["AH","Baltic CDT","U1","01. Ultra-Fresh","U1.03","03. Fruits & Flowers","B.01.08","08. Daily Exotic Fruits","11936","04. Pomegranates","11959","01. Pomegranates","11962","02. Pomegranates pieces","","","","","","","X",null,"B.01.08","Daily Exotic Fruits","Pomegranates","Pomegranates","Pomegranates pieces","","","","11962",{"$f":"_xlfn.TEXTJOIN(\"; \",TRUE,ZCDT_EXPORT_2[[#This Row],[Sub-Category]:[Segment 5]])","v":"Pomegranates; Pomegranates; Pomegranates pieces"}]
["AH","Baltic CDT","U1","01. Ultra-Fresh","U1.03","03. Fruits & Flowers","B.01.08","08. Daily Exotic Fruits","11936","04. Pomegranates","11960","02. Pomegranates Bio/Eco","11963","01. Pomegranates loose","","","","","","","X",null,"B.01.08","Daily Exotic Fruits","Pomegranates","Pomegranates Bio/Eco","Pomegranates loose","","","","11963",{"$f":"_xlfn.TEXTJOIN(\"; \",TRUE,ZCDT_EXPORT_2[[#This Row],[Sub-Category]:[Segment 5]])","v":"Pomegranates; Pomegranates Bio/Eco; Pomegranates loose"}]
["AH","Baltic CDT","U1","01. Ultra-Fresh","U1.03","03. Fruits & Flowers","B.01.08","08. Daily Exotic Fruits","11936","04. Pomegranates","11960","02. Pomegranates Bio/Eco","11964","02. Pomegranates pieces","","","","","","","X",null,"B.01.08","Daily Exotic Fruits","Pomegranates","Pomegranates Bio/Eco","Pomegranates pieces","","","","11964",{"$f":"_xlfn.TEXTJOIN(\"; \",TRUE,ZCDT_EXPORT_2[[#This Row],[Sub-Category]:[Segment 5]])","v":"Pomegranates; Pomegranates Bio/Eco; Pomegranates pieces"}]
["AH","Baltic CDT","U1","01. Ultra-Fresh","U1.03","03. Fruits & Flowers","B.01.08","08. Daily Exotic Fruits","11937","05. Mango","11965","01. Mango","11968","01. Mango loose","","","","","","","X",null,"B.01.08","Daily Exotic Fruits","Mango","Mango","Mango loose","","","","11968",{"$f":"_xlfn.TEXTJOIN(\"; \",TRUE,ZCDT_EXPORT_2[[#This Row],[Sub-Category]:[Segment 5]])","v":"Mango; Mango; Mango loose"}]
["AH","Baltic CDT","U1","01. Ultra-Fresh","U1.03","03. Fruits & Flowers","B.01.08","08. Daily Exotic Fruits","11937","05. Mango","11965","01. Mango","11969","02. Mango pieces","","","","","","","X",null,"B.01.08","Daily Exotic Fruits","Mango","Mango","Mango pieces","","","","11969",{"$f":"_xlfn.TEXTJOIN(\"; \",TRUE,ZCDT_EXPORT_2[[#This Row],[Sub-Category]:[Segment 5]])","v":"Mango; Mango; Mango pieces"}]
["AH","Baltic CDT","U1","01. Ultra-Fresh","U1.03","03. Fruits & Flowers","B.01.08","08. Daily Exotic Fruits","11937","05. Mango","11966","02. Mango Bio/Eco","11970","01. Mango loose","","","","","","","X",null,"B.01.08","Daily Exotic Fruits","Mango","Mango Bio/Eco","Mango loose","","","","11970",{"$f":"_xlfn.TEXTJOIN(\"; \",TRUE,ZCDT_EXPORT_2[[#This Row],[Sub-Category]:[Segment 5]])","v":"Mango; Mango Bio/Eco; Mango loose"}]
["AH","Baltic CDT","U1","01. Ultra-Fresh","U1.03","03. Fruits & Flowers","B.01.08","08. Daily Exotic Fruits","11937","05. Mango","11966","02. Mango Bio/Eco","11971","02. Mango pieces","","","","","","","X",null,"B.01.08","Daily Exotic Fruits","Mango","Mango Bio/Eco","Mango pieces","","","","11971",{"$f":"_xlfn.TEXTJOIN(\"; \",TRUE,ZCDT_EXPORT_2[[#This Row],[Sub-Category]:[Segment 5]])","v":"Mango; Mango Bio/Eco; Mango pieces"}]
["AH","Baltic CDT","U1","01. Ultra-Fresh","U1.03","03. Fruits & Flowers","B.01.08","08. Daily Exotic Fruits","11937","05. Mango","11967","03. Other mango","11972","01. Mango loose","","","","","","","X",null,"B.01.08","Daily Exotic Fruits","Mango","Other mango","Mango loose","","","","11972",{"$f":"_xlfn.TEXTJOIN(\"; \",TRUE,ZCDT_EXPORT_2[[#This Row],[Sub-Category]:[Segment 5]])","v":"Mango; Other mango; Mango loose"}]
["AH","Baltic CDT","U1","01. Ultra-Fresh","U1.03","03. Fruits & Flowers","B.01.08","08. Daily Exotic Fruits","11937","05. Mango","11967","03. Other mango","11973","02. Mango pieces","","","","","","","X",null,"B.01.08","Daily Exotic Fruits","Mango","Other mango","Mango pieces","","","","11973",{"$f":"_xlfn.TEXTJOIN(\"; \",TRUE,ZCDT_EXPORT_2[[#This Row],[Sub-Category]:[Segment 5]])","v":"Mango; Other mango; Mango pieces"}]
["AH","Baltic CDT","U1","01. Ultra-Fresh","U1.03","03. Fruits & Flowers","B.01.09","09. Exotic fruits","11974","01. Exotic fruits","11975","01. Exotic fruits","11977","01. Exotic fruits packed","","","","","","","X",null,"B.01.09","Exotic fruits","Exotic fruits","Exotic fruits","Exotic fruits packed","","","","11977",{"$f":"_xlfn.TEXTJOIN(\"; \",TRUE,ZCDT_EXPORT_2[[#This Row],[Sub-Category]:[Segment 5]])","v":"Exotic fruits; Exotic fruits; Exotic fruits packed"}]
["AH","Baltic CDT","U1","01. Ultra-Fresh","U1.03","03. Fruits & Flowers","B.01.09","09. Exotic fruits","11974","01. Exotic fruits","11975","01. Exotic fruits","11978","02. Exotic fruits loose","","","","","","","X",null,"B.01.09","Exotic fruits","Exotic fruits","Exotic fruits","Exotic fruits loose","","","","11978",{"$f":"_xlfn.TEXTJOIN(\"; \",TRUE,ZCDT_EXPORT_2[[#This Row],[Sub-Category]:[Segment 5]])","v":"Exotic fruits; Exotic fruits; Exotic fruits loose"}]
["AH","Baltic CDT","U1","01. Ultra-Fresh","U1.03","03. Fruits & Flowers","B.01.09","09. Exotic fruits","11974","01. Exotic fruits","11976","02. Exotic fruits  Bio/Eco","11979","01. Exotic fruits packed","","","","","","","X",null,"B.01.09","Exotic fruits","Exotic fruits","Exotic fruits  Bio/Eco","Exotic fruits packed","","","","11979",{"$f":"_xlfn.TEXTJOIN(\"; \",TRUE,ZCDT_EXPORT_2[[#This Row],[Sub-Category]:[Segment 5]])","v":"Exotic fruits; Exotic fruits  Bio/Eco; Exotic fruits packed"}]
["AH","Baltic CDT","U1","01. Ultra-Fresh","U1.03","03. Fruits & Flowers","B.01.09","09. Exotic fruits","11974","01. Exotic fruits","11976","02. Exotic fruits  Bio/Eco","11980","02. Exotic fruits loose","","","","","","","X",null,"B.01.09","Exotic fruits","Exotic fruits","Exotic fruits  Bio/Eco","Exotic fruits loose","","","","11980",{"$f":"_xlfn.TEXTJOIN(\"; \",TRUE,ZCDT_EXPORT_2[[#This Row],[Sub-Category]:[Segment 5]])","v":"Exotic fruits; Exotic fruits  Bio/Eco; Exotic fruits loose"}]
["AH","Baltic CDT","U1","01. Ultra-Fresh","U1.03","03. Fruits & Flowers","B.02.01","10. Berries","11981","01. Grapes","11989","01. Green grapes","11994","01. Green grapes Seeded","11996","01. Grapes loose","","","","","X",null,"B.02.01","Berries","Grapes","Green grapes","Green grapes Seeded","Grapes loose","","","11996",{"$f":"_xlfn.TEXTJOIN(\"; \",TRUE,ZCDT_EXPORT_2[[#This Row],[Sub-Category]:[Segment 5]])","v":"Grapes; Green grapes; Green grapes Seeded; Grapes loose"}]
["AH","Baltic CDT","U1","01. Ultra-Fresh","U1.03","03. Fruits & Flowers","B.02.01","10. Berries","11981","01. Grapes","11989","01. Green grapes","11994","01. Green grapes Seeded","11997","02.  Grapes packed","","","","","X",null,"B.02.01","Berries","Grapes","Green grapes","Green grapes Seeded","Grapes packed","","","11997",{"$f":"_xlfn.TEXTJOIN(\"; \",TRUE,ZCDT_EXPORT_2[[#This Row],[Sub-Category]:[Segment 5]])","v":"Grapes; Green grapes; Green grapes Seeded; Grapes packed"}]
["AH","Baltic CDT","U1","01. Ultra-Fresh","U1.03","03. Fruits & Flowers","B.02.01","10. Berries","11981","01. Grapes","11989","01. Green grapes","11995","02. Green grapes Seedless","11998","01.  Grapes loose","","","","","X",null,"B.02.01","Berries","Grapes","Green grapes","Green grapes Seedless","Grapes loose","","","11998",{"$f":"_xlfn.TEXTJOIN(\"; \",TRUE,ZCDT_EXPORT_2[[#This Row],[Sub-Category]:[Segment 5]])","v":"Grapes; Green grapes; Green grapes Seedless; Grapes loose"}]
["AH","Baltic CDT","U1","01. Ultra-Fresh","U1.03","03. Fruits & Flowers","B.02.01","10. Berries","11981","01. Grapes","11989","01. Green grapes","11995","02. Green grapes Seedless","11999","02. Grapes packed","","","","","X",null,"B.02.01","Berries","Grapes","Green grapes","Green grapes Seedless","Grapes packed","","","11999",{"$f":"_xlfn.TEXTJOIN(\"; \",TRUE,ZCDT_EXPORT_2[[#This Row],[Sub-Category]:[Segment 5]])","v":"Grapes; Green grapes; Green grapes Seedless; Grapes packed"}]
["AH","Baltic CDT","U1","01. Ultra-Fresh","U1.03","03. Fruits & Flowers","B.02.01","10. Berries","11981","01. Grapes","11990","02. Red grapes","12000","01. Red grapes Seeded","12002","01.  Grapes loose","","","","","X",null,"B.02.01","Berries","Grapes","Red grapes","Red grapes Seeded","Grapes loose","","","12002",{"$f":"_xlfn.TEXTJOIN(\"; \",TRUE,ZCDT_EXPORT_2[[#This Row],[Sub-Category]:[Segment 5]])","v":"Grapes; Red grapes; Red grapes Seeded; Grapes loose"}]
["AH","Baltic CDT","U1","01. Ultra-Fresh","U1.03","03. Fruits & Flowers","B.02.01","10. Berries","11981","01. Grapes","11990","02. Red grapes","12000","01. Red grapes Seeded","12003","02.  Grapes packed","","","","","X",null,"B.02.01","Berries","Grapes","Red grapes","Red grapes Seeded","Grapes packed","","","12003",{"$f":"_xlfn.TEXTJOIN(\"; \",TRUE,ZCDT_EXPORT_2[[#This Row],[Sub-Category]:[Segment 5]])","v":"Grapes; Red grapes; Red grapes Seeded; Grapes packed"}]
["AH","Baltic CDT","U1","01. Ultra-Fresh","U1.03","03. Fruits & Flowers","B.02.01","10. Berries","11981","01. Grapes","11990","02. Red grapes","12001","02. Red grapes Seedless","12004","01. Grapes loose","","","","","X",null,"B.02.01","Berries","Grapes","Red grapes","Red grapes Seedless","Grapes loose","","","12004",{"$f":"_xlfn.TEXTJOIN(\"; \",TRUE,ZCDT_EXPORT_2[[#This Row],[Sub-Category]:[Segment 5]])","v":"Grapes; Red grapes; Red grapes Seedless; Grapes loose"}]
["AH","Baltic CDT","U1","01. Ultra-Fresh","U1.03","03. Fruits & Flowers","B.02.01","10. Berries","11981","01. Grapes","11990","02. Red grapes","12001","02. Red grapes Seedless","12005","02. Grapes packed","","","","","X",null,"B.02.01","Berries","Grapes","Red grapes","Red grapes Seedless","Grapes packed","","","12005",{"$f":"_xlfn.TEXTJOIN(\"; \",TRUE,ZCDT_EXPORT_2[[#This Row],[Sub-Category]:[Segment 5]])","v":"Grapes; Red grapes; Red grapes Seedless; Grapes packed"}]
["AH","Baltic CDT","U1","01. Ultra-Fresh","U1.03","03. Fruits & Flowers","B.02.01","10. Berries","11981","01. Grapes","11991","03. Dark grapes","12006","01. Dark grapes Seeded","12008","01.  Grapes loose","","","","","X",null,"B.02.01","Berries","Grapes","Dark grapes","Dark grapes Seeded","Grapes loose","","","12008",{"$f":"_xlfn.TEXTJOIN(\"; \",TRUE,ZCDT_EXPORT_2[[#This Row],[Sub-Category]:[Segment 5]])","v":"Grapes; Dark grapes; Dark grapes Seeded; Grapes loose"}]
["AH","Baltic CDT","U1","01. Ultra-Fresh","U1.03","03. Fruits & Flowers","B.02.01","10. Berries","11981","01. Grapes","11991","03. Dark grapes","12006","01. Dark grapes Seeded","12009","02. Grapes packed","","","","","X",null,"B.02.01","Berries","Grapes","Dark grapes","Dark grapes Seeded","Grapes packed","","","12009",{"$f":"_xlfn.TEXTJOIN(\"; \",TRUE,ZCDT_EXPORT_2[[#This Row],[Sub-Category]:[Segment 5]])","v":"Grapes; Dark grapes; Dark grapes Seeded; Grapes packed"}]
["AH","Baltic CDT","U1","01. Ultra-Fresh","U1.03","03. Fruits & Flowers","B.02.01","10. Berries","11981","01. Grapes","11991","03. Dark grapes","12007","02. Dark grapes Seedless","12010","01. Grapes loose","","","","","X",null,"B.02.01","Berries","Grapes","Dark grapes","Dark grapes Seedless","Grapes loose","","","12010",{"$f":"_xlfn.TEXTJOIN(\"; \",TRUE,ZCDT_EXPORT_2[[#This Row],[Sub-Category]:[Segment 5]])","v":"Grapes; Dark grapes; Dark grapes Seedless; Grapes loose"}]
["AH","Baltic CDT","U1","01. Ultra-Fresh","U1.03","03. Fruits & Flowers","B.02.01","10. Berries","11981","01. Grapes","11991","03. Dark grapes","12007","02. Dark grapes Seedless","12011","02.  Grapes packed","","","","","X",null,"B.02.01","Berries","Grapes","Dark grapes","Dark grapes Seedless","Grapes packed","","","12011",{"$f":"_xlfn.TEXTJOIN(\"; \",TRUE,ZCDT_EXPORT_2[[#This Row],[Sub-Category]:[Segment 5]])","v":"Grapes; Dark grapes; Dark grapes Seedless; Grapes packed"}]
["AH","Baltic CDT","U1","01. Ultra-Fresh","U1.03","03. Fruits & Flowers","B.02.01","10. Berries","11981","01. Grapes","11992","04. Other grapes","12012","01. Other grapes Grapes loose","","","","","","","X",null,"B.02.01","Berries","Grapes","Other grapes","Other grapes Grapes loose","","","","12012",{"$f":"_xlfn.TEXTJOIN(\"; \",TRUE,ZCDT_EXPORT_2[[#This Row],[Sub-Category]:[Segment 5]])","v":"Grapes; Other grapes; Other grapes Grapes loose"}]
["AH","Baltic CDT","U1","01. Ultra-Fresh","U1.03","03. Fruits & Flowers","B.02.01","10. Berries","11981","01. Grapes","11992","04. Other grapes","12013","02. Other grapes Grapes packed","","","","","","","X",null,"B.02.01","Berries","Grapes","Other grapes","Other grapes Grapes packed","","","","12013",{"$f":"_xlfn.TEXTJOIN(\"; \",TRUE,ZCDT_EXPORT_2[[#This Row],[Sub-Category]:[Segment 5]])","v":"Grapes; Other grapes; Other grapes Grapes packed"}]
["AH","Baltic CDT","U1","01. Ultra-Fresh","U1.03","03. Fruits & Flowers","B.02.01","10. Berries","11981","01. Grapes","11993","05. Grapes Bio/Eco","12014","01. Grapes Bio/Eco Seeded","12016","01.  Grapes loose","","","","","X",null,"B.02.01","Berries","Grapes","Grapes Bio/Eco","Grapes Bio/Eco Seeded","Grapes loose","","","12016",{"$f":"_xlfn.TEXTJOIN(\"; \",TRUE,ZCDT_EXPORT_2[[#This Row],[Sub-Category]:[Segment 5]])","v":"Grapes; Grapes Bio/Eco; Grapes Bio/Eco Seeded; Grapes loose"}]
["AH","Baltic CDT","U1","01. Ultra-Fresh","U1.03","03. Fruits & Flowers","B.02.01","10. Berries","11981","01. Grapes","11993","05. Grapes Bio/Eco","12014","01. Grapes Bio/Eco Seeded","12017","02.  Grapes packed","","","","","X",null,"B.02.01","Berries","Grapes","Grapes Bio/Eco","Grapes Bio/Eco Seeded","Grapes packed","","","12017",{"$f":"_xlfn.TEXTJOIN(\"; \",TRUE,ZCDT_EXPORT_2[[#This Row],[Sub-Category]:[Segment 5]])","v":"Grapes; Grapes Bio/Eco; Grapes Bio/Eco Seeded; Grapes packed"}]
["AH","Baltic CDT","U1","01. Ultra-Fresh","U1.03","03. Fruits & Flowers","B.02.01","10. Berries","11981","01. Grapes","11993","05. Grapes Bio/Eco","12015","02. Grapes Bio/Eco Seedless","12018","01. Grapes loose","","","","","X",null,"B.02.01","Berries","Grapes","Grapes Bio/Eco","Grapes Bio/Eco Seedless","Grapes loose","","","12018",{"$f":"_xlfn.TEXTJOIN(\"; \",TRUE,ZCDT_EXPORT_2[[#This Row],[Sub-Category]:[Segment 5]])","v":"Grapes; Grapes Bio/Eco; Grapes Bio/Eco Seedless; Grapes loose"}]
["AH","Baltic CDT","U1","01. Ultra-Fresh","U1.03","03. Fruits & Flowers","B.02.01","10. Berries","11981","01. Grapes","11993","05. Grapes Bio/Eco","12015","02. Grapes Bio/Eco Seedless","12019","02.  Grapes packed","","","","","X",null,"B.02.01","Berries","Grapes","Grapes Bio/Eco","Grapes Bio/Eco Seedless","Grapes packed","","","12019",{"$f":"_xlfn.TEXTJOIN(\"; \",TRUE,ZCDT_EXPORT_2[[#This Row],[Sub-Category]:[Segment 5]])","v":"Grapes; Grapes Bio/Eco; Grapes Bio/Eco Seedless; Grapes packed"}]
["AH","Baltic CDT","U1","01. Ultra-Fresh","U1.03","03. Fruits & Flowers","B.02.01","10. Berries","11982","02. Strawberries","12020","01. Import Strawberries","12024","01. Strawberries loose","","","","","","","X",null,"B.02.01","Berries","Strawberries","Import Strawberries","Strawberries loose","","","","12024",{"$f":"_xlfn.TEXTJOIN(\"; \",TRUE,ZCDT_EXPORT_2[[#This Row],[Sub-Category]:[Segment 5]])","v":"Strawberries; Import Strawberries; Strawberries loose"}]
["AH","Baltic CDT","U1","01. Ultra-Fresh","U1.03","03. Fruits & Flowers","B.02.01","10. Berries","11982","02. Strawberries","12020","01. Import Strawberries","12025","02. Strawberries packed","","","","","","","X",null,"B.02.01","Berries","Strawberries","Import Strawberries","Strawberries packed","","","","12025",{"$f":"_xlfn.TEXTJOIN(\"; \",TRUE,ZCDT_EXPORT_2[[#This Row],[Sub-Category]:[Segment 5]])","v":"Strawberries; Import Strawberries; Strawberries packed"}]
["AH","Baltic CDT","U1","01. Ultra-Fresh","U1.03","03. Fruits & Flowers","B.02.01","10. Berries","11982","02. Strawberries","12021","02. Local Strawberries","12026","01. Strawberries loose","","","","","","","X",null,"B.02.01","Berries","Strawberries","Local Strawberries","Strawberries loose","","","","12026",{"$f":"_xlfn.TEXTJOIN(\"; \",TRUE,ZCDT_EXPORT_2[[#This Row],[Sub-Category]:[Segment 5]])","v":"Strawberries; Local Strawberries; Strawberries loose"}]
["AH","Baltic CDT","U1","01. Ultra-Fresh","U1.03","03. Fruits & Flowers","B.02.01","10. Berries","11982","02. Strawberries","12021","02. Local Strawberries","12027","02. Strawberries packed","","","","","","","X",null,"B.02.01","Berries","Strawberries","Local Strawberries","Strawberries packed","","","","12027",{"$f":"_xlfn.TEXTJOIN(\"; \",TRUE,ZCDT_EXPORT_2[[#This Row],[Sub-Category]:[Segment 5]])","v":"Strawberries; Local Strawberries; Strawberries packed"}]
["AH","Baltic CDT","U1","01. Ultra-Fresh","U1.03","03. Fruits & Flowers","B.02.01","10. Berries","11982","02. Strawberries","12022","03. Other strawberries","12028","01. Strawberries loose","","","","","","","X",null,"B.02.01","Berries","Strawberries","Other strawberries","Strawberries loose","","","","12028",{"$f":"_xlfn.TEXTJOIN(\"; \",TRUE,ZCDT_EXPORT_2[[#This Row],[Sub-Category]:[Segment 5]])","v":"Strawberries; Other strawberries; Strawberries loose"}]
["AH","Baltic CDT","U1","01. Ultra-Fresh","U1.03","03. Fruits & Flowers","B.02.01","10. Berries","11982","02. Strawberries","12022","03. Other strawberries","12029","02. Strawberries packed","","","","","","","X",null,"B.02.01","Berries","Strawberries","Other strawberries","Strawberries packed","","","","12029",{"$f":"_xlfn.TEXTJOIN(\"; \",TRUE,ZCDT_EXPORT_2[[#This Row],[Sub-Category]:[Segment 5]])","v":"Strawberries; Other strawberries; Strawberries packed"}]
["AH","Baltic CDT","U1","01. Ultra-Fresh","U1.03","03. Fruits & Flowers","B.02.01","10. Berries","11982","02. Strawberries","12023","04. Strawberries Bio/Eco","12030","01. Strawberries loose","","","","","","","X",null,"B.02.01","Berries","Strawberries","Strawberries Bio/Eco","Strawberries loose","","","","12030",{"$f":"_xlfn.TEXTJOIN(\"; \",TRUE,ZCDT_EXPORT_2[[#This Row],[Sub-Category]:[Segment 5]])","v":"Strawberries; Strawberries Bio/Eco; Strawberries loose"}]
["AH","Baltic CDT","U1","01. Ultra-Fresh","U1.03","03. Fruits & Flowers","B.02.01","10. Berries","11982","02. Strawberries","12023","04. Strawberries Bio/Eco","12031","02. Strawberries packed","","","","","","","X",null,"B.02.01","Berries","Strawberries","Strawberries Bio/Eco","Strawberries packed","","","","12031",{"$f":"_xlfn.TEXTJOIN(\"; \",TRUE,ZCDT_EXPORT_2[[#This Row],[Sub-Category]:[Segment 5]])","v":"Strawberries; Strawberries Bio/Eco; Strawberries packed"}]
["AH","Baltic CDT","U1","01. Ultra-Fresh","U1.03","03. Fruits & Flowers","B.02.01","10. Berries","11983","03. Blueberries","12032","01. Import Blueberries","12035","01. Blueberries loose","","","","","","","X",null,"B.02.01","Berries","Blueberries","Import Blueberries","Blueberries loose","","","","12035",{"$f":"_xlfn.TEXTJOIN(\"; \",TRUE,ZCDT_EXPORT_2[[#This Row],[Sub-Category]:[Segment 5]])","v":"Blueberries; Import Blueberries; Blueberries loose"}]
["AH","Baltic CDT","U1","01. Ultra-Fresh","U1.03","03. Fruits & Flowers","B.02.01","10. Berries","11983","03. Blueberries","12032","01. Import Blueberries","12036","02. Blueberries packed","","","","","","","X",null,"B.02.01","Berries","Blueberries","Import Blueberries","Blueberries packed","","","","12036",{"$f":"_xlfn.TEXTJOIN(\"; \",TRUE,ZCDT_EXPORT_2[[#This Row],[Sub-Category]:[Segment 5]])","v":"Blueberries; Import Blueberries; Blueberries packed"}]
["AH","Baltic CDT","U1","01. Ultra-Fresh","U1.03","03. Fruits & Flowers","B.02.01","10. Berries","11983","03. Blueberries","12033","02. Local Blueberries","12037","01. Blueberries loose","","","","","","","X",null,"B.02.01","Berries","Blueberries","Local Blueberries","Blueberries loose","","","","12037",{"$f":"_xlfn.TEXTJOIN(\"; \",TRUE,ZCDT_EXPORT_2[[#This Row],[Sub-Category]:[Segment 5]])","v":"Blueberries; Local Blueberries; Blueberries loose"}]
["AH","Baltic CDT","U1","01. Ultra-Fresh","U1.03","03. Fruits & Flowers","B.02.01","10. Berries","11983","03. Blueberries","12033","02. Local Blueberries","12038","02. Blueberries packed","","","","","","","X",null,"B.02.01","Berries","Blueberries","Local Blueberries","Blueberries packed","","","","12038",{"$f":"_xlfn.TEXTJOIN(\"; \",TRUE,ZCDT_EXPORT_2[[#This Row],[Sub-Category]:[Segment 5]])","v":"Blueberries; Local Blueberries; Blueberries packed"}]
["AH","Baltic CDT","U1","01. Ultra-Fresh","U1.03","03. Fruits & Flowers","B.02.01","10. Berries","11983","03. Blueberries","12034","03. Blueberries Bio/Eco","12039","01. Blueberries loose","","","","","","","X",null,"B.02.01","Berries","Blueberries","Blueberries Bio/Eco","Blueberries loose","","","","12039",{"$f":"_xlfn.TEXTJOIN(\"; \",TRUE,ZCDT_EXPORT_2[[#This Row],[Sub-Category]:[Segment 5]])","v":"Blueberries; Blueberries Bio/Eco; Blueberries loose"}]
["AH","Baltic CDT","U1","01. Ultra-Fresh","U1.03","03. Fruits & Flowers","B.02.01","10. Berries","11983","03. Blueberries","12034","03. Blueberries Bio/Eco","12040","02. Blueberries packed","","","","","","","X",null,"B.02.01","Berries","Blueberries","Blueberries Bio/Eco","Blueberries packed","","","","12040",{"$f":"_xlfn.TEXTJOIN(\"; \",TRUE,ZCDT_EXPORT_2[[#This Row],[Sub-Category]:[Segment 5]])","v":"Blueberries; Blueberries Bio/Eco; Blueberries packed"}]
["AH","Baltic CDT","U1","01. Ultra-Fresh","U1.03","03. Fruits & Flowers","B.02.01","10. Berries","11984","04. Cranberries","12041","01. Import Cranberries","12045","01. Cranberries  loose","","","","","","","X",null,"B.02.01","Berries","Cranberries","Import Cranberries","Cranberries  loose","","","","12045",{"$f":"_xlfn.TEXTJOIN(\"; \",TRUE,ZCDT_EXPORT_2[[#This Row],[Sub-Category]:[Segment 5]])","v":"Cranberries; Import Cranberries; Cranberries  loose"}]
["AH","Baltic CDT","U1","01. Ultra-Fresh","U1.03","03. Fruits & Flowers","B.02.01","10. Berries","11984","04. Cranberries","12041","01. Import Cranberries","12046","02. Cranberries  packed","","","","","","","X",null,"B.02.01","Berries","Cranberries","Import Cranberries","Cranberries  packed","","","","12046",{"$f":"_xlfn.TEXTJOIN(\"; \",TRUE,ZCDT_EXPORT_2[[#This Row],[Sub-Category]:[Segment 5]])","v":"Cranberries; Import Cranberries; Cranberries  packed"}]
["AH","Baltic CDT","U1","01. Ultra-Fresh","U1.03","03. Fruits & Flowers","B.02.01","10. Berries","11984","04. Cranberries","12042","02. Local Cranberries","12047","01. Cranberries  loose","","","","","","","X",null,"B.02.01","Berries","Cranberries","Local Cranberries","Cranberries  loose","","","","12047",{"$f":"_xlfn.TEXTJOIN(\"; \",TRUE,ZCDT_EXPORT_2[[#This Row],[Sub-Category]:[Segment 5]])","v":"Cranberries; Local Cranberries; Cranberries  loose"}]
["AH","Baltic CDT","U1","01. Ultra-Fresh","U1.03","03. Fruits & Flowers","B.02.01","10. Berries","11984","04. Cranberries","12042","02. Local Cranberries","12048","02. Cranberries  packed","","","","","","","X",null,"B.02.01","Berries","Cranberries","Local Cranberries","Cranberries  packed","","","","12048",{"$f":"_xlfn.TEXTJOIN(\"; \",TRUE,ZCDT_EXPORT_2[[#This Row],[Sub-Category]:[Segment 5]])","v":"Cranberries; Local Cranberries; Cranberries  packed"}]
["AH","Baltic CDT","U1","01. Ultra-Fresh","U1.03","03. Fruits & Flowers","B.02.01","10. Berries","11984","04. Cranberries","12043","03. Cranberries Bio/Eco","12049","01. Cranberries  loose","","","","","","","X",null,"B.02.01","Berries","Cranberries","Cranberries Bio/Eco","Cranberries  loose","","","","12049",{"$f":"_xlfn.TEXTJOIN(\"; \",TRUE,ZCDT_EXPORT_2[[#This Row],[Sub-Category]:[Segment 5]])","v":"Cranberries; Cranberries Bio/Eco; Cranberries  loose"}]
["AH","Baltic CDT","U1","01. Ultra-Fresh","U1.03","03. Fruits & Flowers","B.02.01","10. Berries","11984","04. Cranberries","12043","03. Cranberries Bio/Eco","12050","02. Cranberries  packed","","","","","","","X",null,"B.02.01","Berries","Cranberries","Cranberries Bio/Eco","Cranberries  packed","","","","12050",{"$f":"_xlfn.TEXTJOIN(\"; \",TRUE,ZCDT_EXPORT_2[[#This Row],[Sub-Category]:[Segment 5]])","v":"Cranberries; Cranberries Bio/Eco; Cranberries  packed"}]
["AH","Baltic CDT","U1","01. Ultra-Fresh","U1.03","03. Fruits & Flowers","B.02.01","10. Berries","11985","05. Raspberries","12051","01. Import Raspberries","12054","01. Raspberry loose","","","","","","","X",null,"B.02.01","Berries","Raspberries","Import Raspberries","Raspberry loose","","","","12054",{"$f":"_xlfn.TEXTJOIN(\"; \",TRUE,ZCDT_EXPORT_2[[#This Row],[Sub-Category]:[Segment 5]])","v":"Raspberries; Import Raspberries; Raspberry loose"}]
["AH","Baltic CDT","U1","01. Ultra-Fresh","U1.03","03. Fruits & Flowers","B.02.01","10. Berries","11985","05. Raspberries","12051","01. Import Raspberries","12055","02. Raspberry packed","","","","","","","X",null,"B.02.01","Berries","Raspberries","Import Raspberries","Raspberry packed","","","","12055",{"$f":"_xlfn.TEXTJOIN(\"; \",TRUE,ZCDT_EXPORT_2[[#This Row],[Sub-Category]:[Segment 5]])","v":"Raspberries; Import Raspberries; Raspberry packed"}]
["AH","Baltic CDT","U1","01. Ultra-Fresh","U1.03","03. Fruits & Flowers","B.02.01","10. Berries","11985","05. Raspberries","12052","02. Local Raspberries","12056","01. Raspberry loose","","","","","","","X",null,"B.02.01","Berries","Raspberries","Local Raspberries","Raspberry loose","","","","12056",{"$f":"_xlfn.TEXTJOIN(\"; \",TRUE,ZCDT_EXPORT_2[[#This Row],[Sub-Category]:[Segment 5]])","v":"Raspberries; Local Raspberries; Raspberry loose"}]
["AH","Baltic CDT","U1","01. Ultra-Fresh","U1.03","03. Fruits & Flowers","B.02.01","10. Berries","11985","05. Raspberries","12052","02. Local Raspberries","12057","02. Raspberry packed","","","","","","","X",null,"B.02.01","Berries","Raspberries","Local Raspberries","Raspberry packed","","","","12057",{"$f":"_xlfn.TEXTJOIN(\"; \",TRUE,ZCDT_EXPORT_2[[#This Row],[Sub-Category]:[Segment 5]])","v":"Raspberries; Local Raspberries; Raspberry packed"}]
["AH","Baltic CDT","U1","01. Ultra-Fresh","U1.03","03. Fruits & Flowers","B.02.01","10. Berries","11985","05. Raspberries","12053","03. Raspberries Bio/Eco","12058","01. Raspberry loose","","","","","","","X",null,"B.02.01","Berries","Raspberries","Raspberries Bio/Eco","Raspberry loose","","","","12058",{"$f":"_xlfn.TEXTJOIN(\"; \",TRUE,ZCDT_EXPORT_2[[#This Row],[Sub-Category]:[Segment 5]])","v":"Raspberries; Raspberries Bio/Eco; Raspberry loose"}]
["AH","Baltic CDT","U1","01. Ultra-Fresh","U1.03","03. Fruits & Flowers","B.02.01","10. Berries","11985","05. Raspberries","12053","03. Raspberries Bio/Eco","12059","02. Raspberry packed","","","","","","","X",null,"B.02.01","Berries","Raspberries","Raspberries Bio/Eco","Raspberry packed","","","","12059",{"$f":"_xlfn.TEXTJOIN(\"; \",TRUE,ZCDT_EXPORT_2[[#This Row],[Sub-Category]:[Segment 5]])","v":"Raspberries; Raspberries Bio/Eco; Raspberry packed"}]
["AH","Baltic CDT","U1","01. Ultra-Fresh","U1.03","03. Fruits & Flowers","B.02.01","10. Berries","11986","06. Cherries","12060","01. Import Cherries","12063","01. Cherries loose","","","","","","","X",null,"B.02.01","Berries","Cherries","Import Cherries","Cherries loose","","","","12063",{"$f":"_xlfn.TEXTJOIN(\"; \",TRUE,ZCDT_EXPORT_2[[#This Row],[Sub-Category]:[Segment 5]])","v":"Cherries; Import Cherries; Cherries loose"}]
["AH","Baltic CDT","U1","01. Ultra-Fresh","U1.03","03. Fruits & Flowers","B.02.01","10. Berries","11986","06. Cherries","12060","01. Import Cherries","12064","02. Cherries packed","","","","","","","X",null,"B.02.01","Berries","Cherries","Import Cherries","Cherries packed","","","","12064",{"$f":"_xlfn.TEXTJOIN(\"; \",TRUE,ZCDT_EXPORT_2[[#This Row],[Sub-Category]:[Segment 5]])","v":"Cherries; Import Cherries; Cherries packed"}]
["AH","Baltic CDT","U1","01. Ultra-Fresh","U1.03","03. Fruits & Flowers","B.02.01","10. Berries","11986","06. Cherries","12061","02. Local Cherries","12065","01. Cherries loose","","","","","","","X",null,"B.02.01","Berries","Cherries","Local Cherries","Cherries loose","","","","12065",{"$f":"_xlfn.TEXTJOIN(\"; \",TRUE,ZCDT_EXPORT_2[[#This Row],[Sub-Category]:[Segment 5]])","v":"Cherries; Local Cherries; Cherries loose"}]
["AH","Baltic CDT","U1","01. Ultra-Fresh","U1.03","03. Fruits & Flowers","B.02.01","10. Berries","11986","06. Cherries","12061","02. Local Cherries","12066","02. Cherries packed","","","","","","","X",null,"B.02.01","Berries","Cherries","Local Cherries","Cherries packed","","","","12066",{"$f":"_xlfn.TEXTJOIN(\"; \",TRUE,ZCDT_EXPORT_2[[#This Row],[Sub-Category]:[Segment 5]])","v":"Cherries; Local Cherries; Cherries packed"}]
["AH","Baltic CDT","U1","01. Ultra-Fresh","U1.03","03. Fruits & Flowers","B.02.01","10. Berries","11986","06. Cherries","12062","03. Cherries Bio/Eco","12067","01. Cherries loose","","","","","","","X",null,"B.02.01","Berries","Cherries","Cherries Bio/Eco","Cherries loose","","","","12067",{"$f":"_xlfn.TEXTJOIN(\"; \",TRUE,ZCDT_EXPORT_2[[#This Row],[Sub-Category]:[Segment 5]])","v":"Cherries; Cherries Bio/Eco; Cherries loose"}]
["AH","Baltic CDT","U1","01. Ultra-Fresh","U1.03","03. Fruits & Flowers","B.02.01","10. Berries","11986","06. Cherries","12062","03. Cherries Bio/Eco","12068","02. Cherries packed","","","","","","","X",null,"B.02.01","Berries","Cherries","Cherries Bio/Eco","Cherries packed","","","","12068",{"$f":"_xlfn.TEXTJOIN(\"; \",TRUE,ZCDT_EXPORT_2[[#This Row],[Sub-Category]:[Segment 5]])","v":"Cherries; Cherries Bio/Eco; Cherries packed"}]
["AH","Baltic CDT","U1","01. Ultra-Fresh","U1.03","03. Fruits & Flowers","B.02.01","10. Berries","11987","07. Other berries","12069","01. Loose","","","","","","","","","X",null,"B.02.01","Berries","Other berries","Loose","","","","","12069",{"$f":"_xlfn.TEXTJOIN(\"; \",TRUE,ZCDT_EXPORT_2[[#This Row],[Sub-Category]:[Segment 5]])","v":"Other berries; Loose"}]
["AH","Baltic CDT","U1","01. Ultra-Fresh","U1.03","03. Fruits & Flowers","B.02.01","10. Berries","11987","07. Other berries","12070","02. Packed","","","","","","","","","X",null,"B.02.01","Berries","Other berries","Packed","","","","","12070",{"$f":"_xlfn.TEXTJOIN(\"; \",TRUE,ZCDT_EXPORT_2[[#This Row],[Sub-Category]:[Segment 5]])","v":"Other berries; Packed"}]
["AH","Baltic CDT","U1","01. Ultra-Fresh","U1.03","03. Fruits & Flowers","B.02.01","10. Berries","11988","08. Other berries Bio/Eco","12071","01. Loose","","","","","","","","","X",null,"B.02.01","Berries","Other berries Bio/Eco","Loose","","","","","12071",{"$f":"_xlfn.TEXTJOIN(\"; \",TRUE,ZCDT_EXPORT_2[[#This Row],[Sub-Category]:[Segment 5]])","v":"Other berries Bio/Eco; Loose"}]
["AH","Baltic CDT","U1","01. Ultra-Fresh","U1.03","03. Fruits & Flowers","B.02.01","10. Berries","11988","08. Other berries Bio/Eco","12072","02. Packed","","","","","","","","","X",null,"B.02.01","Berries","Other berries Bio/Eco","Packed","","","","","12072",{"$f":"_xlfn.TEXTJOIN(\"; \",TRUE,ZCDT_EXPORT_2[[#This Row],[Sub-Category]:[Segment 5]])","v":"Other berries Bio/Eco; Packed"}]
["AH","Baltic CDT","U1","01. Ultra-Fresh","U1.03","03. Fruits & Flowers","B.03.01","11. Fresh processed fruits","12073","01. Import","12076","01. Dried fruits","","","","","","","","","X",null,"B.03.01","Fresh processed fruits","Import","Dried fruits","","","","","12076",{"$f":"_xlfn.TEXTJOIN(\"; \",TRUE,ZCDT_EXPORT_2[[#This Row],[Sub-Category]:[Segment 5]])","v":"Import; Dried fruits"}]
["AH","Baltic CDT","U1","01. Ultra-Fresh","U1.03","03. Fruits & Flowers","B.03.01","11. Fresh processed fruits","12073","01. Import","12077","02. Fresh fruits","","","","","","","","","X",null,"B.03.01","Fresh processed fruits","Import","Fresh fruits","","","","","12077",{"$f":"_xlfn.TEXTJOIN(\"; \",TRUE,ZCDT_EXPORT_2[[#This Row],[Sub-Category]:[Segment 5]])","v":"Import; Fresh fruits"}]
["AH","Baltic CDT","U1","01. Ultra-Fresh","U1.03","03. Fruits & Flowers","B.03.01","11. Fresh processed fruits","12074","02. Local","12078","01. Dried fruits","","","","","","","","","X",null,"B.03.01","Fresh processed fruits","Local","Dried fruits","","","","","12078",{"$f":"_xlfn.TEXTJOIN(\"; \",TRUE,ZCDT_EXPORT_2[[#This Row],[Sub-Category]:[Segment 5]])","v":"Local; Dried fruits"}]
["AH","Baltic CDT","U1","01. Ultra-Fresh","U1.03","03. Fruits & Flowers","B.03.01","11. Fresh processed fruits","12074","02. Local","12079","02. Fresh fruits","","","","","","","","","X",null,"B.03.01","Fresh processed fruits","Local","Fresh fruits","","","","","12079",{"$f":"_xlfn.TEXTJOIN(\"; \",TRUE,ZCDT_EXPORT_2[[#This Row],[Sub-Category]:[Segment 5]])","v":"Local; Fresh fruits"}]
["AH","Baltic CDT","U1","01. Ultra-Fresh","U1.03","03. Fruits & Flowers","B.04.01","12. Fresh juices","12080","01. Import Fresh juices","12083","01. Smothies","","","","","","","","","X",null,"B.04.01","Fresh juices","Import Fresh juices","Smothies","","","","","12083",{"$f":"_xlfn.TEXTJOIN(\"; \",TRUE,ZCDT_EXPORT_2[[#This Row],[Sub-Category]:[Segment 5]])","v":"Import Fresh juices; Smothies"}]
["AH","Baltic CDT","U1","01. Ultra-Fresh","U1.03","03. Fruits & Flowers","B.04.01","12. Fresh juices","12080","01. Import Fresh juices","12084","02. Juices","","","","","","","","","X",null,"B.04.01","Fresh juices","Import Fresh juices","Juices","","","","","12084",{"$f":"_xlfn.TEXTJOIN(\"; \",TRUE,ZCDT_EXPORT_2[[#This Row],[Sub-Category]:[Segment 5]])","v":"Import Fresh juices; Juices"}]
["AH","Baltic CDT","U1","01. Ultra-Fresh","U1.03","03. Fruits & Flowers","B.04.01","12. Fresh juices","12080","01. Import Fresh juices","12085","03. Vegetable juices","","","","","","","","","X",null,"B.04.01","Fresh juices","Import Fresh juices","Vegetable juices","","","","","12085",{"$f":"_xlfn.TEXTJOIN(\"; \",TRUE,ZCDT_EXPORT_2[[#This Row],[Sub-Category]:[Segment 5]])","v":"Import Fresh juices; Vegetable juices"}]
["AH","Baltic CDT","U1","01. Ultra-Fresh","U1.03","03. Fruits & Flowers","B.04.01","12. Fresh juices","12080","01. Import Fresh juices","12086","04. Vegetable smothies","","","","","","","","","X",null,"B.04.01","Fresh juices","Import Fresh juices","Vegetable smothies","","","","","12086",{"$f":"_xlfn.TEXTJOIN(\"; \",TRUE,ZCDT_EXPORT_2[[#This Row],[Sub-Category]:[Segment 5]])","v":"Import Fresh juices; Vegetable smothies"}]
["AH","Baltic CDT","U1","01. Ultra-Fresh","U1.03","03. Fruits & Flowers","B.04.01","12. Fresh juices","12081","02. Local Fresh juice","12087","01. Smothies","","","","","","","","","X",null,"B.04.01","Fresh juices","Local Fresh juice","Smothies","","","","","12087",{"$f":"_xlfn.TEXTJOIN(\"; \",TRUE,ZCDT_EXPORT_2[[#This Row],[Sub-Category]:[Segment 5]])","v":"Local Fresh juice; Smothies"}]
["AH","Baltic CDT","U1","01. Ultra-Fresh","U1.03","03. Fruits & Flowers","B.04.01","12. Fresh juices","12081","02. Local Fresh juice","12088","02. Juices","","","","","","","","","X",null,"B.04.01","Fresh juices","Local Fresh juice","Juices","","","","","12088",{"$f":"_xlfn.TEXTJOIN(\"; \",TRUE,ZCDT_EXPORT_2[[#This Row],[Sub-Category]:[Segment 5]])","v":"Local Fresh juice; Juices"}]
["AH","Baltic CDT","U1","01. Ultra-Fresh","U1.03","03. Fruits & Flowers","B.04.01","12. Fresh juices","12081","02. Local Fresh juice","12089","03. Vegetable juices","","","","","","","","","X",null,"B.04.01","Fresh juices","Local Fresh juice","Vegetable juices","","","","","12089",{"$f":"_xlfn.TEXTJOIN(\"; \",TRUE,ZCDT_EXPORT_2[[#This Row],[Sub-Category]:[Segment 5]])","v":"Local Fresh juice; Vegetable juices"}]
["AH","Baltic CDT","U1","01. Ultra-Fresh","U1.03","03. Fruits & Flowers","B.04.01","12. Fresh juices","12081","02. Local Fresh juice","12090","04. Vegetable smothies","","","","","","","","","X",null,"B.04.01","Fresh juices","Local Fresh juice","Vegetable smothies","","","","","12090",{"$f":"_xlfn.TEXTJOIN(\"; \",TRUE,ZCDT_EXPORT_2[[#This Row],[Sub-Category]:[Segment 5]])","v":"Local Fresh juice; Vegetable smothies"}]
["AH","Baltic CDT","U1","01. Ultra-Fresh","U1.03","03. Fruits & Flowers","B.04.01","12. Fresh juices","12082","03. Bio/Eco  Fresh juice","12091","01. Smothies","","","","","","","","","X",null,"B.04.01","Fresh juices","Bio/Eco  Fresh juice","Smothies","","","","","12091",{"$f":"_xlfn.TEXTJOIN(\"; \",TRUE,ZCDT_EXPORT_2[[#This Row],[Sub-Category]:[Segment 5]])","v":"Bio/Eco  Fresh juice; Smothies"}]
["AH","Baltic CDT","U1","01. Ultra-Fresh","U1.03","03. Fruits & Flowers","B.04.01","12. Fresh juices","12082","03. Bio/Eco  Fresh juice","12092","02. Juices","","","","","","","","","X",null,"B.04.01","Fresh juices","Bio/Eco  Fresh juice","Juices","","","","","12092",{"$f":"_xlfn.TEXTJOIN(\"; \",TRUE,ZCDT_EXPORT_2[[#This Row],[Sub-Category]:[Segment 5]])","v":"Bio/Eco  Fresh juice; Juices"}]
["AH","Baltic CDT","U1","01. Ultra-Fresh","U1.03","03. Fruits & Flowers","B.04.01","12. Fresh juices","12082","03. Bio/Eco  Fresh juice","12093","03. Vegetable juices","","","","","","","","","X",null,"B.04.01","Fresh juices","Bio/Eco  Fresh juice","Vegetable juices","","","","","12093",{"$f":"_xlfn.TEXTJOIN(\"; \",TRUE,ZCDT_EXPORT_2[[#This Row],[Sub-Category]:[Segment 5]])","v":"Bio/Eco  Fresh juice; Vegetable juices"}]
["AH","Baltic CDT","U1","01. Ultra-Fresh","U1.03","03. Fruits & Flowers","B.04.01","12. Fresh juices","12082","03. Bio/Eco  Fresh juice","12094","04. Vegetable smothies","","","","","","","","","X",null,"B.04.01","Fresh juices","Bio/Eco  Fresh juice","Vegetable smothies","","","","","12094",{"$f":"_xlfn.TEXTJOIN(\"; \",TRUE,ZCDT_EXPORT_2[[#This Row],[Sub-Category]:[Segment 5]])","v":"Bio/Eco  Fresh juice; Vegetable smothies"}]
["AH","Baltic CDT","U1","01. Ultra-Fresh","U1.03","03. Fruits & Flowers","B.05.01","13. Other Fruits","12095","01. Import","12099","01. Loose","","","","","","","","","X",null,"B.05.01","Other Fruits","Import","Loose","","","","","12099",{"$f":"_xlfn.TEXTJOIN(\"; \",TRUE,ZCDT_EXPORT_2[[#This Row],[Sub-Category]:[Segment 5]])","v":"Import; Loose"}]
["AH","Baltic CDT","U1","01. Ultra-Fresh","U1.03","03. Fruits & Flowers","B.05.01","13. Other Fruits","12095","01. Import","12100","02. Packed","","","","","","","","","X",null,"B.05.01","Other Fruits","Import","Packed","","","","","12100",{"$f":"_xlfn.TEXTJOIN(\"; \",TRUE,ZCDT_EXPORT_2[[#This Row],[Sub-Category]:[Segment 5]])","v":"Import; Packed"}]
["AH","Baltic CDT","U1","01. Ultra-Fresh","U1.03","03. Fruits & Flowers","B.05.01","13. Other Fruits","12096","02. local","12101","01. Loose","","","","","","","","","X",null,"B.05.01","Other Fruits","local","Loose","","","","","12101",{"$f":"_xlfn.TEXTJOIN(\"; \",TRUE,ZCDT_EXPORT_2[[#This Row],[Sub-Category]:[Segment 5]])","v":"local; Loose"}]
["AH","Baltic CDT","U1","01. Ultra-Fresh","U1.03","03. Fruits & Flowers","B.05.01","13. Other Fruits","12096","02. local","12102","02. Packed","","","","","","","","","X",null,"B.05.01","Other Fruits","local","Packed","","","","","12102",{"$f":"_xlfn.TEXTJOIN(\"; \",TRUE,ZCDT_EXPORT_2[[#This Row],[Sub-Category]:[Segment 5]])","v":"local; Packed"}]
["AH","Baltic CDT","U1","01. Ultra-Fresh","U1.03","03. Fruits & Flowers","B.05.01","13. Other Fruits","12097","03. Bio /Eco","12103","01. Loose","","","","","","","","","X",null,"B.05.01","Other Fruits","Bio /Eco","Loose","","","","","12103",{"$f":"_xlfn.TEXTJOIN(\"; \",TRUE,ZCDT_EXPORT_2[[#This Row],[Sub-Category]:[Segment 5]])","v":"Bio /Eco; Loose"}]
["AH","Baltic CDT","U1","01. Ultra-Fresh","U1.03","03. Fruits & Flowers","B.05.01","13. Other Fruits","12097","03. Bio /Eco","12104","02. Packed","","","","","","","","","X",null,"B.05.01","Other Fruits","Bio /Eco","Packed","","","","","12104",{"$f":"_xlfn.TEXTJOIN(\"; \",TRUE,ZCDT_EXPORT_2[[#This Row],[Sub-Category]:[Segment 5]])","v":"Bio /Eco; Packed"}]
["AH","Baltic CDT","U1","01. Ultra-Fresh","U1.03","03. Fruits & Flowers","B.12.01","33. Cut flowers","19297","01. Tulips, bunch","19306","01. Tulips, mono, bunch","","","","","","","","","X",null,"B.12.01","Cut flowers","Tulips, bunch","Tulips, mono, bunch","","","","","19306",{"$f":"_xlfn.TEXTJOIN(\"; \",TRUE,ZCDT_EXPORT_2[[#This Row],[Sub-Category]:[Segment 5]])","v":"Tulips, bunch; Tulips, mono, bunch"}]
["AH","Baltic CDT","U1","01. Ultra-Fresh","U1.03","03. Fruits & Flowers","B.12.01","33. Cut flowers","19297","01. Tulips, bunch","19307","02. Tulips, mixed, bunch","","","","","","","","","X",null,"B.12.01","Cut flowers","Tulips, bunch","Tulips, mixed, bunch","","","","","19307",{"$f":"_xlfn.TEXTJOIN(\"; \",TRUE,ZCDT_EXPORT_2[[#This Row],[Sub-Category]:[Segment 5]])","v":"Tulips, bunch; Tulips, mixed, bunch"}]
["AH","Baltic CDT","U1","01. Ultra-Fresh","U1.03","03. Fruits & Flowers","B.12.01","33. Cut flowers","19298","02. Roses, bunch","19308","01. Roses, mono, bunch","","","","","","","","","X",null,"B.12.01","Cut flowers","Roses, bunch","Roses, mono, bunch","","","","","19308",{"$f":"_xlfn.TEXTJOIN(\"; \",TRUE,ZCDT_EXPORT_2[[#This Row],[Sub-Category]:[Segment 5]])","v":"Roses, bunch; Roses, mono, bunch"}]
["AH","Baltic CDT","U1","01. Ultra-Fresh","U1.03","03. Fruits & Flowers","B.12.01","33. Cut flowers","19298","02. Roses, bunch","19309","02. Sprayroses, mono, bunch","","","","","","","","","X",null,"B.12.01","Cut flowers","Roses, bunch","Sprayroses, mono, bunch","","","","","19309",{"$f":"_xlfn.TEXTJOIN(\"; \",TRUE,ZCDT_EXPORT_2[[#This Row],[Sub-Category]:[Segment 5]])","v":"Roses, bunch; Sprayroses, mono, bunch"}]
["AH","Baltic CDT","U1","01. Ultra-Fresh","U1.03","03. Fruits & Flowers","B.12.01","33. Cut flowers","19298","02. Roses, bunch","19310","03. Roses, mixed, bunch","","","","","","","","","X",null,"B.12.01","Cut flowers","Roses, bunch","Roses, mixed, bunch","","","","","19310",{"$f":"_xlfn.TEXTJOIN(\"; \",TRUE,ZCDT_EXPORT_2[[#This Row],[Sub-Category]:[Segment 5]])","v":"Roses, bunch; Roses, mixed, bunch"}]
["AH","Baltic CDT","U1","01. Ultra-Fresh","U1.03","03. Fruits & Flowers","B.12.01","33. Cut flowers","19299","03. Other mixed flowers, bunch","","","","","","","","","","","X",null,"B.12.01","Cut flowers","Other mixed flowers, bunch","","","","","","19299",{"$f":"_xlfn.TEXTJOIN(\"; \",TRUE,ZCDT_EXPORT_2[[#This Row],[Sub-Category]:[Segment 5]])","v":"Other mixed flowers, bunch"}]
["AH","Baltic CDT","U1","01. Ultra-Fresh","U1.03","03. Fruits & Flowers","B.12.01","33. Cut flowers","19300","04. Carnations, bunch","19311","01. Carnations, bunch","","","","","","","","","X",null,"B.12.01","Cut flowers","Carnations, bunch","Carnations, bunch","","","","","19311",{"$f":"_xlfn.TEXTJOIN(\"; \",TRUE,ZCDT_EXPORT_2[[#This Row],[Sub-Category]:[Segment 5]])","v":"Carnations, bunch; Carnations, bunch"}]
["AH","Baltic CDT","U1","01. Ultra-Fresh","U1.03","03. Fruits & Flowers","B.12.01","33. Cut flowers","19300","04. Carnations, bunch","19312","02. Spraycarnations, bunch","","","","","","","","","X",null,"B.12.01","Cut flowers","Carnations, bunch","Spraycarnations, bunch","","","","","19312",{"$f":"_xlfn.TEXTJOIN(\"; \",TRUE,ZCDT_EXPORT_2[[#This Row],[Sub-Category]:[Segment 5]])","v":"Carnations, bunch; Spraycarnations, bunch"}]
["AH","Baltic CDT","U1","01. Ultra-Fresh","U1.03","03. Fruits & Flowers","B.12.01","33. Cut flowers","19301","05. Chrysanthem, bunch","19313","01. Chrysanthem, mono, bunch","","","","","","","","","X",null,"B.12.01","Cut flowers","Chrysanthem, bunch","Chrysanthem, mono, bunch","","","","","19313",{"$f":"_xlfn.TEXTJOIN(\"; \",TRUE,ZCDT_EXPORT_2[[#This Row],[Sub-Category]:[Segment 5]])","v":"Chrysanthem, bunch; Chrysanthem, mono, bunch"}]
["AH","Baltic CDT","U1","01. Ultra-Fresh","U1.03","03. Fruits & Flowers","B.12.01","33. Cut flowers","19301","05. Chrysanthem, bunch","19314","02. Chrysanthem, mixed, bunch","","","","","","","","","X",null,"B.12.01","Cut flowers","Chrysanthem, bunch","Chrysanthem, mixed, bunch","","","","","19314",{"$f":"_xlfn.TEXTJOIN(\"; \",TRUE,ZCDT_EXPORT_2[[#This Row],[Sub-Category]:[Segment 5]])","v":"Chrysanthem, bunch; Chrysanthem, mixed, bunch"}]
["AH","Baltic CDT","U1","01. Ultra-Fresh","U1.03","03. Fruits & Flowers","B.12.01","33. Cut flowers","19302","06. Daffodils, bunch","19315","01. Daffodils, mono, bunch","","","","","","","","","X",null,"B.12.01","Cut flowers","Daffodils, bunch","Daffodils, mono, bunch","","","","","19315",{"$f":"_xlfn.TEXTJOIN(\"; \",TRUE,ZCDT_EXPORT_2[[#This Row],[Sub-Category]:[Segment 5]])","v":"Daffodils, bunch; Daffodils, mono, bunch"}]
["AH","Baltic CDT","U1","01. Ultra-Fresh","U1.03","03. Fruits & Flowers","B.12.01","33. Cut flowers","19302","06. Daffodils, bunch","19316","02. Daffodils, mixed, bunch","","","","","","","","","X",null,"B.12.01","Cut flowers","Daffodils, bunch","Daffodils, mixed, bunch","","","","","19316",{"$f":"_xlfn.TEXTJOIN(\"; \",TRUE,ZCDT_EXPORT_2[[#This Row],[Sub-Category]:[Segment 5]])","v":"Daffodils, bunch; Daffodils, mixed, bunch"}]
["AH","Baltic CDT","U1","01. Ultra-Fresh","U1.03","03. Fruits & Flowers","B.12.01","33. Cut flowers","19303","07. Gerbera, bunch","19317","01. Gerbera, mono, bunch","","","","","","","","","X",null,"B.12.01","Cut flowers","Gerbera, bunch","Gerbera, mono, bunch","","","","","19317",{"$f":"_xlfn.TEXTJOIN(\"; \",TRUE,ZCDT_EXPORT_2[[#This Row],[Sub-Category]:[Segment 5]])","v":"Gerbera, bunch; Gerbera, mono, bunch"}]
["AH","Baltic CDT","U1","01. Ultra-Fresh","U1.03","03. Fruits & Flowers","B.12.01","33. Cut flowers","19303","07. Gerbera, bunch","19318","02. Germini, mono, bunch","","","","","","","","","X",null,"B.12.01","Cut flowers","Gerbera, bunch","Germini, mono, bunch","","","","","19318",{"$f":"_xlfn.TEXTJOIN(\"; \",TRUE,ZCDT_EXPORT_2[[#This Row],[Sub-Category]:[Segment 5]])","v":"Gerbera, bunch; Germini, mono, bunch"}]
["AH","Baltic CDT","U1","01. Ultra-Fresh","U1.03","03. Fruits & Flowers","B.12.01","33. Cut flowers","19303","07. Gerbera, bunch","19285","03. Gerbera, mixed, bunch","","","","","","","","","X",null,"B.12.01","Cut flowers","Gerbera, bunch","Gerbera, mixed, bunch","","","","","19285",{"$f":"_xlfn.TEXTJOIN(\"; \",TRUE,ZCDT_EXPORT_2[[#This Row],[Sub-Category]:[Segment 5]])","v":"Gerbera, bunch; Gerbera, mixed, bunch"}]
["AH","Baltic CDT","U1","01. Ultra-Fresh","U1.03","03. Fruits & Flowers","B.12.01","33. Cut flowers","19304","08. Other mono line, bunch","","","","","","","","","","","X",null,"B.12.01","Cut flowers","Other mono line, bunch","","","","","","19304",{"$f":"_xlfn.TEXTJOIN(\"; \",TRUE,ZCDT_EXPORT_2[[#This Row],[Sub-Category]:[Segment 5]])","v":"Other mono line, bunch"}]
["AH","Baltic CDT","U1","01. Ultra-Fresh","U1.03","03. Fruits & Flowers","B.12.01","33. Cut flowers","19305","09. Dry, bunch","19320","01. Dry, mono bunch","","","","","","","","","X",null,"B.12.01","Cut flowers","Dry, bunch","Dry, mono bunch","","","","","19320",{"$f":"_xlfn.TEXTJOIN(\"; \",TRUE,ZCDT_EXPORT_2[[#This Row],[Sub-Category]:[Segment 5]])","v":"Dry, bunch; Dry, mono bunch"}]
["AH","Baltic CDT","U1","01. Ultra-Fresh","U1.03","03. Fruits & Flowers","B.12.01","33. Cut flowers","19305","09. Dry, bunch","19321","02. Dry, mixed bunch","","","","","","","","","X",null,"B.12.01","Cut flowers","Dry, bunch","Dry, mixed bunch","","","","","19321",{"$f":"_xlfn.TEXTJOIN(\"; \",TRUE,ZCDT_EXPORT_2[[#This Row],[Sub-Category]:[Segment 5]])","v":"Dry, bunch; Dry, mixed bunch"}]
["AH","Baltic CDT","U1","01. Ultra-Fresh","U1.03","03. Fruits & Flowers","B.12.02","34. Indoor pot plants","19322","01. Orchids","","","","","","","","","","","X",null,"B.12.02","Indoor pot plants","Orchids","","","","","","19322",{"$f":"_xlfn.TEXTJOIN(\"; \",TRUE,ZCDT_EXPORT_2[[#This Row],[Sub-Category]:[Segment 5]])","v":"Orchids"}]
["AH","Baltic CDT","U1","01. Ultra-Fresh","U1.03","03. Fruits & Flowers","B.12.02","34. Indoor pot plants","19323","02. Kalanchoe","","","","","","","","","","","X",null,"B.12.02","Indoor pot plants","Kalanchoe","","","","","","19323",{"$f":"_xlfn.TEXTJOIN(\"; \",TRUE,ZCDT_EXPORT_2[[#This Row],[Sub-Category]:[Segment 5]])","v":"Kalanchoe"}]
["AH","Baltic CDT","U1","01. Ultra-Fresh","U1.03","03. Fruits & Flowers","B.12.02","34. Indoor pot plants","19324","03. Hydrangea","","","","","","","","","","","X",null,"B.12.02","Indoor pot plants","Hydrangea","","","","","","19324",{"$f":"_xlfn.TEXTJOIN(\"; \",TRUE,ZCDT_EXPORT_2[[#This Row],[Sub-Category]:[Segment 5]])","v":"Hydrangea"}]
["AH","Baltic CDT","U1","01. Ultra-Fresh","U1.03","03. Fruits & Flowers","B.12.02","34. Indoor pot plants","19325","04. Rose","","","","","","","","","","","X",null,"B.12.02","Indoor pot plants","Rose","","","","","","19325",{"$f":"_xlfn.TEXTJOIN(\"; \",TRUE,ZCDT_EXPORT_2[[#This Row],[Sub-Category]:[Segment 5]])","v":"Rose"}]
["AH","Baltic CDT","U1","01. Ultra-Fresh","U1.03","03. Fruits & Flowers","B.12.02","34. Indoor pot plants","19326","05. Poinsettia","","","","","","","","","","","X",null,"B.12.02","Indoor pot plants","Poinsettia","","","","","","19326",{"$f":"_xlfn.TEXTJOIN(\"; \",TRUE,ZCDT_EXPORT_2[[#This Row],[Sub-Category]:[Segment 5]])","v":"Poinsettia"}]
["AH","Baltic CDT","U1","01. Ultra-Fresh","U1.03","03. Fruits & Flowers","B.12.02","34. Indoor pot plants","19327","06. Hyacinth","","","","","","","","","","","X",null,"B.12.02","Indoor pot plants","Hyacinth","","","","","","19327",{"$f":"_xlfn.TEXTJOIN(\"; \",TRUE,ZCDT_EXPORT_2[[#This Row],[Sub-Category]:[Segment 5]])","v":"Hyacinth"}]
["AH","Baltic CDT","U1","01. Ultra-Fresh","U1.03","03. Fruits & Flowers","B.12.02","34. Indoor pot plants","19328","07. Daffodils","","","","","","","","","","","X",null,"B.12.02","Indoor pot plants","Daffodils","","","","","","19328",{"$f":"_xlfn.TEXTJOIN(\"; \",TRUE,ZCDT_EXPORT_2[[#This Row],[Sub-Category]:[Segment 5]])","v":"Daffodils"}]
["AH","Baltic CDT","U1","01. Ultra-Fresh","U1.03","03. Fruits & Flowers","B.12.02","34. Indoor pot plants","19329","08. Other bulbs","","","","","","","","","","","X",null,"B.12.02","Indoor pot plants","Other bulbs","","","","","","19329",{"$f":"_xlfn.TEXTJOIN(\"; \",TRUE,ZCDT_EXPORT_2[[#This Row],[Sub-Category]:[Segment 5]])","v":"Other bulbs"}]
["AH","Baltic CDT","U1","01. Ultra-Fresh","U1.03","03. Fruits & Flowers","B.12.02","34. Indoor pot plants","19330","09. Primarose","","","","","","","","","","","X",null,"B.12.02","Indoor pot plants","Primarose","","","","","","19330",{"$f":"_xlfn.TEXTJOIN(\"; \",TRUE,ZCDT_EXPORT_2[[#This Row],[Sub-Category]:[Segment 5]])","v":"Primarose"}]
["AH","Baltic CDT","U1","01. Ultra-Fresh","U1.03","03. Fruits & Flowers","B.12.02","34. Indoor pot plants","19331","10. Plant arrangements","","","","","","","","","","","X",null,"B.12.02","Indoor pot plants","Plant arrangements","","","","","","19331",{"$f":"_xlfn.TEXTJOIN(\"; \",TRUE,ZCDT_EXPORT_2[[#This Row],[Sub-Category]:[Segment 5]])","v":"Plant arrangements"}]
["AH","Baltic CDT","U1","01. Ultra-Fresh","U1.03","03. Fruits & Flowers","B.12.02","34. Indoor pot plants","19332","11. Other flower pots","","","","","","","","","","","X",null,"B.12.02","Indoor pot plants","Other flower pots","","","","","","19332",{"$f":"_xlfn.TEXTJOIN(\"; \",TRUE,ZCDT_EXPORT_2[[#This Row],[Sub-Category]:[Segment 5]])","v":"Other flower pots"}]
["AH","Baltic CDT","U1","01. Ultra-Fresh","U1.03","03. Fruits & Flowers","B.12.03","35. Outdoor pot plants","19333","01. Chrysanthemum","","","","","","","","","","","X",null,"B.12.03","Outdoor pot plants","Chrysanthemum","","","","","","19333",{"$f":"_xlfn.TEXTJOIN(\"; \",TRUE,ZCDT_EXPORT_2[[#This Row],[Sub-Category]:[Segment 5]])","v":"Chrysanthemum"}]
["AH","Baltic CDT","U1","01. Ultra-Fresh","U1.03","03. Fruits & Flowers","B.12.03","35. Outdoor pot plants","19334","02. Begonia","","","","","","","","","","","X",null,"B.12.03","Outdoor pot plants","Begonia","","","","","","19334",{"$f":"_xlfn.TEXTJOIN(\"; \",TRUE,ZCDT_EXPORT_2[[#This Row],[Sub-Category]:[Segment 5]])","v":"Begonia"}]
["AH","Baltic CDT","U1","01. Ultra-Fresh","U1.03","03. Fruits & Flowers","B.12.03","35. Outdoor pot plants","19335","03. Erica","","","","","","","","","","","X",null,"B.12.03","Outdoor pot plants","Erica","","","","","","19335",{"$f":"_xlfn.TEXTJOIN(\"; \",TRUE,ZCDT_EXPORT_2[[#This Row],[Sub-Category]:[Segment 5]])","v":"Erica"}]
["AH","Baltic CDT","U1","01. Ultra-Fresh","U1.03","03. Fruits & Flowers","B.12.03","35. Outdoor pot plants","19336","04. Calluna","","","","","","","","","","","X",null,"B.12.03","Outdoor pot plants","Calluna","","","","","","19336",{"$f":"_xlfn.TEXTJOIN(\"; \",TRUE,ZCDT_EXPORT_2[[#This Row],[Sub-Category]:[Segment 5]])","v":"Calluna"}]
["AH","Baltic CDT","U1","01. Ultra-Fresh","U1.03","03. Fruits & Flowers","B.12.03","35. Outdoor pot plants","19337","05. Violet","","","","","","","","","","","X",null,"B.12.03","Outdoor pot plants","Violet","","","","","","19337",{"$f":"_xlfn.TEXTJOIN(\"; \",TRUE,ZCDT_EXPORT_2[[#This Row],[Sub-Category]:[Segment 5]])","v":"Violet"}]
["AH","Baltic CDT","U1","01. Ultra-Fresh","U1.03","03. Fruits & Flowers","B.12.03","35. Outdoor pot plants","19338","06. Pelargonium","","","","","","","","","","","X",null,"B.12.03","Outdoor pot plants","Pelargonium","","","","","","19338",{"$f":"_xlfn.TEXTJOIN(\"; \",TRUE,ZCDT_EXPORT_2[[#This Row],[Sub-Category]:[Segment 5]])","v":"Pelargonium"}]
["AH","Baltic CDT","U1","01. Ultra-Fresh","U1.03","03. Fruits & Flowers","B.12.03","35. Outdoor pot plants","19339","07. Other flower.annuals","","","","","","","","","","","X",null,"B.12.03","Outdoor pot plants","Other flower.annuals","","","","","","19339",{"$f":"_xlfn.TEXTJOIN(\"; \",TRUE,ZCDT_EXPORT_2[[#This Row],[Sub-Category]:[Segment 5]])","v":"Other flower.annuals"}]
["AH","Baltic CDT","U1","01. Ultra-Fresh","U1.03","03. Fruits & Flowers","B.12.03","35. Outdoor pot plants","19340","08. Leafy outdoor plants","","","","","","","","","","","X",null,"B.12.03","Outdoor pot plants","Leafy outdoor plants","","","","","","19340",{"$f":"_xlfn.TEXTJOIN(\"; \",TRUE,ZCDT_EXPORT_2[[#This Row],[Sub-Category]:[Segment 5]])","v":"Leafy outdoor plants"}]
["AH","Baltic CDT","U1","01. Ultra-Fresh","U1.03","03. Fruits & Flowers","B.12.03","35. Outdoor pot plants","19341","09. Bushes and trees","","","","","","","","","","","X",null,"B.12.03","Outdoor pot plants","Bushes and trees","","","","","","19341",{"$f":"_xlfn.TEXTJOIN(\"; \",TRUE,ZCDT_EXPORT_2[[#This Row],[Sub-Category]:[Segment 5]])","v":"Bushes and trees"}]
["AH","Baltic CDT","U1","01. Ultra-Fresh","U1.03","03. Fruits & Flowers","B.12.04","36. Green plants","19342","01. Conifers","","","","","","","","","","","X",null,"B.12.04","Green plants","Conifers","","","","","","19342",{"$f":"_xlfn.TEXTJOIN(\"; \",TRUE,ZCDT_EXPORT_2[[#This Row],[Sub-Category]:[Segment 5]])","v":"Conifers"}]
["AH","Baltic CDT","U1","01. Ultra-Fresh","U1.03","03. Fruits & Flowers","B.12.04","36. Green plants","19343","02. Ind. trees and palms","","","","","","","","","","","X",null,"B.12.04","Green plants","Ind. trees and palms","","","","","","19343",{"$f":"_xlfn.TEXTJOIN(\"; \",TRUE,ZCDT_EXPORT_2[[#This Row],[Sub-Category]:[Segment 5]])","v":"Ind. trees and palms"}]
["AH","Baltic CDT","U1","01. Ultra-Fresh","U1.03","03. Fruits & Flowers","B.12.04","36. Green plants","19344","03. Cactus, succulents","","","","","","","","","","","X",null,"B.12.04","Green plants","Cactus, succulents","","","","","","19344",{"$f":"_xlfn.TEXTJOIN(\"; \",TRUE,ZCDT_EXPORT_2[[#This Row],[Sub-Category]:[Segment 5]])","v":"Cactus, succulents"}]
["AH","Baltic CDT","U1","01. Ultra-Fresh","U1.03","03. Fruits & Flowers","B.12.04","36. Green plants","19345","04. Other green plants","","","","","","","","","","","X",null,"B.12.04","Green plants","Other green plants","","","","","","19345",{"$f":"_xlfn.TEXTJOIN(\"; \",TRUE,ZCDT_EXPORT_2[[#This Row],[Sub-Category]:[Segment 5]])","v":"Other green plants"}]
["AH","Baltic CDT","U1","01. Ultra-Fresh","U1.03","03. Fruits & Flowers","B.12.05","37. Arrangements","19346","01. Xmas arrangements","","","","","","","","","","","X",null,"B.12.05","Arrangements","Xmas arrangements","","","","","","19346",{"$f":"_xlfn.TEXTJOIN(\"; \",TRUE,ZCDT_EXPORT_2[[#This Row],[Sub-Category]:[Segment 5]])","v":"Xmas arrangements"}]
["AH","Baltic CDT","U1","01. Ultra-Fresh","U1.03","03. Fruits & Flowers","B.12.05","37. Arrangements","19347","02. Spring compositions","","","","","","","","","","","X",null,"B.12.05","Arrangements","Spring compositions","","","","","","19347",{"$f":"_xlfn.TEXTJOIN(\"; \",TRUE,ZCDT_EXPORT_2[[#This Row],[Sub-Category]:[Segment 5]])","v":"Spring compositions"}]
["AH","Baltic CDT","U1","01. Ultra-Fresh","U1.03","03. Fruits & Flowers","B.12.05","37. Arrangements","19348","03. Autumn compositions","","","","","","","","","","","X",null,"B.12.05","Arrangements","Autumn compositions","","","","","","19348",{"$f":"_xlfn.TEXTJOIN(\"; \",TRUE,ZCDT_EXPORT_2[[#This Row],[Sub-Category]:[Segment 5]])","v":"Autumn compositions"}]
["AH","Baltic CDT","U1","01. Ultra-Fresh","U1.03","03. Fruits & Flowers","B.12.05","37. Arrangements","19349","04. Other compositions","","","","","","","","","","","X",null,"B.12.05","Arrangements","Other compositions","","","","","","19349",{"$f":"_xlfn.TEXTJOIN(\"; \",TRUE,ZCDT_EXPORT_2[[#This Row],[Sub-Category]:[Segment 5]])","v":"Other compositions"}]
["AH","Baltic CDT","U1","01. Ultra-Fresh","U1.04","04. Vegetables","B.06.01","14. Tomatoes","12105","01. Import Tomaoes","12109","01. Loose Tomaoes","12111","01. plums","12117","01. Red","","","","","X",null,"B.06.01","Tomatoes","Import Tomaoes","Loose Tomaoes","plums","Red","","","12117",{"$f":"_xlfn.TEXTJOIN(\"; \",TRUE,ZCDT_EXPORT_2[[#This Row],[Sub-Category]:[Segment 5]])","v":"Import Tomaoes; Loose Tomaoes; plums; Red"}]
["AH","Baltic CDT","U1","01. Ultra-Fresh","U1.04","04. Vegetables","B.06.01","14. Tomatoes","12105","01. Import Tomaoes","12109","01. Loose Tomaoes","12111","01. plums","12118","02. Yellow","","","","","X",null,"B.06.01","Tomatoes","Import Tomaoes","Loose Tomaoes","plums","Yellow","","","12118",{"$f":"_xlfn.TEXTJOIN(\"; \",TRUE,ZCDT_EXPORT_2[[#This Row],[Sub-Category]:[Segment 5]])","v":"Import Tomaoes; Loose Tomaoes; plums; Yellow"}]
["AH","Baltic CDT","U1","01. Ultra-Fresh","U1.04","04. Vegetables","B.06.01","14. Tomatoes","12105","01. Import Tomaoes","12109","01. Loose Tomaoes","12111","01. plums","12119","03. Mix","","","","","X",null,"B.06.01","Tomatoes","Import Tomaoes","Loose Tomaoes","plums","Mix","","","12119",{"$f":"_xlfn.TEXTJOIN(\"; \",TRUE,ZCDT_EXPORT_2[[#This Row],[Sub-Category]:[Segment 5]])","v":"Import Tomaoes; Loose Tomaoes; plums; Mix"}]
["AH","Baltic CDT","U1","01. Ultra-Fresh","U1.04","04. Vegetables","B.06.01","14. Tomatoes","12105","01. Import Tomaoes","12109","01. Loose Tomaoes","12111","01. plums","12120","04. Other","","","","","X",null,"B.06.01","Tomatoes","Import Tomaoes","Loose Tomaoes","plums","Other","","","12120",{"$f":"_xlfn.TEXTJOIN(\"; \",TRUE,ZCDT_EXPORT_2[[#This Row],[Sub-Category]:[Segment 5]])","v":"Import Tomaoes; Loose Tomaoes; plums; Other"}]
["AH","Baltic CDT","U1","01. Ultra-Fresh","U1.04","04. Vegetables","B.06.01","14. Tomatoes","12105","01. Import Tomaoes","12109","01. Loose Tomaoes","12112","02. vine","12121","01. Red","","","","","X",null,"B.06.01","Tomatoes","Import Tomaoes","Loose Tomaoes","vine","Red","","","12121",{"$f":"_xlfn.TEXTJOIN(\"; \",TRUE,ZCDT_EXPORT_2[[#This Row],[Sub-Category]:[Segment 5]])","v":"Import Tomaoes; Loose Tomaoes; vine; Red"}]
["AH","Baltic CDT","U1","01. Ultra-Fresh","U1.04","04. Vegetables","B.06.01","14. Tomatoes","12105","01. Import Tomaoes","12109","01. Loose Tomaoes","12112","02. vine","12122","02. Yellow","","","","","X",null,"B.06.01","Tomatoes","Import Tomaoes","Loose Tomaoes","vine","Yellow","","","12122",{"$f":"_xlfn.TEXTJOIN(\"; \",TRUE,ZCDT_EXPORT_2[[#This Row],[Sub-Category]:[Segment 5]])","v":"Import Tomaoes; Loose Tomaoes; vine; Yellow"}]
["AH","Baltic CDT","U1","01. Ultra-Fresh","U1.04","04. Vegetables","B.06.01","14. Tomatoes","12105","01. Import Tomaoes","12109","01. Loose Tomaoes","12112","02. vine","12123","03. Mix","","","","","X",null,"B.06.01","Tomatoes","Import Tomaoes","Loose Tomaoes","vine","Mix","","","12123",{"$f":"_xlfn.TEXTJOIN(\"; \",TRUE,ZCDT_EXPORT_2[[#This Row],[Sub-Category]:[Segment 5]])","v":"Import Tomaoes; Loose Tomaoes; vine; Mix"}]
["AH","Baltic CDT","U1","01. Ultra-Fresh","U1.04","04. Vegetables","B.06.01","14. Tomatoes","12105","01. Import Tomaoes","12109","01. Loose Tomaoes","12112","02. vine","12124","04. Other","","","","","X",null,"B.06.01","Tomatoes","Import Tomaoes","Loose Tomaoes","vine","Other","","","12124",{"$f":"_xlfn.TEXTJOIN(\"; \",TRUE,ZCDT_EXPORT_2[[#This Row],[Sub-Category]:[Segment 5]])","v":"Import Tomaoes; Loose Tomaoes; vine; Other"}]
["AH","Baltic CDT","U1","01. Ultra-Fresh","U1.04","04. Vegetables","B.06.01","14. Tomatoes","12105","01. Import Tomaoes","12109","01. Loose Tomaoes","12113","03. round","12125","01. Red","","","","","X",null,"B.06.01","Tomatoes","Import Tomaoes","Loose Tomaoes","round","Red","","","12125",{"$f":"_xlfn.TEXTJOIN(\"; \",TRUE,ZCDT_EXPORT_2[[#This Row],[Sub-Category]:[Segment 5]])","v":"Import Tomaoes; Loose Tomaoes; round; Red"}]
["AH","Baltic CDT","U1","01. Ultra-Fresh","U1.04","04. Vegetables","B.06.01","14. Tomatoes","12105","01. Import Tomaoes","12109","01. Loose Tomaoes","12113","03. round","12126","02. Yellow","","","","","X",null,"B.06.01","Tomatoes","Import Tomaoes","Loose Tomaoes","round","Yellow","","","12126",{"$f":"_xlfn.TEXTJOIN(\"; \",TRUE,ZCDT_EXPORT_2[[#This Row],[Sub-Category]:[Segment 5]])","v":"Import Tomaoes; Loose Tomaoes; round; Yellow"}]
["AH","Baltic CDT","U1","01. Ultra-Fresh","U1.04","04. Vegetables","B.06.01","14. Tomatoes","12105","01. Import Tomaoes","12109","01. Loose Tomaoes","12113","03. round","12127","03. Mix","","","","","X",null,"B.06.01","Tomatoes","Import Tomaoes","Loose Tomaoes","round","Mix","","","12127",{"$f":"_xlfn.TEXTJOIN(\"; \",TRUE,ZCDT_EXPORT_2[[#This Row],[Sub-Category]:[Segment 5]])","v":"Import Tomaoes; Loose Tomaoes; round; Mix"}]
["AH","Baltic CDT","U1","01. Ultra-Fresh","U1.04","04. Vegetables","B.06.01","14. Tomatoes","12105","01. Import Tomaoes","12109","01. Loose Tomaoes","12113","03. round","12128","04. Other","","","","","X",null,"B.06.01","Tomatoes","Import Tomaoes","Loose Tomaoes","round","Other","","","12128",{"$f":"_xlfn.TEXTJOIN(\"; \",TRUE,ZCDT_EXPORT_2[[#This Row],[Sub-Category]:[Segment 5]])","v":"Import Tomaoes; Loose Tomaoes; round; Other"}]
["AH","Baltic CDT","U1","01. Ultra-Fresh","U1.04","04. Vegetables","B.06.01","14. Tomatoes","12105","01. Import Tomaoes","12110","02. Packed Tomatoes","12114","01. cherry","12129","01. Red","","","","","X",null,"B.06.01","Tomatoes","Import Tomaoes","Packed Tomatoes","cherry","Red","","","12129",{"$f":"_xlfn.TEXTJOIN(\"; \",TRUE,ZCDT_EXPORT_2[[#This Row],[Sub-Category]:[Segment 5]])","v":"Import Tomaoes; Packed Tomatoes; cherry; Red"}]
["AH","Baltic CDT","U1","01. Ultra-Fresh","U1.04","04. Vegetables","B.06.01","14. Tomatoes","12105","01. Import Tomaoes","12110","02. Packed Tomatoes","12114","01. cherry","12130","02. Yellow","","","","","X",null,"B.06.01","Tomatoes","Import Tomaoes","Packed Tomatoes","cherry","Yellow","","","12130",{"$f":"_xlfn.TEXTJOIN(\"; \",TRUE,ZCDT_EXPORT_2[[#This Row],[Sub-Category]:[Segment 5]])","v":"Import Tomaoes; Packed Tomatoes; cherry; Yellow"}]
["AH","Baltic CDT","U1","01. Ultra-Fresh","U1.04","04. Vegetables","B.06.01","14. Tomatoes","12105","01. Import Tomaoes","12110","02. Packed Tomatoes","12114","01. cherry","12131","03. Mix","","","","","X",null,"B.06.01","Tomatoes","Import Tomaoes","Packed Tomatoes","cherry","Mix","","","12131",{"$f":"_xlfn.TEXTJOIN(\"; \",TRUE,ZCDT_EXPORT_2[[#This Row],[Sub-Category]:[Segment 5]])","v":"Import Tomaoes; Packed Tomatoes; cherry; Mix"}]
["AH","Baltic CDT","U1","01. Ultra-Fresh","U1.04","04. Vegetables","B.06.01","14. Tomatoes","12105","01. Import Tomaoes","12110","02. Packed Tomatoes","12114","01. cherry","12132","04. Other","","","","","X",null,"B.06.01","Tomatoes","Import Tomaoes","Packed Tomatoes","cherry","Other","","","12132",{"$f":"_xlfn.TEXTJOIN(\"; \",TRUE,ZCDT_EXPORT_2[[#This Row],[Sub-Category]:[Segment 5]])","v":"Import Tomaoes; Packed Tomatoes; cherry; Other"}]
["AH","Baltic CDT","U1","01. Ultra-Fresh","U1.04","04. Vegetables","B.06.01","14. Tomatoes","12105","01. Import Tomaoes","12110","02. Packed Tomatoes","12115","02. plums","12133","01. Red","","","","","X",null,"B.06.01","Tomatoes","Import Tomaoes","Packed Tomatoes","plums","Red","","","12133",{"$f":"_xlfn.TEXTJOIN(\"; \",TRUE,ZCDT_EXPORT_2[[#This Row],[Sub-Category]:[Segment 5]])","v":"Import Tomaoes; Packed Tomatoes; plums; Red"}]
["AH","Baltic CDT","U1","01. Ultra-Fresh","U1.04","04. Vegetables","B.06.01","14. Tomatoes","12105","01. Import Tomaoes","12110","02. Packed Tomatoes","12115","02. plums","12134","02. Yellow","","","","","X",null,"B.06.01","Tomatoes","Import Tomaoes","Packed Tomatoes","plums","Yellow","","","12134",{"$f":"_xlfn.TEXTJOIN(\"; \",TRUE,ZCDT_EXPORT_2[[#This Row],[Sub-Category]:[Segment 5]])","v":"Import Tomaoes; Packed Tomatoes; plums; Yellow"}]
["AH","Baltic CDT","U1","01. Ultra-Fresh","U1.04","04. Vegetables","B.06.01","14. Tomatoes","12105","01. Import Tomaoes","12110","02. Packed Tomatoes","12115","02. plums","12135","03. Mix","","","","","X",null,"B.06.01","Tomatoes","Import Tomaoes","Packed Tomatoes","plums","Mix","","","12135",{"$f":"_xlfn.TEXTJOIN(\"; \",TRUE,ZCDT_EXPORT_2[[#This Row],[Sub-Category]:[Segment 5]])","v":"Import Tomaoes; Packed Tomatoes; plums; Mix"}]
["AH","Baltic CDT","U1","01. Ultra-Fresh","U1.04","04. Vegetables","B.06.01","14. Tomatoes","12105","01. Import Tomaoes","12110","02. Packed Tomatoes","12115","02. plums","12136","04. Other","","","","","X",null,"B.06.01","Tomatoes","Import Tomaoes","Packed Tomatoes","plums","Other","","","12136",{"$f":"_xlfn.TEXTJOIN(\"; \",TRUE,ZCDT_EXPORT_2[[#This Row],[Sub-Category]:[Segment 5]])","v":"Import Tomaoes; Packed Tomatoes; plums; Other"}]
["AH","Baltic CDT","U1","01. Ultra-Fresh","U1.04","04. Vegetables","B.06.01","14. Tomatoes","12105","01. Import Tomaoes","12110","02. Packed Tomatoes","12116","03. round","12137","01. Red","","","","","X",null,"B.06.01","Tomatoes","Import Tomaoes","Packed Tomatoes","round","Red","","","12137",{"$f":"_xlfn.TEXTJOIN(\"; \",TRUE,ZCDT_EXPORT_2[[#This Row],[Sub-Category]:[Segment 5]])","v":"Import Tomaoes; Packed Tomatoes; round; Red"}]
["AH","Baltic CDT","U1","01. Ultra-Fresh","U1.04","04. Vegetables","B.06.01","14. Tomatoes","12105","01. Import Tomaoes","12110","02. Packed Tomatoes","12116","03. round","12138","02. Yellow","","","","","X",null,"B.06.01","Tomatoes","Import Tomaoes","Packed Tomatoes","round","Yellow","","","12138",{"$f":"_xlfn.TEXTJOIN(\"; \",TRUE,ZCDT_EXPORT_2[[#This Row],[Sub-Category]:[Segment 5]])","v":"Import Tomaoes; Packed Tomatoes; round; Yellow"}]
["AH","Baltic CDT","U1","01. Ultra-Fresh","U1.04","04. Vegetables","B.06.01","14. Tomatoes","12105","01. Import Tomaoes","12110","02. Packed Tomatoes","12116","03. round","12139","03. Mix","","","","","X",null,"B.06.01","Tomatoes","Import Tomaoes","Packed Tomatoes","round","Mix","","","12139",{"$f":"_xlfn.TEXTJOIN(\"; \",TRUE,ZCDT_EXPORT_2[[#This Row],[Sub-Category]:[Segment 5]])","v":"Import Tomaoes; Packed Tomatoes; round; Mix"}]
["AH","Baltic CDT","U1","01. Ultra-Fresh","U1.04","04. Vegetables","B.06.01","14. Tomatoes","12105","01. Import Tomaoes","12110","02. Packed Tomatoes","12116","03. round","12140","04. Other","","","","","X",null,"B.06.01","Tomatoes","Import Tomaoes","Packed Tomatoes","round","Other","","","12140",{"$f":"_xlfn.TEXTJOIN(\"; \",TRUE,ZCDT_EXPORT_2[[#This Row],[Sub-Category]:[Segment 5]])","v":"Import Tomaoes; Packed Tomatoes; round; Other"}]
["AH","Baltic CDT","U1","01. Ultra-Fresh","U1.04","04. Vegetables","B.06.01","14. Tomatoes","12106","02.  Local Tomaoes","12156","01. Loose Tomaoes","12158","01. plums","12164","01. Red","","","","","X",null,"B.06.01","Tomatoes","Local Tomaoes","Loose Tomaoes","plums","Red","","","12164",{"$f":"_xlfn.TEXTJOIN(\"; \",TRUE,ZCDT_EXPORT_2[[#This Row],[Sub-Category]:[Segment 5]])","v":"Local Tomaoes; Loose Tomaoes; plums; Red"}]
["AH","Baltic CDT","U1","01. Ultra-Fresh","U1.04","04. Vegetables","B.06.01","14. Tomatoes","12106","02.  Local Tomaoes","12156","01. Loose Tomaoes","12158","01. plums","12165","02. Yellow","","","","","X",null,"B.06.01","Tomatoes","Local Tomaoes","Loose Tomaoes","plums","Yellow","","","12165",{"$f":"_xlfn.TEXTJOIN(\"; \",TRUE,ZCDT_EXPORT_2[[#This Row],[Sub-Category]:[Segment 5]])","v":"Local Tomaoes; Loose Tomaoes; plums; Yellow"}]
["AH","Baltic CDT","U1","01. Ultra-Fresh","U1.04","04. Vegetables","B.06.01","14. Tomatoes","12106","02.  Local Tomaoes","12156","01. Loose Tomaoes","12158","01. plums","12166","03. Mix","","","","","X",null,"B.06.01","Tomatoes","Local Tomaoes","Loose Tomaoes","plums","Mix","","","12166",{"$f":"_xlfn.TEXTJOIN(\"; \",TRUE,ZCDT_EXPORT_2[[#This Row],[Sub-Category]:[Segment 5]])","v":"Local Tomaoes; Loose Tomaoes; plums; Mix"}]
["AH","Baltic CDT","U1","01. Ultra-Fresh","U1.04","04. Vegetables","B.06.01","14. Tomatoes","12106","02.  Local Tomaoes","12156","01. Loose Tomaoes","12158","01. plums","12167","04. Other","","","","","X",null,"B.06.01","Tomatoes","Local Tomaoes","Loose Tomaoes","plums","Other","","","12167",{"$f":"_xlfn.TEXTJOIN(\"; \",TRUE,ZCDT_EXPORT_2[[#This Row],[Sub-Category]:[Segment 5]])","v":"Local Tomaoes; Loose Tomaoes; plums; Other"}]
["AH","Baltic CDT","U1","01. Ultra-Fresh","U1.04","04. Vegetables","B.06.01","14. Tomatoes","12106","02.  Local Tomaoes","12156","01. Loose Tomaoes","12159","02. vine","12168","01. Red","","","","","X",null,"B.06.01","Tomatoes","Local Tomaoes","Loose Tomaoes","vine","Red","","","12168",{"$f":"_xlfn.TEXTJOIN(\"; \",TRUE,ZCDT_EXPORT_2[[#This Row],[Sub-Category]:[Segment 5]])","v":"Local Tomaoes; Loose Tomaoes; vine; Red"}]
["AH","Baltic CDT","U1","01. Ultra-Fresh","U1.04","04. Vegetables","B.06.01","14. Tomatoes","12106","02.  Local Tomaoes","12156","01. Loose Tomaoes","12159","02. vine","12169","02. Yellow","","","","","X",null,"B.06.01","Tomatoes","Local Tomaoes","Loose Tomaoes","vine","Yellow","","","12169",{"$f":"_xlfn.TEXTJOIN(\"; \",TRUE,ZCDT_EXPORT_2[[#This Row],[Sub-Category]:[Segment 5]])","v":"Local Tomaoes; Loose Tomaoes; vine; Yellow"}]
["AH","Baltic CDT","U1","01. Ultra-Fresh","U1.04","04. Vegetables","B.06.01","14. Tomatoes","12106","02.  Local Tomaoes","12156","01. Loose Tomaoes","12159","02. vine","12170","03. Mix","","","","","X",null,"B.06.01","Tomatoes","Local Tomaoes","Loose Tomaoes","vine","Mix","","","12170",{"$f":"_xlfn.TEXTJOIN(\"; \",TRUE,ZCDT_EXPORT_2[[#This Row],[Sub-Category]:[Segment 5]])","v":"Local Tomaoes; Loose Tomaoes; vine; Mix"}]
["AH","Baltic CDT","U1","01. Ultra-Fresh","U1.04","04. Vegetables","B.06.01","14. Tomatoes","12106","02.  Local Tomaoes","12156","01. Loose Tomaoes","12159","02. vine","12172","04. Other","","","","","X",null,"B.06.01","Tomatoes","Local Tomaoes","Loose Tomaoes","vine","Other","","","12172",{"$f":"_xlfn.TEXTJOIN(\"; \",TRUE,ZCDT_EXPORT_2[[#This Row],[Sub-Category]:[Segment 5]])","v":"Local Tomaoes; Loose Tomaoes; vine; Other"}]
["AH","Baltic CDT","U1","01. Ultra-Fresh","U1.04","04. Vegetables","B.06.01","14. Tomatoes","12106","02.  Local Tomaoes","12156","01. Loose Tomaoes","12160","03. round","12173","01. Red","","","","","X",null,"B.06.01","Tomatoes","Local Tomaoes","Loose Tomaoes","round","Red","","","12173",{"$f":"_xlfn.TEXTJOIN(\"; \",TRUE,ZCDT_EXPORT_2[[#This Row],[Sub-Category]:[Segment 5]])","v":"Local Tomaoes; Loose Tomaoes; round; Red"}]
["AH","Baltic CDT","U1","01. Ultra-Fresh","U1.04","04. Vegetables","B.06.01","14. Tomatoes","12106","02.  Local Tomaoes","12156","01. Loose Tomaoes","12160","03. round","12174","02. Yellow","","","","","X",null,"B.06.01","Tomatoes","Local Tomaoes","Loose Tomaoes","round","Yellow","","","12174",{"$f":"_xlfn.TEXTJOIN(\"; \",TRUE,ZCDT_EXPORT_2[[#This Row],[Sub-Category]:[Segment 5]])","v":"Local Tomaoes; Loose Tomaoes; round; Yellow"}]
["AH","Baltic CDT","U1","01. Ultra-Fresh","U1.04","04. Vegetables","B.06.01","14. Tomatoes","12106","02.  Local Tomaoes","12156","01. Loose Tomaoes","12160","03. round","12175","03. Mix","","","","","X",null,"B.06.01","Tomatoes","Local Tomaoes","Loose Tomaoes","round","Mix","","","12175",{"$f":"_xlfn.TEXTJOIN(\"; \",TRUE,ZCDT_EXPORT_2[[#This Row],[Sub-Category]:[Segment 5]])","v":"Local Tomaoes; Loose Tomaoes; round; Mix"}]
["AH","Baltic CDT","U1","01. Ultra-Fresh","U1.04","04. Vegetables","B.06.01","14. Tomatoes","12106","02.  Local Tomaoes","12156","01. Loose Tomaoes","12160","03. round","12176","04. Other","","","","","X",null,"B.06.01","Tomatoes","Local Tomaoes","Loose Tomaoes","round","Other","","","12176",{"$f":"_xlfn.TEXTJOIN(\"; \",TRUE,ZCDT_EXPORT_2[[#This Row],[Sub-Category]:[Segment 5]])","v":"Local Tomaoes; Loose Tomaoes; round; Other"}]
["AH","Baltic CDT","U1","01. Ultra-Fresh","U1.04","04. Vegetables","B.06.01","14. Tomatoes","12106","02.  Local Tomaoes","12157","02. Packed Tomatoes","12161","01. cherry","12177","01. Red","","","","","X",null,"B.06.01","Tomatoes","Local Tomaoes","Packed Tomatoes","cherry","Red","","","12177",{"$f":"_xlfn.TEXTJOIN(\"; \",TRUE,ZCDT_EXPORT_2[[#This Row],[Sub-Category]:[Segment 5]])","v":"Local Tomaoes; Packed Tomatoes; cherry; Red"}]
["AH","Baltic CDT","U1","01. Ultra-Fresh","U1.04","04. Vegetables","B.06.01","14. Tomatoes","12106","02.  Local Tomaoes","12157","02. Packed Tomatoes","12161","01. cherry","12178","02. Yellow","","","","","X",null,"B.06.01","Tomatoes","Local Tomaoes","Packed Tomatoes","cherry","Yellow","","","12178",{"$f":"_xlfn.TEXTJOIN(\"; \",TRUE,ZCDT_EXPORT_2[[#This Row],[Sub-Category]:[Segment 5]])","v":"Local Tomaoes; Packed Tomatoes; cherry; Yellow"}]
["AH","Baltic CDT","U1","01. Ultra-Fresh","U1.04","04. Vegetables","B.06.01","14. Tomatoes","12106","02.  Local Tomaoes","12157","02. Packed Tomatoes","12161","01. cherry","12179","03. Mix","","","","","X",null,"B.06.01","Tomatoes","Local Tomaoes","Packed Tomatoes","cherry","Mix","","","12179",{"$f":"_xlfn.TEXTJOIN(\"; \",TRUE,ZCDT_EXPORT_2[[#This Row],[Sub-Category]:[Segment 5]])","v":"Local Tomaoes; Packed Tomatoes; cherry; Mix"}]
["AH","Baltic CDT","U1","01. Ultra-Fresh","U1.04","04. Vegetables","B.06.01","14. Tomatoes","12106","02.  Local Tomaoes","12157","02. Packed Tomatoes","12161","01. cherry","12180","04. Other","","","","","X",null,"B.06.01","Tomatoes","Local Tomaoes","Packed Tomatoes","cherry","Other","","","12180",{"$f":"_xlfn.TEXTJOIN(\"; \",TRUE,ZCDT_EXPORT_2[[#This Row],[Sub-Category]:[Segment 5]])","v":"Local Tomaoes; Packed Tomatoes; cherry; Other"}]
["AH","Baltic CDT","U1","01. Ultra-Fresh","U1.04","04. Vegetables","B.06.01","14. Tomatoes","12106","02.  Local Tomaoes","12157","02. Packed Tomatoes","12162","02. vine","12181","01. Red","","","","","X",null,"B.06.01","Tomatoes","Local Tomaoes","Packed Tomatoes","vine","Red","","","12181",{"$f":"_xlfn.TEXTJOIN(\"; \",TRUE,ZCDT_EXPORT_2[[#This Row],[Sub-Category]:[Segment 5]])","v":"Local Tomaoes; Packed Tomatoes; vine; Red"}]
["AH","Baltic CDT","U1","01. Ultra-Fresh","U1.04","04. Vegetables","B.06.01","14. Tomatoes","12106","02.  Local Tomaoes","12157","02. Packed Tomatoes","12162","02. vine","12182","02. Yellow","","","","","X",null,"B.06.01","Tomatoes","Local Tomaoes","Packed Tomatoes","vine","Yellow","","","12182",{"$f":"_xlfn.TEXTJOIN(\"; \",TRUE,ZCDT_EXPORT_2[[#This Row],[Sub-Category]:[Segment 5]])","v":"Local Tomaoes; Packed Tomatoes; vine; Yellow"}]
["AH","Baltic CDT","U1","01. Ultra-Fresh","U1.04","04. Vegetables","B.06.01","14. Tomatoes","12106","02.  Local Tomaoes","12157","02. Packed Tomatoes","12162","02. vine","12183","03. Mix","","","","","X",null,"B.06.01","Tomatoes","Local Tomaoes","Packed Tomatoes","vine","Mix","","","12183",{"$f":"_xlfn.TEXTJOIN(\"; \",TRUE,ZCDT_EXPORT_2[[#This Row],[Sub-Category]:[Segment 5]])","v":"Local Tomaoes; Packed Tomatoes; vine; Mix"}]
["AH","Baltic CDT","U1","01. Ultra-Fresh","U1.04","04. Vegetables","B.06.01","14. Tomatoes","12106","02.  Local Tomaoes","12157","02. Packed Tomatoes","12162","02. vine","12184","04. Other","","","","","X",null,"B.06.01","Tomatoes","Local Tomaoes","Packed Tomatoes","vine","Other","","","12184",{"$f":"_xlfn.TEXTJOIN(\"; \",TRUE,ZCDT_EXPORT_2[[#This Row],[Sub-Category]:[Segment 5]])","v":"Local Tomaoes; Packed Tomatoes; vine; Other"}]
["AH","Baltic CDT","U1","01. Ultra-Fresh","U1.04","04. Vegetables","B.06.01","14. Tomatoes","12106","02.  Local Tomaoes","12157","02. Packed Tomatoes","12163","03. round","12185","01. Red","","","","","X",null,"B.06.01","Tomatoes","Local Tomaoes","Packed Tomatoes","round","Red","","","12185",{"$f":"_xlfn.TEXTJOIN(\"; \",TRUE,ZCDT_EXPORT_2[[#This Row],[Sub-Category]:[Segment 5]])","v":"Local Tomaoes; Packed Tomatoes; round; Red"}]
["AH","Baltic CDT","U1","01. Ultra-Fresh","U1.04","04. Vegetables","B.06.01","14. Tomatoes","12106","02.  Local Tomaoes","12157","02. Packed Tomatoes","12163","03. round","12186","02. Yellow","","","","","X",null,"B.06.01","Tomatoes","Local Tomaoes","Packed Tomatoes","round","Yellow","","","12186",{"$f":"_xlfn.TEXTJOIN(\"; \",TRUE,ZCDT_EXPORT_2[[#This Row],[Sub-Category]:[Segment 5]])","v":"Local Tomaoes; Packed Tomatoes; round; Yellow"}]
["AH","Baltic CDT","U1","01. Ultra-Fresh","U1.04","04. Vegetables","B.06.01","14. Tomatoes","12106","02.  Local Tomaoes","12157","02. Packed Tomatoes","12163","03. round","12187","03. Mix","","","","","X",null,"B.06.01","Tomatoes","Local Tomaoes","Packed Tomatoes","round","Mix","","","12187",{"$f":"_xlfn.TEXTJOIN(\"; \",TRUE,ZCDT_EXPORT_2[[#This Row],[Sub-Category]:[Segment 5]])","v":"Local Tomaoes; Packed Tomatoes; round; Mix"}]
["AH","Baltic CDT","U1","01. Ultra-Fresh","U1.04","04. Vegetables","B.06.01","14. Tomatoes","12106","02.  Local Tomaoes","12157","02. Packed Tomatoes","12163","03. round","12188","04. Other","","","","","X",null,"B.06.01","Tomatoes","Local Tomaoes","Packed Tomatoes","round","Other","","","12188",{"$f":"_xlfn.TEXTJOIN(\"; \",TRUE,ZCDT_EXPORT_2[[#This Row],[Sub-Category]:[Segment 5]])","v":"Local Tomaoes; Packed Tomatoes; round; Other"}]
["AH","Baltic CDT","U1","01. Ultra-Fresh","U1.04","04. Vegetables","B.06.01","14. Tomatoes","12107","03. Bio/Eco  Import Tomatoes","12189","01. Loose Tomatoes","12191","01. Red","","","","","","","X",null,"B.06.01","Tomatoes","Bio/Eco  Import Tomatoes","Loose Tomatoes","Red","","","","12191",{"$f":"_xlfn.TEXTJOIN(\"; \",TRUE,ZCDT_EXPORT_2[[#This Row],[Sub-Category]:[Segment 5]])","v":"Bio/Eco  Import Tomatoes; Loose Tomatoes; Red"}]
["AH","Baltic CDT","U1","01. Ultra-Fresh","U1.04","04. Vegetables","B.06.01","14. Tomatoes","12107","03. Bio/Eco  Import Tomatoes","12189","01. Loose Tomatoes","12192","02. Yellow","","","","","","","X",null,"B.06.01","Tomatoes","Bio/Eco  Import Tomatoes","Loose Tomatoes","Yellow","","","","12192",{"$f":"_xlfn.TEXTJOIN(\"; \",TRUE,ZCDT_EXPORT_2[[#This Row],[Sub-Category]:[Segment 5]])","v":"Bio/Eco  Import Tomatoes; Loose Tomatoes; Yellow"}]
["AH","Baltic CDT","U1","01. Ultra-Fresh","U1.04","04. Vegetables","B.06.01","14. Tomatoes","12107","03. Bio/Eco  Import Tomatoes","12189","01. Loose Tomatoes","12193","03. Mix","","","","","","","X",null,"B.06.01","Tomatoes","Bio/Eco  Import Tomatoes","Loose Tomatoes","Mix","","","","12193",{"$f":"_xlfn.TEXTJOIN(\"; \",TRUE,ZCDT_EXPORT_2[[#This Row],[Sub-Category]:[Segment 5]])","v":"Bio/Eco  Import Tomatoes; Loose Tomatoes; Mix"}]
["AH","Baltic CDT","U1","01. Ultra-Fresh","U1.04","04. Vegetables","B.06.01","14. Tomatoes","12107","03. Bio/Eco  Import Tomatoes","12189","01. Loose Tomatoes","12194","04. Other","","","","","","","X",null,"B.06.01","Tomatoes","Bio/Eco  Import Tomatoes","Loose Tomatoes","Other","","","","12194",{"$f":"_xlfn.TEXTJOIN(\"; \",TRUE,ZCDT_EXPORT_2[[#This Row],[Sub-Category]:[Segment 5]])","v":"Bio/Eco  Import Tomatoes; Loose Tomatoes; Other"}]
["AH","Baltic CDT","U1","01. Ultra-Fresh","U1.04","04. Vegetables","B.06.01","14. Tomatoes","12107","03. Bio/Eco  Import Tomatoes","12190","02. Packed Tomatoes","12195","01. Red","","","","","","","X",null,"B.06.01","Tomatoes","Bio/Eco  Import Tomatoes","Packed Tomatoes","Red","","","","12195",{"$f":"_xlfn.TEXTJOIN(\"; \",TRUE,ZCDT_EXPORT_2[[#This Row],[Sub-Category]:[Segment 5]])","v":"Bio/Eco  Import Tomatoes; Packed Tomatoes; Red"}]
["AH","Baltic CDT","U1","01. Ultra-Fresh","U1.04","04. Vegetables","B.06.01","14. Tomatoes","12107","03. Bio/Eco  Import Tomatoes","12190","02. Packed Tomatoes","12196","02. Yellow","","","","","","","X",null,"B.06.01","Tomatoes","Bio/Eco  Import Tomatoes","Packed Tomatoes","Yellow","","","","12196",{"$f":"_xlfn.TEXTJOIN(\"; \",TRUE,ZCDT_EXPORT_2[[#This Row],[Sub-Category]:[Segment 5]])","v":"Bio/Eco  Import Tomatoes; Packed Tomatoes; Yellow"}]
["AH","Baltic CDT","U1","01. Ultra-Fresh","U1.04","04. Vegetables","B.06.01","14. Tomatoes","12107","03. Bio/Eco  Import Tomatoes","12190","02. Packed Tomatoes","12197","03. Mix","","","","","","","X",null,"B.06.01","Tomatoes","Bio/Eco  Import Tomatoes","Packed Tomatoes","Mix","","","","12197",{"$f":"_xlfn.TEXTJOIN(\"; \",TRUE,ZCDT_EXPORT_2[[#This Row],[Sub-Category]:[Segment 5]])","v":"Bio/Eco  Import Tomatoes; Packed Tomatoes; Mix"}]
["AH","Baltic CDT","U1","01. Ultra-Fresh","U1.04","04. Vegetables","B.06.01","14. Tomatoes","12107","03. Bio/Eco  Import Tomatoes","12190","02. Packed Tomatoes","12198","04. Other","","","","","","","X",null,"B.06.01","Tomatoes","Bio/Eco  Import Tomatoes","Packed Tomatoes","Other","","","","12198",{"$f":"_xlfn.TEXTJOIN(\"; \",TRUE,ZCDT_EXPORT_2[[#This Row],[Sub-Category]:[Segment 5]])","v":"Bio/Eco  Import Tomatoes; Packed Tomatoes; Other"}]
["AH","Baltic CDT","U1","01. Ultra-Fresh","U1.04","04. Vegetables","B.06.01","14. Tomatoes","12108","04. Bio /Eco Local Tomatoes","12199","01. Loose Tomatoes","12201","01. Red","","","","","","","X",null,"B.06.01","Tomatoes","Bio /Eco Local Tomatoes","Loose Tomatoes","Red","","","","12201",{"$f":"_xlfn.TEXTJOIN(\"; \",TRUE,ZCDT_EXPORT_2[[#This Row],[Sub-Category]:[Segment 5]])","v":"Bio /Eco Local Tomatoes; Loose Tomatoes; Red"}]
["AH","Baltic CDT","U1","01. Ultra-Fresh","U1.04","04. Vegetables","B.06.01","14. Tomatoes","12108","04. Bio /Eco Local Tomatoes","12199","01. Loose Tomatoes","12202","02. Yellow","","","","","","","X",null,"B.06.01","Tomatoes","Bio /Eco Local Tomatoes","Loose Tomatoes","Yellow","","","","12202",{"$f":"_xlfn.TEXTJOIN(\"; \",TRUE,ZCDT_EXPORT_2[[#This Row],[Sub-Category]:[Segment 5]])","v":"Bio /Eco Local Tomatoes; Loose Tomatoes; Yellow"}]
["AH","Baltic CDT","U1","01. Ultra-Fresh","U1.04","04. Vegetables","B.06.01","14. Tomatoes","12108","04. Bio /Eco Local Tomatoes","12199","01. Loose Tomatoes","12203","03. Mix","","","","","","","X",null,"B.06.01","Tomatoes","Bio /Eco Local Tomatoes","Loose Tomatoes","Mix","","","","12203",{"$f":"_xlfn.TEXTJOIN(\"; \",TRUE,ZCDT_EXPORT_2[[#This Row],[Sub-Category]:[Segment 5]])","v":"Bio /Eco Local Tomatoes; Loose Tomatoes; Mix"}]
["AH","Baltic CDT","U1","01. Ultra-Fresh","U1.04","04. Vegetables","B.06.01","14. Tomatoes","12108","04. Bio /Eco Local Tomatoes","12199","01. Loose Tomatoes","12204","04. Other","","","","","","","X",null,"B.06.01","Tomatoes","Bio /Eco Local Tomatoes","Loose Tomatoes","Other","","","","12204",{"$f":"_xlfn.TEXTJOIN(\"; \",TRUE,ZCDT_EXPORT_2[[#This Row],[Sub-Category]:[Segment 5]])","v":"Bio /Eco Local Tomatoes; Loose Tomatoes; Other"}]
["AH","Baltic CDT","U1","01. Ultra-Fresh","U1.04","04. Vegetables","B.06.01","14. Tomatoes","12108","04. Bio /Eco Local Tomatoes","12200","02. Packed Tomatoes","12205","01. Red","","","","","","","X",null,"B.06.01","Tomatoes","Bio /Eco Local Tomatoes","Packed Tomatoes","Red","","","","12205",{"$f":"_xlfn.TEXTJOIN(\"; \",TRUE,ZCDT_EXPORT_2[[#This Row],[Sub-Category]:[Segment 5]])","v":"Bio /Eco Local Tomatoes; Packed Tomatoes; Red"}]
["AH","Baltic CDT","U1","01. Ultra-Fresh","U1.04","04. Vegetables","B.06.01","14. Tomatoes","12108","04. Bio /Eco Local Tomatoes","12200","02. Packed Tomatoes","12206","02. Yellow","","","","","","","X",null,"B.06.01","Tomatoes","Bio /Eco Local Tomatoes","Packed Tomatoes","Yellow","","","","12206",{"$f":"_xlfn.TEXTJOIN(\"; \",TRUE,ZCDT_EXPORT_2[[#This Row],[Sub-Category]:[Segment 5]])","v":"Bio /Eco Local Tomatoes; Packed Tomatoes; Yellow"}]
["AH","Baltic CDT","U1","01. Ultra-Fresh","U1.04","04. Vegetables","B.06.01","14. Tomatoes","12108","04. Bio /Eco Local Tomatoes","12200","02. Packed Tomatoes","12207","03. Mix","","","","","","","X",null,"B.06.01","Tomatoes","Bio /Eco Local Tomatoes","Packed Tomatoes","Mix","","","","12207",{"$f":"_xlfn.TEXTJOIN(\"; \",TRUE,ZCDT_EXPORT_2[[#This Row],[Sub-Category]:[Segment 5]])","v":"Bio /Eco Local Tomatoes; Packed Tomatoes; Mix"}]
["AH","Baltic CDT","U1","01. Ultra-Fresh","U1.04","04. Vegetables","B.06.01","14. Tomatoes","12108","04. Bio /Eco Local Tomatoes","12200","02. Packed Tomatoes","12208","04. Other","","","","","","","X",null,"B.06.01","Tomatoes","Bio /Eco Local Tomatoes","Packed Tomatoes","Other","","","","12208",{"$f":"_xlfn.TEXTJOIN(\"; \",TRUE,ZCDT_EXPORT_2[[#This Row],[Sub-Category]:[Segment 5]])","v":"Bio /Eco Local Tomatoes; Packed Tomatoes; Other"}]
["AH","Baltic CDT","U1","01. Ultra-Fresh","U1.04","04. Vegetables","B.06.02","15. Cucumbers","12209","01. Import Cucumbers","12213","01. long cucumbers","12221","01. Loose Cucumbers","","","","","","","X",null,"B.06.02","Cucumbers","Import Cucumbers","long cucumbers","Loose Cucumbers","","","","12221",{"$f":"_xlfn.TEXTJOIN(\"; \",TRUE,ZCDT_EXPORT_2[[#This Row],[Sub-Category]:[Segment 5]])","v":"Import Cucumbers; long cucumbers; Loose Cucumbers"}]
["AH","Baltic CDT","U1","01. Ultra-Fresh","U1.04","04. Vegetables","B.06.02","15. Cucumbers","12209","01. Import Cucumbers","12213","01. long cucumbers","12222","02. Pac. Cucumbers","","","","","","","X",null,"B.06.02","Cucumbers","Import Cucumbers","long cucumbers","Pac. Cucumbers","","","","12222",{"$f":"_xlfn.TEXTJOIN(\"; \",TRUE,ZCDT_EXPORT_2[[#This Row],[Sub-Category]:[Segment 5]])","v":"Import Cucumbers; long cucumbers; Pac. Cucumbers"}]
["AH","Baltic CDT","U1","01. Ultra-Fresh","U1.04","04. Vegetables","B.06.02","15. Cucumbers","12209","01. Import Cucumbers","12214","02. Short cucumbers","12223","01. Loose Cucumbers","","","","","","","X",null,"B.06.02","Cucumbers","Import Cucumbers","Short cucumbers","Loose Cucumbers","","","","12223",{"$f":"_xlfn.TEXTJOIN(\"; \",TRUE,ZCDT_EXPORT_2[[#This Row],[Sub-Category]:[Segment 5]])","v":"Import Cucumbers; Short cucumbers; Loose Cucumbers"}]
["AH","Baltic CDT","U1","01. Ultra-Fresh","U1.04","04. Vegetables","B.06.02","15. Cucumbers","12209","01. Import Cucumbers","12214","02. Short cucumbers","12224","02. Pac. Cucumbers","","","","","","","X",null,"B.06.02","Cucumbers","Import Cucumbers","Short cucumbers","Pac. Cucumbers","","","","12224",{"$f":"_xlfn.TEXTJOIN(\"; \",TRUE,ZCDT_EXPORT_2[[#This Row],[Sub-Category]:[Segment 5]])","v":"Import Cucumbers; Short cucumbers; Pac. Cucumbers"}]
["AH","Baltic CDT","U1","01. Ultra-Fresh","U1.04","04. Vegetables","B.06.02","15. Cucumbers","12210","02. Local Cucumbers","12215","01. long cucumbers","12225","01. Loose Cucumbers","","","","","","","X",null,"B.06.02","Cucumbers","Local Cucumbers","long cucumbers","Loose Cucumbers","","","","12225",{"$f":"_xlfn.TEXTJOIN(\"; \",TRUE,ZCDT_EXPORT_2[[#This Row],[Sub-Category]:[Segment 5]])","v":"Local Cucumbers; long cucumbers; Loose Cucumbers"}]
["AH","Baltic CDT","U1","01. Ultra-Fresh","U1.04","04. Vegetables","B.06.02","15. Cucumbers","12210","02. Local Cucumbers","12215","01. long cucumbers","12226","02. Pac. Cucumbers","","","","","","","X",null,"B.06.02","Cucumbers","Local Cucumbers","long cucumbers","Pac. Cucumbers","","","","12226",{"$f":"_xlfn.TEXTJOIN(\"; \",TRUE,ZCDT_EXPORT_2[[#This Row],[Sub-Category]:[Segment 5]])","v":"Local Cucumbers; long cucumbers; Pac. Cucumbers"}]
["AH","Baltic CDT","U1","01. Ultra-Fresh","U1.04","04. Vegetables","B.06.02","15. Cucumbers","12210","02. Local Cucumbers","12216","02. Short cucumbers","12227","01. Loose Cucumbers","","","","","","","X",null,"B.06.02","Cucumbers","Local Cucumbers","Short cucumbers","Loose Cucumbers","","","","12227",{"$f":"_xlfn.TEXTJOIN(\"; \",TRUE,ZCDT_EXPORT_2[[#This Row],[Sub-Category]:[Segment 5]])","v":"Local Cucumbers; Short cucumbers; Loose Cucumbers"}]
["AH","Baltic CDT","U1","01. Ultra-Fresh","U1.04","04. Vegetables","B.06.02","15. Cucumbers","12210","02. Local Cucumbers","12216","02. Short cucumbers","12228","02. Pac. Cucumbers","","","","","","","X",null,"B.06.02","Cucumbers","Local Cucumbers","Short cucumbers","Pac. Cucumbers","","","","12228",{"$f":"_xlfn.TEXTJOIN(\"; \",TRUE,ZCDT_EXPORT_2[[#This Row],[Sub-Category]:[Segment 5]])","v":"Local Cucumbers; Short cucumbers; Pac. Cucumbers"}]
["AH","Baltic CDT","U1","01. Ultra-Fresh","U1.04","04. Vegetables","B.06.02","15. Cucumbers","12211","03. Bio/ECO import Cucumbers","12217","01. long cucumbers","12229","01. Loose Cucumbers","","","","","","","X",null,"B.06.02","Cucumbers","Bio/ECO import Cucumbers","long cucumbers","Loose Cucumbers","","","","12229",{"$f":"_xlfn.TEXTJOIN(\"; \",TRUE,ZCDT_EXPORT_2[[#This Row],[Sub-Category]:[Segment 5]])","v":"Bio/ECO import Cucumbers; long cucumbers; Loose Cucumbers"}]
["AH","Baltic CDT","U1","01. Ultra-Fresh","U1.04","04. Vegetables","B.06.02","15. Cucumbers","12211","03. Bio/ECO import Cucumbers","12217","01. long cucumbers","12230","02. Pac. Cucumbers","","","","","","","X",null,"B.06.02","Cucumbers","Bio/ECO import Cucumbers","long cucumbers","Pac. Cucumbers","","","","12230",{"$f":"_xlfn.TEXTJOIN(\"; \",TRUE,ZCDT_EXPORT_2[[#This Row],[Sub-Category]:[Segment 5]])","v":"Bio/ECO import Cucumbers; long cucumbers; Pac. Cucumbers"}]
["AH","Baltic CDT","U1","01. Ultra-Fresh","U1.04","04. Vegetables","B.06.02","15. Cucumbers","12211","03. Bio/ECO import Cucumbers","12218","02. Short cucumbers","12231","01. Loose Cucumbers","","","","","","","X",null,"B.06.02","Cucumbers","Bio/ECO import Cucumbers","Short cucumbers","Loose Cucumbers","","","","12231",{"$f":"_xlfn.TEXTJOIN(\"; \",TRUE,ZCDT_EXPORT_2[[#This Row],[Sub-Category]:[Segment 5]])","v":"Bio/ECO import Cucumbers; Short cucumbers; Loose Cucumbers"}]
["AH","Baltic CDT","U1","01. Ultra-Fresh","U1.04","04. Vegetables","B.06.02","15. Cucumbers","12211","03. Bio/ECO import Cucumbers","12218","02. Short cucumbers","12232","02. Pac. Cucumbers","","","","","","","X",null,"B.06.02","Cucumbers","Bio/ECO import Cucumbers","Short cucumbers","Pac. Cucumbers","","","","12232",{"$f":"_xlfn.TEXTJOIN(\"; \",TRUE,ZCDT_EXPORT_2[[#This Row],[Sub-Category]:[Segment 5]])","v":"Bio/ECO import Cucumbers; Short cucumbers; Pac. Cucumbers"}]
["AH","Baltic CDT","U1","01. Ultra-Fresh","U1.04","04. Vegetables","B.06.02","15. Cucumbers","12212","04. Bio/ECO  local Cucumbers","12219","01. long cucumbers","12233","01. Loose Cucumbers","","","","","","","X",null,"B.06.02","Cucumbers","Bio/ECO  local Cucumbers","long cucumbers","Loose Cucumbers","","","","12233",{"$f":"_xlfn.TEXTJOIN(\"; \",TRUE,ZCDT_EXPORT_2[[#This Row],[Sub-Category]:[Segment 5]])","v":"Bio/ECO  local Cucumbers; long cucumbers; Loose Cucumbers"}]
["AH","Baltic CDT","U1","01. Ultra-Fresh","U1.04","04. Vegetables","B.06.02","15. Cucumbers","12212","04. Bio/ECO  local Cucumbers","12219","01. long cucumbers","12234","02. Pac. Cucumbers","","","","","","","X",null,"B.06.02","Cucumbers","Bio/ECO  local Cucumbers","long cucumbers","Pac. Cucumbers","","","","12234",{"$f":"_xlfn.TEXTJOIN(\"; \",TRUE,ZCDT_EXPORT_2[[#This Row],[Sub-Category]:[Segment 5]])","v":"Bio/ECO  local Cucumbers; long cucumbers; Pac. Cucumbers"}]
["AH","Baltic CDT","U1","01. Ultra-Fresh","U1.04","04. Vegetables","B.06.02","15. Cucumbers","12212","04. Bio/ECO  local Cucumbers","12220","02. Short cucumbers","12235","01. Loose Cucumbers","","","","","","","X",null,"B.06.02","Cucumbers","Bio/ECO  local Cucumbers","Short cucumbers","Loose Cucumbers","","","","12235",{"$f":"_xlfn.TEXTJOIN(\"; \",TRUE,ZCDT_EXPORT_2[[#This Row],[Sub-Category]:[Segment 5]])","v":"Bio/ECO  local Cucumbers; Short cucumbers; Loose Cucumbers"}]
["AH","Baltic CDT","U1","01. Ultra-Fresh","U1.04","04. Vegetables","B.06.02","15. Cucumbers","12212","04. Bio/ECO  local Cucumbers","12220","02. Short cucumbers","12236","02. Pac. Cucumbers","","","","","","","X",null,"B.06.02","Cucumbers","Bio/ECO  local Cucumbers","Short cucumbers","Pac. Cucumbers","","","","12236",{"$f":"_xlfn.TEXTJOIN(\"; \",TRUE,ZCDT_EXPORT_2[[#This Row],[Sub-Category]:[Segment 5]])","v":"Bio/ECO  local Cucumbers; Short cucumbers; Pac. Cucumbers"}]
["AH","Baltic CDT","U1","01. Ultra-Fresh","U1.04","04. Vegetables","B.06.03","16. Marrows","12237","01. Marrows","12240","01. Import Marrows","","","","","","","","","X",null,"B.06.03","Marrows","Marrows","Import Marrows","","","","","12240",{"$f":"_xlfn.TEXTJOIN(\"; \",TRUE,ZCDT_EXPORT_2[[#This Row],[Sub-Category]:[Segment 5]])","v":"Marrows; Import Marrows"}]
["AH","Baltic CDT","U1","01. Ultra-Fresh","U1.04","04. Vegetables","B.06.03","16. Marrows","12237","01. Marrows","12241","02. Local Marrows","","","","","","","","","X",null,"B.06.03","Marrows","Marrows","Local Marrows","","","","","12241",{"$f":"_xlfn.TEXTJOIN(\"; \",TRUE,ZCDT_EXPORT_2[[#This Row],[Sub-Category]:[Segment 5]])","v":"Marrows; Local Marrows"}]
["AH","Baltic CDT","U1","01. Ultra-Fresh","U1.04","04. Vegetables","B.06.03","16. Marrows","12237","01. Marrows","12242","03. Bio /Eco  Marrows","","","","","","","","","X",null,"B.06.03","Marrows","Marrows","Bio /Eco  Marrows","","","","","12242",{"$f":"_xlfn.TEXTJOIN(\"; \",TRUE,ZCDT_EXPORT_2[[#This Row],[Sub-Category]:[Segment 5]])","v":"Marrows; Bio /Eco  Marrows"}]
["AH","Baltic CDT","U1","01. Ultra-Fresh","U1.04","04. Vegetables","B.06.03","16. Marrows","12238","02. zucchini","12243","01. Import Courgettes","12246","01. Green","","","","","","","X",null,"B.06.03","Marrows","zucchini","Import Courgettes","Green","","","","12246",{"$f":"_xlfn.TEXTJOIN(\"; \",TRUE,ZCDT_EXPORT_2[[#This Row],[Sub-Category]:[Segment 5]])","v":"zucchini; Import Courgettes; Green"}]
["AH","Baltic CDT","U1","01. Ultra-Fresh","U1.04","04. Vegetables","B.06.03","16. Marrows","12238","02. zucchini","12243","01. Import Courgettes","12247","02. Yellow","","","","","","","X",null,"B.06.03","Marrows","zucchini","Import Courgettes","Yellow","","","","12247",{"$f":"_xlfn.TEXTJOIN(\"; \",TRUE,ZCDT_EXPORT_2[[#This Row],[Sub-Category]:[Segment 5]])","v":"zucchini; Import Courgettes; Yellow"}]
["AH","Baltic CDT","U1","01. Ultra-Fresh","U1.04","04. Vegetables","B.06.03","16. Marrows","12238","02. zucchini","12244","02. Local Courgettes","12248","01. Green","","","","","","","X",null,"B.06.03","Marrows","zucchini","Local Courgettes","Green","","","","12248",{"$f":"_xlfn.TEXTJOIN(\"; \",TRUE,ZCDT_EXPORT_2[[#This Row],[Sub-Category]:[Segment 5]])","v":"zucchini; Local Courgettes; Green"}]
["AH","Baltic CDT","U1","01. Ultra-Fresh","U1.04","04. Vegetables","B.06.03","16. Marrows","12238","02. zucchini","12244","02. Local Courgettes","12249","02. Yellow","","","","","","","X",null,"B.06.03","Marrows","zucchini","Local Courgettes","Yellow","","","","12249",{"$f":"_xlfn.TEXTJOIN(\"; \",TRUE,ZCDT_EXPORT_2[[#This Row],[Sub-Category]:[Segment 5]])","v":"zucchini; Local Courgettes; Yellow"}]
["AH","Baltic CDT","U1","01. Ultra-Fresh","U1.04","04. Vegetables","B.06.03","16. Marrows","12238","02. zucchini","12245","03.  Bio /Eco  Courgettes","12250","01. Green","","","","","","","X",null,"B.06.03","Marrows","zucchini","Bio /Eco  Courgettes","Green","","","","12250",{"$f":"_xlfn.TEXTJOIN(\"; \",TRUE,ZCDT_EXPORT_2[[#This Row],[Sub-Category]:[Segment 5]])","v":"zucchini; Bio /Eco  Courgettes; Green"}]
["AH","Baltic CDT","U1","01. Ultra-Fresh","U1.04","04. Vegetables","B.06.03","16. Marrows","12238","02. zucchini","12245","03.  Bio /Eco  Courgettes","12251","02. Yellow","","","","","","","X",null,"B.06.03","Marrows","zucchini","Bio /Eco  Courgettes","Yellow","","","","12251",{"$f":"_xlfn.TEXTJOIN(\"; \",TRUE,ZCDT_EXPORT_2[[#This Row],[Sub-Category]:[Segment 5]])","v":"zucchini; Bio /Eco  Courgettes; Yellow"}]
["AH","Baltic CDT","U1","01. Ultra-Fresh","U1.04","04. Vegetables","B.06.03","16. Marrows","12239","03. Aubergines","12252","01. Import Aubergines","12255","01. Loos","","","","","","","X",null,"B.06.03","Marrows","Aubergines","Import Aubergines","Loos","","","","12255",{"$f":"_xlfn.TEXTJOIN(\"; \",TRUE,ZCDT_EXPORT_2[[#This Row],[Sub-Category]:[Segment 5]])","v":"Aubergines; Import Aubergines; Loos"}]
["AH","Baltic CDT","U1","01. Ultra-Fresh","U1.04","04. Vegetables","B.06.03","16. Marrows","12239","03. Aubergines","12252","01. Import Aubergines","12256","02. pac.","","","","","","","X",null,"B.06.03","Marrows","Aubergines","Import Aubergines","pac.","","","","12256",{"$f":"_xlfn.TEXTJOIN(\"; \",TRUE,ZCDT_EXPORT_2[[#This Row],[Sub-Category]:[Segment 5]])","v":"Aubergines; Import Aubergines; pac."}]
["AH","Baltic CDT","U1","01. Ultra-Fresh","U1.04","04. Vegetables","B.06.03","16. Marrows","12239","03. Aubergines","12253","02. Bio /Eco Aubergines","12257","01. Loos","","","","","","","X",null,"B.06.03","Marrows","Aubergines","Bio /Eco Aubergines","Loos","","","","12257",{"$f":"_xlfn.TEXTJOIN(\"; \",TRUE,ZCDT_EXPORT_2[[#This Row],[Sub-Category]:[Segment 5]])","v":"Aubergines; Bio /Eco Aubergines; Loos"}]
["AH","Baltic CDT","U1","01. Ultra-Fresh","U1.04","04. Vegetables","B.06.03","16. Marrows","12239","03. Aubergines","12253","02. Bio /Eco Aubergines","12258","02. pac.","","","","","","","X",null,"B.06.03","Marrows","Aubergines","Bio /Eco Aubergines","pac.","","","","12258",{"$f":"_xlfn.TEXTJOIN(\"; \",TRUE,ZCDT_EXPORT_2[[#This Row],[Sub-Category]:[Segment 5]])","v":"Aubergines; Bio /Eco Aubergines; pac."}]
["AH","Baltic CDT","U1","01. Ultra-Fresh","U1.04","04. Vegetables","B.06.03","16. Marrows","12239","03. Aubergines","12254","03. Other Aubergines","12259","01. Loos","","","","","","","X",null,"B.06.03","Marrows","Aubergines","Other Aubergines","Loos","","","","12259",{"$f":"_xlfn.TEXTJOIN(\"; \",TRUE,ZCDT_EXPORT_2[[#This Row],[Sub-Category]:[Segment 5]])","v":"Aubergines; Other Aubergines; Loos"}]
["AH","Baltic CDT","U1","01. Ultra-Fresh","U1.04","04. Vegetables","B.06.03","16. Marrows","12239","03. Aubergines","12254","03. Other Aubergines","12260","02. pac.","","","","","","","X",null,"B.06.03","Marrows","Aubergines","Other Aubergines","pac.","","","","12260",{"$f":"_xlfn.TEXTJOIN(\"; \",TRUE,ZCDT_EXPORT_2[[#This Row],[Sub-Category]:[Segment 5]])","v":"Aubergines; Other Aubergines; pac."}]
["AH","Baltic CDT","U1","01. Ultra-Fresh","U1.04","04. Vegetables","B.06.04","17. Cabbages","12261","01. Import Cabbages","12265","01. White cabbeges","","","","","","","","","X",null,"B.06.04","Cabbages","Import Cabbages","White cabbeges","","","","","12265",{"$f":"_xlfn.TEXTJOIN(\"; \",TRUE,ZCDT_EXPORT_2[[#This Row],[Sub-Category]:[Segment 5]])","v":"Import Cabbages; White cabbeges"}]
["AH","Baltic CDT","U1","01. Ultra-Fresh","U1.04","04. Vegetables","B.06.04","17. Cabbages","12261","01. Import Cabbages","12266","02. Red cabbeges","","","","","","","","","X",null,"B.06.04","Cabbages","Import Cabbages","Red cabbeges","","","","","12266",{"$f":"_xlfn.TEXTJOIN(\"; \",TRUE,ZCDT_EXPORT_2[[#This Row],[Sub-Category]:[Segment 5]])","v":"Import Cabbages; Red cabbeges"}]
["AH","Baltic CDT","U1","01. Ultra-Fresh","U1.04","04. Vegetables","B.06.04","17. Cabbages","12261","01. Import Cabbages","12267","03. Other cabbeges","","","","","","","","","X",null,"B.06.04","Cabbages","Import Cabbages","Other cabbeges","","","","","12267",{"$f":"_xlfn.TEXTJOIN(\"; \",TRUE,ZCDT_EXPORT_2[[#This Row],[Sub-Category]:[Segment 5]])","v":"Import Cabbages; Other cabbeges"}]
["AH","Baltic CDT","U1","01. Ultra-Fresh","U1.04","04. Vegetables","B.06.04","17. Cabbages","12262","02. Local  Cabbeges","12268","01. White cabbeges","","","","","","","","","X",null,"B.06.04","Cabbages","Local  Cabbeges","White cabbeges","","","","","12268",{"$f":"_xlfn.TEXTJOIN(\"; \",TRUE,ZCDT_EXPORT_2[[#This Row],[Sub-Category]:[Segment 5]])","v":"Local  Cabbeges; White cabbeges"}]
["AH","Baltic CDT","U1","01. Ultra-Fresh","U1.04","04. Vegetables","B.06.04","17. Cabbages","12262","02. Local  Cabbeges","12269","02. Red cabbeges","","","","","","","","","X",null,"B.06.04","Cabbages","Local  Cabbeges","Red cabbeges","","","","","12269",{"$f":"_xlfn.TEXTJOIN(\"; \",TRUE,ZCDT_EXPORT_2[[#This Row],[Sub-Category]:[Segment 5]])","v":"Local  Cabbeges; Red cabbeges"}]
["AH","Baltic CDT","U1","01. Ultra-Fresh","U1.04","04. Vegetables","B.06.04","17. Cabbages","12262","02. Local  Cabbeges","12270","03. Other cabbeges","","","","","","","","","X",null,"B.06.04","Cabbages","Local  Cabbeges","Other cabbeges","","","","","12270",{"$f":"_xlfn.TEXTJOIN(\"; \",TRUE,ZCDT_EXPORT_2[[#This Row],[Sub-Category]:[Segment 5]])","v":"Local  Cabbeges; Other cabbeges"}]
["AH","Baltic CDT","U1","01. Ultra-Fresh","U1.04","04. Vegetables","B.06.04","17. Cabbages","12263","03. Bio /Eco import Cabbeges","12271","01. White cabbeges","","","","","","","","","X",null,"B.06.04","Cabbages","Bio /Eco import Cabbeges","White cabbeges","","","","","12271",{"$f":"_xlfn.TEXTJOIN(\"; \",TRUE,ZCDT_EXPORT_2[[#This Row],[Sub-Category]:[Segment 5]])","v":"Bio /Eco import Cabbeges; White cabbeges"}]
["AH","Baltic CDT","U1","01. Ultra-Fresh","U1.04","04. Vegetables","B.06.04","17. Cabbages","12263","03. Bio /Eco import Cabbeges","12272","02. Red cabbeges","","","","","","","","","X",null,"B.06.04","Cabbages","Bio /Eco import Cabbeges","Red cabbeges","","","","","12272",{"$f":"_xlfn.TEXTJOIN(\"; \",TRUE,ZCDT_EXPORT_2[[#This Row],[Sub-Category]:[Segment 5]])","v":"Bio /Eco import Cabbeges; Red cabbeges"}]
["AH","Baltic CDT","U1","01. Ultra-Fresh","U1.04","04. Vegetables","B.06.04","17. Cabbages","12263","03. Bio /Eco import Cabbeges","12273","03. Other cabbeges","","","","","","","","","X",null,"B.06.04","Cabbages","Bio /Eco import Cabbeges","Other cabbeges","","","","","12273",{"$f":"_xlfn.TEXTJOIN(\"; \",TRUE,ZCDT_EXPORT_2[[#This Row],[Sub-Category]:[Segment 5]])","v":"Bio /Eco import Cabbeges; Other cabbeges"}]
["AH","Baltic CDT","U1","01. Ultra-Fresh","U1.04","04. Vegetables","B.06.04","17. Cabbages","12264","04. Bio /Eco local Cabbeges","12274","01. White cabbeges","","","","","","","","","X",null,"B.06.04","Cabbages","Bio /Eco local Cabbeges","White cabbeges","","","","","12274",{"$f":"_xlfn.TEXTJOIN(\"; \",TRUE,ZCDT_EXPORT_2[[#This Row],[Sub-Category]:[Segment 5]])","v":"Bio /Eco local Cabbeges; White cabbeges"}]
["AH","Baltic CDT","U1","01. Ultra-Fresh","U1.04","04. Vegetables","B.06.04","17. Cabbages","12264","04. Bio /Eco local Cabbeges","12275","02. Red cabbeges","","","","","","","","","X",null,"B.06.04","Cabbages","Bio /Eco local Cabbeges","Red cabbeges","","","","","12275",{"$f":"_xlfn.TEXTJOIN(\"; \",TRUE,ZCDT_EXPORT_2[[#This Row],[Sub-Category]:[Segment 5]])","v":"Bio /Eco local Cabbeges; Red cabbeges"}]
["AH","Baltic CDT","U1","01. Ultra-Fresh","U1.04","04. Vegetables","B.06.04","17. Cabbages","12264","04. Bio /Eco local Cabbeges","12276","03. Other cabbeges","","","","","","","","","X",null,"B.06.04","Cabbages","Bio /Eco local Cabbeges","Other cabbeges","","","","","12276",{"$f":"_xlfn.TEXTJOIN(\"; \",TRUE,ZCDT_EXPORT_2[[#This Row],[Sub-Category]:[Segment 5]])","v":"Bio /Eco local Cabbeges; Other cabbeges"}]
["AH","Baltic CDT","U1","01. Ultra-Fresh","U1.04","04. Vegetables","B.06.05","18. Pumpkin","12277","01. Imports Pumpkin","12281","01. Loose Pumpkin","","","","","","","","","X",null,"B.06.05","Pumpkin","Imports Pumpkin","Loose Pumpkin","","","","","12281",{"$f":"_xlfn.TEXTJOIN(\"; \",TRUE,ZCDT_EXPORT_2[[#This Row],[Sub-Category]:[Segment 5]])","v":"Imports Pumpkin; Loose Pumpkin"}]
["AH","Baltic CDT","U1","01. Ultra-Fresh","U1.04","04. Vegetables","B.06.05","18. Pumpkin","12277","01. Imports Pumpkin","12282","02. Pieces Pumpkin","","","","","","","","","X",null,"B.06.05","Pumpkin","Imports Pumpkin","Pieces Pumpkin","","","","","12282",{"$f":"_xlfn.TEXTJOIN(\"; \",TRUE,ZCDT_EXPORT_2[[#This Row],[Sub-Category]:[Segment 5]])","v":"Imports Pumpkin; Pieces Pumpkin"}]
["AH","Baltic CDT","U1","01. Ultra-Fresh","U1.04","04. Vegetables","B.06.05","18. Pumpkin","12278","02. Local Pumpkin","12283","01. Loose Pumpkin","","","","","","","","","X",null,"B.06.05","Pumpkin","Local Pumpkin","Loose Pumpkin","","","","","12283",{"$f":"_xlfn.TEXTJOIN(\"; \",TRUE,ZCDT_EXPORT_2[[#This Row],[Sub-Category]:[Segment 5]])","v":"Local Pumpkin; Loose Pumpkin"}]
["AH","Baltic CDT","U1","01. Ultra-Fresh","U1.04","04. Vegetables","B.06.05","18. Pumpkin","12278","02. Local Pumpkin","12284","02. Pieces Pumpkin","","","","","","","","","X",null,"B.06.05","Pumpkin","Local Pumpkin","Pieces Pumpkin","","","","","12284",{"$f":"_xlfn.TEXTJOIN(\"; \",TRUE,ZCDT_EXPORT_2[[#This Row],[Sub-Category]:[Segment 5]])","v":"Local Pumpkin; Pieces Pumpkin"}]
["AH","Baltic CDT","U1","01. Ultra-Fresh","U1.04","04. Vegetables","B.06.05","18. Pumpkin","12279","03. ECO Pumpkin","12285","01. Loose Pumpkin","","","","","","","","","X",null,"B.06.05","Pumpkin","ECO Pumpkin","Loose Pumpkin","","","","","12285",{"$f":"_xlfn.TEXTJOIN(\"; \",TRUE,ZCDT_EXPORT_2[[#This Row],[Sub-Category]:[Segment 5]])","v":"ECO Pumpkin; Loose Pumpkin"}]
["AH","Baltic CDT","U1","01. Ultra-Fresh","U1.04","04. Vegetables","B.06.05","18. Pumpkin","12279","03. ECO Pumpkin","12286","02. Pieces Pumpkin","","","","","","","","","X",null,"B.06.05","Pumpkin","ECO Pumpkin","Pieces Pumpkin","","","","","12286",{"$f":"_xlfn.TEXTJOIN(\"; \",TRUE,ZCDT_EXPORT_2[[#This Row],[Sub-Category]:[Segment 5]])","v":"ECO Pumpkin; Pieces Pumpkin"}]
["AH","Baltic CDT","U1","01. Ultra-Fresh","U1.04","04. Vegetables","B.06.05","18. Pumpkin","12280","04. Other Pumpkin","12287","01. Loose Pumpkin","","","","","","","","","X",null,"B.06.05","Pumpkin","Other Pumpkin","Loose Pumpkin","","","","","12287",{"$f":"_xlfn.TEXTJOIN(\"; \",TRUE,ZCDT_EXPORT_2[[#This Row],[Sub-Category]:[Segment 5]])","v":"Other Pumpkin; Loose Pumpkin"}]
["AH","Baltic CDT","U1","01. Ultra-Fresh","U1.04","04. Vegetables","B.06.05","18. Pumpkin","12280","04. Other Pumpkin","12288","02. Pieces Pumpkin","","","","","","","","","X",null,"B.06.05","Pumpkin","Other Pumpkin","Pieces Pumpkin","","","","","12288",{"$f":"_xlfn.TEXTJOIN(\"; \",TRUE,ZCDT_EXPORT_2[[#This Row],[Sub-Category]:[Segment 5]])","v":"Other Pumpkin; Pieces Pumpkin"}]
["AH","Baltic CDT","U1","01. Ultra-Fresh","U1.04","04. Vegetables","B.06.06","19. Legumes","12290","01. Imports Legumes","12293","01. Loose Legumes","","","","","","","","","X",null,"B.06.06","Legumes","Imports Legumes","Loose Legumes","","","","","12293",{"$f":"_xlfn.TEXTJOIN(\"; \",TRUE,ZCDT_EXPORT_2[[#This Row],[Sub-Category]:[Segment 5]])","v":"Imports Legumes; Loose Legumes"}]
["AH","Baltic CDT","U1","01. Ultra-Fresh","U1.04","04. Vegetables","B.06.06","19. Legumes","12290","01. Imports Legumes","12294","02. Legumes pac.","","","","","","","","","X",null,"B.06.06","Legumes","Imports Legumes","Legumes pac.","","","","","12294",{"$f":"_xlfn.TEXTJOIN(\"; \",TRUE,ZCDT_EXPORT_2[[#This Row],[Sub-Category]:[Segment 5]])","v":"Imports Legumes; Legumes pac."}]
["AH","Baltic CDT","U1","01. Ultra-Fresh","U1.04","04. Vegetables","B.06.06","19. Legumes","12291","02. Local Legumes","12295","01. Loose Legumes","","","","","","","","","X",null,"B.06.06","Legumes","Local Legumes","Loose Legumes","","","","","12295",{"$f":"_xlfn.TEXTJOIN(\"; \",TRUE,ZCDT_EXPORT_2[[#This Row],[Sub-Category]:[Segment 5]])","v":"Local Legumes; Loose Legumes"}]
["AH","Baltic CDT","U1","01. Ultra-Fresh","U1.04","04. Vegetables","B.06.06","19. Legumes","12291","02. Local Legumes","12296","02. Legumes pac.","","","","","","","","","X",null,"B.06.06","Legumes","Local Legumes","Legumes pac.","","","","","12296",{"$f":"_xlfn.TEXTJOIN(\"; \",TRUE,ZCDT_EXPORT_2[[#This Row],[Sub-Category]:[Segment 5]])","v":"Local Legumes; Legumes pac."}]
["AH","Baltic CDT","U1","01. Ultra-Fresh","U1.04","04. Vegetables","B.06.06","19. Legumes","12292","03.  Bio /Eco Legames","12297","01. Loose Legumes","","","","","","","","","X",null,"B.06.06","Legumes","Bio /Eco Legames","Loose Legumes","","","","","12297",{"$f":"_xlfn.TEXTJOIN(\"; \",TRUE,ZCDT_EXPORT_2[[#This Row],[Sub-Category]:[Segment 5]])","v":"Bio /Eco Legames; Loose Legumes"}]
["AH","Baltic CDT","U1","01. Ultra-Fresh","U1.04","04. Vegetables","B.06.06","19. Legumes","12292","03.  Bio /Eco Legames","12298","02. Legumes pac.","","","","","","","","","X",null,"B.06.06","Legumes","Bio /Eco Legames","Legumes pac.","","","","","12298",{"$f":"_xlfn.TEXTJOIN(\"; \",TRUE,ZCDT_EXPORT_2[[#This Row],[Sub-Category]:[Segment 5]])","v":"Bio /Eco Legames; Legumes pac."}]
["AH","Baltic CDT","U1","01. Ultra-Fresh","U1.04","04. Vegetables","B.06.07","20. Other vegetables/Exotic vegetables","13105","01. Import","13108","01. loose","","","","","","","","","X",null,"B.06.07","Other vegetables/Exotic vegetables","Import","loose","","","","","13108",{"$f":"_xlfn.TEXTJOIN(\"; \",TRUE,ZCDT_EXPORT_2[[#This Row],[Sub-Category]:[Segment 5]])","v":"Import; loose"}]
["AH","Baltic CDT","U1","01. Ultra-Fresh","U1.04","04. Vegetables","B.06.07","20. Other vegetables/Exotic vegetables","13105","01. Import","13109","02. pac.","","","","","","","","","X",null,"B.06.07","Other vegetables/Exotic vegetables","Import","pac.","","","","","13109",{"$f":"_xlfn.TEXTJOIN(\"; \",TRUE,ZCDT_EXPORT_2[[#This Row],[Sub-Category]:[Segment 5]])","v":"Import; pac."}]
["AH","Baltic CDT","U1","01. Ultra-Fresh","U1.04","04. Vegetables","B.06.07","20. Other vegetables/Exotic vegetables","13106","02. local","13110","01. loose","","","","","","","","","X",null,"B.06.07","Other vegetables/Exotic vegetables","local","loose","","","","","13110",{"$f":"_xlfn.TEXTJOIN(\"; \",TRUE,ZCDT_EXPORT_2[[#This Row],[Sub-Category]:[Segment 5]])","v":"local; loose"}]
["AH","Baltic CDT","U1","01. Ultra-Fresh","U1.04","04. Vegetables","B.06.07","20. Other vegetables/Exotic vegetables","13106","02. local","13111","02. pac.","","","","","","","","","X",null,"B.06.07","Other vegetables/Exotic vegetables","local","pac.","","","","","13111",{"$f":"_xlfn.TEXTJOIN(\"; \",TRUE,ZCDT_EXPORT_2[[#This Row],[Sub-Category]:[Segment 5]])","v":"local; pac."}]
["AH","Baltic CDT","U1","01. Ultra-Fresh","U1.04","04. Vegetables","B.06.07","20. Other vegetables/Exotic vegetables","13107","03. Bio /Eco","13112","01. loose","","","","","","","","","X",null,"B.06.07","Other vegetables/Exotic vegetables","Bio /Eco","loose","","","","","13112",{"$f":"_xlfn.TEXTJOIN(\"; \",TRUE,ZCDT_EXPORT_2[[#This Row],[Sub-Category]:[Segment 5]])","v":"Bio /Eco; loose"}]
["AH","Baltic CDT","U1","01. Ultra-Fresh","U1.04","04. Vegetables","B.06.07","20. Other vegetables/Exotic vegetables","13107","03. Bio /Eco","13113","02. pac.","","","","","","","","","X",null,"B.06.07","Other vegetables/Exotic vegetables","Bio /Eco","pac.","","","","","13113",{"$f":"_xlfn.TEXTJOIN(\"; \",TRUE,ZCDT_EXPORT_2[[#This Row],[Sub-Category]:[Segment 5]])","v":"Bio /Eco; pac."}]
["AH","Baltic CDT","U1","01. Ultra-Fresh","U1.04","04. Vegetables","B.06.08","21. Capsicums","15329","01. Import Capsicums","15363","01. Loose Capsicums","15370","01. Red","","","","","","","X",null,"B.06.08","Capsicums","Import Capsicums","Loose Capsicums","Red","","","","15370",{"$f":"_xlfn.TEXTJOIN(\"; \",TRUE,ZCDT_EXPORT_2[[#This Row],[Sub-Category]:[Segment 5]])","v":"Import Capsicums; Loose Capsicums; Red"}]
["AH","Baltic CDT","U1","01. Ultra-Fresh","U1.04","04. Vegetables","B.06.08","21. Capsicums","15329","01. Import Capsicums","15363","01. Loose Capsicums","15371","02. Yellow","","","","","","","X",null,"B.06.08","Capsicums","Import Capsicums","Loose Capsicums","Yellow","","","","15371",{"$f":"_xlfn.TEXTJOIN(\"; \",TRUE,ZCDT_EXPORT_2[[#This Row],[Sub-Category]:[Segment 5]])","v":"Import Capsicums; Loose Capsicums; Yellow"}]
["AH","Baltic CDT","U1","01. Ultra-Fresh","U1.04","04. Vegetables","B.06.08","21. Capsicums","15329","01. Import Capsicums","15363","01. Loose Capsicums","15372","03. Orange","","","","","","","X",null,"B.06.08","Capsicums","Import Capsicums","Loose Capsicums","Orange","","","","15372",{"$f":"_xlfn.TEXTJOIN(\"; \",TRUE,ZCDT_EXPORT_2[[#This Row],[Sub-Category]:[Segment 5]])","v":"Import Capsicums; Loose Capsicums; Orange"}]
["AH","Baltic CDT","U1","01. Ultra-Fresh","U1.04","04. Vegetables","B.06.08","21. Capsicums","15329","01. Import Capsicums","15363","01. Loose Capsicums","15373","04. Green","","","","","","","X",null,"B.06.08","Capsicums","Import Capsicums","Loose Capsicums","Green","","","","15373",{"$f":"_xlfn.TEXTJOIN(\"; \",TRUE,ZCDT_EXPORT_2[[#This Row],[Sub-Category]:[Segment 5]])","v":"Import Capsicums; Loose Capsicums; Green"}]
["AH","Baltic CDT","U1","01. Ultra-Fresh","U1.04","04. Vegetables","B.06.08","21. Capsicums","15329","01. Import Capsicums","15363","01. Loose Capsicums","15374","05. Chilly","","","","","","","X",null,"B.06.08","Capsicums","Import Capsicums","Loose Capsicums","Chilly","","","","15374",{"$f":"_xlfn.TEXTJOIN(\"; \",TRUE,ZCDT_EXPORT_2[[#This Row],[Sub-Category]:[Segment 5]])","v":"Import Capsicums; Loose Capsicums; Chilly"}]
["AH","Baltic CDT","U1","01. Ultra-Fresh","U1.04","04. Vegetables","B.06.08","21. Capsicums","15329","01. Import Capsicums","15363","01. Loose Capsicums","15375","06. White","","","","","","","X",null,"B.06.08","Capsicums","Import Capsicums","Loose Capsicums","White","","","","15375",{"$f":"_xlfn.TEXTJOIN(\"; \",TRUE,ZCDT_EXPORT_2[[#This Row],[Sub-Category]:[Segment 5]])","v":"Import Capsicums; Loose Capsicums; White"}]
["AH","Baltic CDT","U1","01. Ultra-Fresh","U1.04","04. Vegetables","B.06.08","21. Capsicums","15329","01. Import Capsicums","15363","01. Loose Capsicums","15376","07. Other","","","","","","","X",null,"B.06.08","Capsicums","Import Capsicums","Loose Capsicums","Other","","","","15376",{"$f":"_xlfn.TEXTJOIN(\"; \",TRUE,ZCDT_EXPORT_2[[#This Row],[Sub-Category]:[Segment 5]])","v":"Import Capsicums; Loose Capsicums; Other"}]
["AH","Baltic CDT","U1","01. Ultra-Fresh","U1.04","04. Vegetables","B.06.08","21. Capsicums","15329","01. Import Capsicums","15364","02. Packed Capsicums","15365","01. MIX","","","","","","","X",null,"B.06.08","Capsicums","Import Capsicums","Packed Capsicums","MIX","","","","15365",{"$f":"_xlfn.TEXTJOIN(\"; \",TRUE,ZCDT_EXPORT_2[[#This Row],[Sub-Category]:[Segment 5]])","v":"Import Capsicums; Packed Capsicums; MIX"}]
["AH","Baltic CDT","U1","01. Ultra-Fresh","U1.04","04. Vegetables","B.06.08","21. Capsicums","15329","01. Import Capsicums","15364","02. Packed Capsicums","15366","02. MINI","","","","","","","X",null,"B.06.08","Capsicums","Import Capsicums","Packed Capsicums","MINI","","","","15366",{"$f":"_xlfn.TEXTJOIN(\"; \",TRUE,ZCDT_EXPORT_2[[#This Row],[Sub-Category]:[Segment 5]])","v":"Import Capsicums; Packed Capsicums; MINI"}]
["AH","Baltic CDT","U1","01. Ultra-Fresh","U1.04","04. Vegetables","B.06.08","21. Capsicums","15329","01. Import Capsicums","15364","02. Packed Capsicums","15367","03. Sweet","","","","","","","X",null,"B.06.08","Capsicums","Import Capsicums","Packed Capsicums","Sweet","","","","15367",{"$f":"_xlfn.TEXTJOIN(\"; \",TRUE,ZCDT_EXPORT_2[[#This Row],[Sub-Category]:[Segment 5]])","v":"Import Capsicums; Packed Capsicums; Sweet"}]
["AH","Baltic CDT","U1","01. Ultra-Fresh","U1.04","04. Vegetables","B.06.08","21. Capsicums","15329","01. Import Capsicums","15364","02. Packed Capsicums","15368","04. Chilly","","","","","","","X",null,"B.06.08","Capsicums","Import Capsicums","Packed Capsicums","Chilly","","","","15368",{"$f":"_xlfn.TEXTJOIN(\"; \",TRUE,ZCDT_EXPORT_2[[#This Row],[Sub-Category]:[Segment 5]])","v":"Import Capsicums; Packed Capsicums; Chilly"}]
["AH","Baltic CDT","U1","01. Ultra-Fresh","U1.04","04. Vegetables","B.06.08","21. Capsicums","15329","01. Import Capsicums","15364","02. Packed Capsicums","15369","05. Other","","","","","","","X",null,"B.06.08","Capsicums","Import Capsicums","Packed Capsicums","Other","","","","15369",{"$f":"_xlfn.TEXTJOIN(\"; \",TRUE,ZCDT_EXPORT_2[[#This Row],[Sub-Category]:[Segment 5]])","v":"Import Capsicums; Packed Capsicums; Other"}]
["AH","Baltic CDT","U1","01. Ultra-Fresh","U1.04","04. Vegetables","B.06.08","21. Capsicums","15330","02. Local Capsicums","15377","01. Loose Capsicums","","","","","","","","","X",null,"B.06.08","Capsicums","Local Capsicums","Loose Capsicums","","","","","15377",{"$f":"_xlfn.TEXTJOIN(\"; \",TRUE,ZCDT_EXPORT_2[[#This Row],[Sub-Category]:[Segment 5]])","v":"Local Capsicums; Loose Capsicums"}]
["AH","Baltic CDT","U1","01. Ultra-Fresh","U1.04","04. Vegetables","B.06.08","21. Capsicums","15330","02. Local Capsicums","15378","02. Packed Capsicums","","","","","","","","","X",null,"B.06.08","Capsicums","Local Capsicums","Packed Capsicums","","","","","15378",{"$f":"_xlfn.TEXTJOIN(\"; \",TRUE,ZCDT_EXPORT_2[[#This Row],[Sub-Category]:[Segment 5]])","v":"Local Capsicums; Packed Capsicums"}]
["AH","Baltic CDT","U1","01. Ultra-Fresh","U1.04","04. Vegetables","B.06.08","21. Capsicums","15361","03. Bio/eco  Import Capsicums","15379","01. Loose Capsicums","","","","","","","","","X",null,"B.06.08","Capsicums","Bio/eco  Import Capsicums","Loose Capsicums","","","","","15379",{"$f":"_xlfn.TEXTJOIN(\"; \",TRUE,ZCDT_EXPORT_2[[#This Row],[Sub-Category]:[Segment 5]])","v":"Bio/eco  Import Capsicums; Loose Capsicums"}]
["AH","Baltic CDT","U1","01. Ultra-Fresh","U1.04","04. Vegetables","B.06.08","21. Capsicums","15361","03. Bio/eco  Import Capsicums","15380","02. Packed Capsicums","","","","","","","","","X",null,"B.06.08","Capsicums","Bio/eco  Import Capsicums","Packed Capsicums","","","","","15380",{"$f":"_xlfn.TEXTJOIN(\"; \",TRUE,ZCDT_EXPORT_2[[#This Row],[Sub-Category]:[Segment 5]])","v":"Bio/eco  Import Capsicums; Packed Capsicums"}]
["AH","Baltic CDT","U1","01. Ultra-Fresh","U1.04","04. Vegetables","B.06.08","21. Capsicums","15362","04. Bio/eco  Local Capsicums","15381","01. Loose Capsicums","","","","","","","","","X",null,"B.06.08","Capsicums","Bio/eco  Local Capsicums","Loose Capsicums","","","","","15381",{"$f":"_xlfn.TEXTJOIN(\"; \",TRUE,ZCDT_EXPORT_2[[#This Row],[Sub-Category]:[Segment 5]])","v":"Bio/eco  Local Capsicums; Loose Capsicums"}]
["AH","Baltic CDT","U1","01. Ultra-Fresh","U1.04","04. Vegetables","B.06.08","21. Capsicums","15362","04. Bio/eco  Local Capsicums","15382","02. Packed Capsicums","","","","","","","","","X",null,"B.06.08","Capsicums","Bio/eco  Local Capsicums","Packed Capsicums","","","","","15382",{"$f":"_xlfn.TEXTJOIN(\"; \",TRUE,ZCDT_EXPORT_2[[#This Row],[Sub-Category]:[Segment 5]])","v":"Bio/eco  Local Capsicums; Packed Capsicums"}]
["AH","Baltic CDT","U1","01. Ultra-Fresh","U1.04","04. Vegetables","B.07.01","22. Radishes","12330","01. Import Radishes","12333","01. Red radishes","12342","01. Radishes  loose","","","","","","","X",null,"B.07.01","Radishes","Import Radishes","Red radishes","Radishes  loose","","","","12342",{"$f":"_xlfn.TEXTJOIN(\"; \",TRUE,ZCDT_EXPORT_2[[#This Row],[Sub-Category]:[Segment 5]])","v":"Import Radishes; Red radishes; Radishes  loose"}]
["AH","Baltic CDT","U1","01. Ultra-Fresh","U1.04","04. Vegetables","B.07.01","22. Radishes","12330","01. Import Radishes","12333","01. Red radishes","12343","02. Radishes  pac.","","","","","","","X",null,"B.07.01","Radishes","Import Radishes","Red radishes","Radishes  pac.","","","","12343",{"$f":"_xlfn.TEXTJOIN(\"; \",TRUE,ZCDT_EXPORT_2[[#This Row],[Sub-Category]:[Segment 5]])","v":"Import Radishes; Red radishes; Radishes  pac."}]
["AH","Baltic CDT","U1","01. Ultra-Fresh","U1.04","04. Vegetables","B.07.01","22. Radishes","12330","01. Import Radishes","12334","02. White radishes","12344","01. Radishes  loose","","","","","","","X",null,"B.07.01","Radishes","Import Radishes","White radishes","Radishes  loose","","","","12344",{"$f":"_xlfn.TEXTJOIN(\"; \",TRUE,ZCDT_EXPORT_2[[#This Row],[Sub-Category]:[Segment 5]])","v":"Import Radishes; White radishes; Radishes  loose"}]
["AH","Baltic CDT","U1","01. Ultra-Fresh","U1.04","04. Vegetables","B.07.01","22. Radishes","12330","01. Import Radishes","12334","02. White radishes","12345","02. Radishes  pac.","","","","","","","X",null,"B.07.01","Radishes","Import Radishes","White radishes","Radishes  pac.","","","","12345",{"$f":"_xlfn.TEXTJOIN(\"; \",TRUE,ZCDT_EXPORT_2[[#This Row],[Sub-Category]:[Segment 5]])","v":"Import Radishes; White radishes; Radishes  pac."}]
["AH","Baltic CDT","U1","01. Ultra-Fresh","U1.04","04. Vegetables","B.07.01","22. Radishes","12330","01. Import Radishes","12335","03. Other radishes","12346","01. Radishes  loose","","","","","","","X",null,"B.07.01","Radishes","Import Radishes","Other radishes","Radishes  loose","","","","12346",{"$f":"_xlfn.TEXTJOIN(\"; \",TRUE,ZCDT_EXPORT_2[[#This Row],[Sub-Category]:[Segment 5]])","v":"Import Radishes; Other radishes; Radishes  loose"}]
["AH","Baltic CDT","U1","01. Ultra-Fresh","U1.04","04. Vegetables","B.07.01","22. Radishes","12330","01. Import Radishes","12335","03. Other radishes","12347","02. Radishes  pac.","","","","","","","X",null,"B.07.01","Radishes","Import Radishes","Other radishes","Radishes  pac.","","","","12347",{"$f":"_xlfn.TEXTJOIN(\"; \",TRUE,ZCDT_EXPORT_2[[#This Row],[Sub-Category]:[Segment 5]])","v":"Import Radishes; Other radishes; Radishes  pac."}]
["AH","Baltic CDT","U1","01. Ultra-Fresh","U1.04","04. Vegetables","B.07.01","22. Radishes","12331","02. Local Radishes","12336","01. Red radishes","12348","01. Radishes  loose","","","","","","","X",null,"B.07.01","Radishes","Local Radishes","Red radishes","Radishes  loose","","","","12348",{"$f":"_xlfn.TEXTJOIN(\"; \",TRUE,ZCDT_EXPORT_2[[#This Row],[Sub-Category]:[Segment 5]])","v":"Local Radishes; Red radishes; Radishes  loose"}]
["AH","Baltic CDT","U1","01. Ultra-Fresh","U1.04","04. Vegetables","B.07.01","22. Radishes","12331","02. Local Radishes","12336","01. Red radishes","12349","02. Radishes  pac.","","","","","","","X",null,"B.07.01","Radishes","Local Radishes","Red radishes","Radishes  pac.","","","","12349",{"$f":"_xlfn.TEXTJOIN(\"; \",TRUE,ZCDT_EXPORT_2[[#This Row],[Sub-Category]:[Segment 5]])","v":"Local Radishes; Red radishes; Radishes  pac."}]
["AH","Baltic CDT","U1","01. Ultra-Fresh","U1.04","04. Vegetables","B.07.01","22. Radishes","12331","02. Local Radishes","12337","02. White radishes","12350","01. Radishes  loose","","","","","","","X",null,"B.07.01","Radishes","Local Radishes","White radishes","Radishes  loose","","","","12350",{"$f":"_xlfn.TEXTJOIN(\"; \",TRUE,ZCDT_EXPORT_2[[#This Row],[Sub-Category]:[Segment 5]])","v":"Local Radishes; White radishes; Radishes  loose"}]
["AH","Baltic CDT","U1","01. Ultra-Fresh","U1.04","04. Vegetables","B.07.01","22. Radishes","12331","02. Local Radishes","12337","02. White radishes","12351","02. Radishes  pac.","","","","","","","X",null,"B.07.01","Radishes","Local Radishes","White radishes","Radishes  pac.","","","","12351",{"$f":"_xlfn.TEXTJOIN(\"; \",TRUE,ZCDT_EXPORT_2[[#This Row],[Sub-Category]:[Segment 5]])","v":"Local Radishes; White radishes; Radishes  pac."}]
["AH","Baltic CDT","U1","01. Ultra-Fresh","U1.04","04. Vegetables","B.07.01","22. Radishes","12331","02. Local Radishes","12338","03. Other radishes","12352","01. Radishes  loose","","","","","","","X",null,"B.07.01","Radishes","Local Radishes","Other radishes","Radishes  loose","","","","12352",{"$f":"_xlfn.TEXTJOIN(\"; \",TRUE,ZCDT_EXPORT_2[[#This Row],[Sub-Category]:[Segment 5]])","v":"Local Radishes; Other radishes; Radishes  loose"}]
["AH","Baltic CDT","U1","01. Ultra-Fresh","U1.04","04. Vegetables","B.07.01","22. Radishes","12331","02. Local Radishes","12338","03. Other radishes","12353","02. Radishes  pac.","","","","","","","X",null,"B.07.01","Radishes","Local Radishes","Other radishes","Radishes  pac.","","","","12353",{"$f":"_xlfn.TEXTJOIN(\"; \",TRUE,ZCDT_EXPORT_2[[#This Row],[Sub-Category]:[Segment 5]])","v":"Local Radishes; Other radishes; Radishes  pac."}]
["AH","Baltic CDT","U1","01. Ultra-Fresh","U1.04","04. Vegetables","B.07.01","22. Radishes","12332","03.  Bio /Eco radishes","12339","01. Red radishes","12354","01. Radishes  loose","","","","","","","X",null,"B.07.01","Radishes","Bio /Eco radishes","Red radishes","Radishes  loose","","","","12354",{"$f":"_xlfn.TEXTJOIN(\"; \",TRUE,ZCDT_EXPORT_2[[#This Row],[Sub-Category]:[Segment 5]])","v":"Bio /Eco radishes; Red radishes; Radishes  loose"}]
["AH","Baltic CDT","U1","01. Ultra-Fresh","U1.04","04. Vegetables","B.07.01","22. Radishes","12332","03.  Bio /Eco radishes","12339","01. Red radishes","12355","02. Radishes  pac.","","","","","","","X",null,"B.07.01","Radishes","Bio /Eco radishes","Red radishes","Radishes  pac.","","","","12355",{"$f":"_xlfn.TEXTJOIN(\"; \",TRUE,ZCDT_EXPORT_2[[#This Row],[Sub-Category]:[Segment 5]])","v":"Bio /Eco radishes; Red radishes; Radishes  pac."}]
["AH","Baltic CDT","U1","01. Ultra-Fresh","U1.04","04. Vegetables","B.07.01","22. Radishes","12332","03.  Bio /Eco radishes","12340","02. White radishes","12356","01. Radishes  loose","","","","","","","X",null,"B.07.01","Radishes","Bio /Eco radishes","White radishes","Radishes  loose","","","","12356",{"$f":"_xlfn.TEXTJOIN(\"; \",TRUE,ZCDT_EXPORT_2[[#This Row],[Sub-Category]:[Segment 5]])","v":"Bio /Eco radishes; White radishes; Radishes  loose"}]
["AH","Baltic CDT","U1","01. Ultra-Fresh","U1.04","04. Vegetables","B.07.01","22. Radishes","12332","03.  Bio /Eco radishes","12340","02. White radishes","12357","02. Radishes  pac.","","","","","","","X",null,"B.07.01","Radishes","Bio /Eco radishes","White radishes","Radishes  pac.","","","","12357",{"$f":"_xlfn.TEXTJOIN(\"; \",TRUE,ZCDT_EXPORT_2[[#This Row],[Sub-Category]:[Segment 5]])","v":"Bio /Eco radishes; White radishes; Radishes  pac."}]
["AH","Baltic CDT","U1","01. Ultra-Fresh","U1.04","04. Vegetables","B.07.01","22. Radishes","12332","03.  Bio /Eco radishes","12341","03. Other radishes","12358","01. Radishes  loose","","","","","","","X",null,"B.07.01","Radishes","Bio /Eco radishes","Other radishes","Radishes  loose","","","","12358",{"$f":"_xlfn.TEXTJOIN(\"; \",TRUE,ZCDT_EXPORT_2[[#This Row],[Sub-Category]:[Segment 5]])","v":"Bio /Eco radishes; Other radishes; Radishes  loose"}]
["AH","Baltic CDT","U1","01. Ultra-Fresh","U1.04","04. Vegetables","B.07.01","22. Radishes","12332","03.  Bio /Eco radishes","12341","03. Other radishes","12359","02. Radishes  pac.","","","","","","","X",null,"B.07.01","Radishes","Bio /Eco radishes","Other radishes","Radishes  pac.","","","","12359",{"$f":"_xlfn.TEXTJOIN(\"; \",TRUE,ZCDT_EXPORT_2[[#This Row],[Sub-Category]:[Segment 5]])","v":"Bio /Eco radishes; Other radishes; Radishes  pac."}]
["AH","Baltic CDT","U1","01. Ultra-Fresh","U1.04","04. Vegetables","B.07.02","23. Carrots","12360","01. Import Carrots","12364","01. Carrots loose","","","","","","","","","X",null,"B.07.02","Carrots","Import Carrots","Carrots loose","","","","","12364",{"$f":"_xlfn.TEXTJOIN(\"; \",TRUE,ZCDT_EXPORT_2[[#This Row],[Sub-Category]:[Segment 5]])","v":"Import Carrots; Carrots loose"}]
["AH","Baltic CDT","U1","01. Ultra-Fresh","U1.04","04. Vegetables","B.07.02","23. Carrots","12360","01. Import Carrots","12365","02. Carrots  pac.","","","","","","","","","X",null,"B.07.02","Carrots","Import Carrots","Carrots  pac.","","","","","12365",{"$f":"_xlfn.TEXTJOIN(\"; \",TRUE,ZCDT_EXPORT_2[[#This Row],[Sub-Category]:[Segment 5]])","v":"Import Carrots; Carrots  pac."}]
["AH","Baltic CDT","U1","01. Ultra-Fresh","U1.04","04. Vegetables","B.07.02","23. Carrots","12361","02. Local Carrots","12366","01. Carrots loose","","","","","","","","","X",null,"B.07.02","Carrots","Local Carrots","Carrots loose","","","","","12366",{"$f":"_xlfn.TEXTJOIN(\"; \",TRUE,ZCDT_EXPORT_2[[#This Row],[Sub-Category]:[Segment 5]])","v":"Local Carrots; Carrots loose"}]
["AH","Baltic CDT","U1","01. Ultra-Fresh","U1.04","04. Vegetables","B.07.02","23. Carrots","12361","02. Local Carrots","12367","02. Carrots  pac.","","","","","","","","","X",null,"B.07.02","Carrots","Local Carrots","Carrots  pac.","","","","","12367",{"$f":"_xlfn.TEXTJOIN(\"; \",TRUE,ZCDT_EXPORT_2[[#This Row],[Sub-Category]:[Segment 5]])","v":"Local Carrots; Carrots  pac."}]
["AH","Baltic CDT","U1","01. Ultra-Fresh","U1.04","04. Vegetables","B.07.02","23. Carrots","12362","03.  Bio /Eco Carrots","12368","01. Carrots loose","","","","","","","","","X",null,"B.07.02","Carrots","Bio /Eco Carrots","Carrots loose","","","","","12368",{"$f":"_xlfn.TEXTJOIN(\"; \",TRUE,ZCDT_EXPORT_2[[#This Row],[Sub-Category]:[Segment 5]])","v":"Bio /Eco Carrots; Carrots loose"}]
["AH","Baltic CDT","U1","01. Ultra-Fresh","U1.04","04. Vegetables","B.07.02","23. Carrots","12362","03.  Bio /Eco Carrots","12369","02. Carrots  pac.","","","","","","","","","X",null,"B.07.02","Carrots","Bio /Eco Carrots","Carrots  pac.","","","","","12369",{"$f":"_xlfn.TEXTJOIN(\"; \",TRUE,ZCDT_EXPORT_2[[#This Row],[Sub-Category]:[Segment 5]])","v":"Bio /Eco Carrots; Carrots  pac."}]
["AH","Baltic CDT","U1","01. Ultra-Fresh","U1.04","04. Vegetables","B.07.02","23. Carrots","12363","04. Other Carrots (colored carrots)","12370","01. Carrots loose","","","","","","","","","X",null,"B.07.02","Carrots","Other Carrots (colored carrots)","Carrots loose","","","","","12370",{"$f":"_xlfn.TEXTJOIN(\"; \",TRUE,ZCDT_EXPORT_2[[#This Row],[Sub-Category]:[Segment 5]])","v":"Other Carrots (colored carrots); Carrots loose"}]
["AH","Baltic CDT","U1","01. Ultra-Fresh","U1.04","04. Vegetables","B.07.02","23. Carrots","12363","04. Other Carrots (colored carrots)","12371","02. Carrots  pac.","","","","","","","","","X",null,"B.07.02","Carrots","Other Carrots (colored carrots)","Carrots  pac.","","","","","12371",{"$f":"_xlfn.TEXTJOIN(\"; \",TRUE,ZCDT_EXPORT_2[[#This Row],[Sub-Category]:[Segment 5]])","v":"Other Carrots (colored carrots); Carrots  pac."}]
["AH","Baltic CDT","U1","01. Ultra-Fresh","U1.04","04. Vegetables","B.07.03","24. Beetrots","12372","01. Import Beetroots","12376","01. Beetroots loos","","","","","","","","","X",null,"B.07.03","Beetrots","Import Beetroots","Beetroots loos","","","","","12376",{"$f":"_xlfn.TEXTJOIN(\"; \",TRUE,ZCDT_EXPORT_2[[#This Row],[Sub-Category]:[Segment 5]])","v":"Import Beetroots; Beetroots loos"}]
["AH","Baltic CDT","U1","01. Ultra-Fresh","U1.04","04. Vegetables","B.07.03","24. Beetrots","12372","01. Import Beetroots","12377","02. Beetroots pac.","","","","","","","","","X",null,"B.07.03","Beetrots","Import Beetroots","Beetroots pac.","","","","","12377",{"$f":"_xlfn.TEXTJOIN(\"; \",TRUE,ZCDT_EXPORT_2[[#This Row],[Sub-Category]:[Segment 5]])","v":"Import Beetroots; Beetroots pac."}]
["AH","Baltic CDT","U1","01. Ultra-Fresh","U1.04","04. Vegetables","B.07.03","24. Beetrots","12373","02. Local Beetroots","12378","01. Beetroots loos","","","","","","","","","X",null,"B.07.03","Beetrots","Local Beetroots","Beetroots loos","","","","","12378",{"$f":"_xlfn.TEXTJOIN(\"; \",TRUE,ZCDT_EXPORT_2[[#This Row],[Sub-Category]:[Segment 5]])","v":"Local Beetroots; Beetroots loos"}]
["AH","Baltic CDT","U1","01. Ultra-Fresh","U1.04","04. Vegetables","B.07.03","24. Beetrots","12373","02. Local Beetroots","12379","02. Beetroots pac.","","","","","","","","","X",null,"B.07.03","Beetrots","Local Beetroots","Beetroots pac.","","","","","12379",{"$f":"_xlfn.TEXTJOIN(\"; \",TRUE,ZCDT_EXPORT_2[[#This Row],[Sub-Category]:[Segment 5]])","v":"Local Beetroots; Beetroots pac."}]
["AH","Baltic CDT","U1","01. Ultra-Fresh","U1.04","04. Vegetables","B.07.03","24. Beetrots","12374","03. Bio /Eco Beetroots","12380","01. Beetroots loos","","","","","","","","","X",null,"B.07.03","Beetrots","Bio /Eco Beetroots","Beetroots loos","","","","","12380",{"$f":"_xlfn.TEXTJOIN(\"; \",TRUE,ZCDT_EXPORT_2[[#This Row],[Sub-Category]:[Segment 5]])","v":"Bio /Eco Beetroots; Beetroots loos"}]
["AH","Baltic CDT","U1","01. Ultra-Fresh","U1.04","04. Vegetables","B.07.03","24. Beetrots","12374","03. Bio /Eco Beetroots","12381","02. Beetroots pac.","","","","","","","","","X",null,"B.07.03","Beetrots","Bio /Eco Beetroots","Beetroots pac.","","","","","12381",{"$f":"_xlfn.TEXTJOIN(\"; \",TRUE,ZCDT_EXPORT_2[[#This Row],[Sub-Category]:[Segment 5]])","v":"Bio /Eco Beetroots; Beetroots pac."}]
["AH","Baltic CDT","U1","01. Ultra-Fresh","U1.04","04. Vegetables","B.07.03","24. Beetrots","12375","04. Other Beetroots","12382","01. Beetroots loos","","","","","","","","","X",null,"B.07.03","Beetrots","Other Beetroots","Beetroots loos","","","","","12382",{"$f":"_xlfn.TEXTJOIN(\"; \",TRUE,ZCDT_EXPORT_2[[#This Row],[Sub-Category]:[Segment 5]])","v":"Other Beetroots; Beetroots loos"}]
["AH","Baltic CDT","U1","01. Ultra-Fresh","U1.04","04. Vegetables","B.07.03","24. Beetrots","12375","04. Other Beetroots","12383","02. Beetroots pac.","","","","","","","","","X",null,"B.07.03","Beetrots","Other Beetroots","Beetroots pac.","","","","","12383",{"$f":"_xlfn.TEXTJOIN(\"; \",TRUE,ZCDT_EXPORT_2[[#This Row],[Sub-Category]:[Segment 5]])","v":"Other Beetroots; Beetroots pac."}]
["AH","Baltic CDT","U1","01. Ultra-Fresh","U1.04","04. Vegetables","B.07.04","25. Other root crops","12384","01. Import","12387","01. loos","","","","","","","","","X",null,"B.07.04","Other root crops","Import","loos","","","","","12387",{"$f":"_xlfn.TEXTJOIN(\"; \",TRUE,ZCDT_EXPORT_2[[#This Row],[Sub-Category]:[Segment 5]])","v":"Import; loos"}]
["AH","Baltic CDT","U1","01. Ultra-Fresh","U1.04","04. Vegetables","B.07.04","25. Other root crops","12384","01. Import","12388","02. pac","","","","","","","","","X",null,"B.07.04","Other root crops","Import","pac","","","","","12388",{"$f":"_xlfn.TEXTJOIN(\"; \",TRUE,ZCDT_EXPORT_2[[#This Row],[Sub-Category]:[Segment 5]])","v":"Import; pac"}]
["AH","Baltic CDT","U1","01. Ultra-Fresh","U1.04","04. Vegetables","B.07.04","25. Other root crops","12385","02. Local","12389","01. loos","","","","","","","","","X",null,"B.07.04","Other root crops","Local","loos","","","","","12389",{"$f":"_xlfn.TEXTJOIN(\"; \",TRUE,ZCDT_EXPORT_2[[#This Row],[Sub-Category]:[Segment 5]])","v":"Local; loos"}]
["AH","Baltic CDT","U1","01. Ultra-Fresh","U1.04","04. Vegetables","B.07.04","25. Other root crops","12385","02. Local","12390","02. pac","","","","","","","","","X",null,"B.07.04","Other root crops","Local","pac","","","","","12390",{"$f":"_xlfn.TEXTJOIN(\"; \",TRUE,ZCDT_EXPORT_2[[#This Row],[Sub-Category]:[Segment 5]])","v":"Local; pac"}]
["AH","Baltic CDT","U1","01. Ultra-Fresh","U1.04","04. Vegetables","B.07.04","25. Other root crops","12386","03. Bio /Eco","12391","01. loos","","","","","","","","","X",null,"B.07.04","Other root crops","Bio /Eco","loos","","","","","12391",{"$f":"_xlfn.TEXTJOIN(\"; \",TRUE,ZCDT_EXPORT_2[[#This Row],[Sub-Category]:[Segment 5]])","v":"Bio /Eco; loos"}]
["AH","Baltic CDT","U1","01. Ultra-Fresh","U1.04","04. Vegetables","B.07.04","25. Other root crops","12386","03. Bio /Eco","12392","02. pac","","","","","","","","","X",null,"B.07.04","Other root crops","Bio /Eco","pac","","","","","12392",{"$f":"_xlfn.TEXTJOIN(\"; \",TRUE,ZCDT_EXPORT_2[[#This Row],[Sub-Category]:[Segment 5]])","v":"Bio /Eco; pac"}]
["AH","Baltic CDT","U1","01. Ultra-Fresh","U1.04","04. Vegetables","B.07.05","26. Potatoes","12393","01. Import Potatoes","12397","01. Potatoes loose","","","","","","","","","X",null,"B.07.05","Potatoes","Import Potatoes","Potatoes loose","","","","","12397",{"$f":"_xlfn.TEXTJOIN(\"; \",TRUE,ZCDT_EXPORT_2[[#This Row],[Sub-Category]:[Segment 5]])","v":"Import Potatoes; Potatoes loose"}]
["AH","Baltic CDT","U1","01. Ultra-Fresh","U1.04","04. Vegetables","B.07.05","26. Potatoes","12393","01. Import Potatoes","12398","02. Potatoes pac","","","","","","","","","X",null,"B.07.05","Potatoes","Import Potatoes","Potatoes pac","","","","","12398",{"$f":"_xlfn.TEXTJOIN(\"; \",TRUE,ZCDT_EXPORT_2[[#This Row],[Sub-Category]:[Segment 5]])","v":"Import Potatoes; Potatoes pac"}]
["AH","Baltic CDT","U1","01. Ultra-Fresh","U1.04","04. Vegetables","B.07.05","26. Potatoes","12394","02. Local Potatoes","12399","01. Potatoes loose","","","","","","","","","X",null,"B.07.05","Potatoes","Local Potatoes","Potatoes loose","","","","","12399",{"$f":"_xlfn.TEXTJOIN(\"; \",TRUE,ZCDT_EXPORT_2[[#This Row],[Sub-Category]:[Segment 5]])","v":"Local Potatoes; Potatoes loose"}]
["AH","Baltic CDT","U1","01. Ultra-Fresh","U1.04","04. Vegetables","B.07.05","26. Potatoes","12394","02. Local Potatoes","12400","02. Potatoes pac","","","","","","","","","X",null,"B.07.05","Potatoes","Local Potatoes","Potatoes pac","","","","","12400",{"$f":"_xlfn.TEXTJOIN(\"; \",TRUE,ZCDT_EXPORT_2[[#This Row],[Sub-Category]:[Segment 5]])","v":"Local Potatoes; Potatoes pac"}]
["AH","Baltic CDT","U1","01. Ultra-Fresh","U1.04","04. Vegetables","B.07.05","26. Potatoes","12395","03.  Bio /Eco Potatoes","12401","01. Potatoes loose","","","","","","","","","X",null,"B.07.05","Potatoes","Bio /Eco Potatoes","Potatoes loose","","","","","12401",{"$f":"_xlfn.TEXTJOIN(\"; \",TRUE,ZCDT_EXPORT_2[[#This Row],[Sub-Category]:[Segment 5]])","v":"Bio /Eco Potatoes; Potatoes loose"}]
["AH","Baltic CDT","U1","01. Ultra-Fresh","U1.04","04. Vegetables","B.07.05","26. Potatoes","12395","03.  Bio /Eco Potatoes","12402","02. Potatoes pac","","","","","","","","","X",null,"B.07.05","Potatoes","Bio /Eco Potatoes","Potatoes pac","","","","","12402",{"$f":"_xlfn.TEXTJOIN(\"; \",TRUE,ZCDT_EXPORT_2[[#This Row],[Sub-Category]:[Segment 5]])","v":"Bio /Eco Potatoes; Potatoes pac"}]
["AH","Baltic CDT","U1","01. Ultra-Fresh","U1.04","04. Vegetables","B.07.05","26. Potatoes","12396","04. Other potatoes (Sweet potatoes)","12403","01. Potatoes loose","","","","","","","","","X",null,"B.07.05","Potatoes","Other potatoes (Sweet potatoes)","Potatoes loose","","","","","12403",{"$f":"_xlfn.TEXTJOIN(\"; \",TRUE,ZCDT_EXPORT_2[[#This Row],[Sub-Category]:[Segment 5]])","v":"Other potatoes (Sweet potatoes); Potatoes loose"}]
["AH","Baltic CDT","U1","01. Ultra-Fresh","U1.04","04. Vegetables","B.07.05","26. Potatoes","12396","04. Other potatoes (Sweet potatoes)","12404","02. Potatoes pac","","","","","","","","","X",null,"B.07.05","Potatoes","Other potatoes (Sweet potatoes)","Potatoes pac","","","","","12404",{"$f":"_xlfn.TEXTJOIN(\"; \",TRUE,ZCDT_EXPORT_2[[#This Row],[Sub-Category]:[Segment 5]])","v":"Other potatoes (Sweet potatoes); Potatoes pac"}]
["AH","Baltic CDT","U1","01. Ultra-Fresh","U1.04","04. Vegetables","B.07.06","27. Onions","12405","01. Import Onions","12408","01. Onions loose","12414","01. Yellow Onion","","","","","","","X",null,"B.07.06","Onions","Import Onions","Onions loose","Yellow Onion","","","","12414",{"$f":"_xlfn.TEXTJOIN(\"; \",TRUE,ZCDT_EXPORT_2[[#This Row],[Sub-Category]:[Segment 5]])","v":"Import Onions; Onions loose; Yellow Onion"}]
["AH","Baltic CDT","U1","01. Ultra-Fresh","U1.04","04. Vegetables","B.07.06","27. Onions","12405","01. Import Onions","12408","01. Onions loose","12415","02. Red Onions","","","","","","","X",null,"B.07.06","Onions","Import Onions","Onions loose","Red Onions","","","","12415",{"$f":"_xlfn.TEXTJOIN(\"; \",TRUE,ZCDT_EXPORT_2[[#This Row],[Sub-Category]:[Segment 5]])","v":"Import Onions; Onions loose; Red Onions"}]
["AH","Baltic CDT","U1","01. Ultra-Fresh","U1.04","04. Vegetables","B.07.06","27. Onions","12405","01. Import Onions","12408","01. Onions loose","12416","03. Other Onions","","","","","","","X",null,"B.07.06","Onions","Import Onions","Onions loose","Other Onions","","","","12416",{"$f":"_xlfn.TEXTJOIN(\"; \",TRUE,ZCDT_EXPORT_2[[#This Row],[Sub-Category]:[Segment 5]])","v":"Import Onions; Onions loose; Other Onions"}]
["AH","Baltic CDT","U1","01. Ultra-Fresh","U1.04","04. Vegetables","B.07.06","27. Onions","12405","01. Import Onions","12409","02. Onions pac.","12417","01. Yellow Onion","","","","","","","X",null,"B.07.06","Onions","Import Onions","Onions pac.","Yellow Onion","","","","12417",{"$f":"_xlfn.TEXTJOIN(\"; \",TRUE,ZCDT_EXPORT_2[[#This Row],[Sub-Category]:[Segment 5]])","v":"Import Onions; Onions pac.; Yellow Onion"}]
["AH","Baltic CDT","U1","01. Ultra-Fresh","U1.04","04. Vegetables","B.07.06","27. Onions","12405","01. Import Onions","12409","02. Onions pac.","12418","02. Red Onions","","","","","","","X",null,"B.07.06","Onions","Import Onions","Onions pac.","Red Onions","","","","12418",{"$f":"_xlfn.TEXTJOIN(\"; \",TRUE,ZCDT_EXPORT_2[[#This Row],[Sub-Category]:[Segment 5]])","v":"Import Onions; Onions pac.; Red Onions"}]
["AH","Baltic CDT","U1","01. Ultra-Fresh","U1.04","04. Vegetables","B.07.06","27. Onions","12405","01. Import Onions","12409","02. Onions pac.","12419","03. Other Onions","","","","","","","X",null,"B.07.06","Onions","Import Onions","Onions pac.","Other Onions","","","","12419",{"$f":"_xlfn.TEXTJOIN(\"; \",TRUE,ZCDT_EXPORT_2[[#This Row],[Sub-Category]:[Segment 5]])","v":"Import Onions; Onions pac.; Other Onions"}]
["AH","Baltic CDT","U1","01. Ultra-Fresh","U1.04","04. Vegetables","B.07.06","27. Onions","12406","02. Local Onions","12410","01. Onions loose","12420","01. Yellow Onion","","","","","","","X",null,"B.07.06","Onions","Local Onions","Onions loose","Yellow Onion","","","","12420",{"$f":"_xlfn.TEXTJOIN(\"; \",TRUE,ZCDT_EXPORT_2[[#This Row],[Sub-Category]:[Segment 5]])","v":"Local Onions; Onions loose; Yellow Onion"}]
["AH","Baltic CDT","U1","01. Ultra-Fresh","U1.04","04. Vegetables","B.07.06","27. Onions","12406","02. Local Onions","12410","01. Onions loose","12421","02. Red Onions","","","","","","","X",null,"B.07.06","Onions","Local Onions","Onions loose","Red Onions","","","","12421",{"$f":"_xlfn.TEXTJOIN(\"; \",TRUE,ZCDT_EXPORT_2[[#This Row],[Sub-Category]:[Segment 5]])","v":"Local Onions; Onions loose; Red Onions"}]
["AH","Baltic CDT","U1","01. Ultra-Fresh","U1.04","04. Vegetables","B.07.06","27. Onions","12406","02. Local Onions","12410","01. Onions loose","12422","03. Other Onions","","","","","","","X",null,"B.07.06","Onions","Local Onions","Onions loose","Other Onions","","","","12422",{"$f":"_xlfn.TEXTJOIN(\"; \",TRUE,ZCDT_EXPORT_2[[#This Row],[Sub-Category]:[Segment 5]])","v":"Local Onions; Onions loose; Other Onions"}]
["AH","Baltic CDT","U1","01. Ultra-Fresh","U1.04","04. Vegetables","B.07.06","27. Onions","12406","02. Local Onions","12411","02. Onions pac.","12423","01. Yellow Onion","","","","","","","X",null,"B.07.06","Onions","Local Onions","Onions pac.","Yellow Onion","","","","12423",{"$f":"_xlfn.TEXTJOIN(\"; \",TRUE,ZCDT_EXPORT_2[[#This Row],[Sub-Category]:[Segment 5]])","v":"Local Onions; Onions pac.; Yellow Onion"}]
["AH","Baltic CDT","U1","01. Ultra-Fresh","U1.04","04. Vegetables","B.07.06","27. Onions","12406","02. Local Onions","12411","02. Onions pac.","12424","02. Red Onions","","","","","","","X",null,"B.07.06","Onions","Local Onions","Onions pac.","Red Onions","","","","12424",{"$f":"_xlfn.TEXTJOIN(\"; \",TRUE,ZCDT_EXPORT_2[[#This Row],[Sub-Category]:[Segment 5]])","v":"Local Onions; Onions pac.; Red Onions"}]
["AH","Baltic CDT","U1","01. Ultra-Fresh","U1.04","04. Vegetables","B.07.06","27. Onions","12406","02. Local Onions","12411","02. Onions pac.","12425","03. Other Onions","","","","","","","X",null,"B.07.06","Onions","Local Onions","Onions pac.","Other Onions","","","","12425",{"$f":"_xlfn.TEXTJOIN(\"; \",TRUE,ZCDT_EXPORT_2[[#This Row],[Sub-Category]:[Segment 5]])","v":"Local Onions; Onions pac.; Other Onions"}]
["AH","Baltic CDT","U1","01. Ultra-Fresh","U1.04","04. Vegetables","B.07.06","27. Onions","12407","03.  Bio /Eco Onions","12412","01. Onions loose","12426","01. Yellow Onion","","","","","","","X",null,"B.07.06","Onions","Bio /Eco Onions","Onions loose","Yellow Onion","","","","12426",{"$f":"_xlfn.TEXTJOIN(\"; \",TRUE,ZCDT_EXPORT_2[[#This Row],[Sub-Category]:[Segment 5]])","v":"Bio /Eco Onions; Onions loose; Yellow Onion"}]
["AH","Baltic CDT","U1","01. Ultra-Fresh","U1.04","04. Vegetables","B.07.06","27. Onions","12407","03.  Bio /Eco Onions","12412","01. Onions loose","12427","02. Red Onions","","","","","","","X",null,"B.07.06","Onions","Bio /Eco Onions","Onions loose","Red Onions","","","","12427",{"$f":"_xlfn.TEXTJOIN(\"; \",TRUE,ZCDT_EXPORT_2[[#This Row],[Sub-Category]:[Segment 5]])","v":"Bio /Eco Onions; Onions loose; Red Onions"}]
["AH","Baltic CDT","U1","01. Ultra-Fresh","U1.04","04. Vegetables","B.07.06","27. Onions","12407","03.  Bio /Eco Onions","12412","01. Onions loose","12428","03. Other Onions","","","","","","","X",null,"B.07.06","Onions","Bio /Eco Onions","Onions loose","Other Onions","","","","12428",{"$f":"_xlfn.TEXTJOIN(\"; \",TRUE,ZCDT_EXPORT_2[[#This Row],[Sub-Category]:[Segment 5]])","v":"Bio /Eco Onions; Onions loose; Other Onions"}]
["AH","Baltic CDT","U1","01. Ultra-Fresh","U1.04","04. Vegetables","B.07.06","27. Onions","12407","03.  Bio /Eco Onions","12413","02. Onions pac.","12429","01. Yellow Onion","","","","","","","X",null,"B.07.06","Onions","Bio /Eco Onions","Onions pac.","Yellow Onion","","","","12429",{"$f":"_xlfn.TEXTJOIN(\"; \",TRUE,ZCDT_EXPORT_2[[#This Row],[Sub-Category]:[Segment 5]])","v":"Bio /Eco Onions; Onions pac.; Yellow Onion"}]
["AH","Baltic CDT","U1","01. Ultra-Fresh","U1.04","04. Vegetables","B.07.06","27. Onions","12407","03.  Bio /Eco Onions","12413","02. Onions pac.","12430","02. Red Onions","","","","","","","X",null,"B.07.06","Onions","Bio /Eco Onions","Onions pac.","Red Onions","","","","12430",{"$f":"_xlfn.TEXTJOIN(\"; \",TRUE,ZCDT_EXPORT_2[[#This Row],[Sub-Category]:[Segment 5]])","v":"Bio /Eco Onions; Onions pac.; Red Onions"}]
["AH","Baltic CDT","U1","01. Ultra-Fresh","U1.04","04. Vegetables","B.07.06","27. Onions","12407","03.  Bio /Eco Onions","12413","02. Onions pac.","12431","03. Other Onions","","","","","","","X",null,"B.07.06","Onions","Bio /Eco Onions","Onions pac.","Other Onions","","","","12431",{"$f":"_xlfn.TEXTJOIN(\"; \",TRUE,ZCDT_EXPORT_2[[#This Row],[Sub-Category]:[Segment 5]])","v":"Bio /Eco Onions; Onions pac.; Other Onions"}]
["AH","Baltic CDT","U1","01. Ultra-Fresh","U1.04","04. Vegetables","B.07.07","28. Garlic","12432","01. Import Garlic","12436","01. Garlic loose","","","","","","","","","X",null,"B.07.07","Garlic","Import Garlic","Garlic loose","","","","","12436",{"$f":"_xlfn.TEXTJOIN(\"; \",TRUE,ZCDT_EXPORT_2[[#This Row],[Sub-Category]:[Segment 5]])","v":"Import Garlic; Garlic loose"}]
["AH","Baltic CDT","U1","01. Ultra-Fresh","U1.04","04. Vegetables","B.07.07","28. Garlic","12432","01. Import Garlic","12437","02. Garlic pac.","","","","","","","","","X",null,"B.07.07","Garlic","Import Garlic","Garlic pac.","","","","","12437",{"$f":"_xlfn.TEXTJOIN(\"; \",TRUE,ZCDT_EXPORT_2[[#This Row],[Sub-Category]:[Segment 5]])","v":"Import Garlic; Garlic pac."}]
["AH","Baltic CDT","U1","01. Ultra-Fresh","U1.04","04. Vegetables","B.07.07","28. Garlic","12433","02. Local Garlic","12438","01. Garlic loose","","","","","","","","","X",null,"B.07.07","Garlic","Local Garlic","Garlic loose","","","","","12438",{"$f":"_xlfn.TEXTJOIN(\"; \",TRUE,ZCDT_EXPORT_2[[#This Row],[Sub-Category]:[Segment 5]])","v":"Local Garlic; Garlic loose"}]
["AH","Baltic CDT","U1","01. Ultra-Fresh","U1.04","04. Vegetables","B.07.07","28. Garlic","12433","02. Local Garlic","12439","02. Garlic pac.","","","","","","","","","X",null,"B.07.07","Garlic","Local Garlic","Garlic pac.","","","","","12439",{"$f":"_xlfn.TEXTJOIN(\"; \",TRUE,ZCDT_EXPORT_2[[#This Row],[Sub-Category]:[Segment 5]])","v":"Local Garlic; Garlic pac."}]
["AH","Baltic CDT","U1","01. Ultra-Fresh","U1.04","04. Vegetables","B.07.07","28. Garlic","12434","03.  Bio /Eco Garlic","12440","01. Garlic loose","","","","","","","","","X",null,"B.07.07","Garlic","Bio /Eco Garlic","Garlic loose","","","","","12440",{"$f":"_xlfn.TEXTJOIN(\"; \",TRUE,ZCDT_EXPORT_2[[#This Row],[Sub-Category]:[Segment 5]])","v":"Bio /Eco Garlic; Garlic loose"}]
["AH","Baltic CDT","U1","01. Ultra-Fresh","U1.04","04. Vegetables","B.07.07","28. Garlic","12434","03.  Bio /Eco Garlic","12441","02. Garlic pac.","","","","","","","","","X",null,"B.07.07","Garlic","Bio /Eco Garlic","Garlic pac.","","","","","12441",{"$f":"_xlfn.TEXTJOIN(\"; \",TRUE,ZCDT_EXPORT_2[[#This Row],[Sub-Category]:[Segment 5]])","v":"Bio /Eco Garlic; Garlic pac."}]
["AH","Baltic CDT","U1","01. Ultra-Fresh","U1.04","04. Vegetables","B.07.07","28. Garlic","12435","04. Other Garlic","12442","01. Garlic loose","","","","","","","","","X",null,"B.07.07","Garlic","Other Garlic","Garlic loose","","","","","12442",{"$f":"_xlfn.TEXTJOIN(\"; \",TRUE,ZCDT_EXPORT_2[[#This Row],[Sub-Category]:[Segment 5]])","v":"Other Garlic; Garlic loose"}]
["AH","Baltic CDT","U1","01. Ultra-Fresh","U1.04","04. Vegetables","B.07.07","28. Garlic","12435","04. Other Garlic","12443","02. Garlic pac.","","","","","","","","","X",null,"B.07.07","Garlic","Other Garlic","Garlic pac.","","","","","12443",{"$f":"_xlfn.TEXTJOIN(\"; \",TRUE,ZCDT_EXPORT_2[[#This Row],[Sub-Category]:[Segment 5]])","v":"Other Garlic; Garlic pac."}]
["AH","Baltic CDT","U1","01. Ultra-Fresh","U1.04","04. Vegetables","B.08.01","29. Herbs","12444","01. Cut Herbs","12446","01. Dill","12450","01. loos","","","","","","","X",null,"B.08.01","Herbs","Cut Herbs","Dill","loos","","","","12450",{"$f":"_xlfn.TEXTJOIN(\"; \",TRUE,ZCDT_EXPORT_2[[#This Row],[Sub-Category]:[Segment 5]])","v":"Cut Herbs; Dill; loos"}]
["AH","Baltic CDT","U1","01. Ultra-Fresh","U1.04","04. Vegetables","B.08.01","29. Herbs","12444","01. Cut Herbs","12446","01. Dill","12451","02. pac","","","","","","","X",null,"B.08.01","Herbs","Cut Herbs","Dill","pac","","","","12451",{"$f":"_xlfn.TEXTJOIN(\"; \",TRUE,ZCDT_EXPORT_2[[#This Row],[Sub-Category]:[Segment 5]])","v":"Cut Herbs; Dill; pac"}]
["AH","Baltic CDT","U1","01. Ultra-Fresh","U1.04","04. Vegetables","B.08.01","29. Herbs","12444","01. Cut Herbs","12447","02. Parsley","12452","01. loos","","","","","","","X",null,"B.08.01","Herbs","Cut Herbs","Parsley","loos","","","","12452",{"$f":"_xlfn.TEXTJOIN(\"; \",TRUE,ZCDT_EXPORT_2[[#This Row],[Sub-Category]:[Segment 5]])","v":"Cut Herbs; Parsley; loos"}]
["AH","Baltic CDT","U1","01. Ultra-Fresh","U1.04","04. Vegetables","B.08.01","29. Herbs","12444","01. Cut Herbs","12447","02. Parsley","12453","02. pac","","","","","","","X",null,"B.08.01","Herbs","Cut Herbs","Parsley","pac","","","","12453",{"$f":"_xlfn.TEXTJOIN(\"; \",TRUE,ZCDT_EXPORT_2[[#This Row],[Sub-Category]:[Segment 5]])","v":"Cut Herbs; Parsley; pac"}]
["AH","Baltic CDT","U1","01. Ultra-Fresh","U1.04","04. Vegetables","B.08.01","29. Herbs","12444","01. Cut Herbs","12448","03. Spring Onions","12454","01. loos","","","","","","","X",null,"B.08.01","Herbs","Cut Herbs","Spring Onions","loos","","","","12454",{"$f":"_xlfn.TEXTJOIN(\"; \",TRUE,ZCDT_EXPORT_2[[#This Row],[Sub-Category]:[Segment 5]])","v":"Cut Herbs; Spring Onions; loos"}]
["AH","Baltic CDT","U1","01. Ultra-Fresh","U1.04","04. Vegetables","B.08.01","29. Herbs","12444","01. Cut Herbs","12448","03. Spring Onions","12455","02. pac","","","","","","","X",null,"B.08.01","Herbs","Cut Herbs","Spring Onions","pac","","","","12455",{"$f":"_xlfn.TEXTJOIN(\"; \",TRUE,ZCDT_EXPORT_2[[#This Row],[Sub-Category]:[Segment 5]])","v":"Cut Herbs; Spring Onions; pac"}]
["AH","Baltic CDT","U1","01. Ultra-Fresh","U1.04","04. Vegetables","B.08.01","29. Herbs","12444","01. Cut Herbs","12449","04. Other Herbs","12456","01. loos","","","","","","","X",null,"B.08.01","Herbs","Cut Herbs","Other Herbs","loos","","","","12456",{"$f":"_xlfn.TEXTJOIN(\"; \",TRUE,ZCDT_EXPORT_2[[#This Row],[Sub-Category]:[Segment 5]])","v":"Cut Herbs; Other Herbs; loos"}]
["AH","Baltic CDT","U1","01. Ultra-Fresh","U1.04","04. Vegetables","B.08.01","29. Herbs","12444","01. Cut Herbs","12449","04. Other Herbs","12457","02. pac","","","","","","","X",null,"B.08.01","Herbs","Cut Herbs","Other Herbs","pac","","","","12457",{"$f":"_xlfn.TEXTJOIN(\"; \",TRUE,ZCDT_EXPORT_2[[#This Row],[Sub-Category]:[Segment 5]])","v":"Cut Herbs; Other Herbs; pac"}]
["AH","Baltic CDT","U1","01. Ultra-Fresh","U1.04","04. Vegetables","B.08.01","29. Herbs","12445","02. Herbs in pots","12458","01. Imports Herbs in pots","","","","","","","","","X",null,"B.08.01","Herbs","Herbs in pots","Imports Herbs in pots","","","","","12458",{"$f":"_xlfn.TEXTJOIN(\"; \",TRUE,ZCDT_EXPORT_2[[#This Row],[Sub-Category]:[Segment 5]])","v":"Herbs in pots; Imports Herbs in pots"}]
["AH","Baltic CDT","U1","01. Ultra-Fresh","U1.04","04. Vegetables","B.08.01","29. Herbs","12445","02. Herbs in pots","12459","02. Local Herbs in pots","","","","","","","","","X",null,"B.08.01","Herbs","Herbs in pots","Local Herbs in pots","","","","","12459",{"$f":"_xlfn.TEXTJOIN(\"; \",TRUE,ZCDT_EXPORT_2[[#This Row],[Sub-Category]:[Segment 5]])","v":"Herbs in pots; Local Herbs in pots"}]
["AH","Baltic CDT","U1","01. Ultra-Fresh","U1.04","04. Vegetables","B.08.01","29. Herbs","12445","02. Herbs in pots","12460","03. ECO Herbs in pots","","","","","","","","","X",null,"B.08.01","Herbs","Herbs in pots","ECO Herbs in pots","","","","","12460",{"$f":"_xlfn.TEXTJOIN(\"; \",TRUE,ZCDT_EXPORT_2[[#This Row],[Sub-Category]:[Segment 5]])","v":"Herbs in pots; ECO Herbs in pots"}]
["AH","Baltic CDT","U1","01. Ultra-Fresh","U1.04","04. Vegetables","B.08.01","29. Herbs","12445","02. Herbs in pots","12461","04. Other Herbs in pots","","","","","","","","","X",null,"B.08.01","Herbs","Herbs in pots","Other Herbs in pots","","","","","12461",{"$f":"_xlfn.TEXTJOIN(\"; \",TRUE,ZCDT_EXPORT_2[[#This Row],[Sub-Category]:[Segment 5]])","v":"Herbs in pots; Other Herbs in pots"}]
["AH","Baltic CDT","U1","01. Ultra-Fresh","U1.04","04. Vegetables","B.08.02","29. Sprouts","13161","01. Import Sprouts","","","","","","","","","","","X",null,"B.08.02","Sprouts","Import Sprouts","","","","","","13161",{"$f":"_xlfn.TEXTJOIN(\"; \",TRUE,ZCDT_EXPORT_2[[#This Row],[Sub-Category]:[Segment 5]])","v":"Import Sprouts"}]
["AH","Baltic CDT","U1","01. Ultra-Fresh","U1.04","04. Vegetables","B.08.02","29. Sprouts","13162","02. Local Sprouts","","","","","","","","","","","X",null,"B.08.02","Sprouts","Local Sprouts","","","","","","13162",{"$f":"_xlfn.TEXTJOIN(\"; \",TRUE,ZCDT_EXPORT_2[[#This Row],[Sub-Category]:[Segment 5]])","v":"Local Sprouts"}]
["AH","Baltic CDT","U1","01. Ultra-Fresh","U1.04","04. Vegetables","B.08.02","29. Sprouts","13163","03. Bio/Eco Sprouts","","","","","","","","","","","X",null,"B.08.02","Sprouts","Bio/Eco Sprouts","","","","","","13163",{"$f":"_xlfn.TEXTJOIN(\"; \",TRUE,ZCDT_EXPORT_2[[#This Row],[Sub-Category]:[Segment 5]])","v":"Bio/Eco Sprouts"}]
["AH","Baltic CDT","U1","01. Ultra-Fresh","U1.04","04. Vegetables","B.09.01","30. Lettuces","14908","01. Local Lettuces","14919","01. Lettuces loose","14923","01. Lettuces mix","","","","","","","X",null,"B.09.01","Lettuces","Local Lettuces","Lettuces loose","Lettuces mix","","","","14923",{"$f":"_xlfn.TEXTJOIN(\"; \",TRUE,ZCDT_EXPORT_2[[#This Row],[Sub-Category]:[Segment 5]])","v":"Local Lettuces; Lettuces loose; Lettuces mix"}]
["AH","Baltic CDT","U1","01. Ultra-Fresh","U1.04","04. Vegetables","B.09.01","30. Lettuces","14908","01. Local Lettuces","14919","01. Lettuces loose","14924","02. Letuces mono","","","","","","","X",null,"B.09.01","Lettuces","Local Lettuces","Lettuces loose","Letuces mono","","","","14924",{"$f":"_xlfn.TEXTJOIN(\"; \",TRUE,ZCDT_EXPORT_2[[#This Row],[Sub-Category]:[Segment 5]])","v":"Local Lettuces; Lettuces loose; Letuces mono"}]
["AH","Baltic CDT","U1","01. Ultra-Fresh","U1.04","04. Vegetables","B.09.01","30. Lettuces","14908","01. Local Lettuces","14920","02. Lettuces pac","14925","01. Lettuces mix","","","","","","","X",null,"B.09.01","Lettuces","Local Lettuces","Lettuces pac","Lettuces mix","","","","14925",{"$f":"_xlfn.TEXTJOIN(\"; \",TRUE,ZCDT_EXPORT_2[[#This Row],[Sub-Category]:[Segment 5]])","v":"Local Lettuces; Lettuces pac; Lettuces mix"}]
["AH","Baltic CDT","U1","01. Ultra-Fresh","U1.04","04. Vegetables","B.09.01","30. Lettuces","14908","01. Local Lettuces","14920","02. Lettuces pac","14926","02. Letuces mono","","","","","","","X",null,"B.09.01","Lettuces","Local Lettuces","Lettuces pac","Letuces mono","","","","14926",{"$f":"_xlfn.TEXTJOIN(\"; \",TRUE,ZCDT_EXPORT_2[[#This Row],[Sub-Category]:[Segment 5]])","v":"Local Lettuces; Lettuces pac; Letuces mono"}]
["AH","Baltic CDT","U1","01. Ultra-Fresh","U1.04","04. Vegetables","B.09.01","30. Lettuces","14908","01. Local Lettuces","14921","03. Lettuces in pot","","","","","","","","","X",null,"B.09.01","Lettuces","Local Lettuces","Lettuces in pot","","","","","14921",{"$f":"_xlfn.TEXTJOIN(\"; \",TRUE,ZCDT_EXPORT_2[[#This Row],[Sub-Category]:[Segment 5]])","v":"Local Lettuces; Lettuces in pot"}]
["AH","Baltic CDT","U1","01. Ultra-Fresh","U1.04","04. Vegetables","B.09.01","30. Lettuces","14908","01. Local Lettuces","14922","04. Other Lettuces","","","","","","","","","X",null,"B.09.01","Lettuces","Local Lettuces","Other Lettuces","","","","","14922",{"$f":"_xlfn.TEXTJOIN(\"; \",TRUE,ZCDT_EXPORT_2[[#This Row],[Sub-Category]:[Segment 5]])","v":"Local Lettuces; Other Lettuces"}]
["AH","Baltic CDT","U1","01. Ultra-Fresh","U1.04","04. Vegetables","B.09.01","30. Lettuces","14909","02. Import Lettuces","14911","01. Lettuces loose","14915","01. Lettuces mix","","","","","","","X",null,"B.09.01","Lettuces","Import Lettuces","Lettuces loose","Lettuces mix","","","","14915",{"$f":"_xlfn.TEXTJOIN(\"; \",TRUE,ZCDT_EXPORT_2[[#This Row],[Sub-Category]:[Segment 5]])","v":"Import Lettuces; Lettuces loose; Lettuces mix"}]
["AH","Baltic CDT","U1","01. Ultra-Fresh","U1.04","04. Vegetables","B.09.01","30. Lettuces","14909","02. Import Lettuces","14911","01. Lettuces loose","14916","02. Letuces mono","","","","","","","X",null,"B.09.01","Lettuces","Import Lettuces","Lettuces loose","Letuces mono","","","","14916",{"$f":"_xlfn.TEXTJOIN(\"; \",TRUE,ZCDT_EXPORT_2[[#This Row],[Sub-Category]:[Segment 5]])","v":"Import Lettuces; Lettuces loose; Letuces mono"}]
["AH","Baltic CDT","U1","01. Ultra-Fresh","U1.04","04. Vegetables","B.09.01","30. Lettuces","14909","02. Import Lettuces","14912","02. Lettuces pac","14917","01. Lettuces mix","","","","","","","X",null,"B.09.01","Lettuces","Import Lettuces","Lettuces pac","Lettuces mix","","","","14917",{"$f":"_xlfn.TEXTJOIN(\"; \",TRUE,ZCDT_EXPORT_2[[#This Row],[Sub-Category]:[Segment 5]])","v":"Import Lettuces; Lettuces pac; Lettuces mix"}]
["AH","Baltic CDT","U1","01. Ultra-Fresh","U1.04","04. Vegetables","B.09.01","30. Lettuces","14909","02. Import Lettuces","14912","02. Lettuces pac","14918","02. Letuces mono","","","","","","","X",null,"B.09.01","Lettuces","Import Lettuces","Lettuces pac","Letuces mono","","","","14918",{"$f":"_xlfn.TEXTJOIN(\"; \",TRUE,ZCDT_EXPORT_2[[#This Row],[Sub-Category]:[Segment 5]])","v":"Import Lettuces; Lettuces pac; Letuces mono"}]
["AH","Baltic CDT","U1","01. Ultra-Fresh","U1.04","04. Vegetables","B.09.01","30. Lettuces","14909","02. Import Lettuces","14913","03. Lettuces in pot","","","","","","","","","X",null,"B.09.01","Lettuces","Import Lettuces","Lettuces in pot","","","","","14913",{"$f":"_xlfn.TEXTJOIN(\"; \",TRUE,ZCDT_EXPORT_2[[#This Row],[Sub-Category]:[Segment 5]])","v":"Import Lettuces; Lettuces in pot"}]
["AH","Baltic CDT","U1","01. Ultra-Fresh","U1.04","04. Vegetables","B.09.01","30. Lettuces","14909","02. Import Lettuces","14914","04. Other Lettuces","","","","","","","","","X",null,"B.09.01","Lettuces","Import Lettuces","Other Lettuces","","","","","14914",{"$f":"_xlfn.TEXTJOIN(\"; \",TRUE,ZCDT_EXPORT_2[[#This Row],[Sub-Category]:[Segment 5]])","v":"Import Lettuces; Other Lettuces"}]
["AH","Baltic CDT","U1","01. Ultra-Fresh","U1.04","04. Vegetables","B.09.01","30. Lettuces","14910","03. Bio /Eco Lettuces","14927","01. Lettuces loose","14931","01. Lettuces mix","","","","","","","X",null,"B.09.01","Lettuces","Bio /Eco Lettuces","Lettuces loose","Lettuces mix","","","","14931",{"$f":"_xlfn.TEXTJOIN(\"; \",TRUE,ZCDT_EXPORT_2[[#This Row],[Sub-Category]:[Segment 5]])","v":"Bio /Eco Lettuces; Lettuces loose; Lettuces mix"}]
["AH","Baltic CDT","U1","01. Ultra-Fresh","U1.04","04. Vegetables","B.09.01","30. Lettuces","14910","03. Bio /Eco Lettuces","14927","01. Lettuces loose","14932","02. Letuces mono","","","","","","","X",null,"B.09.01","Lettuces","Bio /Eco Lettuces","Lettuces loose","Letuces mono","","","","14932",{"$f":"_xlfn.TEXTJOIN(\"; \",TRUE,ZCDT_EXPORT_2[[#This Row],[Sub-Category]:[Segment 5]])","v":"Bio /Eco Lettuces; Lettuces loose; Letuces mono"}]
["AH","Baltic CDT","U1","01. Ultra-Fresh","U1.04","04. Vegetables","B.09.01","30. Lettuces","14910","03. Bio /Eco Lettuces","14928","02. Lettuces pac","14933","01. Lettuces mix","","","","","","","X",null,"B.09.01","Lettuces","Bio /Eco Lettuces","Lettuces pac","Lettuces mix","","","","14933",{"$f":"_xlfn.TEXTJOIN(\"; \",TRUE,ZCDT_EXPORT_2[[#This Row],[Sub-Category]:[Segment 5]])","v":"Bio /Eco Lettuces; Lettuces pac; Lettuces mix"}]
["AH","Baltic CDT","U1","01. Ultra-Fresh","U1.04","04. Vegetables","B.09.01","30. Lettuces","14910","03. Bio /Eco Lettuces","14928","02. Lettuces pac","14934","02. Letuces mono","","","","","","","X",null,"B.09.01","Lettuces","Bio /Eco Lettuces","Lettuces pac","Letuces mono","","","","14934",{"$f":"_xlfn.TEXTJOIN(\"; \",TRUE,ZCDT_EXPORT_2[[#This Row],[Sub-Category]:[Segment 5]])","v":"Bio /Eco Lettuces; Lettuces pac; Letuces mono"}]
["AH","Baltic CDT","U1","01. Ultra-Fresh","U1.04","04. Vegetables","B.09.01","30. Lettuces","14910","03. Bio /Eco Lettuces","14929","03. Lettuces in pot","","","","","","","","","X",null,"B.09.01","Lettuces","Bio /Eco Lettuces","Lettuces in pot","","","","","14929",{"$f":"_xlfn.TEXTJOIN(\"; \",TRUE,ZCDT_EXPORT_2[[#This Row],[Sub-Category]:[Segment 5]])","v":"Bio /Eco Lettuces; Lettuces in pot"}]
["AH","Baltic CDT","U1","01. Ultra-Fresh","U1.04","04. Vegetables","B.09.01","30. Lettuces","14910","03. Bio /Eco Lettuces","14930","04. Other Lettuces","","","","","","","","","X",null,"B.09.01","Lettuces","Bio /Eco Lettuces","Other Lettuces","","","","","14930",{"$f":"_xlfn.TEXTJOIN(\"; \",TRUE,ZCDT_EXPORT_2[[#This Row],[Sub-Category]:[Segment 5]])","v":"Bio /Eco Lettuces; Other Lettuces"}]
["AH","Baltic CDT","U1","01. Ultra-Fresh","U1.04","04. Vegetables","B.10.01","31. Mushrooms","14935","01. Local Mushrooms","14939","01. Mushrooms loose","","","","","","","","","X",null,"B.10.01","Mushrooms","Local Mushrooms","Mushrooms loose","","","","","14939",{"$f":"_xlfn.TEXTJOIN(\"; \",TRUE,ZCDT_EXPORT_2[[#This Row],[Sub-Category]:[Segment 5]])","v":"Local Mushrooms; Mushrooms loose"}]
["AH","Baltic CDT","U1","01. Ultra-Fresh","U1.04","04. Vegetables","B.10.01","31. Mushrooms","14935","01. Local Mushrooms","14940","02. Mushrooms pac.","","","","","","","","","X",null,"B.10.01","Mushrooms","Local Mushrooms","Mushrooms pac.","","","","","14940",{"$f":"_xlfn.TEXTJOIN(\"; \",TRUE,ZCDT_EXPORT_2[[#This Row],[Sub-Category]:[Segment 5]])","v":"Local Mushrooms; Mushrooms pac."}]
["AH","Baltic CDT","U1","01. Ultra-Fresh","U1.04","04. Vegetables","B.10.01","31. Mushrooms","14936","02. Import Mushrooms","14941","01. Mushrooms loose","","","","","","","","","X",null,"B.10.01","Mushrooms","Import Mushrooms","Mushrooms loose","","","","","14941",{"$f":"_xlfn.TEXTJOIN(\"; \",TRUE,ZCDT_EXPORT_2[[#This Row],[Sub-Category]:[Segment 5]])","v":"Import Mushrooms; Mushrooms loose"}]
["AH","Baltic CDT","U1","01. Ultra-Fresh","U1.04","04. Vegetables","B.10.01","31. Mushrooms","14936","02. Import Mushrooms","14942","02. Mushrooms pac.","","","","","","","","","X",null,"B.10.01","Mushrooms","Import Mushrooms","Mushrooms pac.","","","","","14942",{"$f":"_xlfn.TEXTJOIN(\"; \",TRUE,ZCDT_EXPORT_2[[#This Row],[Sub-Category]:[Segment 5]])","v":"Import Mushrooms; Mushrooms pac."}]
["AH","Baltic CDT","U1","01. Ultra-Fresh","U1.04","04. Vegetables","B.10.01","31. Mushrooms","14937","03. Exotic Mushrooms","14943","01. Mushrooms loose","","","","","","","","","X",null,"B.10.01","Mushrooms","Exotic Mushrooms","Mushrooms loose","","","","","14943",{"$f":"_xlfn.TEXTJOIN(\"; \",TRUE,ZCDT_EXPORT_2[[#This Row],[Sub-Category]:[Segment 5]])","v":"Exotic Mushrooms; Mushrooms loose"}]
["AH","Baltic CDT","U1","01. Ultra-Fresh","U1.04","04. Vegetables","B.10.01","31. Mushrooms","14937","03. Exotic Mushrooms","14944","02. Mushrooms pac.","","","","","","","","","X",null,"B.10.01","Mushrooms","Exotic Mushrooms","Mushrooms pac.","","","","","14944",{"$f":"_xlfn.TEXTJOIN(\"; \",TRUE,ZCDT_EXPORT_2[[#This Row],[Sub-Category]:[Segment 5]])","v":"Exotic Mushrooms; Mushrooms pac."}]
["AH","Baltic CDT","U1","01. Ultra-Fresh","U1.04","04. Vegetables","B.10.01","31. Mushrooms","14938","04. Bio /Eco Mushrooms","14945","01. Mushrooms loose","","","","","","","","","X",null,"B.10.01","Mushrooms","Bio /Eco Mushrooms","Mushrooms loose","","","","","14945",{"$f":"_xlfn.TEXTJOIN(\"; \",TRUE,ZCDT_EXPORT_2[[#This Row],[Sub-Category]:[Segment 5]])","v":"Bio /Eco Mushrooms; Mushrooms loose"}]
["AH","Baltic CDT","U1","01. Ultra-Fresh","U1.04","04. Vegetables","B.10.01","31. Mushrooms","14938","04. Bio /Eco Mushrooms","14946","02. Mushrooms pac.","","","","","","","","","X",null,"B.10.01","Mushrooms","Bio /Eco Mushrooms","Mushrooms pac.","","","","","14946",{"$f":"_xlfn.TEXTJOIN(\"; \",TRUE,ZCDT_EXPORT_2[[#This Row],[Sub-Category]:[Segment 5]])","v":"Bio /Eco Mushrooms; Mushrooms pac."}]
["AH","Baltic CDT","U1","01. Ultra-Fresh","U1.04","04. Vegetables","B.11.01","32. Processed vegetables","14947","01. Local Processed Vegetables","14950","01. Processed beetroots","","","","","","","","","X",null,"B.11.01","Processed vegetables","Local Processed Vegetables","Processed beetroots","","","","","14950",{"$f":"_xlfn.TEXTJOIN(\"; \",TRUE,ZCDT_EXPORT_2[[#This Row],[Sub-Category]:[Segment 5]])","v":"Local Processed Vegetables; Processed beetroots"}]
["AH","Baltic CDT","U1","01. Ultra-Fresh","U1.04","04. Vegetables","B.11.01","32. Processed vegetables","14947","01. Local Processed Vegetables","14951","02. Processed cabbages","","","","","","","","","X",null,"B.11.01","Processed vegetables","Local Processed Vegetables","Processed cabbages","","","","","14951",{"$f":"_xlfn.TEXTJOIN(\"; \",TRUE,ZCDT_EXPORT_2[[#This Row],[Sub-Category]:[Segment 5]])","v":"Local Processed Vegetables; Processed cabbages"}]
["AH","Baltic CDT","U1","01. Ultra-Fresh","U1.04","04. Vegetables","B.11.01","32. Processed vegetables","14947","01. Local Processed Vegetables","14952","03. Processed cucmbers","","","","","","","","","X",null,"B.11.01","Processed vegetables","Local Processed Vegetables","Processed cucmbers","","","","","14952",{"$f":"_xlfn.TEXTJOIN(\"; \",TRUE,ZCDT_EXPORT_2[[#This Row],[Sub-Category]:[Segment 5]])","v":"Local Processed Vegetables; Processed cucmbers"}]
["AH","Baltic CDT","U1","01. Ultra-Fresh","U1.04","04. Vegetables","B.11.01","32. Processed vegetables","14947","01. Local Processed Vegetables","14953","04. Processed potatoes","","","","","","","","","X",null,"B.11.01","Processed vegetables","Local Processed Vegetables","Processed potatoes","","","","","14953",{"$f":"_xlfn.TEXTJOIN(\"; \",TRUE,ZCDT_EXPORT_2[[#This Row],[Sub-Category]:[Segment 5]])","v":"Local Processed Vegetables; Processed potatoes"}]
["AH","Baltic CDT","U1","01. Ultra-Fresh","U1.04","04. Vegetables","B.11.01","32. Processed vegetables","14947","01. Local Processed Vegetables","14954","05. Processed carrots","","","","","","","","","X",null,"B.11.01","Processed vegetables","Local Processed Vegetables","Processed carrots","","","","","14954",{"$f":"_xlfn.TEXTJOIN(\"; \",TRUE,ZCDT_EXPORT_2[[#This Row],[Sub-Category]:[Segment 5]])","v":"Local Processed Vegetables; Processed carrots"}]
["AH","Baltic CDT","U1","01. Ultra-Fresh","U1.04","04. Vegetables","B.11.01","32. Processed vegetables","14947","01. Local Processed Vegetables","14955","06. Other","","","","","","","","","X",null,"B.11.01","Processed vegetables","Local Processed Vegetables","Other","","","","","14955",{"$f":"_xlfn.TEXTJOIN(\"; \",TRUE,ZCDT_EXPORT_2[[#This Row],[Sub-Category]:[Segment 5]])","v":"Local Processed Vegetables; Other"}]
["AH","Baltic CDT","U1","01. Ultra-Fresh","U1.04","04. Vegetables","B.11.01","32. Processed vegetables","14948","02. Imports Processed Vegetables","14956","01. Processed beetroots","","","","","","","","","X",null,"B.11.01","Processed vegetables","Imports Processed Vegetables","Processed beetroots","","","","","14956",{"$f":"_xlfn.TEXTJOIN(\"; \",TRUE,ZCDT_EXPORT_2[[#This Row],[Sub-Category]:[Segment 5]])","v":"Imports Processed Vegetables; Processed beetroots"}]
["AH","Baltic CDT","U1","01. Ultra-Fresh","U1.04","04. Vegetables","B.11.01","32. Processed vegetables","14948","02. Imports Processed Vegetables","14957","02. Processed cabbages","","","","","","","","","X",null,"B.11.01","Processed vegetables","Imports Processed Vegetables","Processed cabbages","","","","","14957",{"$f":"_xlfn.TEXTJOIN(\"; \",TRUE,ZCDT_EXPORT_2[[#This Row],[Sub-Category]:[Segment 5]])","v":"Imports Processed Vegetables; Processed cabbages"}]
["AH","Baltic CDT","U1","01. Ultra-Fresh","U1.04","04. Vegetables","B.11.01","32. Processed vegetables","14948","02. Imports Processed Vegetables","14958","03. Processed cucmbers","","","","","","","","","X",null,"B.11.01","Processed vegetables","Imports Processed Vegetables","Processed cucmbers","","","","","14958",{"$f":"_xlfn.TEXTJOIN(\"; \",TRUE,ZCDT_EXPORT_2[[#This Row],[Sub-Category]:[Segment 5]])","v":"Imports Processed Vegetables; Processed cucmbers"}]
["AH","Baltic CDT","U1","01. Ultra-Fresh","U1.04","04. Vegetables","B.11.01","32. Processed vegetables","14948","02. Imports Processed Vegetables","14959","04. Processed potatoes","","","","","","","","","X",null,"B.11.01","Processed vegetables","Imports Processed Vegetables","Processed potatoes","","","","","14959",{"$f":"_xlfn.TEXTJOIN(\"; \",TRUE,ZCDT_EXPORT_2[[#This Row],[Sub-Category]:[Segment 5]])","v":"Imports Processed Vegetables; Processed potatoes"}]
["AH","Baltic CDT","U1","01. Ultra-Fresh","U1.04","04. Vegetables","B.11.01","32. Processed vegetables","14948","02. Imports Processed Vegetables","14960","05. Processed carrots","","","","","","","","","X",null,"B.11.01","Processed vegetables","Imports Processed Vegetables","Processed carrots","","","","","14960",{"$f":"_xlfn.TEXTJOIN(\"; \",TRUE,ZCDT_EXPORT_2[[#This Row],[Sub-Category]:[Segment 5]])","v":"Imports Processed Vegetables; Processed carrots"}]
["AH","Baltic CDT","U1","01. Ultra-Fresh","U1.04","04. Vegetables","B.11.01","32. Processed vegetables","14948","02. Imports Processed Vegetables","14961","06. Other","","","","","","","","","X",null,"B.11.01","Processed vegetables","Imports Processed Vegetables","Other","","","","","14961",{"$f":"_xlfn.TEXTJOIN(\"; \",TRUE,ZCDT_EXPORT_2[[#This Row],[Sub-Category]:[Segment 5]])","v":"Imports Processed Vegetables; Other"}]
["AH","Baltic CDT","U1","01. Ultra-Fresh","U1.04","04. Vegetables","B.11.01","32. Processed vegetables","14949","03. Bio /Eco Processed Vegetables","14962","01. Processed beetroots","","","","","","","","","X",null,"B.11.01","Processed vegetables","Bio /Eco Processed Vegetables","Processed beetroots","","","","","14962",{"$f":"_xlfn.TEXTJOIN(\"; \",TRUE,ZCDT_EXPORT_2[[#This Row],[Sub-Category]:[Segment 5]])","v":"Bio /Eco Processed Vegetables; Processed beetroots"}]
["AH","Baltic CDT","U1","01. Ultra-Fresh","U1.04","04. Vegetables","B.11.01","32. Processed vegetables","14949","03. Bio /Eco Processed Vegetables","14963","02. Processed cabbages","","","","","","","","","X",null,"B.11.01","Processed vegetables","Bio /Eco Processed Vegetables","Processed cabbages","","","","","14963",{"$f":"_xlfn.TEXTJOIN(\"; \",TRUE,ZCDT_EXPORT_2[[#This Row],[Sub-Category]:[Segment 5]])","v":"Bio /Eco Processed Vegetables; Processed cabbages"}]
["AH","Baltic CDT","U1","01. Ultra-Fresh","U1.04","04. Vegetables","B.11.01","32. Processed vegetables","14949","03. Bio /Eco Processed Vegetables","14964","03. Processed cucmbers","","","","","","","","","X",null,"B.11.01","Processed vegetables","Bio /Eco Processed Vegetables","Processed cucmbers","","","","","14964",{"$f":"_xlfn.TEXTJOIN(\"; \",TRUE,ZCDT_EXPORT_2[[#This Row],[Sub-Category]:[Segment 5]])","v":"Bio /Eco Processed Vegetables; Processed cucmbers"}]
["AH","Baltic CDT","U1","01. Ultra-Fresh","U1.04","04. Vegetables","B.11.01","32. Processed vegetables","14949","03. Bio /Eco Processed Vegetables","14965","04. Processed potatoes","","","","","","","","","X",null,"B.11.01","Processed vegetables","Bio /Eco Processed Vegetables","Processed potatoes","","","","","14965",{"$f":"_xlfn.TEXTJOIN(\"; \",TRUE,ZCDT_EXPORT_2[[#This Row],[Sub-Category]:[Segment 5]])","v":"Bio /Eco Processed Vegetables; Processed potatoes"}]
["AH","Baltic CDT","U1","01. Ultra-Fresh","U1.04","04. Vegetables","B.11.01","32. Processed vegetables","14949","03. Bio /Eco Processed Vegetables","14966","05. Processed carrots","","","","","","","","","X",null,"B.11.01","Processed vegetables","Bio /Eco Processed Vegetables","Processed carrots","","","","","14966",{"$f":"_xlfn.TEXTJOIN(\"; \",TRUE,ZCDT_EXPORT_2[[#This Row],[Sub-Category]:[Segment 5]])","v":"Bio /Eco Processed Vegetables; Processed carrots"}]
["AH","Baltic CDT","U1","01. Ultra-Fresh","U1.04","04. Vegetables","B.11.01","32. Processed vegetables","14949","03. Bio /Eco Processed Vegetables","14967","06. Other","","","","","","","","","X",null,"B.11.01","Processed vegetables","Bio /Eco Processed Vegetables","Other","","","","","14967",{"$f":"_xlfn.TEXTJOIN(\"; \",TRUE,ZCDT_EXPORT_2[[#This Row],[Sub-Category]:[Segment 5]])","v":"Bio /Eco Processed Vegetables; Other"}]
["AH","Baltic CDT","U1","01. Ultra-Fresh","U1.05","05. Bread,Bakery & Confectionery","A.07.01","12. Bread, Rimi production bread product","18968","01. Baked in store","18970","01. Dry bread","19008","01. Bagels","","","","","","","X",null,"A.07.01","Bread, Rimi production bread product","Baked in store","Dry bread","Bagels","","","","19008",{"$f":"_xlfn.TEXTJOIN(\"; \",TRUE,ZCDT_EXPORT_2[[#This Row],[Sub-Category]:[Segment 5]])","v":"Baked in store; Dry bread; Bagels"}]
["AH","Baltic CDT","U1","01. Ultra-Fresh","U1.05","05. Bread,Bakery & Confectionery","A.07.01","12. Bread, Rimi production bread product","18968","01. Baked in store","18970","01. Dry bread","19009","02. Crisps","","","","","","","X",null,"A.07.01","Bread, Rimi production bread product","Baked in store","Dry bread","Crisps","","","","19009",{"$f":"_xlfn.TEXTJOIN(\"; \",TRUE,ZCDT_EXPORT_2[[#This Row],[Sub-Category]:[Segment 5]])","v":"Baked in store; Dry bread; Crisps"}]
["AH","Baltic CDT","U1","01. Ultra-Fresh","U1.05","05. Bread,Bakery & Confectionery","A.07.01","12. Bread, Rimi production bread product","18968","01. Baked in store","18970","01. Dry bread","19010","03. Rusks","","","","","","","X",null,"A.07.01","Bread, Rimi production bread product","Baked in store","Dry bread","Rusks","","","","19010",{"$f":"_xlfn.TEXTJOIN(\"; \",TRUE,ZCDT_EXPORT_2[[#This Row],[Sub-Category]:[Segment 5]])","v":"Baked in store; Dry bread; Rusks"}]
["AH","Baltic CDT","U1","01. Ultra-Fresh","U1.05","05. Bread,Bakery & Confectionery","A.07.01","12. Bread, Rimi production bread product","18968","01. Baked in store","18970","01. Dry bread","19011","04. Other dry bread","","","","","","","X",null,"A.07.01","Bread, Rimi production bread product","Baked in store","Dry bread","Other dry bread","","","","19011",{"$f":"_xlfn.TEXTJOIN(\"; \",TRUE,ZCDT_EXPORT_2[[#This Row],[Sub-Category]:[Segment 5]])","v":"Baked in store; Dry bread; Other dry bread"}]
["AH","Baltic CDT","U1","01. Ultra-Fresh","U1.05","05. Bread,Bakery & Confectionery","A.07.01","12. Bread, Rimi production bread product","18968","01. Baked in store","19001","02. Ethnic bread","","","","","","","","","X",null,"A.07.01","Bread, Rimi production bread product","Baked in store","Ethnic bread","","","","","19001",{"$f":"_xlfn.TEXTJOIN(\"; \",TRUE,ZCDT_EXPORT_2[[#This Row],[Sub-Category]:[Segment 5]])","v":"Baked in store; Ethnic bread"}]
["AH","Baltic CDT","U1","01. Ultra-Fresh","U1.05","05. Bread,Bakery & Confectionery","A.07.01","12. Bread, Rimi production bread product","18968","01. Baked in store","19002","03. Dark bread","19012","01. W. additives","","","","","","","X",null,"A.07.01","Bread, Rimi production bread product","Baked in store","Dark bread","W. additives","","","","19012",{"$f":"_xlfn.TEXTJOIN(\"; \",TRUE,ZCDT_EXPORT_2[[#This Row],[Sub-Category]:[Segment 5]])","v":"Baked in store; Dark bread; W. additives"}]
["AH","Baltic CDT","U1","01. Ultra-Fresh","U1.05","05. Bread,Bakery & Confectionery","A.07.01","12. Bread, Rimi production bread product","18968","01. Baked in store","19002","03. Dark bread","19013","02. W/o. additives","","","","","","","X",null,"A.07.01","Bread, Rimi production bread product","Baked in store","Dark bread","W/o. additives","","","","19013",{"$f":"_xlfn.TEXTJOIN(\"; \",TRUE,ZCDT_EXPORT_2[[#This Row],[Sub-Category]:[Segment 5]])","v":"Baked in store; Dark bread; W/o. additives"}]
["AH","Baltic CDT","U1","01. Ultra-Fresh","U1.05","05. Bread,Bakery & Confectionery","A.07.01","12. Bread, Rimi production bread product","18968","01. Baked in store","19003","04. Grey bread","19014","01. W. additives","","","","","","","X",null,"A.07.01","Bread, Rimi production bread product","Baked in store","Grey bread","W. additives","","","","19014",{"$f":"_xlfn.TEXTJOIN(\"; \",TRUE,ZCDT_EXPORT_2[[#This Row],[Sub-Category]:[Segment 5]])","v":"Baked in store; Grey bread; W. additives"}]
["AH","Baltic CDT","U1","01. Ultra-Fresh","U1.05","05. Bread,Bakery & Confectionery","A.07.01","12. Bread, Rimi production bread product","18968","01. Baked in store","19003","04. Grey bread","19015","02. W/o. additives","","","","","","","X",null,"A.07.01","Bread, Rimi production bread product","Baked in store","Grey bread","W/o. additives","","","","19015",{"$f":"_xlfn.TEXTJOIN(\"; \",TRUE,ZCDT_EXPORT_2[[#This Row],[Sub-Category]:[Segment 5]])","v":"Baked in store; Grey bread; W/o. additives"}]
["AH","Baltic CDT","U1","01. Ultra-Fresh","U1.05","05. Bread,Bakery & Confectionery","A.07.01","12. Bread, Rimi production bread product","18968","01. Baked in store","19004","05. Sweet and sour bread","","","","","","","","","X",null,"A.07.01","Bread, Rimi production bread product","Baked in store","Sweet and sour bread","","","","","19004",{"$f":"_xlfn.TEXTJOIN(\"; \",TRUE,ZCDT_EXPORT_2[[#This Row],[Sub-Category]:[Segment 5]])","v":"Baked in store; Sweet and sour bread"}]
["AH","Baltic CDT","U1","01. Ultra-Fresh","U1.05","05. Bread,Bakery & Confectionery","A.07.01","12. Bread, Rimi production bread product","18968","01. Baked in store","19005","06. White bread","19016","01. W. additives","","","","","","","X",null,"A.07.01","Bread, Rimi production bread product","Baked in store","White bread","W. additives","","","","19016",{"$f":"_xlfn.TEXTJOIN(\"; \",TRUE,ZCDT_EXPORT_2[[#This Row],[Sub-Category]:[Segment 5]])","v":"Baked in store; White bread; W. additives"}]
["AH","Baltic CDT","U1","01. Ultra-Fresh","U1.05","05. Bread,Bakery & Confectionery","A.07.01","12. Bread, Rimi production bread product","18968","01. Baked in store","19005","06. White bread","19017","02. W/o. additives","","","","","","","X",null,"A.07.01","Bread, Rimi production bread product","Baked in store","White bread","W/o. additives","","","","19017",{"$f":"_xlfn.TEXTJOIN(\"; \",TRUE,ZCDT_EXPORT_2[[#This Row],[Sub-Category]:[Segment 5]])","v":"Baked in store; White bread; W/o. additives"}]
["AH","Baltic CDT","U1","01. Ultra-Fresh","U1.05","05. Bread,Bakery & Confectionery","A.07.01","12. Bread, Rimi production bread product","18968","01. Baked in store","19006","07. Portioned bread","19018","01. Hot dog and hamburger bread","","","","","","","X",null,"A.07.01","Bread, Rimi production bread product","Baked in store","Portioned bread","Hot dog and hamburger bread","","","","19018",{"$f":"_xlfn.TEXTJOIN(\"; \",TRUE,ZCDT_EXPORT_2[[#This Row],[Sub-Category]:[Segment 5]])","v":"Baked in store; Portioned bread; Hot dog and hamburger bread"}]
["AH","Baltic CDT","U1","01. Ultra-Fresh","U1.05","05. Bread,Bakery & Confectionery","A.07.01","12. Bread, Rimi production bread product","18968","01. Baked in store","19006","07. Portioned bread","19019","02. Breakfast buns","","","","","","","X",null,"A.07.01","Bread, Rimi production bread product","Baked in store","Portioned bread","Breakfast buns","","","","19019",{"$f":"_xlfn.TEXTJOIN(\"; \",TRUE,ZCDT_EXPORT_2[[#This Row],[Sub-Category]:[Segment 5]])","v":"Baked in store; Portioned bread; Breakfast buns"}]
["AH","Baltic CDT","U1","01. Ultra-Fresh","U1.05","05. Bread,Bakery & Confectionery","A.07.01","12. Bread, Rimi production bread product","18968","01. Baked in store","19007","08. Snack bread","","","","","","","","","X",null,"A.07.01","Bread, Rimi production bread product","Baked in store","Snack bread","","","","","19007",{"$f":"_xlfn.TEXTJOIN(\"; \",TRUE,ZCDT_EXPORT_2[[#This Row],[Sub-Category]:[Segment 5]])","v":"Baked in store; Snack bread"}]
["AH","Baltic CDT","U1","01. Ultra-Fresh","U1.05","05. Bread,Bakery & Confectionery","A.07.01","12. Bread, Rimi production bread product","18968","01. Baked in store","19223","09. Festivity bread","19224","01. Ethnic bread","","","","","","","X",null,"A.07.01","Bread, Rimi production bread product","Baked in store","Festivity bread","Ethnic bread","","","","19224",{"$f":"_xlfn.TEXTJOIN(\"; \",TRUE,ZCDT_EXPORT_2[[#This Row],[Sub-Category]:[Segment 5]])","v":"Baked in store; Festivity bread; Ethnic bread"}]
["AH","Baltic CDT","U1","01. Ultra-Fresh","U1.05","05. Bread,Bakery & Confectionery","A.07.01","12. Bread, Rimi production bread product","18968","01. Baked in store","19223","09. Festivity bread","19225","02. White bread","","","","","","","X",null,"A.07.01","Bread, Rimi production bread product","Baked in store","Festivity bread","White bread","","","","19225",{"$f":"_xlfn.TEXTJOIN(\"; \",TRUE,ZCDT_EXPORT_2[[#This Row],[Sub-Category]:[Segment 5]])","v":"Baked in store; Festivity bread; White bread"}]
["AH","Baltic CDT","U1","01. Ultra-Fresh","U1.05","05. Bread,Bakery & Confectionery","A.07.01","12. Bread, Rimi production bread product","18968","01. Baked in store","19223","09. Festivity bread","19226","03. Sweet and sour bread","","","","","","","X",null,"A.07.01","Bread, Rimi production bread product","Baked in store","Festivity bread","Sweet and sour bread","","","","19226",{"$f":"_xlfn.TEXTJOIN(\"; \",TRUE,ZCDT_EXPORT_2[[#This Row],[Sub-Category]:[Segment 5]])","v":"Baked in store; Festivity bread; Sweet and sour bread"}]
["AH","Baltic CDT","U1","01. Ultra-Fresh","U1.05","05. Bread,Bakery & Confectionery","A.07.01","12. Bread, Rimi production bread product","18968","01. Baked in store","19223","09. Festivity bread","19227","04. Snack bread","","","","","","","X",null,"A.07.01","Bread, Rimi production bread product","Baked in store","Festivity bread","Snack bread","","","","19227",{"$f":"_xlfn.TEXTJOIN(\"; \",TRUE,ZCDT_EXPORT_2[[#This Row],[Sub-Category]:[Segment 5]])","v":"Baked in store; Festivity bread; Snack bread"}]
["AH","Baltic CDT","U1","01. Ultra-Fresh","U1.05","05. Bread,Bakery & Confectionery","A.07.01","12. Bread, Rimi production bread product","18968","01. Baked in store","19223","09. Festivity bread","19228","05. Dry bread","","","","","","","X",null,"A.07.01","Bread, Rimi production bread product","Baked in store","Festivity bread","Dry bread","","","","19228",{"$f":"_xlfn.TEXTJOIN(\"; \",TRUE,ZCDT_EXPORT_2[[#This Row],[Sub-Category]:[Segment 5]])","v":"Baked in store; Festivity bread; Dry bread"}]
["AH","Baltic CDT","U1","01. Ultra-Fresh","U1.05","05. Bread,Bakery & Confectionery","A.07.01","12. Bread, Rimi production bread product","18968","01. Baked in store","19223","09. Festivity bread","19229","06. Grey bread","","","","","","","X",null,"A.07.01","Bread, Rimi production bread product","Baked in store","Festivity bread","Grey bread","","","","19229",{"$f":"_xlfn.TEXTJOIN(\"; \",TRUE,ZCDT_EXPORT_2[[#This Row],[Sub-Category]:[Segment 5]])","v":"Baked in store; Festivity bread; Grey bread"}]
["AH","Baltic CDT","U1","01. Ultra-Fresh","U1.05","05. Bread,Bakery & Confectionery","A.07.01","12. Bread, Rimi production bread product","18968","01. Baked in store","19223","09. Festivity bread","19230","07. Portioned bread","","","","","","","X",null,"A.07.01","Bread, Rimi production bread product","Baked in store","Festivity bread","Portioned bread","","","","19230",{"$f":"_xlfn.TEXTJOIN(\"; \",TRUE,ZCDT_EXPORT_2[[#This Row],[Sub-Category]:[Segment 5]])","v":"Baked in store; Festivity bread; Portioned bread"}]
["AH","Baltic CDT","U1","01. Ultra-Fresh","U1.05","05. Bread,Bakery & Confectionery","A.07.01","12. Bread, Rimi production bread product","18968","01. Baked in store","19223","09. Festivity bread","19241","08. Dark bread","","","","","","","X",null,"A.07.01","Bread, Rimi production bread product","Baked in store","Festivity bread","Dark bread","","","","19241",{"$f":"_xlfn.TEXTJOIN(\"; \",TRUE,ZCDT_EXPORT_2[[#This Row],[Sub-Category]:[Segment 5]])","v":"Baked in store; Festivity bread; Dark bread"}]
["AH","Baltic CDT","U1","01. Ultra-Fresh","U1.05","05. Bread,Bakery & Confectionery","A.07.01","12. Bread, Rimi production bread product","18969","02. Vendor packed","19020","01. Dry bread","19028","01. Bagels","","","","","","","X",null,"A.07.01","Bread, Rimi production bread product","Vendor packed","Dry bread","Bagels","","","","19028",{"$f":"_xlfn.TEXTJOIN(\"; \",TRUE,ZCDT_EXPORT_2[[#This Row],[Sub-Category]:[Segment 5]])","v":"Vendor packed; Dry bread; Bagels"}]
["AH","Baltic CDT","U1","01. Ultra-Fresh","U1.05","05. Bread,Bakery & Confectionery","A.07.01","12. Bread, Rimi production bread product","18969","02. Vendor packed","19020","01. Dry bread","19029","02. Crisps","","","","","","","X",null,"A.07.01","Bread, Rimi production bread product","Vendor packed","Dry bread","Crisps","","","","19029",{"$f":"_xlfn.TEXTJOIN(\"; \",TRUE,ZCDT_EXPORT_2[[#This Row],[Sub-Category]:[Segment 5]])","v":"Vendor packed; Dry bread; Crisps"}]
["AH","Baltic CDT","U1","01. Ultra-Fresh","U1.05","05. Bread,Bakery & Confectionery","A.07.01","12. Bread, Rimi production bread product","18969","02. Vendor packed","19020","01. Dry bread","19030","03. Rusks","","","","","","","X",null,"A.07.01","Bread, Rimi production bread product","Vendor packed","Dry bread","Rusks","","","","19030",{"$f":"_xlfn.TEXTJOIN(\"; \",TRUE,ZCDT_EXPORT_2[[#This Row],[Sub-Category]:[Segment 5]])","v":"Vendor packed; Dry bread; Rusks"}]
["AH","Baltic CDT","U1","01. Ultra-Fresh","U1.05","05. Bread,Bakery & Confectionery","A.07.01","12. Bread, Rimi production bread product","18969","02. Vendor packed","19020","01. Dry bread","19031","04. Other dry bread","","","","","","","X",null,"A.07.01","Bread, Rimi production bread product","Vendor packed","Dry bread","Other dry bread","","","","19031",{"$f":"_xlfn.TEXTJOIN(\"; \",TRUE,ZCDT_EXPORT_2[[#This Row],[Sub-Category]:[Segment 5]])","v":"Vendor packed; Dry bread; Other dry bread"}]
["AH","Baltic CDT","U1","01. Ultra-Fresh","U1.05","05. Bread,Bakery & Confectionery","A.07.01","12. Bread, Rimi production bread product","18969","02. Vendor packed","19021","02. Ethnic bread","","","","","","","","","X",null,"A.07.01","Bread, Rimi production bread product","Vendor packed","Ethnic bread","","","","","19021",{"$f":"_xlfn.TEXTJOIN(\"; \",TRUE,ZCDT_EXPORT_2[[#This Row],[Sub-Category]:[Segment 5]])","v":"Vendor packed; Ethnic bread"}]
["AH","Baltic CDT","U1","01. Ultra-Fresh","U1.05","05. Bread,Bakery & Confectionery","A.07.01","12. Bread, Rimi production bread product","18969","02. Vendor packed","19022","03. Dark bread","19032","01. W. additives","19036","01. Half size","","","","","X",null,"A.07.01","Bread, Rimi production bread product","Vendor packed","Dark bread","W. additives","Half size","","","19036",{"$f":"_xlfn.TEXTJOIN(\"; \",TRUE,ZCDT_EXPORT_2[[#This Row],[Sub-Category]:[Segment 5]])","v":"Vendor packed; Dark bread; W. additives; Half size"}]
["AH","Baltic CDT","U1","01. Ultra-Fresh","U1.05","05. Bread,Bakery & Confectionery","A.07.01","12. Bread, Rimi production bread product","18969","02. Vendor packed","19022","03. Dark bread","19032","01. W. additives","19037","02. Full size","","","","","X",null,"A.07.01","Bread, Rimi production bread product","Vendor packed","Dark bread","W. additives","Full size","","","19037",{"$f":"_xlfn.TEXTJOIN(\"; \",TRUE,ZCDT_EXPORT_2[[#This Row],[Sub-Category]:[Segment 5]])","v":"Vendor packed; Dark bread; W. additives; Full size"}]
["AH","Baltic CDT","U1","01. Ultra-Fresh","U1.05","05. Bread,Bakery & Confectionery","A.07.01","12. Bread, Rimi production bread product","18969","02. Vendor packed","19022","03. Dark bread","19033","02. W/o. additives","19038","01. Half size","","","","","X",null,"A.07.01","Bread, Rimi production bread product","Vendor packed","Dark bread","W/o. additives","Half size","","","19038",{"$f":"_xlfn.TEXTJOIN(\"; \",TRUE,ZCDT_EXPORT_2[[#This Row],[Sub-Category]:[Segment 5]])","v":"Vendor packed; Dark bread; W/o. additives; Half size"}]
["AH","Baltic CDT","U1","01. Ultra-Fresh","U1.05","05. Bread,Bakery & Confectionery","A.07.01","12. Bread, Rimi production bread product","18969","02. Vendor packed","19022","03. Dark bread","19033","02. W/o. additives","19039","02. Full size","","","","","X",null,"A.07.01","Bread, Rimi production bread product","Vendor packed","Dark bread","W/o. additives","Full size","","","19039",{"$f":"_xlfn.TEXTJOIN(\"; \",TRUE,ZCDT_EXPORT_2[[#This Row],[Sub-Category]:[Segment 5]])","v":"Vendor packed; Dark bread; W/o. additives; Full size"}]
["AH","Baltic CDT","U1","01. Ultra-Fresh","U1.05","05. Bread,Bakery & Confectionery","A.07.01","12. Bread, Rimi production bread product","18969","02. Vendor packed","19023","04. Grey bread","19034","01. W. additives","","","","","","","X",null,"A.07.01","Bread, Rimi production bread product","Vendor packed","Grey bread","W. additives","","","","19034",{"$f":"_xlfn.TEXTJOIN(\"; \",TRUE,ZCDT_EXPORT_2[[#This Row],[Sub-Category]:[Segment 5]])","v":"Vendor packed; Grey bread; W. additives"}]
["AH","Baltic CDT","U1","01. Ultra-Fresh","U1.05","05. Bread,Bakery & Confectionery","A.07.01","12. Bread, Rimi production bread product","18969","02. Vendor packed","19023","04. Grey bread","19035","02. W/o. additives","","","","","","","X",null,"A.07.01","Bread, Rimi production bread product","Vendor packed","Grey bread","W/o. additives","","","","19035",{"$f":"_xlfn.TEXTJOIN(\"; \",TRUE,ZCDT_EXPORT_2[[#This Row],[Sub-Category]:[Segment 5]])","v":"Vendor packed; Grey bread; W/o. additives"}]
["AH","Baltic CDT","U1","01. Ultra-Fresh","U1.05","05. Bread,Bakery & Confectionery","A.07.01","12. Bread, Rimi production bread product","18969","02. Vendor packed","19024","05. Sweet and sour bread","19040","01. W. additives","19042","01. Half size","","","","","X",null,"A.07.01","Bread, Rimi production bread product","Vendor packed","Sweet and sour bread","W. additives","Half size","","","19042",{"$f":"_xlfn.TEXTJOIN(\"; \",TRUE,ZCDT_EXPORT_2[[#This Row],[Sub-Category]:[Segment 5]])","v":"Vendor packed; Sweet and sour bread; W. additives; Half size"}]
["AH","Baltic CDT","U1","01. Ultra-Fresh","U1.05","05. Bread,Bakery & Confectionery","A.07.01","12. Bread, Rimi production bread product","18969","02. Vendor packed","19024","05. Sweet and sour bread","19040","01. W. additives","19043","02. Full size","","","","","X",null,"A.07.01","Bread, Rimi production bread product","Vendor packed","Sweet and sour bread","W. additives","Full size","","","19043",{"$f":"_xlfn.TEXTJOIN(\"; \",TRUE,ZCDT_EXPORT_2[[#This Row],[Sub-Category]:[Segment 5]])","v":"Vendor packed; Sweet and sour bread; W. additives; Full size"}]
["AH","Baltic CDT","U1","01. Ultra-Fresh","U1.05","05. Bread,Bakery & Confectionery","A.07.01","12. Bread, Rimi production bread product","18969","02. Vendor packed","19024","05. Sweet and sour bread","19041","02. W/o. additives","19044","01. Half size","","","","","X",null,"A.07.01","Bread, Rimi production bread product","Vendor packed","Sweet and sour bread","W/o. additives","Half size","","","19044",{"$f":"_xlfn.TEXTJOIN(\"; \",TRUE,ZCDT_EXPORT_2[[#This Row],[Sub-Category]:[Segment 5]])","v":"Vendor packed; Sweet and sour bread; W/o. additives; Half size"}]
["AH","Baltic CDT","U1","01. Ultra-Fresh","U1.05","05. Bread,Bakery & Confectionery","A.07.01","12. Bread, Rimi production bread product","18969","02. Vendor packed","19024","05. Sweet and sour bread","19041","02. W/o. additives","19045","02. Full size","","","","","X",null,"A.07.01","Bread, Rimi production bread product","Vendor packed","Sweet and sour bread","W/o. additives","Full size","","","19045",{"$f":"_xlfn.TEXTJOIN(\"; \",TRUE,ZCDT_EXPORT_2[[#This Row],[Sub-Category]:[Segment 5]])","v":"Vendor packed; Sweet and sour bread; W/o. additives; Full size"}]
["AH","Baltic CDT","U1","01. Ultra-Fresh","U1.05","05. Bread,Bakery & Confectionery","A.07.01","12. Bread, Rimi production bread product","18969","02. Vendor packed","19025","06. White bread","19046","01. Toast","","","","","","","X",null,"A.07.01","Bread, Rimi production bread product","Vendor packed","White bread","Toast","","","","19046",{"$f":"_xlfn.TEXTJOIN(\"; \",TRUE,ZCDT_EXPORT_2[[#This Row],[Sub-Category]:[Segment 5]])","v":"Vendor packed; White bread; Toast"}]
["AH","Baltic CDT","U1","01. Ultra-Fresh","U1.05","05. Bread,Bakery & Confectionery","A.07.01","12. Bread, Rimi production bread product","18969","02. Vendor packed","19025","06. White bread","19047","02. Other (baton)","","","","","","","X",null,"A.07.01","Bread, Rimi production bread product","Vendor packed","White bread","Other (baton)","","","","19047",{"$f":"_xlfn.TEXTJOIN(\"; \",TRUE,ZCDT_EXPORT_2[[#This Row],[Sub-Category]:[Segment 5]])","v":"Vendor packed; White bread; Other (baton)"}]
["AH","Baltic CDT","U1","01. Ultra-Fresh","U1.05","05. Bread,Bakery & Confectionery","A.07.01","12. Bread, Rimi production bread product","18969","02. Vendor packed","19026","07. Portioned bread","19048","01. Hot dog and hamburger bread","","","","","","","X",null,"A.07.01","Bread, Rimi production bread product","Vendor packed","Portioned bread","Hot dog and hamburger bread","","","","19048",{"$f":"_xlfn.TEXTJOIN(\"; \",TRUE,ZCDT_EXPORT_2[[#This Row],[Sub-Category]:[Segment 5]])","v":"Vendor packed; Portioned bread; Hot dog and hamburger bread"}]
["AH","Baltic CDT","U1","01. Ultra-Fresh","U1.05","05. Bread,Bakery & Confectionery","A.07.01","12. Bread, Rimi production bread product","18969","02. Vendor packed","19026","07. Portioned bread","19049","02. White","","","","","","","X",null,"A.07.01","Bread, Rimi production bread product","Vendor packed","Portioned bread","White","","","","19049",{"$f":"_xlfn.TEXTJOIN(\"; \",TRUE,ZCDT_EXPORT_2[[#This Row],[Sub-Category]:[Segment 5]])","v":"Vendor packed; Portioned bread; White"}]
["AH","Baltic CDT","U1","01. Ultra-Fresh","U1.05","05. Bread,Bakery & Confectionery","A.07.01","12. Bread, Rimi production bread product","18969","02. Vendor packed","19026","07. Portioned bread","19050","03. Dark","","","","","","","X",null,"A.07.01","Bread, Rimi production bread product","Vendor packed","Portioned bread","Dark","","","","19050",{"$f":"_xlfn.TEXTJOIN(\"; \",TRUE,ZCDT_EXPORT_2[[#This Row],[Sub-Category]:[Segment 5]])","v":"Vendor packed; Portioned bread; Dark"}]
["AH","Baltic CDT","U1","01. Ultra-Fresh","U1.05","05. Bread,Bakery & Confectionery","A.07.01","12. Bread, Rimi production bread product","18969","02. Vendor packed","19027","08. Special diet bread","","","","","","","","","X",null,"A.07.01","Bread, Rimi production bread product","Vendor packed","Special diet bread","","","","","19027",{"$f":"_xlfn.TEXTJOIN(\"; \",TRUE,ZCDT_EXPORT_2[[#This Row],[Sub-Category]:[Segment 5]])","v":"Vendor packed; Special diet bread"}]
["AH","Baltic CDT","U1","01. Ultra-Fresh","U1.05","05. Bread,Bakery & Confectionery","A.07.02","13. Coffee buns, Rimi production coffee","17115","01. Coffee buns","17122","01. Sweet","17126","01. Vendor","","","","","","","X",null,"A.07.02","Coffee buns, Rimi production coffee","Coffee buns","Sweet","Vendor","","","","17126",{"$f":"_xlfn.TEXTJOIN(\"; \",TRUE,ZCDT_EXPORT_2[[#This Row],[Sub-Category]:[Segment 5]])","v":"Coffee buns; Sweet; Vendor"}]
["AH","Baltic CDT","U1","01. Ultra-Fresh","U1.05","05. Bread,Bakery & Confectionery","A.07.02","13. Coffee buns, Rimi production coffee","17115","01. Coffee buns","17122","01. Sweet","17125","02. Baked in store","","","","","","","X",null,"A.07.02","Coffee buns, Rimi production coffee","Coffee buns","Sweet","Baked in store","","","","17125",{"$f":"_xlfn.TEXTJOIN(\"; \",TRUE,ZCDT_EXPORT_2[[#This Row],[Sub-Category]:[Segment 5]])","v":"Coffee buns; Sweet; Baked in store"}]
["AH","Baltic CDT","U1","01. Ultra-Fresh","U1.05","05. Bread,Bakery & Confectionery","A.07.02","13. Coffee buns, Rimi production coffee","17115","01. Coffee buns","17123","02. Salty","17127","01. Vendor","","","","","","","X",null,"A.07.02","Coffee buns, Rimi production coffee","Coffee buns","Salty","Vendor","","","","17127",{"$f":"_xlfn.TEXTJOIN(\"; \",TRUE,ZCDT_EXPORT_2[[#This Row],[Sub-Category]:[Segment 5]])","v":"Coffee buns; Salty; Vendor"}]
["AH","Baltic CDT","U1","01. Ultra-Fresh","U1.05","05. Bread,Bakery & Confectionery","A.07.02","13. Coffee buns, Rimi production coffee","17115","01. Coffee buns","17123","02. Salty","17128","02. Baked in store","","","","","","","X",null,"A.07.02","Coffee buns, Rimi production coffee","Coffee buns","Salty","Baked in store","","","","17128",{"$f":"_xlfn.TEXTJOIN(\"; \",TRUE,ZCDT_EXPORT_2[[#This Row],[Sub-Category]:[Segment 5]])","v":"Coffee buns; Salty; Baked in store"}]
["AH","Baltic CDT","U1","01. Ultra-Fresh","U1.05","05. Bread,Bakery & Confectionery","A.07.02","13. Coffee buns, Rimi production coffee","17116","02. Croissants","17129","01. Vendor","","","","","","","","","X",null,"A.07.02","Coffee buns, Rimi production coffee","Croissants","Vendor","","","","","17129",{"$f":"_xlfn.TEXTJOIN(\"; \",TRUE,ZCDT_EXPORT_2[[#This Row],[Sub-Category]:[Segment 5]])","v":"Croissants; Vendor"}]
["AH","Baltic CDT","U1","01. Ultra-Fresh","U1.05","05. Bread,Bakery & Confectionery","A.07.02","13. Coffee buns, Rimi production coffee","17116","02. Croissants","17130","02. Baked in store","","","","","","","","","X",null,"A.07.02","Coffee buns, Rimi production coffee","Croissants","Baked in store","","","","","17130",{"$f":"_xlfn.TEXTJOIN(\"; \",TRUE,ZCDT_EXPORT_2[[#This Row],[Sub-Category]:[Segment 5]])","v":"Croissants; Baked in store"}]
["AH","Baltic CDT","U1","01. Ultra-Fresh","U1.05","05. Bread,Bakery & Confectionery","A.07.02","13. Coffee buns, Rimi production coffee","17117","03. Doughnuts","17132","01. Vendor","","","","","","","","","X",null,"A.07.02","Coffee buns, Rimi production coffee","Doughnuts","Vendor","","","","","17132",{"$f":"_xlfn.TEXTJOIN(\"; \",TRUE,ZCDT_EXPORT_2[[#This Row],[Sub-Category]:[Segment 5]])","v":"Doughnuts; Vendor"}]
["AH","Baltic CDT","U1","01. Ultra-Fresh","U1.05","05. Bread,Bakery & Confectionery","A.07.02","13. Coffee buns, Rimi production coffee","17117","03. Doughnuts","17133","02. Baked in store","","","","","","","","","X",null,"A.07.02","Coffee buns, Rimi production coffee","Doughnuts","Baked in store","","","","","17133",{"$f":"_xlfn.TEXTJOIN(\"; \",TRUE,ZCDT_EXPORT_2[[#This Row],[Sub-Category]:[Segment 5]])","v":"Doughnuts; Baked in store"}]
["AH","Baltic CDT","U1","01. Ultra-Fresh","U1.05","05. Bread,Bakery & Confectionery","A.07.02","13. Coffee buns, Rimi production coffee","17118","04. Pound cakes","17134","01. Vendor","","","","","","","","","X",null,"A.07.02","Coffee buns, Rimi production coffee","Pound cakes","Vendor","","","","","17134",{"$f":"_xlfn.TEXTJOIN(\"; \",TRUE,ZCDT_EXPORT_2[[#This Row],[Sub-Category]:[Segment 5]])","v":"Pound cakes; Vendor"}]
["AH","Baltic CDT","U1","01. Ultra-Fresh","U1.05","05. Bread,Bakery & Confectionery","A.07.02","13. Coffee buns, Rimi production coffee","17118","04. Pound cakes","17135","02. Baked in store","","","","","","","","","X",null,"A.07.02","Coffee buns, Rimi production coffee","Pound cakes","Baked in store","","","","","17135",{"$f":"_xlfn.TEXTJOIN(\"; \",TRUE,ZCDT_EXPORT_2[[#This Row],[Sub-Category]:[Segment 5]])","v":"Pound cakes; Baked in store"}]
["AH","Baltic CDT","U1","01. Ultra-Fresh","U1.05","05. Bread,Bakery & Confectionery","A.07.02","13. Coffee buns, Rimi production coffee","17119","05. Pies","17136","01. Vendor","","","","","","","","","X",null,"A.07.02","Coffee buns, Rimi production coffee","Pies","Vendor","","","","","17136",{"$f":"_xlfn.TEXTJOIN(\"; \",TRUE,ZCDT_EXPORT_2[[#This Row],[Sub-Category]:[Segment 5]])","v":"Pies; Vendor"}]
["AH","Baltic CDT","U1","01. Ultra-Fresh","U1.05","05. Bread,Bakery & Confectionery","A.07.02","13. Coffee buns, Rimi production coffee","17119","05. Pies","17137","02. Baked in store","","","","","","","","","X",null,"A.07.02","Coffee buns, Rimi production coffee","Pies","Baked in store","","","","","17137",{"$f":"_xlfn.TEXTJOIN(\"; \",TRUE,ZCDT_EXPORT_2[[#This Row],[Sub-Category]:[Segment 5]])","v":"Pies; Baked in store"}]
["AH","Baltic CDT","U1","01. Ultra-Fresh","U1.05","05. Bread,Bakery & Confectionery","A.07.02","13. Coffee buns, Rimi production coffee","17120","06. Cookies and snacks","17138","01. Sweet","17141","01. Vendor","","","","","","","X",null,"A.07.02","Coffee buns, Rimi production coffee","Cookies and snacks","Sweet","Vendor","","","","17141",{"$f":"_xlfn.TEXTJOIN(\"; \",TRUE,ZCDT_EXPORT_2[[#This Row],[Sub-Category]:[Segment 5]])","v":"Cookies and snacks; Sweet; Vendor"}]
["AH","Baltic CDT","U1","01. Ultra-Fresh","U1.05","05. Bread,Bakery & Confectionery","A.07.02","13. Coffee buns, Rimi production coffee","17120","06. Cookies and snacks","17138","01. Sweet","17142","02. Baked in store","","","","","","","X",null,"A.07.02","Coffee buns, Rimi production coffee","Cookies and snacks","Sweet","Baked in store","","","","17142",{"$f":"_xlfn.TEXTJOIN(\"; \",TRUE,ZCDT_EXPORT_2[[#This Row],[Sub-Category]:[Segment 5]])","v":"Cookies and snacks; Sweet; Baked in store"}]
["AH","Baltic CDT","U1","01. Ultra-Fresh","U1.05","05. Bread,Bakery & Confectionery","A.07.02","13. Coffee buns, Rimi production coffee","17120","06. Cookies and snacks","17139","02. Salty","17143","01. Vendor","","","","","","","X",null,"A.07.02","Coffee buns, Rimi production coffee","Cookies and snacks","Salty","Vendor","","","","17143",{"$f":"_xlfn.TEXTJOIN(\"; \",TRUE,ZCDT_EXPORT_2[[#This Row],[Sub-Category]:[Segment 5]])","v":"Cookies and snacks; Salty; Vendor"}]
["AH","Baltic CDT","U1","01. Ultra-Fresh","U1.05","05. Bread,Bakery & Confectionery","A.07.02","13. Coffee buns, Rimi production coffee","17120","06. Cookies and snacks","17139","02. Salty","17144","02. Baked in store","","","","","","","X",null,"A.07.02","Coffee buns, Rimi production coffee","Cookies and snacks","Salty","Baked in store","","","","17144",{"$f":"_xlfn.TEXTJOIN(\"; \",TRUE,ZCDT_EXPORT_2[[#This Row],[Sub-Category]:[Segment 5]])","v":"Cookies and snacks; Salty; Baked in store"}]
["AH","Baltic CDT","U1","01. Ultra-Fresh","U1.05","05. Bread,Bakery & Confectionery","A.07.02","13. Coffee buns, Rimi production coffee","17121","07. Plaits","17145","01. Sweet","17147","01. Vendor","","","","","","","X",null,"A.07.02","Coffee buns, Rimi production coffee","Plaits","Sweet","Vendor","","","","17147",{"$f":"_xlfn.TEXTJOIN(\"; \",TRUE,ZCDT_EXPORT_2[[#This Row],[Sub-Category]:[Segment 5]])","v":"Plaits; Sweet; Vendor"}]
["AH","Baltic CDT","U1","01. Ultra-Fresh","U1.05","05. Bread,Bakery & Confectionery","A.07.02","13. Coffee buns, Rimi production coffee","17121","07. Plaits","17145","01. Sweet","17148","02. Baked in store","","","","","","","X",null,"A.07.02","Coffee buns, Rimi production coffee","Plaits","Sweet","Baked in store","","","","17148",{"$f":"_xlfn.TEXTJOIN(\"; \",TRUE,ZCDT_EXPORT_2[[#This Row],[Sub-Category]:[Segment 5]])","v":"Plaits; Sweet; Baked in store"}]
["AH","Baltic CDT","U1","01. Ultra-Fresh","U1.05","05. Bread,Bakery & Confectionery","A.07.02","13. Coffee buns, Rimi production coffee","17121","07. Plaits","17146","02. Salty","17149","01. Vendor","","","","","","","X",null,"A.07.02","Coffee buns, Rimi production coffee","Plaits","Salty","Vendor","","","","17149",{"$f":"_xlfn.TEXTJOIN(\"; \",TRUE,ZCDT_EXPORT_2[[#This Row],[Sub-Category]:[Segment 5]])","v":"Plaits; Salty; Vendor"}]
["AH","Baltic CDT","U1","01. Ultra-Fresh","U1.05","05. Bread,Bakery & Confectionery","A.07.02","13. Coffee buns, Rimi production coffee","17121","07. Plaits","17146","02. Salty","17150","02. Baked in store","","","","","","","X",null,"A.07.02","Coffee buns, Rimi production coffee","Plaits","Salty","Baked in store","","","","17150",{"$f":"_xlfn.TEXTJOIN(\"; \",TRUE,ZCDT_EXPORT_2[[#This Row],[Sub-Category]:[Segment 5]])","v":"Plaits; Salty; Baked in store"}]
["AH","Baltic CDT","U1","01. Ultra-Fresh","U1.05","05. Bread,Bakery & Confectionery","A.07.02","13. Coffee buns, Rimi production coffee","19242","08. Festivity coffee buns and snacks","19243","01. Croissants","","","","","","","","","X",null,"A.07.02","Coffee buns, Rimi production coffee","Festivity coffee buns and snacks","Croissants","","","","","19243",{"$f":"_xlfn.TEXTJOIN(\"; \",TRUE,ZCDT_EXPORT_2[[#This Row],[Sub-Category]:[Segment 5]])","v":"Festivity coffee buns and snacks; Croissants"}]
["AH","Baltic CDT","U1","01. Ultra-Fresh","U1.05","05. Bread,Bakery & Confectionery","A.07.02","13. Coffee buns, Rimi production coffee","19242","08. Festivity coffee buns and snacks","19244","02. Pound cakes","","","","","","","","","X",null,"A.07.02","Coffee buns, Rimi production coffee","Festivity coffee buns and snacks","Pound cakes","","","","","19244",{"$f":"_xlfn.TEXTJOIN(\"; \",TRUE,ZCDT_EXPORT_2[[#This Row],[Sub-Category]:[Segment 5]])","v":"Festivity coffee buns and snacks; Pound cakes"}]
["AH","Baltic CDT","U1","01. Ultra-Fresh","U1.05","05. Bread,Bakery & Confectionery","A.07.02","13. Coffee buns, Rimi production coffee","19242","08. Festivity coffee buns and snacks","19245","03. Cookies and snacks","","","","","","","","","X",null,"A.07.02","Coffee buns, Rimi production coffee","Festivity coffee buns and snacks","Cookies and snacks","","","","","19245",{"$f":"_xlfn.TEXTJOIN(\"; \",TRUE,ZCDT_EXPORT_2[[#This Row],[Sub-Category]:[Segment 5]])","v":"Festivity coffee buns and snacks; Cookies and snacks"}]
["AH","Baltic CDT","U1","01. Ultra-Fresh","U1.05","05. Bread,Bakery & Confectionery","A.07.02","13. Coffee buns, Rimi production coffee","19242","08. Festivity coffee buns and snacks","19246","04. Coffee buns","","","","","","","","","X",null,"A.07.02","Coffee buns, Rimi production coffee","Festivity coffee buns and snacks","Coffee buns","","","","","19246",{"$f":"_xlfn.TEXTJOIN(\"; \",TRUE,ZCDT_EXPORT_2[[#This Row],[Sub-Category]:[Segment 5]])","v":"Festivity coffee buns and snacks; Coffee buns"}]
["AH","Baltic CDT","U1","01. Ultra-Fresh","U1.05","05. Bread,Bakery & Confectionery","A.07.02","13. Coffee buns, Rimi production coffee","19242","08. Festivity coffee buns and snacks","19247","05. Doughnuts","","","","","","","","","X",null,"A.07.02","Coffee buns, Rimi production coffee","Festivity coffee buns and snacks","Doughnuts","","","","","19247",{"$f":"_xlfn.TEXTJOIN(\"; \",TRUE,ZCDT_EXPORT_2[[#This Row],[Sub-Category]:[Segment 5]])","v":"Festivity coffee buns and snacks; Doughnuts"}]
["AH","Baltic CDT","U1","01. Ultra-Fresh","U1.05","05. Bread,Bakery & Confectionery","A.07.02","13. Coffee buns, Rimi production coffee","19242","08. Festivity coffee buns and snacks","19248","06. Pies","","","","","","","","","X",null,"A.07.02","Coffee buns, Rimi production coffee","Festivity coffee buns and snacks","Pies","","","","","19248",{"$f":"_xlfn.TEXTJOIN(\"; \",TRUE,ZCDT_EXPORT_2[[#This Row],[Sub-Category]:[Segment 5]])","v":"Festivity coffee buns and snacks; Pies"}]
["AH","Baltic CDT","U1","01. Ultra-Fresh","U1.05","05. Bread,Bakery & Confectionery","A.07.02","13. Coffee buns, Rimi production coffee","19242","08. Festivity coffee buns and snacks","19249","07. Plaits","","","","","","","","","X",null,"A.07.02","Coffee buns, Rimi production coffee","Festivity coffee buns and snacks","Plaits","","","","","19249",{"$f":"_xlfn.TEXTJOIN(\"; \",TRUE,ZCDT_EXPORT_2[[#This Row],[Sub-Category]:[Segment 5]])","v":"Festivity coffee buns and snacks; Plaits"}]
["AH","Baltic CDT","U1","01. Ultra-Fresh","U1.05","05. Bread,Bakery & Confectionery","A.07.02","13. Coffee buns, Rimi production coffee","19242","08. Festivity coffee buns and snacks","19250","08. Pretzel","","","","","","","","","X",null,"A.07.02","Coffee buns, Rimi production coffee","Festivity coffee buns and snacks","Pretzel","","","","","19250",{"$f":"_xlfn.TEXTJOIN(\"; \",TRUE,ZCDT_EXPORT_2[[#This Row],[Sub-Category]:[Segment 5]])","v":"Festivity coffee buns and snacks; Pretzel"}]
["AH","Baltic CDT","U1","01. Ultra-Fresh","U1.05","05. Bread,Bakery & Confectionery","A.07.03","14. Confectionery, Rimi production confe","19056","01. Cakes - everyday","19057","01. <=500g","19059","01. Vendor packed","","","","","","","X",null,"A.07.03","Confectionery, Rimi production confe","Cakes - everyday","<=500g","Vendor packed","","","","19059",{"$f":"_xlfn.TEXTJOIN(\"; \",TRUE,ZCDT_EXPORT_2[[#This Row],[Sub-Category]:[Segment 5]])","v":"Cakes - everyday; <=500g; Vendor packed"}]
["AH","Baltic CDT","U1","01. Ultra-Fresh","U1.05","05. Bread,Bakery & Confectionery","A.07.03","14. Confectionery, Rimi production confe","19056","01. Cakes - everyday","19057","01. <=500g","19060","02. Baked in store","","","","","","","X",null,"A.07.03","Confectionery, Rimi production confe","Cakes - everyday","<=500g","Baked in store","","","","19060",{"$f":"_xlfn.TEXTJOIN(\"; \",TRUE,ZCDT_EXPORT_2[[#This Row],[Sub-Category]:[Segment 5]])","v":"Cakes - everyday; <=500g; Baked in store"}]
["AH","Baltic CDT","U1","01. Ultra-Fresh","U1.05","05. Bread,Bakery & Confectionery","A.07.03","14. Confectionery, Rimi production confe","19056","01. Cakes - everyday","19058","02. >500g","19061","01. Vendor packed","","","","","","","X",null,"A.07.03","Confectionery, Rimi production confe","Cakes - everyday",">500g","Vendor packed","","","","19061",{"$f":"_xlfn.TEXTJOIN(\"; \",TRUE,ZCDT_EXPORT_2[[#This Row],[Sub-Category]:[Segment 5]])","v":"Cakes - everyday; >500g; Vendor packed"}]
["AH","Baltic CDT","U1","01. Ultra-Fresh","U1.05","05. Bread,Bakery & Confectionery","A.07.03","14. Confectionery, Rimi production confe","19056","01. Cakes - everyday","19058","02. >500g","19062","02. Baked in store","","","","","","","X",null,"A.07.03","Confectionery, Rimi production confe","Cakes - everyday",">500g","Baked in store","","","","19062",{"$f":"_xlfn.TEXTJOIN(\"; \",TRUE,ZCDT_EXPORT_2[[#This Row],[Sub-Category]:[Segment 5]])","v":"Cakes - everyday; >500g; Baked in store"}]
["AH","Baltic CDT","U1","01. Ultra-Fresh","U1.05","05. Bread,Bakery & Confectionery","A.07.03","14. Confectionery, Rimi production confe","17095","02. Fine cakes","17102","01. Vendor","","","","","","","","","X",null,"A.07.03","Confectionery, Rimi production confe","Fine cakes","Vendor","","","","","17102",{"$f":"_xlfn.TEXTJOIN(\"; \",TRUE,ZCDT_EXPORT_2[[#This Row],[Sub-Category]:[Segment 5]])","v":"Fine cakes; Vendor"}]
["AH","Baltic CDT","U1","01. Ultra-Fresh","U1.05","05. Bread,Bakery & Confectionery","A.07.03","14. Confectionery, Rimi production confe","17095","02. Fine cakes","17103","02. Baked in store","","","","","","","","","X",null,"A.07.03","Confectionery, Rimi production confe","Fine cakes","Baked in store","","","","","17103",{"$f":"_xlfn.TEXTJOIN(\"; \",TRUE,ZCDT_EXPORT_2[[#This Row],[Sub-Category]:[Segment 5]])","v":"Fine cakes; Baked in store"}]
["AH","Baltic CDT","U1","01. Ultra-Fresh","U1.05","05. Bread,Bakery & Confectionery","A.07.03","14. Confectionery, Rimi production confe","17097","03. Semi-prepared confectionary","19051","01. Dough","19052","01. Vendor","","","","","","","X",null,"A.07.03","Confectionery, Rimi production confe","Semi-prepared confectionary","Dough","Vendor","","","","19052",{"$f":"_xlfn.TEXTJOIN(\"; \",TRUE,ZCDT_EXPORT_2[[#This Row],[Sub-Category]:[Segment 5]])","v":"Semi-prepared confectionary; Dough; Vendor"}]
["AH","Baltic CDT","U1","01. Ultra-Fresh","U1.05","05. Bread,Bakery & Confectionery","A.07.03","14. Confectionery, Rimi production confe","17097","03. Semi-prepared confectionary","19051","01. Dough","19053","02. Rimi production","","","","","","","X",null,"A.07.03","Confectionery, Rimi production confe","Semi-prepared confectionary","Dough","Rimi production","","","","19053",{"$f":"_xlfn.TEXTJOIN(\"; \",TRUE,ZCDT_EXPORT_2[[#This Row],[Sub-Category]:[Segment 5]])","v":"Semi-prepared confectionary; Dough; Rimi production"}]
["AH","Baltic CDT","U1","01. Ultra-Fresh","U1.05","05. Bread,Bakery & Confectionery","A.07.03","14. Confectionery, Rimi production confe","17097","03. Semi-prepared confectionary","17107","02. Pastry baskets","","","","","","","","","X",null,"A.07.03","Confectionery, Rimi production confe","Semi-prepared confectionary","Pastry baskets","","","","","17107",{"$f":"_xlfn.TEXTJOIN(\"; \",TRUE,ZCDT_EXPORT_2[[#This Row],[Sub-Category]:[Segment 5]])","v":"Semi-prepared confectionary; Pastry baskets"}]
["AH","Baltic CDT","U1","01. Ultra-Fresh","U1.05","05. Bread,Bakery & Confectionery","A.07.03","14. Confectionery, Rimi production confe","17097","03. Semi-prepared confectionary","17108","03. Bases","","","","","","","","","X",null,"A.07.03","Confectionery, Rimi production confe","Semi-prepared confectionary","Bases","","","","","17108",{"$f":"_xlfn.TEXTJOIN(\"; \",TRUE,ZCDT_EXPORT_2[[#This Row],[Sub-Category]:[Segment 5]])","v":"Semi-prepared confectionary; Bases"}]
["AH","Baltic CDT","U1","01. Ultra-Fresh","U1.05","05. Bread,Bakery & Confectionery","A.07.03","14. Confectionery, Rimi production confe","17097","03. Semi-prepared confectionary","19055","04. Other (glazes for gingerbread)","","","","","","","","","X",null,"A.07.03","Confectionery, Rimi production confe","Semi-prepared confectionary","Other (glazes for gingerbread)","","","","","19055",{"$f":"_xlfn.TEXTJOIN(\"; \",TRUE,ZCDT_EXPORT_2[[#This Row],[Sub-Category]:[Segment 5]])","v":"Semi-prepared confectionary; Other (glazes for gingerbread)"}]
["AH","Baltic CDT","U1","01. Ultra-Fresh","U1.05","05. Bread,Bakery & Confectionery","A.07.03","14. Confectionery, Rimi production confe","19063","04. Portion confectionary (rum balls, mi","","","","","","","","","","","X",null,"A.07.03","Confectionery, Rimi production confe","Portion confectionary (rum balls, mi","","","","","","19063",{"$f":"_xlfn.TEXTJOIN(\"; \",TRUE,ZCDT_EXPORT_2[[#This Row],[Sub-Category]:[Segment 5]])","v":"Portion confectionary (rum balls, mi"}]
["AH","Baltic CDT","U1","01. Ultra-Fresh","U1.05","05. Bread,Bakery & Confectionery","A.07.03","14. Confectionery, Rimi production confe","17099","05. Swiss rolls","","","","","","","","","","","X",null,"A.07.03","Confectionery, Rimi production confe","Swiss rolls","","","","","","17099",{"$f":"_xlfn.TEXTJOIN(\"; \",TRUE,ZCDT_EXPORT_2[[#This Row],[Sub-Category]:[Segment 5]])","v":"Swiss rolls"}]
["AH","Baltic CDT","U1","01. Ultra-Fresh","U1.05","05. Bread,Bakery & Confectionery","A.07.03","14. Confectionery, Rimi production confe","17101","06. Other","17113","01. Shakotis","","","","","","","","","X",null,"A.07.03","Confectionery, Rimi production confe","Other","Shakotis","","","","","17113",{"$f":"_xlfn.TEXTJOIN(\"; \",TRUE,ZCDT_EXPORT_2[[#This Row],[Sub-Category]:[Segment 5]])","v":"Other; Shakotis"}]
["AH","Baltic CDT","U1","01. Ultra-Fresh","U1.05","05. Bread,Bakery & Confectionery","A.07.03","14. Confectionery, Rimi production confe","17101","06. Other","17114","02. Other","","","","","","","","","X",null,"A.07.03","Confectionery, Rimi production confe","Other","Other","","","","","17114",{"$f":"_xlfn.TEXTJOIN(\"; \",TRUE,ZCDT_EXPORT_2[[#This Row],[Sub-Category]:[Segment 5]])","v":"Other; Other"}]
["AH","Baltic CDT","U1","01. Ultra-Fresh","U1.05","05. Bread,Bakery & Confectionery","A.07.03","14. Confectionery, Rimi production confe","19251","07. Festivity confectionary","19252","01. Fine cakes","","","","","","","","","X",null,"A.07.03","Confectionery, Rimi production confe","Festivity confectionary","Fine cakes","","","","","19252",{"$f":"_xlfn.TEXTJOIN(\"; \",TRUE,ZCDT_EXPORT_2[[#This Row],[Sub-Category]:[Segment 5]])","v":"Festivity confectionary; Fine cakes"}]
["AH","Baltic CDT","U1","01. Ultra-Fresh","U1.05","05. Bread,Bakery & Confectionery","A.07.03","14. Confectionery, Rimi production confe","19251","07. Festivity confectionary","19253","02. Swiss rolls","","","","","","","","","X",null,"A.07.03","Confectionery, Rimi production confe","Festivity confectionary","Swiss rolls","","","","","19253",{"$f":"_xlfn.TEXTJOIN(\"; \",TRUE,ZCDT_EXPORT_2[[#This Row],[Sub-Category]:[Segment 5]])","v":"Festivity confectionary; Swiss rolls"}]
["AH","Baltic CDT","U1","01. Ultra-Fresh","U1.05","05. Bread,Bakery & Confectionery","A.07.03","14. Confectionery, Rimi production confe","19251","07. Festivity confectionary","19254","03. Semi-prepared confectionary","","","","","","","","","X",null,"A.07.03","Confectionery, Rimi production confe","Festivity confectionary","Semi-prepared confectionary","","","","","19254",{"$f":"_xlfn.TEXTJOIN(\"; \",TRUE,ZCDT_EXPORT_2[[#This Row],[Sub-Category]:[Segment 5]])","v":"Festivity confectionary; Semi-prepared confectionary"}]
["AH","Baltic CDT","U1","01. Ultra-Fresh","U1.05","05. Bread,Bakery & Confectionery","A.07.03","14. Confectionery, Rimi production confe","19251","07. Festivity confectionary","19255","04. Other","","","","","","","","","X",null,"A.07.03","Confectionery, Rimi production confe","Festivity confectionary","Other","","","","","19255",{"$f":"_xlfn.TEXTJOIN(\"; \",TRUE,ZCDT_EXPORT_2[[#This Row],[Sub-Category]:[Segment 5]])","v":"Festivity confectionary; Other"}]
["AH","Baltic CDT","U1","01. Ultra-Fresh","U1.05","05. Bread,Bakery & Confectionery","A.07.03","14. Confectionery, Rimi production confe","19251","07. Festivity confectionary","19256","05. Portion confectionary (rum balls)","","","","","","","","","X",null,"A.07.03","Confectionery, Rimi production confe","Festivity confectionary","Portion confectionary (rum balls)","","","","","19256",{"$f":"_xlfn.TEXTJOIN(\"; \",TRUE,ZCDT_EXPORT_2[[#This Row],[Sub-Category]:[Segment 5]])","v":"Festivity confectionary; Portion confectionary (rum balls)"}]
["AH","Baltic CDT","U1","01. Ultra-Fresh","U1.05","05. Bread,Bakery & Confectionery","A.07.03","14. Confectionery, Rimi production confe","19251","07. Festivity confectionary","19257","06. Cakes - everyday","","","","","","","","","X",null,"A.07.03","Confectionery, Rimi production confe","Festivity confectionary","Cakes - everyday","","","","","19257",{"$f":"_xlfn.TEXTJOIN(\"; \",TRUE,ZCDT_EXPORT_2[[#This Row],[Sub-Category]:[Segment 5]])","v":"Festivity confectionary; Cakes - everyday"}]
["AH","Baltic CDT","U2","02. Fresh","U2.01","01. Dairy","A.01.01","01. Cheese","15428","01. Hard Cheese","15441","01. Sliced","","","","","","","","","X",null,"A.01.01","Cheese","Hard Cheese","Sliced","","","","","15441",{"$f":"_xlfn.TEXTJOIN(\"; \",TRUE,ZCDT_EXPORT_2[[#This Row],[Sub-Category]:[Segment 5]])","v":"Hard Cheese; Sliced"}]
["AH","Baltic CDT","U2","02. Fresh","U2.01","01. Dairy","A.01.01","01. Cheese","15428","01. Hard Cheese","15442","02. Pieces","","","","","","","","","X",null,"A.01.01","Cheese","Hard Cheese","Pieces","","","","","15442",{"$f":"_xlfn.TEXTJOIN(\"; \",TRUE,ZCDT_EXPORT_2[[#This Row],[Sub-Category]:[Segment 5]])","v":"Hard Cheese; Pieces"}]
["AH","Baltic CDT","U2","02. Fresh","U2.01","01. Dairy","A.01.01","01. Cheese","15428","01. Hard Cheese","15443","03. Block","","","","","","","","","X",null,"A.01.01","Cheese","Hard Cheese","Block","","","","","15443",{"$f":"_xlfn.TEXTJOIN(\"; \",TRUE,ZCDT_EXPORT_2[[#This Row],[Sub-Category]:[Segment 5]])","v":"Hard Cheese; Block"}]
["AH","Baltic CDT","U2","02. Fresh","U2.01","01. Dairy","A.01.01","01. Cheese","15428","01. Hard Cheese","15444","04. Grated","","","","","","","","","X",null,"A.01.01","Cheese","Hard Cheese","Grated","","","","","15444",{"$f":"_xlfn.TEXTJOIN(\"; \",TRUE,ZCDT_EXPORT_2[[#This Row],[Sub-Category]:[Segment 5]])","v":"Hard Cheese; Grated"}]
["AH","Baltic CDT","U2","02. Fresh","U2.01","01. Dairy","A.01.01","01. Cheese","15429","02. Semi-hard and semi-soft cheese","15445","01. Sliced","","","","","","","","","X",null,"A.01.01","Cheese","Semi-hard and semi-soft cheese","Sliced","","","","","15445",{"$f":"_xlfn.TEXTJOIN(\"; \",TRUE,ZCDT_EXPORT_2[[#This Row],[Sub-Category]:[Segment 5]])","v":"Semi-hard and semi-soft cheese; Sliced"}]
["AH","Baltic CDT","U2","02. Fresh","U2.01","01. Dairy","A.01.01","01. Cheese","15429","02. Semi-hard and semi-soft cheese","15446","02. Pieces","","","","","","","","","X",null,"A.01.01","Cheese","Semi-hard and semi-soft cheese","Pieces","","","","","15446",{"$f":"_xlfn.TEXTJOIN(\"; \",TRUE,ZCDT_EXPORT_2[[#This Row],[Sub-Category]:[Segment 5]])","v":"Semi-hard and semi-soft cheese; Pieces"}]
["AH","Baltic CDT","U2","02. Fresh","U2.01","01. Dairy","A.01.01","01. Cheese","15429","02. Semi-hard and semi-soft cheese","15447","03. Block","","","","","","","","","X",null,"A.01.01","Cheese","Semi-hard and semi-soft cheese","Block","","","","","15447",{"$f":"_xlfn.TEXTJOIN(\"; \",TRUE,ZCDT_EXPORT_2[[#This Row],[Sub-Category]:[Segment 5]])","v":"Semi-hard and semi-soft cheese; Block"}]
["AH","Baltic CDT","U2","02. Fresh","U2.01","01. Dairy","A.01.01","01. Cheese","15429","02. Semi-hard and semi-soft cheese","15448","04. Grated","","","","","","","","","X",null,"A.01.01","Cheese","Semi-hard and semi-soft cheese","Grated","","","","","15448",{"$f":"_xlfn.TEXTJOIN(\"; \",TRUE,ZCDT_EXPORT_2[[#This Row],[Sub-Category]:[Segment 5]])","v":"Semi-hard and semi-soft cheese; Grated"}]
["AH","Baltic CDT","U2","02. Fresh","U2.01","01. Dairy","A.01.01","01. Cheese","15430","03. Soft Cheese","15449","01. Feta Type Cheese","","","","","","","","","X",null,"A.01.01","Cheese","Soft Cheese","Feta Type Cheese","","","","","15449",{"$f":"_xlfn.TEXTJOIN(\"; \",TRUE,ZCDT_EXPORT_2[[#This Row],[Sub-Category]:[Segment 5]])","v":"Soft Cheese; Feta Type Cheese"}]
["AH","Baltic CDT","U2","02. Fresh","U2.01","01. Dairy","A.01.01","01. Cheese","15430","03. Soft Cheese","15450","02. Mascarpone, ricotta","","","","","","","","","X",null,"A.01.01","Cheese","Soft Cheese","Mascarpone, ricotta","","","","","15450",{"$f":"_xlfn.TEXTJOIN(\"; \",TRUE,ZCDT_EXPORT_2[[#This Row],[Sub-Category]:[Segment 5]])","v":"Soft Cheese; Mascarpone, ricotta"}]
["AH","Baltic CDT","U2","02. Fresh","U2.01","01. Dairy","A.01.01","01. Cheese","15430","03. Soft Cheese","15451","03. Mozarella type cheese","15452","01. Mozarella","","","","","","","X",null,"A.01.01","Cheese","Soft Cheese","Mozarella type cheese","Mozarella","","","","15452",{"$f":"_xlfn.TEXTJOIN(\"; \",TRUE,ZCDT_EXPORT_2[[#This Row],[Sub-Category]:[Segment 5]])","v":"Soft Cheese; Mozarella type cheese; Mozarella"}]
["AH","Baltic CDT","U2","02. Fresh","U2.01","01. Dairy","A.01.01","01. Cheese","15430","03. Soft Cheese","15451","03. Mozarella type cheese","15453","02. Other types of mozarella","","","","","","","X",null,"A.01.01","Cheese","Soft Cheese","Mozarella type cheese","Other types of mozarella","","","","15453",{"$f":"_xlfn.TEXTJOIN(\"; \",TRUE,ZCDT_EXPORT_2[[#This Row],[Sub-Category]:[Segment 5]])","v":"Soft Cheese; Mozarella type cheese; Other types of mozarella"}]
["AH","Baltic CDT","U2","02. Fresh","U2.01","01. Dairy","A.01.01","01. Cheese","15430","03. Soft Cheese","15464","04. Other","","","","","","","","","X",null,"A.01.01","Cheese","Soft Cheese","Other","","","","","15464",{"$f":"_xlfn.TEXTJOIN(\"; \",TRUE,ZCDT_EXPORT_2[[#This Row],[Sub-Category]:[Segment 5]])","v":"Soft Cheese; Other"}]
["AH","Baltic CDT","U2","02. Fresh","U2.01","01. Dairy","A.01.01","01. Cheese","15431","04. Mould Cheese","15454","01. Blue Mould","15456","01. Sliced","","","","","","","X",null,"A.01.01","Cheese","Mould Cheese","Blue Mould","Sliced","","","","15456",{"$f":"_xlfn.TEXTJOIN(\"; \",TRUE,ZCDT_EXPORT_2[[#This Row],[Sub-Category]:[Segment 5]])","v":"Mould Cheese; Blue Mould; Sliced"}]
["AH","Baltic CDT","U2","02. Fresh","U2.01","01. Dairy","A.01.01","01. Cheese","15431","04. Mould Cheese","15454","01. Blue Mould","15457","02. Pieces","","","","","","","X",null,"A.01.01","Cheese","Mould Cheese","Blue Mould","Pieces","","","","15457",{"$f":"_xlfn.TEXTJOIN(\"; \",TRUE,ZCDT_EXPORT_2[[#This Row],[Sub-Category]:[Segment 5]])","v":"Mould Cheese; Blue Mould; Pieces"}]
["AH","Baltic CDT","U2","02. Fresh","U2.01","01. Dairy","A.01.01","01. Cheese","15431","04. Mould Cheese","15454","01. Blue Mould","15458","03. Block","","","","","","","X",null,"A.01.01","Cheese","Mould Cheese","Blue Mould","Block","","","","15458",{"$f":"_xlfn.TEXTJOIN(\"; \",TRUE,ZCDT_EXPORT_2[[#This Row],[Sub-Category]:[Segment 5]])","v":"Mould Cheese; Blue Mould; Block"}]
["AH","Baltic CDT","U2","02. Fresh","U2.01","01. Dairy","A.01.01","01. Cheese","15431","04. Mould Cheese","15454","01. Blue Mould","15459","04. Grated","","","","","","","X",null,"A.01.01","Cheese","Mould Cheese","Blue Mould","Grated","","","","15459",{"$f":"_xlfn.TEXTJOIN(\"; \",TRUE,ZCDT_EXPORT_2[[#This Row],[Sub-Category]:[Segment 5]])","v":"Mould Cheese; Blue Mould; Grated"}]
["AH","Baltic CDT","U2","02. Fresh","U2.01","01. Dairy","A.01.01","01. Cheese","15431","04. Mould Cheese","15455","02. White Mould","15460","01. Sliced","","","","","","","X",null,"A.01.01","Cheese","Mould Cheese","White Mould","Sliced","","","","15460",{"$f":"_xlfn.TEXTJOIN(\"; \",TRUE,ZCDT_EXPORT_2[[#This Row],[Sub-Category]:[Segment 5]])","v":"Mould Cheese; White Mould; Sliced"}]
["AH","Baltic CDT","U2","02. Fresh","U2.01","01. Dairy","A.01.01","01. Cheese","15431","04. Mould Cheese","15455","02. White Mould","15461","02. Pieces","","","","","","","X",null,"A.01.01","Cheese","Mould Cheese","White Mould","Pieces","","","","15461",{"$f":"_xlfn.TEXTJOIN(\"; \",TRUE,ZCDT_EXPORT_2[[#This Row],[Sub-Category]:[Segment 5]])","v":"Mould Cheese; White Mould; Pieces"}]
["AH","Baltic CDT","U2","02. Fresh","U2.01","01. Dairy","A.01.01","01. Cheese","15431","04. Mould Cheese","15455","02. White Mould","15462","03. Block","","","","","","","X",null,"A.01.01","Cheese","Mould Cheese","White Mould","Block","","","","15462",{"$f":"_xlfn.TEXTJOIN(\"; \",TRUE,ZCDT_EXPORT_2[[#This Row],[Sub-Category]:[Segment 5]])","v":"Mould Cheese; White Mould; Block"}]
["AH","Baltic CDT","U2","02. Fresh","U2.01","01. Dairy","A.01.01","01. Cheese","15431","04. Mould Cheese","15455","02. White Mould","15463","04. Grated","","","","","","","X",null,"A.01.01","Cheese","Mould Cheese","White Mould","Grated","","","","15463",{"$f":"_xlfn.TEXTJOIN(\"; \",TRUE,ZCDT_EXPORT_2[[#This Row],[Sub-Category]:[Segment 5]])","v":"Mould Cheese; White Mould; Grated"}]
["AH","Baltic CDT","U2","02. Fresh","U2.01","01. Dairy","A.01.01","01. Cheese","15431","04. Mould Cheese","15465","03. Other","","","","","","","","","X",null,"A.01.01","Cheese","Mould Cheese","Other","","","","","15465",{"$f":"_xlfn.TEXTJOIN(\"; \",TRUE,ZCDT_EXPORT_2[[#This Row],[Sub-Category]:[Segment 5]])","v":"Mould Cheese; Other"}]
["AH","Baltic CDT","U2","02. Fresh","U2.01","01. Dairy","A.01.01","01. Cheese","15432","05. Other Cheese","15467","02. Cheese Snack","","","","","","","","","X",null,"A.01.01","Cheese","Other Cheese","Cheese Snack","","","","","15467",{"$f":"_xlfn.TEXTJOIN(\"; \",TRUE,ZCDT_EXPORT_2[[#This Row],[Sub-Category]:[Segment 5]])","v":"Other Cheese; Cheese Snack"}]
["AH","Baltic CDT","U2","02. Fresh","U2.01","01. Dairy","A.01.01","01. Cheese","15432","05. Other Cheese","15468","03. \"Cheese to cook\" packages","","","","","","","","","X",null,"A.01.01","Cheese","Other Cheese","\"Cheese to cook\" packages","","","","","15468",{"$f":"_xlfn.TEXTJOIN(\"; \",TRUE,ZCDT_EXPORT_2[[#This Row],[Sub-Category]:[Segment 5]])","v":"Other Cheese; \"Cheese to cook\" packages"}]
["AH","Baltic CDT","U2","02. Fresh","U2.01","01. Dairy","A.01.01","01. Cheese","15432","05. Other Cheese","15469","04. Smoked melted Cheese","","","","","","","","","X",null,"A.01.01","Cheese","Other Cheese","Smoked melted Cheese","","","","","15469",{"$f":"_xlfn.TEXTJOIN(\"; \",TRUE,ZCDT_EXPORT_2[[#This Row],[Sub-Category]:[Segment 5]])","v":"Other Cheese; Smoked melted Cheese"}]
["AH","Baltic CDT","U2","02. Fresh","U2.01","01. Dairy","A.01.01","01. Cheese","15433","06. Not cow (Goat, sheep) milk cheese","15470","01. Goat Milk Cheese","","","","","","","","","X",null,"A.01.01","Cheese","Not cow (Goat, sheep) milk cheese","Goat Milk Cheese","","","","","15470",{"$f":"_xlfn.TEXTJOIN(\"; \",TRUE,ZCDT_EXPORT_2[[#This Row],[Sub-Category]:[Segment 5]])","v":"Not cow (Goat, sheep) milk cheese; Goat Milk Cheese"}]
["AH","Baltic CDT","U2","02. Fresh","U2.01","01. Dairy","A.01.01","01. Cheese","15433","06. Not cow (Goat, sheep) milk cheese","15471","02. Sheep Milk Cheese","","","","","","","","","X",null,"A.01.01","Cheese","Not cow (Goat, sheep) milk cheese","Sheep Milk Cheese","","","","","15471",{"$f":"_xlfn.TEXTJOIN(\"; \",TRUE,ZCDT_EXPORT_2[[#This Row],[Sub-Category]:[Segment 5]])","v":"Not cow (Goat, sheep) milk cheese; Sheep Milk Cheese"}]
["AH","Baltic CDT","U2","02. Fresh","U2.01","01. Dairy","A.01.01","01. Cheese","15433","06. Not cow (Goat, sheep) milk cheese","15472","03. Other","","","","","","","","","X",null,"A.01.01","Cheese","Not cow (Goat, sheep) milk cheese","Other","","","","","15472",{"$f":"_xlfn.TEXTJOIN(\"; \",TRUE,ZCDT_EXPORT_2[[#This Row],[Sub-Category]:[Segment 5]])","v":"Not cow (Goat, sheep) milk cheese; Other"}]
["AH","Baltic CDT","U2","02. Fresh","U2.01","01. Dairy","A.01.01","01. Cheese","15434","07. Cheese Spreads","15474","01. Melted cheese spreads","","","","","","","","","X",null,"A.01.01","Cheese","Cheese Spreads","Melted cheese spreads","","","","","15474",{"$f":"_xlfn.TEXTJOIN(\"; \",TRUE,ZCDT_EXPORT_2[[#This Row],[Sub-Category]:[Segment 5]])","v":"Cheese Spreads; Melted cheese spreads"}]
["AH","Baltic CDT","U2","02. Fresh","U2.01","01. Dairy","A.01.01","01. Cheese","15434","07. Cheese Spreads","15475","02. Fresh cheese spreads","","","","","","","","","X",null,"A.01.01","Cheese","Cheese Spreads","Fresh cheese spreads","","","","","15475",{"$f":"_xlfn.TEXTJOIN(\"; \",TRUE,ZCDT_EXPORT_2[[#This Row],[Sub-Category]:[Segment 5]])","v":"Cheese Spreads; Fresh cheese spreads"}]
["AH","Baltic CDT","U2","02. Fresh","U2.01","01. Dairy","A.02.01","02. Creams","16753","01. Sour cream","16756","01. Sour cream","16758","01. Until >=15% fat","","","","","","","X",null,"A.02.01","Creams","Sour cream","Sour cream","Until >=15% fat","","","","16758",{"$f":"_xlfn.TEXTJOIN(\"; \",TRUE,ZCDT_EXPORT_2[[#This Row],[Sub-Category]:[Segment 5]])","v":"Sour cream; Sour cream; Until >=15% fat"}]
["AH","Baltic CDT","U2","02. Fresh","U2.01","01. Dairy","A.02.01","02. Creams","16753","01. Sour cream","16756","01. Sour cream","16759","02. 15.1%-20% fat","","","","","","","X",null,"A.02.01","Creams","Sour cream","Sour cream","15.1%-20% fat","","","","16759",{"$f":"_xlfn.TEXTJOIN(\"; \",TRUE,ZCDT_EXPORT_2[[#This Row],[Sub-Category]:[Segment 5]])","v":"Sour cream; Sour cream; 15.1%-20% fat"}]
["AH","Baltic CDT","U2","02. Fresh","U2.01","01. Dairy","A.02.01","02. Creams","16753","01. Sour cream","16756","01. Sour cream","16760","03. 20.1%-25% fat","","","","","","","X",null,"A.02.01","Creams","Sour cream","Sour cream","20.1%-25% fat","","","","16760",{"$f":"_xlfn.TEXTJOIN(\"; \",TRUE,ZCDT_EXPORT_2[[#This Row],[Sub-Category]:[Segment 5]])","v":"Sour cream; Sour cream; 20.1%-25% fat"}]
["AH","Baltic CDT","U2","02. Fresh","U2.01","01. Dairy","A.02.01","02. Creams","16753","01. Sour cream","16756","01. Sour cream","16761","04. 25.1% and more fat","","","","","","","X",null,"A.02.01","Creams","Sour cream","Sour cream","25.1% and more fat","","","","16761",{"$f":"_xlfn.TEXTJOIN(\"; \",TRUE,ZCDT_EXPORT_2[[#This Row],[Sub-Category]:[Segment 5]])","v":"Sour cream; Sour cream; 25.1% and more fat"}]
["AH","Baltic CDT","U2","02. Fresh","U2.01","01. Dairy","A.02.01","02. Creams","16753","01. Sour cream","16757","02. Sour cream product","","","","","","","","","X",null,"A.02.01","Creams","Sour cream","Sour cream product","","","","","16757",{"$f":"_xlfn.TEXTJOIN(\"; \",TRUE,ZCDT_EXPORT_2[[#This Row],[Sub-Category]:[Segment 5]])","v":"Sour cream; Sour cream product"}]
["AH","Baltic CDT","U2","02. Fresh","U2.01","01. Dairy","A.02.01","02. Creams","16754","02. Special cream","16762","01. Lactose-free milk-based cream produc","","","","","","","","","X",null,"A.02.01","Creams","Special cream","Lactose-free milk-based cream produc","","","","","16762",{"$f":"_xlfn.TEXTJOIN(\"; \",TRUE,ZCDT_EXPORT_2[[#This Row],[Sub-Category]:[Segment 5]])","v":"Special cream; Lactose-free milk-based cream produc"}]
["AH","Baltic CDT","U2","02. Fresh","U2.01","01. Dairy","A.02.01","02. Creams","16754","02. Special cream","16763","02. Flavoured/ sauce creams","","","","","","","","","X",null,"A.02.01","Creams","Special cream","Flavoured/ sauce creams","","","","","16763",{"$f":"_xlfn.TEXTJOIN(\"; \",TRUE,ZCDT_EXPORT_2[[#This Row],[Sub-Category]:[Segment 5]])","v":"Special cream; Flavoured/ sauce creams"}]
["AH","Baltic CDT","U2","02. Fresh","U2.01","01. Dairy","A.02.01","02. Creams","16755","03. Sweet cream","16765","01. Coffee cream","16768","01. Fresh","","","","","","","X",null,"A.02.01","Creams","Sweet cream","Coffee cream","Fresh","","","","16768",{"$f":"_xlfn.TEXTJOIN(\"; \",TRUE,ZCDT_EXPORT_2[[#This Row],[Sub-Category]:[Segment 5]])","v":"Sweet cream; Coffee cream; Fresh"}]
["AH","Baltic CDT","U2","02. Fresh","U2.01","01. Dairy","A.02.01","02. Creams","16755","03. Sweet cream","16765","01. Coffee cream","16769","02. UHT","","","","","","","X",null,"A.02.01","Creams","Sweet cream","Coffee cream","UHT","","","","16769",{"$f":"_xlfn.TEXTJOIN(\"; \",TRUE,ZCDT_EXPORT_2[[#This Row],[Sub-Category]:[Segment 5]])","v":"Sweet cream; Coffee cream; UHT"}]
["AH","Baltic CDT","U2","02. Fresh","U2.01","01. Dairy","A.02.01","02. Creams","16755","03. Sweet cream","16766","02. Sweet cream","16770","01. Fresh","","","","","","","X",null,"A.02.01","Creams","Sweet cream","Sweet cream","Fresh","","","","16770",{"$f":"_xlfn.TEXTJOIN(\"; \",TRUE,ZCDT_EXPORT_2[[#This Row],[Sub-Category]:[Segment 5]])","v":"Sweet cream; Sweet cream; Fresh"}]
["AH","Baltic CDT","U2","02. Fresh","U2.01","01. Dairy","A.02.01","02. Creams","16755","03. Sweet cream","16766","02. Sweet cream","16771","02. UHT","","","","","","","X",null,"A.02.01","Creams","Sweet cream","Sweet cream","UHT","","","","16771",{"$f":"_xlfn.TEXTJOIN(\"; \",TRUE,ZCDT_EXPORT_2[[#This Row],[Sub-Category]:[Segment 5]])","v":"Sweet cream; Sweet cream; UHT"}]
["AH","Baltic CDT","U2","02. Fresh","U2.01","01. Dairy","A.02.01","02. Creams","16755","03. Sweet cream","16767","03. Whipped cream","","","","","","","","","X",null,"A.02.01","Creams","Sweet cream","Whipped cream","","","","","16767",{"$f":"_xlfn.TEXTJOIN(\"; \",TRUE,ZCDT_EXPORT_2[[#This Row],[Sub-Category]:[Segment 5]])","v":"Sweet cream; Whipped cream"}]
["AH","Baltic CDT","U2","02. Fresh","U2.01","01. Dairy","A.02.02","03. Curd and cottage cheese","16772","01. Home-made cottage cheese (LT special","16776","01. Basic","","","","","","","","","X",null,"A.02.02","Curd and cottage cheese","Home-made cottage cheese (LT special","Basic","","","","","16776",{"$f":"_xlfn.TEXTJOIN(\"; \",TRUE,ZCDT_EXPORT_2[[#This Row],[Sub-Category]:[Segment 5]])","v":"Home-made cottage cheese (LT special; Basic"}]
["AH","Baltic CDT","U2","02. Fresh","U2.01","01. Dairy","A.02.02","03. Curd and cottage cheese","16772","01. Home-made cottage cheese (LT special","16777","02. Baked","","","","","","","","","X",null,"A.02.02","Curd and cottage cheese","Home-made cottage cheese (LT special","Baked","","","","","16777",{"$f":"_xlfn.TEXTJOIN(\"; \",TRUE,ZCDT_EXPORT_2[[#This Row],[Sub-Category]:[Segment 5]])","v":"Home-made cottage cheese (LT special; Baked"}]
["AH","Baltic CDT","U2","02. Fresh","U2.01","01. Dairy","A.02.02","03. Curd and cottage cheese","16772","01. Home-made cottage cheese (LT special","16778","03. Smoked","","","","","","","","","X",null,"A.02.02","Curd and cottage cheese","Home-made cottage cheese (LT special","Smoked","","","","","16778",{"$f":"_xlfn.TEXTJOIN(\"; \",TRUE,ZCDT_EXPORT_2[[#This Row],[Sub-Category]:[Segment 5]])","v":"Home-made cottage cheese (LT special; Smoked"}]
["AH","Baltic CDT","U2","02. Fresh","U2.01","01. Dairy","A.02.02","03. Curd and cottage cheese","16772","01. Home-made cottage cheese (LT special","16779","04. Sweet","","","","","","","","","X",null,"A.02.02","Curd and cottage cheese","Home-made cottage cheese (LT special","Sweet","","","","","16779",{"$f":"_xlfn.TEXTJOIN(\"; \",TRUE,ZCDT_EXPORT_2[[#This Row],[Sub-Category]:[Segment 5]])","v":"Home-made cottage cheese (LT special; Sweet"}]
["AH","Baltic CDT","U2","02. Fresh","U2.01","01. Dairy","A.02.02","03. Curd and cottage cheese","16773","02. Cottage cheese","16780","01. Not flavored cottage cheese","","","","","","","","","X",null,"A.02.02","Curd and cottage cheese","Cottage cheese","Not flavored cottage cheese","","","","","16780",{"$f":"_xlfn.TEXTJOIN(\"; \",TRUE,ZCDT_EXPORT_2[[#This Row],[Sub-Category]:[Segment 5]])","v":"Cottage cheese; Not flavored cottage cheese"}]
["AH","Baltic CDT","U2","02. Fresh","U2.01","01. Dairy","A.02.02","03. Curd and cottage cheese","16773","02. Cottage cheese","16781","02. Salty flavored cottage cheese","","","","","","","","","X",null,"A.02.02","Curd and cottage cheese","Cottage cheese","Salty flavored cottage cheese","","","","","16781",{"$f":"_xlfn.TEXTJOIN(\"; \",TRUE,ZCDT_EXPORT_2[[#This Row],[Sub-Category]:[Segment 5]])","v":"Cottage cheese; Salty flavored cottage cheese"}]
["AH","Baltic CDT","U2","02. Fresh","U2.01","01. Dairy","A.02.02","03. Curd and cottage cheese","16773","02. Cottage cheese","16782","03. Sweet flavored cottage cheese","","","","","","","","","X",null,"A.02.02","Curd and cottage cheese","Cottage cheese","Sweet flavored cottage cheese","","","","","16782",{"$f":"_xlfn.TEXTJOIN(\"; \",TRUE,ZCDT_EXPORT_2[[#This Row],[Sub-Category]:[Segment 5]])","v":"Cottage cheese; Sweet flavored cottage cheese"}]
["AH","Baltic CDT","U2","02. Fresh","U2.01","01. Dairy","A.02.02","03. Curd and cottage cheese","16774","03. Curd","16783","01. Curd light (>=1%+fat)","16786","01. Wet (LV, EE, LT)","","","","","","","X",null,"A.02.02","Curd and cottage cheese","Curd","Curd light (>=1%+fat)","Wet (LV, EE, LT)","","","","16786",{"$f":"_xlfn.TEXTJOIN(\"; \",TRUE,ZCDT_EXPORT_2[[#This Row],[Sub-Category]:[Segment 5]])","v":"Curd; Curd light (>=1%+fat); Wet (LV, EE, LT)"}]
["AH","Baltic CDT","U2","02. Fresh","U2.01","01. Dairy","A.02.02","03. Curd and cottage cheese","16774","03. Curd","16783","01. Curd light (>=1%+fat)","16787","02. Dry (LT)","","","","","","","X",null,"A.02.02","Curd and cottage cheese","Curd","Curd light (>=1%+fat)","Dry (LT)","","","","16787",{"$f":"_xlfn.TEXTJOIN(\"; \",TRUE,ZCDT_EXPORT_2[[#This Row],[Sub-Category]:[Segment 5]])","v":"Curd; Curd light (>=1%+fat); Dry (LT)"}]
["AH","Baltic CDT","U2","02. Fresh","U2.01","01. Dairy","A.02.02","03. Curd and cottage cheese","16774","03. Curd","16784","02. Curd full (>1%+fat)","16788","01. Wet (LV, EE, LT)","","","","","","","X",null,"A.02.02","Curd and cottage cheese","Curd","Curd full (>1%+fat)","Wet (LV, EE, LT)","","","","16788",{"$f":"_xlfn.TEXTJOIN(\"; \",TRUE,ZCDT_EXPORT_2[[#This Row],[Sub-Category]:[Segment 5]])","v":"Curd; Curd full (>1%+fat); Wet (LV, EE, LT)"}]
["AH","Baltic CDT","U2","02. Fresh","U2.01","01. Dairy","A.02.02","03. Curd and cottage cheese","16774","03. Curd","16784","02. Curd full (>1%+fat)","16789","02. Dry (LT)","","","","","","","X",null,"A.02.02","Curd and cottage cheese","Curd","Curd full (>1%+fat)","Dry (LT)","","","","16789",{"$f":"_xlfn.TEXTJOIN(\"; \",TRUE,ZCDT_EXPORT_2[[#This Row],[Sub-Category]:[Segment 5]])","v":"Curd; Curd full (>1%+fat); Dry (LT)"}]
["AH","Baltic CDT","U2","02. Fresh","U2.01","01. Dairy","A.02.02","03. Curd and cottage cheese","16774","03. Curd","16785","03. Flavored and for baking","","","","","","","","","X",null,"A.02.02","Curd and cottage cheese","Curd","Flavored and for baking","","","","","16785",{"$f":"_xlfn.TEXTJOIN(\"; \",TRUE,ZCDT_EXPORT_2[[#This Row],[Sub-Category]:[Segment 5]])","v":"Curd; Flavored and for baking"}]
["AH","Baltic CDT","U2","02. Fresh","U2.01","01. Dairy","A.02.02","03. Curd and cottage cheese","16775","04. Functional curd products","","","","","","","","","","","X",null,"A.02.02","Curd and cottage cheese","Functional curd products","","","","","","16775",{"$f":"_xlfn.TEXTJOIN(\"; \",TRUE,ZCDT_EXPORT_2[[#This Row],[Sub-Category]:[Segment 5]])","v":"Functional curd products"}]
["AH","Baltic CDT","U2","02. Fresh","U2.01","01. Dairy","A.02.03","04. Mayonnaise","16996","01. Flavoured Mayo","17000","01. Poli/ pouch","","","","","","","","","X",null,"A.02.03","Mayonnaise","Flavoured Mayo","Poli/ pouch","","","","","17000",{"$f":"_xlfn.TEXTJOIN(\"; \",TRUE,ZCDT_EXPORT_2[[#This Row],[Sub-Category]:[Segment 5]])","v":"Flavoured Mayo; Poli/ pouch"}]
["AH","Baltic CDT","U2","02. Fresh","U2.01","01. Dairy","A.02.03","04. Mayonnaise","16996","01. Flavoured Mayo","17031","02. Bucket","","","","","","","","","X",null,"A.02.03","Mayonnaise","Flavoured Mayo","Bucket","","","","","17031",{"$f":"_xlfn.TEXTJOIN(\"; \",TRUE,ZCDT_EXPORT_2[[#This Row],[Sub-Category]:[Segment 5]])","v":"Flavoured Mayo; Bucket"}]
["AH","Baltic CDT","U2","02. Fresh","U2.01","01. Dairy","A.02.03","04. Mayonnaise","16996","01. Flavoured Mayo","17032","03. Jar","","","","","","","","","X",null,"A.02.03","Mayonnaise","Flavoured Mayo","Jar","","","","","17032",{"$f":"_xlfn.TEXTJOIN(\"; \",TRUE,ZCDT_EXPORT_2[[#This Row],[Sub-Category]:[Segment 5]])","v":"Flavoured Mayo; Jar"}]
["AH","Baltic CDT","U2","02. Fresh","U2.01","01. Dairy","A.02.03","04. Mayonnaise","16996","01. Flavoured Mayo","17033","04. Stand up bag","","","","","","","","","X",null,"A.02.03","Mayonnaise","Flavoured Mayo","Stand up bag","","","","","17033",{"$f":"_xlfn.TEXTJOIN(\"; \",TRUE,ZCDT_EXPORT_2[[#This Row],[Sub-Category]:[Segment 5]])","v":"Flavoured Mayo; Stand up bag"}]
["AH","Baltic CDT","U2","02. Fresh","U2.01","01. Dairy","A.02.03","04. Mayonnaise","16997","02. Regular Mayo","17034","01. Poli/ pouch","","","","","","","","","X",null,"A.02.03","Mayonnaise","Regular Mayo","Poli/ pouch","","","","","17034",{"$f":"_xlfn.TEXTJOIN(\"; \",TRUE,ZCDT_EXPORT_2[[#This Row],[Sub-Category]:[Segment 5]])","v":"Regular Mayo; Poli/ pouch"}]
["AH","Baltic CDT","U2","02. Fresh","U2.01","01. Dairy","A.02.03","04. Mayonnaise","16997","02. Regular Mayo","17035","02. Bucket","","","","","","","","","X",null,"A.02.03","Mayonnaise","Regular Mayo","Bucket","","","","","17035",{"$f":"_xlfn.TEXTJOIN(\"; \",TRUE,ZCDT_EXPORT_2[[#This Row],[Sub-Category]:[Segment 5]])","v":"Regular Mayo; Bucket"}]
["AH","Baltic CDT","U2","02. Fresh","U2.01","01. Dairy","A.02.03","04. Mayonnaise","16997","02. Regular Mayo","17036","03. Jar","","","","","","","","","X",null,"A.02.03","Mayonnaise","Regular Mayo","Jar","","","","","17036",{"$f":"_xlfn.TEXTJOIN(\"; \",TRUE,ZCDT_EXPORT_2[[#This Row],[Sub-Category]:[Segment 5]])","v":"Regular Mayo; Jar"}]
["AH","Baltic CDT","U2","02. Fresh","U2.01","01. Dairy","A.02.03","04. Mayonnaise","16997","02. Regular Mayo","17037","04. Stand up bag","","","","","","","","","X",null,"A.02.03","Mayonnaise","Regular Mayo","Stand up bag","","","","","17037",{"$f":"_xlfn.TEXTJOIN(\"; \",TRUE,ZCDT_EXPORT_2[[#This Row],[Sub-Category]:[Segment 5]])","v":"Regular Mayo; Stand up bag"}]
["AH","Baltic CDT","U2","02. Fresh","U2.01","01. Dairy","A.02.03","04. Mayonnaise","16997","02. Regular Mayo","17038","05. Plastic bottle","","","","","","","","","X",null,"A.02.03","Mayonnaise","Regular Mayo","Plastic bottle","","","","","17038",{"$f":"_xlfn.TEXTJOIN(\"; \",TRUE,ZCDT_EXPORT_2[[#This Row],[Sub-Category]:[Segment 5]])","v":"Regular Mayo; Plastic bottle"}]
["AH","Baltic CDT","U2","02. Fresh","U2.01","01. Dairy","A.02.03","04. Mayonnaise","16998","03. Sauces","17039","01. Dip","","","","","","","","","X",null,"A.02.03","Mayonnaise","Sauces","Dip","","","","","17039",{"$f":"_xlfn.TEXTJOIN(\"; \",TRUE,ZCDT_EXPORT_2[[#This Row],[Sub-Category]:[Segment 5]])","v":"Sauces; Dip"}]
["AH","Baltic CDT","U2","02. Fresh","U2.01","01. Dairy","A.02.03","04. Mayonnaise","16998","03. Sauces","17040","02. Sauces","","","","","","","","","X",null,"A.02.03","Mayonnaise","Sauces","Sauces","","","","","17040",{"$f":"_xlfn.TEXTJOIN(\"; \",TRUE,ZCDT_EXPORT_2[[#This Row],[Sub-Category]:[Segment 5]])","v":"Sauces; Sauces"}]
["AH","Baltic CDT","U2","02. Fresh","U2.01","01. Dairy","A.02.03","04. Mayonnaise","16998","03. Sauces","17041","03. Other","","","","","","","","","X",null,"A.02.03","Mayonnaise","Sauces","Other","","","","","17041",{"$f":"_xlfn.TEXTJOIN(\"; \",TRUE,ZCDT_EXPORT_2[[#This Row],[Sub-Category]:[Segment 5]])","v":"Sauces; Other"}]
["AH","Baltic CDT","U2","02. Fresh","U2.01","01. Dairy","A.02.04","05. Milk","17042","01. Canned","","","","","","","","","","","X",null,"A.02.04","Milk","Canned","","","","","","17042",{"$f":"_xlfn.TEXTJOIN(\"; \",TRUE,ZCDT_EXPORT_2[[#This Row],[Sub-Category]:[Segment 5]])","v":"Canned"}]
["AH","Baltic CDT","U2","02. Fresh","U2.01","01. Dairy","A.02.04","05. Milk","17043","02. Flavoured milk","","","","","","","","","","","X",null,"A.02.04","Milk","Flavoured milk","","","","","","17043",{"$f":"_xlfn.TEXTJOIN(\"; \",TRUE,ZCDT_EXPORT_2[[#This Row],[Sub-Category]:[Segment 5]])","v":"Flavoured milk"}]
["AH","Baltic CDT","U2","02. Fresh","U2.01","01. Dairy","A.02.04","05. Milk","17044","03. Full milk >=2.6%","17050","1. <=0.5","","","","","","","","","X",null,"A.02.04","Milk","Full milk >=2.6%","<=0.5","","","","","17050",{"$f":"_xlfn.TEXTJOIN(\"; \",TRUE,ZCDT_EXPORT_2[[#This Row],[Sub-Category]:[Segment 5]])","v":"Full milk >=2.6%; <=0.5"}]
["AH","Baltic CDT","U2","02. Fresh","U2.01","01. Dairy","A.02.04","05. Milk","17044","03. Full milk >=2.6%","17051","2. 0.5-1L","17053","01. Pouch","","","","","","","X",null,"A.02.04","Milk","Full milk >=2.6%","0.5-1L","Pouch","","","","17053",{"$f":"_xlfn.TEXTJOIN(\"; \",TRUE,ZCDT_EXPORT_2[[#This Row],[Sub-Category]:[Segment 5]])","v":"Full milk >=2.6%; 0.5-1L; Pouch"}]
["AH","Baltic CDT","U2","02. Fresh","U2.01","01. Dairy","A.02.04","05. Milk","17044","03. Full milk >=2.6%","17051","2. 0.5-1L","17054","02. Tetrapack","","","","","","","X",null,"A.02.04","Milk","Full milk >=2.6%","0.5-1L","Tetrapack","","","","17054",{"$f":"_xlfn.TEXTJOIN(\"; \",TRUE,ZCDT_EXPORT_2[[#This Row],[Sub-Category]:[Segment 5]])","v":"Full milk >=2.6%; 0.5-1L; Tetrapack"}]
["AH","Baltic CDT","U2","02. Fresh","U2.01","01. Dairy","A.02.04","05. Milk","17044","03. Full milk >=2.6%","17051","2. 0.5-1L","17055","03. Bottle","","","","","","","X",null,"A.02.04","Milk","Full milk >=2.6%","0.5-1L","Bottle","","","","17055",{"$f":"_xlfn.TEXTJOIN(\"; \",TRUE,ZCDT_EXPORT_2[[#This Row],[Sub-Category]:[Segment 5]])","v":"Full milk >=2.6%; 0.5-1L; Bottle"}]
["AH","Baltic CDT","U2","02. Fresh","U2.01","01. Dairy","A.02.04","05. Milk","17044","03. Full milk >=2.6%","17052","3. 1L +","","","","","","","","","X",null,"A.02.04","Milk","Full milk >=2.6%","1L +","","","","","17052",{"$f":"_xlfn.TEXTJOIN(\"; \",TRUE,ZCDT_EXPORT_2[[#This Row],[Sub-Category]:[Segment 5]])","v":"Full milk >=2.6%; 1L +"}]
["AH","Baltic CDT","U2","02. Fresh","U2.01","01. Dairy","A.02.04","05. Milk","17045","04. Light milk <2.6%","17056","01. <=0.5","","","","","","","","","X",null,"A.02.04","Milk","Light milk <2.6%","<=0.5","","","","","17056",{"$f":"_xlfn.TEXTJOIN(\"; \",TRUE,ZCDT_EXPORT_2[[#This Row],[Sub-Category]:[Segment 5]])","v":"Light milk <2.6%; <=0.5"}]
["AH","Baltic CDT","U2","02. Fresh","U2.01","01. Dairy","A.02.04","05. Milk","17045","04. Light milk <2.6%","17057","02. 0.5-1L","16806","01. Pouch","","","","","","","X",null,"A.02.04","Milk","Light milk <2.6%","0.5-1L","Pouch","","","","16806",{"$f":"_xlfn.TEXTJOIN(\"; \",TRUE,ZCDT_EXPORT_2[[#This Row],[Sub-Category]:[Segment 5]])","v":"Light milk <2.6%; 0.5-1L; Pouch"}]
["AH","Baltic CDT","U2","02. Fresh","U2.01","01. Dairy","A.02.04","05. Milk","17045","04. Light milk <2.6%","17057","02. 0.5-1L","16807","02. Tetrapack","","","","","","","X",null,"A.02.04","Milk","Light milk <2.6%","0.5-1L","Tetrapack","","","","16807",{"$f":"_xlfn.TEXTJOIN(\"; \",TRUE,ZCDT_EXPORT_2[[#This Row],[Sub-Category]:[Segment 5]])","v":"Light milk <2.6%; 0.5-1L; Tetrapack"}]
["AH","Baltic CDT","U2","02. Fresh","U2.01","01. Dairy","A.02.04","05. Milk","17045","04. Light milk <2.6%","17057","02. 0.5-1L","16808","03. Bottle","","","","","","","X",null,"A.02.04","Milk","Light milk <2.6%","0.5-1L","Bottle","","","","16808",{"$f":"_xlfn.TEXTJOIN(\"; \",TRUE,ZCDT_EXPORT_2[[#This Row],[Sub-Category]:[Segment 5]])","v":"Light milk <2.6%; 0.5-1L; Bottle"}]
["AH","Baltic CDT","U2","02. Fresh","U2.01","01. Dairy","A.02.04","05. Milk","17045","04. Light milk <2.6%","17058","03. 1L +","","","","","","","","","X",null,"A.02.04","Milk","Light milk <2.6%","1L +","","","","","17058",{"$f":"_xlfn.TEXTJOIN(\"; \",TRUE,ZCDT_EXPORT_2[[#This Row],[Sub-Category]:[Segment 5]])","v":"Light milk <2.6%; 1L +"}]
["AH","Baltic CDT","U2","02. Fresh","U2.01","01. Dairy","A.02.04","05. Milk","17046","05. Special milk","","","","","","","","","","","X",null,"A.02.04","Milk","Special milk","","","","","","17046",{"$f":"_xlfn.TEXTJOIN(\"; \",TRUE,ZCDT_EXPORT_2[[#This Row],[Sub-Category]:[Segment 5]])","v":"Special milk"}]
["AH","Baltic CDT","U2","02. Fresh","U2.01","01. Dairy","A.02.04","05. Milk","17047","06. UHT milk","","","","","","","","","","","X",null,"A.02.04","Milk","UHT milk","","","","","","17047",{"$f":"_xlfn.TEXTJOIN(\"; \",TRUE,ZCDT_EXPORT_2[[#This Row],[Sub-Category]:[Segment 5]])","v":"UHT milk"}]
["AH","Baltic CDT","U2","02. Fresh","U2.01","01. Dairy","A.02.04","05. Milk","17049","07. Cold coffee drinks","","","","","","","","","","","X",null,"A.02.04","Milk","Cold coffee drinks","","","","","","17049",{"$f":"_xlfn.TEXTJOIN(\"; \",TRUE,ZCDT_EXPORT_2[[#This Row],[Sub-Category]:[Segment 5]])","v":"Cold coffee drinks"}]
["AH","Baltic CDT","U2","02. Fresh","U2.01","01. Dairy","A.02.05","06. Sour milk","17064","01. Buttermilk","","","","","","","","","","","X",null,"A.02.05","Sour milk","Buttermilk","","","","","","17064",{"$f":"_xlfn.TEXTJOIN(\"; \",TRUE,ZCDT_EXPORT_2[[#This Row],[Sub-Category]:[Segment 5]])","v":"Buttermilk"}]
["AH","Baltic CDT","U2","02. Fresh","U2.01","01. Dairy","A.02.05","06. Sour milk","17065","02. Flavoured sour milk","","","","","","","","","","","X",null,"A.02.05","Sour milk","Flavoured sour milk","","","","","","17065",{"$f":"_xlfn.TEXTJOIN(\"; \",TRUE,ZCDT_EXPORT_2[[#This Row],[Sub-Category]:[Segment 5]])","v":"Flavoured sour milk"}]
["AH","Baltic CDT","U2","02. Fresh","U2.01","01. Dairy","A.02.05","06. Sour milk","17066","03. Full sour milk","17069","01. <=0.5L","","","","","","","","","X",null,"A.02.05","Sour milk","Full sour milk","<=0.5L","","","","","17069",{"$f":"_xlfn.TEXTJOIN(\"; \",TRUE,ZCDT_EXPORT_2[[#This Row],[Sub-Category]:[Segment 5]])","v":"Full sour milk; <=0.5L"}]
["AH","Baltic CDT","U2","02. Fresh","U2.01","01. Dairy","A.02.05","06. Sour milk","17066","03. Full sour milk","17070","02. >0.5L","","","","","","","","","X",null,"A.02.05","Sour milk","Full sour milk",">0.5L","","","","","17070",{"$f":"_xlfn.TEXTJOIN(\"; \",TRUE,ZCDT_EXPORT_2[[#This Row],[Sub-Category]:[Segment 5]])","v":"Full sour milk; >0.5L"}]
["AH","Baltic CDT","U2","02. Fresh","U2.01","01. Dairy","A.02.05","06. Sour milk","17067","04. Light sour milk","17071","01. <=0.5L","","","","","","","","","X",null,"A.02.05","Sour milk","Light sour milk","<=0.5L","","","","","17071",{"$f":"_xlfn.TEXTJOIN(\"; \",TRUE,ZCDT_EXPORT_2[[#This Row],[Sub-Category]:[Segment 5]])","v":"Light sour milk; <=0.5L"}]
["AH","Baltic CDT","U2","02. Fresh","U2.01","01. Dairy","A.02.05","06. Sour milk","17067","04. Light sour milk","17072","02. >0.5L","","","","","","","","","X",null,"A.02.05","Sour milk","Light sour milk",">0.5L","","","","","17072",{"$f":"_xlfn.TEXTJOIN(\"; \",TRUE,ZCDT_EXPORT_2[[#This Row],[Sub-Category]:[Segment 5]])","v":"Light sour milk; >0.5L"}]
["AH","Baltic CDT","U2","02. Fresh","U2.01","01. Dairy","A.02.05","06. Sour milk","17068","05. Other sour milk products","","","","","","","","","","","X",null,"A.02.05","Sour milk","Other sour milk products","","","","","","17068",{"$f":"_xlfn.TEXTJOIN(\"; \",TRUE,ZCDT_EXPORT_2[[#This Row],[Sub-Category]:[Segment 5]])","v":"Other sour milk products"}]
["AH","Baltic CDT","U2","02. Fresh","U2.01","01. Dairy","A.03.01","07. Edible fats","17223","01. Butter","17226","01. Regular butter","","","","","","","","","X",null,"A.03.01","Edible fats","Butter","Regular butter","","","","","17226",{"$f":"_xlfn.TEXTJOIN(\"; \",TRUE,ZCDT_EXPORT_2[[#This Row],[Sub-Category]:[Segment 5]])","v":"Butter; Regular butter"}]
["AH","Baltic CDT","U2","02. Fresh","U2.01","01. Dairy","A.03.01","07. Edible fats","17223","01. Butter","17227","02. Butter mixes","","","","","","","","","X",null,"A.03.01","Edible fats","Butter","Butter mixes","","","","","17227",{"$f":"_xlfn.TEXTJOIN(\"; \",TRUE,ZCDT_EXPORT_2[[#This Row],[Sub-Category]:[Segment 5]])","v":"Butter; Butter mixes"}]
["AH","Baltic CDT","U2","02. Fresh","U2.01","01. Dairy","A.03.01","07. Edible fats","17223","01. Butter","17228","03. Flavoured butter","","","","","","","","","X",null,"A.03.01","Edible fats","Butter","Flavoured butter","","","","","17228",{"$f":"_xlfn.TEXTJOIN(\"; \",TRUE,ZCDT_EXPORT_2[[#This Row],[Sub-Category]:[Segment 5]])","v":"Butter; Flavoured butter"}]
["AH","Baltic CDT","U2","02. Fresh","U2.01","01. Dairy","A.03.01","07. Edible fats","17223","01. Butter","17229","04. Ghi butter","","","","","","","","","X",null,"A.03.01","Edible fats","Butter","Ghi butter","","","","","17229",{"$f":"_xlfn.TEXTJOIN(\"; \",TRUE,ZCDT_EXPORT_2[[#This Row],[Sub-Category]:[Segment 5]])","v":"Butter; Ghi butter"}]
["AH","Baltic CDT","U2","02. Fresh","U2.01","01. Dairy","A.03.01","07. Edible fats","17224","02. Margarine","17230","01. Baking margarine","","","","","","","","","X",null,"A.03.01","Edible fats","Margarine","Baking margarine","","","","","17230",{"$f":"_xlfn.TEXTJOIN(\"; \",TRUE,ZCDT_EXPORT_2[[#This Row],[Sub-Category]:[Segment 5]])","v":"Margarine; Baking margarine"}]
["AH","Baltic CDT","U2","02. Fresh","U2.01","01. Dairy","A.03.01","07. Edible fats","17224","02. Margarine","17231","02. Spreadable","","","","","","","","","X",null,"A.03.01","Edible fats","Margarine","Spreadable","","","","","17231",{"$f":"_xlfn.TEXTJOIN(\"; \",TRUE,ZCDT_EXPORT_2[[#This Row],[Sub-Category]:[Segment 5]])","v":"Margarine; Spreadable"}]
["AH","Baltic CDT","U2","02. Fresh","U2.01","01. Dairy","A.03.01","07. Edible fats","17224","02. Margarine","17232","03. Liquid margarine","","","","","","","","","X",null,"A.03.01","Edible fats","Margarine","Liquid margarine","","","","","17232",{"$f":"_xlfn.TEXTJOIN(\"; \",TRUE,ZCDT_EXPORT_2[[#This Row],[Sub-Category]:[Segment 5]])","v":"Margarine; Liquid margarine"}]
["AH","Baltic CDT","U2","02. Fresh","U2.01","01. Dairy","A.03.01","07. Edible fats","17225","03. Animal and plant based fats","","","","","","","","","","","X",null,"A.03.01","Edible fats","Animal and plant based fats","","","","","","17225",{"$f":"_xlfn.TEXTJOIN(\"; \",TRUE,ZCDT_EXPORT_2[[#This Row],[Sub-Category]:[Segment 5]])","v":"Animal and plant based fats"}]
["AH","Baltic CDT","U2","02. Fresh","U2.01","01. Dairy","A.04.01","08. Eggs","17233","01. Eggs products","","","","","","","","","","","X",null,"A.04.01","Eggs","Eggs products","","","","","","17233",{"$f":"_xlfn.TEXTJOIN(\"; \",TRUE,ZCDT_EXPORT_2[[#This Row],[Sub-Category]:[Segment 5]])","v":"Eggs products"}]
["AH","Baltic CDT","U2","02. Fresh","U2.01","01. Dairy","A.04.01","08. Eggs","17234","02. Hen eggs","17237","01. Home (rustic) eggs (2)","","","","","","","","","X",null,"A.04.01","Eggs","Hen eggs","Home (rustic) eggs (2)","","","","","17237",{"$f":"_xlfn.TEXTJOIN(\"; \",TRUE,ZCDT_EXPORT_2[[#This Row],[Sub-Category]:[Segment 5]])","v":"Hen eggs; Home (rustic) eggs (2)"}]
["AH","Baltic CDT","U2","02. Fresh","U2.01","01. Dairy","A.04.01","08. Eggs","17234","02. Hen eggs","17238","02. Industrial (massive) eggs (3)","17241","01. S","","","","","","","X",null,"A.04.01","Eggs","Hen eggs","Industrial (massive) eggs (3)","S","","","","17241",{"$f":"_xlfn.TEXTJOIN(\"; \",TRUE,ZCDT_EXPORT_2[[#This Row],[Sub-Category]:[Segment 5]])","v":"Hen eggs; Industrial (massive) eggs (3); S"}]
["AH","Baltic CDT","U2","02. Fresh","U2.01","01. Dairy","A.04.01","08. Eggs","17234","02. Hen eggs","17238","02. Industrial (massive) eggs (3)","17242","02. M","","","","","","","X",null,"A.04.01","Eggs","Hen eggs","Industrial (massive) eggs (3)","M","","","","17242",{"$f":"_xlfn.TEXTJOIN(\"; \",TRUE,ZCDT_EXPORT_2[[#This Row],[Sub-Category]:[Segment 5]])","v":"Hen eggs; Industrial (massive) eggs (3); M"}]
["AH","Baltic CDT","U2","02. Fresh","U2.01","01. Dairy","A.04.01","08. Eggs","17234","02. Hen eggs","17238","02. Industrial (massive) eggs (3)","17243","03. L","","","","","","","X",null,"A.04.01","Eggs","Hen eggs","Industrial (massive) eggs (3)","L","","","","17243",{"$f":"_xlfn.TEXTJOIN(\"; \",TRUE,ZCDT_EXPORT_2[[#This Row],[Sub-Category]:[Segment 5]])","v":"Hen eggs; Industrial (massive) eggs (3); L"}]
["AH","Baltic CDT","U2","02. Fresh","U2.01","01. Dairy","A.04.01","08. Eggs","17234","02. Hen eggs","17238","02. Industrial (massive) eggs (3)","17244","04. XL","","","","","","","X",null,"A.04.01","Eggs","Hen eggs","Industrial (massive) eggs (3)","XL","","","","17244",{"$f":"_xlfn.TEXTJOIN(\"; \",TRUE,ZCDT_EXPORT_2[[#This Row],[Sub-Category]:[Segment 5]])","v":"Hen eggs; Industrial (massive) eggs (3); XL"}]
["AH","Baltic CDT","U2","02. Fresh","U2.01","01. Dairy","A.04.01","08. Eggs","17234","02. Hen eggs","17239","03. Ecological eggs (0)","","","","","","","","","X",null,"A.04.01","Eggs","Hen eggs","Ecological eggs (0)","","","","","17239",{"$f":"_xlfn.TEXTJOIN(\"; \",TRUE,ZCDT_EXPORT_2[[#This Row],[Sub-Category]:[Segment 5]])","v":"Hen eggs; Ecological eggs (0)"}]
["AH","Baltic CDT","U2","02. Fresh","U2.01","01. Dairy","A.04.01","08. Eggs","17234","02. Hen eggs","17240","04. Freely kept hens eggs (1)","","","","","","","","","X",null,"A.04.01","Eggs","Hen eggs","Freely kept hens eggs (1)","","","","","17240",{"$f":"_xlfn.TEXTJOIN(\"; \",TRUE,ZCDT_EXPORT_2[[#This Row],[Sub-Category]:[Segment 5]])","v":"Hen eggs; Freely kept hens eggs (1)"}]
["AH","Baltic CDT","U2","02. Fresh","U2.01","01. Dairy","A.04.01","08. Eggs","17235","03. Other eggs","","","","","","","","","","","X",null,"A.04.01","Eggs","Other eggs","","","","","","17235",{"$f":"_xlfn.TEXTJOIN(\"; \",TRUE,ZCDT_EXPORT_2[[#This Row],[Sub-Category]:[Segment 5]])","v":"Other eggs"}]
["AH","Baltic CDT","U2","02. Fresh","U2.01","01. Dairy","A.04.01","08. Eggs","17236","04. Yeast","","","","","","","","","","","X",null,"A.04.01","Eggs","Yeast","","","","","","17236",{"$f":"_xlfn.TEXTJOIN(\"; \",TRUE,ZCDT_EXPORT_2[[#This Row],[Sub-Category]:[Segment 5]])","v":"Yeast"}]
["AH","Baltic CDT","U2","02. Fresh","U2.01","01. Dairy","A.14.01","24. Curd bars","17459","01. With glaze","","","","","","","","","","","X",null,"A.14.01","Curd bars","With glaze","","","","","","17459",{"$f":"_xlfn.TEXTJOIN(\"; \",TRUE,ZCDT_EXPORT_2[[#This Row],[Sub-Category]:[Segment 5]])","v":"With glaze"}]
["AH","Baltic CDT","U2","02. Fresh","U2.01","01. Dairy","A.14.01","24. Curd bars","17460","02. Without glaze","","","","","","","","","","","X",null,"A.14.01","Curd bars","Without glaze","","","","","","17460",{"$f":"_xlfn.TEXTJOIN(\"; \",TRUE,ZCDT_EXPORT_2[[#This Row],[Sub-Category]:[Segment 5]])","v":"Without glaze"}]
["AH","Baltic CDT","U2","02. Fresh","U2.01","01. Dairy","A.14.01","24. Curd bars","17461","03. Dessert snack bar","","","","","","","","","","","X",null,"A.14.01","Curd bars","Dessert snack bar","","","","","","17461",{"$f":"_xlfn.TEXTJOIN(\"; \",TRUE,ZCDT_EXPORT_2[[#This Row],[Sub-Category]:[Segment 5]])","v":"Dessert snack bar"}]
["AH","Baltic CDT","U2","02. Fresh","U2.01","01. Dairy","A.14.01","24. Curd bars","17462","04. Functional curd bars","","","","","","","","","","","X",null,"A.14.01","Curd bars","Functional curd bars","","","","","","17462",{"$f":"_xlfn.TEXTJOIN(\"; \",TRUE,ZCDT_EXPORT_2[[#This Row],[Sub-Category]:[Segment 5]])","v":"Functional curd bars"}]
["AH","Baltic CDT","U2","02. Fresh","U2.01","01. Dairy","A.14.02","25. Desserts and snacks","19064","01. Curd desserts","19069","01. Vendor packed","19352","01. For cooking","","","","","","","X",null,"A.14.02","Desserts and snacks","Curd desserts","Vendor packed","For cooking","","","","19352",{"$f":"_xlfn.TEXTJOIN(\"; \",TRUE,ZCDT_EXPORT_2[[#This Row],[Sub-Category]:[Segment 5]])","v":"Curd desserts; Vendor packed; For cooking"}]
["AH","Baltic CDT","U2","02. Fresh","U2.01","01. Dairy","A.14.02","25. Desserts and snacks","19064","01. Curd desserts","19069","01. Vendor packed","19353","02. For snacking","","","","","","","X",null,"A.14.02","Desserts and snacks","Curd desserts","Vendor packed","For snacking","","","","19353",{"$f":"_xlfn.TEXTJOIN(\"; \",TRUE,ZCDT_EXPORT_2[[#This Row],[Sub-Category]:[Segment 5]])","v":"Curd desserts; Vendor packed; For snacking"}]
["AH","Baltic CDT","U2","02. Fresh","U2.01","01. Dairy","A.14.02","25. Desserts and snacks","19064","01. Curd desserts","19070","02. Baked in store","","","","","","","","","X",null,"A.14.02","Desserts and snacks","Curd desserts","Baked in store","","","","","19070",{"$f":"_xlfn.TEXTJOIN(\"; \",TRUE,ZCDT_EXPORT_2[[#This Row],[Sub-Category]:[Segment 5]])","v":"Curd desserts; Baked in store"}]
["AH","Baltic CDT","U2","02. Fresh","U2.01","01. Dairy","A.14.02","25. Desserts and snacks","17452","02. Jelly","","","","","","","","","","","X",null,"A.14.02","Desserts and snacks","Jelly","","","","","","17452",{"$f":"_xlfn.TEXTJOIN(\"; \",TRUE,ZCDT_EXPORT_2[[#This Row],[Sub-Category]:[Segment 5]])","v":"Jelly"}]
["AH","Baltic CDT","U2","02. Fresh","U2.01","01. Dairy","A.14.02","25. Desserts and snacks","19065","03. Pudding","19071","01. Vendor packed","","","","","","","","","X",null,"A.14.02","Desserts and snacks","Pudding","Vendor packed","","","","","19071",{"$f":"_xlfn.TEXTJOIN(\"; \",TRUE,ZCDT_EXPORT_2[[#This Row],[Sub-Category]:[Segment 5]])","v":"Pudding; Vendor packed"}]
["AH","Baltic CDT","U2","02. Fresh","U2.01","01. Dairy","A.14.02","25. Desserts and snacks","19065","03. Pudding","19072","02. Baked in store","","","","","","","","","X",null,"A.14.02","Desserts and snacks","Pudding","Baked in store","","","","","19072",{"$f":"_xlfn.TEXTJOIN(\"; \",TRUE,ZCDT_EXPORT_2[[#This Row],[Sub-Category]:[Segment 5]])","v":"Pudding; Baked in store"}]
["AH","Baltic CDT","U2","02. Fresh","U2.01","01. Dairy","A.14.02","25. Desserts and snacks","19066","04. Cream","19073","01. Vendor packed","","","","","","","","","X",null,"A.14.02","Desserts and snacks","Cream","Vendor packed","","","","","19073",{"$f":"_xlfn.TEXTJOIN(\"; \",TRUE,ZCDT_EXPORT_2[[#This Row],[Sub-Category]:[Segment 5]])","v":"Cream; Vendor packed"}]
["AH","Baltic CDT","U2","02. Fresh","U2.01","01. Dairy","A.14.02","25. Desserts and snacks","19066","04. Cream","19074","02. Baked in store","","","","","","","","","X",null,"A.14.02","Desserts and snacks","Cream","Baked in store","","","","","19074",{"$f":"_xlfn.TEXTJOIN(\"; \",TRUE,ZCDT_EXPORT_2[[#This Row],[Sub-Category]:[Segment 5]])","v":"Cream; Baked in store"}]
["AH","Baltic CDT","U2","02. Fresh","U2.01","01. Dairy","A.14.02","25. Desserts and snacks","17455","05. Porridge","","","","","","","","","","","X",null,"A.14.02","Desserts and snacks","Porridge","","","","","","17455",{"$f":"_xlfn.TEXTJOIN(\"; \",TRUE,ZCDT_EXPORT_2[[#This Row],[Sub-Category]:[Segment 5]])","v":"Porridge"}]
["AH","Baltic CDT","U2","02. Fresh","U2.01","01. Dairy","A.14.02","25. Desserts and snacks","19067","06. Local specialities","19075","01. Vendor packed","","","","","","","","","X",null,"A.14.02","Desserts and snacks","Local specialities","Vendor packed","","","","","19075",{"$f":"_xlfn.TEXTJOIN(\"; \",TRUE,ZCDT_EXPORT_2[[#This Row],[Sub-Category]:[Segment 5]])","v":"Local specialities; Vendor packed"}]
["AH","Baltic CDT","U2","02. Fresh","U2.01","01. Dairy","A.14.02","25. Desserts and snacks","19067","06. Local specialities","19076","02. Baked in store","","","","","","","","","X",null,"A.14.02","Desserts and snacks","Local specialities","Baked in store","","","","","19076",{"$f":"_xlfn.TEXTJOIN(\"; \",TRUE,ZCDT_EXPORT_2[[#This Row],[Sub-Category]:[Segment 5]])","v":"Local specialities; Baked in store"}]
["AH","Baltic CDT","U2","02. Fresh","U2.01","01. Dairy","A.14.02","25. Desserts and snacks","19068","07. On the go","19077","01. Vendor packed","","","","","","","","","X",null,"A.14.02","Desserts and snacks","On the go","Vendor packed","","","","","19077",{"$f":"_xlfn.TEXTJOIN(\"; \",TRUE,ZCDT_EXPORT_2[[#This Row],[Sub-Category]:[Segment 5]])","v":"On the go; Vendor packed"}]
["AH","Baltic CDT","U2","02. Fresh","U2.01","01. Dairy","A.14.02","25. Desserts and snacks","19068","07. On the go","19078","02. Baked in store","","","","","","","","","X",null,"A.14.02","Desserts and snacks","On the go","Baked in store","","","","","19078",{"$f":"_xlfn.TEXTJOIN(\"; \",TRUE,ZCDT_EXPORT_2[[#This Row],[Sub-Category]:[Segment 5]])","v":"On the go; Baked in store"}]
["AH","Baltic CDT","U2","02. Fresh","U2.01","01. Dairy","A.14.02","25. Desserts and snacks","17458","08. Functional desserts","","","","","","","","","","","X",null,"A.14.02","Desserts and snacks","Functional desserts","","","","","","17458",{"$f":"_xlfn.TEXTJOIN(\"; \",TRUE,ZCDT_EXPORT_2[[#This Row],[Sub-Category]:[Segment 5]])","v":"Functional desserts"}]
["AH","Baltic CDT","U2","02. Fresh","U2.01","01. Dairy","A.14.03","26. Yogurts","16809","01. Drinkable","17431","01. Functional","17434","01. <=100 ml (also multipacks)","","","","","","","X",null,"A.14.03","Yogurts","Drinkable","Functional","<=100 ml (also multipacks)","","","","17434",{"$f":"_xlfn.TEXTJOIN(\"; \",TRUE,ZCDT_EXPORT_2[[#This Row],[Sub-Category]:[Segment 5]])","v":"Drinkable; Functional; <=100 ml (also multipacks)"}]
["AH","Baltic CDT","U2","02. Fresh","U2.01","01. Dairy","A.14.03","26. Yogurts","16809","01. Drinkable","17431","01. Functional","17435","02. >101 ml <0.5L","","","","","","","X",null,"A.14.03","Yogurts","Drinkable","Functional",">101 ml <0.5L","","","","17435",{"$f":"_xlfn.TEXTJOIN(\"; \",TRUE,ZCDT_EXPORT_2[[#This Row],[Sub-Category]:[Segment 5]])","v":"Drinkable; Functional; >101 ml <0.5L"}]
["AH","Baltic CDT","U2","02. Fresh","U2.01","01. Dairy","A.14.03","26. Yogurts","16809","01. Drinkable","17431","01. Functional","17436","03. >0.5L","","","","","","","X",null,"A.14.03","Yogurts","Drinkable","Functional",">0.5L","","","","17436",{"$f":"_xlfn.TEXTJOIN(\"; \",TRUE,ZCDT_EXPORT_2[[#This Row],[Sub-Category]:[Segment 5]])","v":"Drinkable; Functional; >0.5L"}]
["AH","Baltic CDT","U2","02. Fresh","U2.01","01. Dairy","A.14.03","26. Yogurts","16809","01. Drinkable","17432","02. Regular","17437","01. <=500 ml","","","","","","","X",null,"A.14.03","Yogurts","Drinkable","Regular","<=500 ml","","","","17437",{"$f":"_xlfn.TEXTJOIN(\"; \",TRUE,ZCDT_EXPORT_2[[#This Row],[Sub-Category]:[Segment 5]])","v":"Drinkable; Regular; <=500 ml"}]
["AH","Baltic CDT","U2","02. Fresh","U2.01","01. Dairy","A.14.03","26. Yogurts","16809","01. Drinkable","17432","02. Regular","17438","02. >501 ml < 899 ml","","","","","","","X",null,"A.14.03","Yogurts","Drinkable","Regular",">501 ml < 899 ml","","","","17438",{"$f":"_xlfn.TEXTJOIN(\"; \",TRUE,ZCDT_EXPORT_2[[#This Row],[Sub-Category]:[Segment 5]])","v":"Drinkable; Regular; >501 ml < 899 ml"}]
["AH","Baltic CDT","U2","02. Fresh","U2.01","01. Dairy","A.14.03","26. Yogurts","16809","01. Drinkable","17432","02. Regular","17439","03. >900 ml","","","","","","","X",null,"A.14.03","Yogurts","Drinkable","Regular",">900 ml","","","","17439",{"$f":"_xlfn.TEXTJOIN(\"; \",TRUE,ZCDT_EXPORT_2[[#This Row],[Sub-Category]:[Segment 5]])","v":"Drinkable; Regular; >900 ml"}]
["AH","Baltic CDT","U2","02. Fresh","U2.01","01. Dairy","A.14.03","26. Yogurts","16809","01. Drinkable","17433","03. Non milk based products","","","","","","","","","X",null,"A.14.03","Yogurts","Drinkable","Non milk based products","","","","","17433",{"$f":"_xlfn.TEXTJOIN(\"; \",TRUE,ZCDT_EXPORT_2[[#This Row],[Sub-Category]:[Segment 5]])","v":"Drinkable; Non milk based products"}]
["AH","Baltic CDT","U2","02. Fresh","U2.01","01. Dairy","A.14.03","26. Yogurts","16810","02. Spoonable","17440","01. Regular","17444","01. 0-250g (also multipacks)","","","","","","","X",null,"A.14.03","Yogurts","Spoonable","Regular","0-250g (also multipacks)","","","","17444",{"$f":"_xlfn.TEXTJOIN(\"; \",TRUE,ZCDT_EXPORT_2[[#This Row],[Sub-Category]:[Segment 5]])","v":"Spoonable; Regular; 0-250g (also multipacks)"}]
["AH","Baltic CDT","U2","02. Fresh","U2.01","01. Dairy","A.14.03","26. Yogurts","16810","02. Spoonable","17440","01. Regular","17445","02. 251-500g","","","","","","","X",null,"A.14.03","Yogurts","Spoonable","Regular","251-500g","","","","17445",{"$f":"_xlfn.TEXTJOIN(\"; \",TRUE,ZCDT_EXPORT_2[[#This Row],[Sub-Category]:[Segment 5]])","v":"Spoonable; Regular; 251-500g"}]
["AH","Baltic CDT","U2","02. Fresh","U2.01","01. Dairy","A.14.03","26. Yogurts","16810","02. Spoonable","17440","01. Regular","17446","03. 501+g","","","","","","","X",null,"A.14.03","Yogurts","Spoonable","Regular","501+g","","","","17446",{"$f":"_xlfn.TEXTJOIN(\"; \",TRUE,ZCDT_EXPORT_2[[#This Row],[Sub-Category]:[Segment 5]])","v":"Spoonable; Regular; 501+g"}]
["AH","Baltic CDT","U2","02. Fresh","U2.01","01. Dairy","A.14.03","26. Yogurts","16810","02. Spoonable","17442","03. Not flavoured","17447","01. Regular","","","","","","","X",null,"A.14.03","Yogurts","Spoonable","Not flavoured","Regular","","","","17447",{"$f":"_xlfn.TEXTJOIN(\"; \",TRUE,ZCDT_EXPORT_2[[#This Row],[Sub-Category]:[Segment 5]])","v":"Spoonable; Not flavoured; Regular"}]
["AH","Baltic CDT","U2","02. Fresh","U2.01","01. Dairy","A.14.03","26. Yogurts","16810","02. Spoonable","17442","03. Not flavoured","17448","02. Ethnic","","","","","","","X",null,"A.14.03","Yogurts","Spoonable","Not flavoured","Ethnic","","","","17448",{"$f":"_xlfn.TEXTJOIN(\"; \",TRUE,ZCDT_EXPORT_2[[#This Row],[Sub-Category]:[Segment 5]])","v":"Spoonable; Not flavoured; Ethnic"}]
["AH","Baltic CDT","U2","02. Fresh","U2.01","01. Dairy","A.14.03","26. Yogurts","16810","02. Spoonable","17443","04. Functional (protein, special bacteri","17449","01. 0-250g (also mulipacks)","","","","","","","X",null,"A.14.03","Yogurts","Spoonable","Functional (protein, special bacteri","0-250g (also mulipacks)","","","","17449",{"$f":"_xlfn.TEXTJOIN(\"; \",TRUE,ZCDT_EXPORT_2[[#This Row],[Sub-Category]:[Segment 5]])","v":"Spoonable; Functional (protein, special bacteri; 0-250g (also mulipacks)"}]
["AH","Baltic CDT","U2","02. Fresh","U2.01","01. Dairy","A.14.03","26. Yogurts","16810","02. Spoonable","17443","04. Functional (protein, special bacteri","17450","02. >251g","","","","","","","X",null,"A.14.03","Yogurts","Spoonable","Functional (protein, special bacteri",">251g","","","","17450",{"$f":"_xlfn.TEXTJOIN(\"; \",TRUE,ZCDT_EXPORT_2[[#This Row],[Sub-Category]:[Segment 5]])","v":"Spoonable; Functional (protein, special bacteri; >251g"}]
["AH","Baltic CDT","U2","02. Fresh","U2.01","01. Dairy","A.15.01","27. Vegan","18871","01. Meat","18880","01. Fresh meat","","","","","","","","","X",null,"A.15.01","Vegan","Meat","Fresh meat","","","","","18880",{"$f":"_xlfn.TEXTJOIN(\"; \",TRUE,ZCDT_EXPORT_2[[#This Row],[Sub-Category]:[Segment 5]])","v":"Meat; Fresh meat"}]
["AH","Baltic CDT","U2","02. Fresh","U2.01","01. Dairy","A.15.01","27. Vegan","18871","01. Meat","18881","02. Processed meat","","","","","","","","","X",null,"A.15.01","Vegan","Meat","Processed meat","","","","","18881",{"$f":"_xlfn.TEXTJOIN(\"; \",TRUE,ZCDT_EXPORT_2[[#This Row],[Sub-Category]:[Segment 5]])","v":"Meat; Processed meat"}]
["AH","Baltic CDT","U2","02. Fresh","U2.01","01. Dairy","A.15.01","27. Vegan","18872","02. Cheese and tofu","18882","01. Cheese","","","","","","","","","X",null,"A.15.01","Vegan","Cheese and tofu","Cheese","","","","","18882",{"$f":"_xlfn.TEXTJOIN(\"; \",TRUE,ZCDT_EXPORT_2[[#This Row],[Sub-Category]:[Segment 5]])","v":"Cheese and tofu; Cheese"}]
["AH","Baltic CDT","U2","02. Fresh","U2.01","01. Dairy","A.15.01","27. Vegan","18872","02. Cheese and tofu","18883","02. Tofu","","","","","","","","","X",null,"A.15.01","Vegan","Cheese and tofu","Tofu","","","","","18883",{"$f":"_xlfn.TEXTJOIN(\"; \",TRUE,ZCDT_EXPORT_2[[#This Row],[Sub-Category]:[Segment 5]])","v":"Cheese and tofu; Tofu"}]
["AH","Baltic CDT","U2","02. Fresh","U2.01","01. Dairy","A.15.01","27. Vegan","18873","03. Mayonnaise and spreads","18884","01. Mayonnaise","","","","","","","","","X",null,"A.15.01","Vegan","Mayonnaise and spreads","Mayonnaise","","","","","18884",{"$f":"_xlfn.TEXTJOIN(\"; \",TRUE,ZCDT_EXPORT_2[[#This Row],[Sub-Category]:[Segment 5]])","v":"Mayonnaise and spreads; Mayonnaise"}]
["AH","Baltic CDT","U2","02. Fresh","U2.01","01. Dairy","A.15.01","27. Vegan","18873","03. Mayonnaise and spreads","18885","02. DIPs and spreads","","","","","","","","","X",null,"A.15.01","Vegan","Mayonnaise and spreads","DIPs and spreads","","","","","18885",{"$f":"_xlfn.TEXTJOIN(\"; \",TRUE,ZCDT_EXPORT_2[[#This Row],[Sub-Category]:[Segment 5]])","v":"Mayonnaise and spreads; DIPs and spreads"}]
["AH","Baltic CDT","U2","02. Fresh","U2.01","01. Dairy","A.15.01","27. Vegan","18873","03. Mayonnaise and spreads","18886","03. Edible fats","","","","","","","","","X",null,"A.15.01","Vegan","Mayonnaise and spreads","Edible fats","","","","","18886",{"$f":"_xlfn.TEXTJOIN(\"; \",TRUE,ZCDT_EXPORT_2[[#This Row],[Sub-Category]:[Segment 5]])","v":"Mayonnaise and spreads; Edible fats"}]
["AH","Baltic CDT","U2","02. Fresh","U2.01","01. Dairy","A.15.01","27. Vegan","18874","04. Frozen food","18887","01. Frozen ready meals","","","","","","","","","X",null,"A.15.01","Vegan","Frozen food","Frozen ready meals","","","","","18887",{"$f":"_xlfn.TEXTJOIN(\"; \",TRUE,ZCDT_EXPORT_2[[#This Row],[Sub-Category]:[Segment 5]])","v":"Frozen food; Frozen ready meals"}]
["AH","Baltic CDT","U2","02. Fresh","U2.01","01. Dairy","A.15.01","27. Vegan","18874","04. Frozen food","18888","02. Frozen pizzas","","","","","","","","","X",null,"A.15.01","Vegan","Frozen food","Frozen pizzas","","","","","18888",{"$f":"_xlfn.TEXTJOIN(\"; \",TRUE,ZCDT_EXPORT_2[[#This Row],[Sub-Category]:[Segment 5]])","v":"Frozen food; Frozen pizzas"}]
["AH","Baltic CDT","U2","02. Fresh","U2.01","01. Dairy","A.15.01","27. Vegan","18874","04. Frozen food","18889","03. Dough and dessert products","","","","","","","","","X",null,"A.15.01","Vegan","Frozen food","Dough and dessert products","","","","","18889",{"$f":"_xlfn.TEXTJOIN(\"; \",TRUE,ZCDT_EXPORT_2[[#This Row],[Sub-Category]:[Segment 5]])","v":"Frozen food; Dough and dessert products"}]
["AH","Baltic CDT","U2","02. Fresh","U2.01","01. Dairy","A.15.01","27. Vegan","18875","05. Ice cream","18898","01. Impulse ice cream","","","","","","","","","X",null,"A.15.01","Vegan","Ice cream","Impulse ice cream","","","","","18898",{"$f":"_xlfn.TEXTJOIN(\"; \",TRUE,ZCDT_EXPORT_2[[#This Row],[Sub-Category]:[Segment 5]])","v":"Ice cream; Impulse ice cream"}]
["AH","Baltic CDT","U2","02. Fresh","U2.01","01. Dairy","A.15.01","27. Vegan","18875","05. Ice cream","18899","02. Family pack/multipack","","","","","","","","","X",null,"A.15.01","Vegan","Ice cream","Family pack/multipack","","","","","18899",{"$f":"_xlfn.TEXTJOIN(\"; \",TRUE,ZCDT_EXPORT_2[[#This Row],[Sub-Category]:[Segment 5]])","v":"Ice cream; Family pack/multipack"}]
["AH","Baltic CDT","U2","02. Fresh","U2.01","01. Dairy","A.15.01","27. Vegan","18876","06. Ready meals","18890","01. Ready to cook","","","","","","","","","X",null,"A.15.01","Vegan","Ready meals","Ready to cook","","","","","18890",{"$f":"_xlfn.TEXTJOIN(\"; \",TRUE,ZCDT_EXPORT_2[[#This Row],[Sub-Category]:[Segment 5]])","v":"Ready meals; Ready to cook"}]
["AH","Baltic CDT","U2","02. Fresh","U2.01","01. Dairy","A.15.01","27. Vegan","18876","06. Ready meals","18891","02. Ready to eat","","","","","","","","","X",null,"A.15.01","Vegan","Ready meals","Ready to eat","","","","","18891",{"$f":"_xlfn.TEXTJOIN(\"; \",TRUE,ZCDT_EXPORT_2[[#This Row],[Sub-Category]:[Segment 5]])","v":"Ready meals; Ready to eat"}]
["AH","Baltic CDT","U2","02. Fresh","U2.01","01. Dairy","A.15.01","27. Vegan","18877","07. Confectionary","","","","","","","","","","","X",null,"A.15.01","Vegan","Confectionary","","","","","","18877",{"$f":"_xlfn.TEXTJOIN(\"; \",TRUE,ZCDT_EXPORT_2[[#This Row],[Sub-Category]:[Segment 5]])","v":"Confectionary"}]
["AH","Baltic CDT","U2","02. Fresh","U2.01","01. Dairy","A.15.01","27. Vegan","18878","08. Dairy alternatives","18892","01. Plant based milk drinks","","","","","","","","","X",null,"A.15.01","Vegan","Dairy alternatives","Plant based milk drinks","","","","","18892",{"$f":"_xlfn.TEXTJOIN(\"; \",TRUE,ZCDT_EXPORT_2[[#This Row],[Sub-Category]:[Segment 5]])","v":"Dairy alternatives; Plant based milk drinks"}]
["AH","Baltic CDT","U2","02. Fresh","U2.01","01. Dairy","A.15.01","27. Vegan","18878","08. Dairy alternatives","18893","02. Plant based creams","","","","","","","","","X",null,"A.15.01","Vegan","Dairy alternatives","Plant based creams","","","","","18893",{"$f":"_xlfn.TEXTJOIN(\"; \",TRUE,ZCDT_EXPORT_2[[#This Row],[Sub-Category]:[Segment 5]])","v":"Dairy alternatives; Plant based creams"}]
["AH","Baltic CDT","U2","02. Fresh","U2.01","01. Dairy","A.15.01","27. Vegan","18878","08. Dairy alternatives","18894","03. Other (cold coffee etc.)","","","","","","","","","X",null,"A.15.01","Vegan","Dairy alternatives","Other (cold coffee etc.)","","","","","18894",{"$f":"_xlfn.TEXTJOIN(\"; \",TRUE,ZCDT_EXPORT_2[[#This Row],[Sub-Category]:[Segment 5]])","v":"Dairy alternatives; Other (cold coffee etc.)"}]
["AH","Baltic CDT","U2","02. Fresh","U2.01","01. Dairy","A.15.01","27. Vegan","18879","09. Yoghurts and desserts","18895","01. Yoghurts","","","","","","","","","X",null,"A.15.01","Vegan","Yoghurts and desserts","Yoghurts","","","","","18895",{"$f":"_xlfn.TEXTJOIN(\"; \",TRUE,ZCDT_EXPORT_2[[#This Row],[Sub-Category]:[Segment 5]])","v":"Yoghurts and desserts; Yoghurts"}]
["AH","Baltic CDT","U2","02. Fresh","U2.01","01. Dairy","A.15.01","27. Vegan","18879","09. Yoghurts and desserts","18896","02. Desserts","","","","","","","","","X",null,"A.15.01","Vegan","Yoghurts and desserts","Desserts","","","","","18896",{"$f":"_xlfn.TEXTJOIN(\"; \",TRUE,ZCDT_EXPORT_2[[#This Row],[Sub-Category]:[Segment 5]])","v":"Yoghurts and desserts; Desserts"}]
["AH","Baltic CDT","U2","02. Fresh","U2.01","01. Dairy","A.15.01","27. Vegan","18879","09. Yoghurts and desserts","18897","03. Curd bars","","","","","","","","","X",null,"A.15.01","Vegan","Yoghurts and desserts","Curd bars","","","","","18897",{"$f":"_xlfn.TEXTJOIN(\"; \",TRUE,ZCDT_EXPORT_2[[#This Row],[Sub-Category]:[Segment 5]])","v":"Yoghurts and desserts; Curd bars"}]
["AH","Baltic CDT","U2","02. Fresh","U2.01","01. Dairy","A.16.01","28. Farmer Store","19161","01. F&V","","","","","","","","","","","X",null,"A.16.01","Farmer Store","F&V","","","","","","19161",{"$f":"_xlfn.TEXTJOIN(\"; \",TRUE,ZCDT_EXPORT_2[[#This Row],[Sub-Category]:[Segment 5]])","v":"F&V"}]
["AH","Baltic CDT","U2","02. Fresh","U2.01","01. Dairy","A.16.01","28. Farmer Store","19162","02. Dairy","","","","","","","","","","","X",null,"A.16.01","Farmer Store","Dairy","","","","","","19162",{"$f":"_xlfn.TEXTJOIN(\"; \",TRUE,ZCDT_EXPORT_2[[#This Row],[Sub-Category]:[Segment 5]])","v":"Dairy"}]
["AH","Baltic CDT","U2","02. Fresh","U2.01","01. Dairy","A.16.01","28. Farmer Store","19163","03. Cheese and eggs","","","","","","","","","","","X",null,"A.16.01","Farmer Store","Cheese and eggs","","","","","","19163",{"$f":"_xlfn.TEXTJOIN(\"; \",TRUE,ZCDT_EXPORT_2[[#This Row],[Sub-Category]:[Segment 5]])","v":"Cheese and eggs"}]
["AH","Baltic CDT","U2","02. Fresh","U2.01","01. Dairy","A.16.01","28. Farmer Store","19164","04. Fresh meat","","","","","","","","","","","X",null,"A.16.01","Farmer Store","Fresh meat","","","","","","19164",{"$f":"_xlfn.TEXTJOIN(\"; \",TRUE,ZCDT_EXPORT_2[[#This Row],[Sub-Category]:[Segment 5]])","v":"Fresh meat"}]
["AH","Baltic CDT","U2","02. Fresh","U2.01","01. Dairy","A.16.01","28. Farmer Store","19165","05. Processed meat","","","","","","","","","","","X",null,"A.16.01","Farmer Store","Processed meat","","","","","","19165",{"$f":"_xlfn.TEXTJOIN(\"; \",TRUE,ZCDT_EXPORT_2[[#This Row],[Sub-Category]:[Segment 5]])","v":"Processed meat"}]
["AH","Baltic CDT","U2","02. Fresh","U2.01","01. Dairy","A.16.01","28. Farmer Store","19166","06. Fresh fish","","","","","","","","","","","X",null,"A.16.01","Farmer Store","Fresh fish","","","","","","19166",{"$f":"_xlfn.TEXTJOIN(\"; \",TRUE,ZCDT_EXPORT_2[[#This Row],[Sub-Category]:[Segment 5]])","v":"Fresh fish"}]
["AH","Baltic CDT","U2","02. Fresh","U2.01","01. Dairy","A.16.01","28. Farmer Store","19167","07. Processed fish","","","","","","","","","","","X",null,"A.16.01","Farmer Store","Processed fish","","","","","","19167",{"$f":"_xlfn.TEXTJOIN(\"; \",TRUE,ZCDT_EXPORT_2[[#This Row],[Sub-Category]:[Segment 5]])","v":"Processed fish"}]
["AH","Baltic CDT","U2","02. Fresh","U2.01","01. Dairy","A.16.01","28. Farmer Store","19168","08. Bread and confectionery","","","","","","","","","","","X",null,"A.16.01","Farmer Store","Bread and confectionery","","","","","","19168",{"$f":"_xlfn.TEXTJOIN(\"; \",TRUE,ZCDT_EXPORT_2[[#This Row],[Sub-Category]:[Segment 5]])","v":"Bread and confectionery"}]
["AH","Baltic CDT","U2","02. Fresh","U2.01","01. Dairy","A.16.01","28. Farmer Store","19169","09. Frozen","","","","","","","","","","","X",null,"A.16.01","Farmer Store","Frozen","","","","","","19169",{"$f":"_xlfn.TEXTJOIN(\"; \",TRUE,ZCDT_EXPORT_2[[#This Row],[Sub-Category]:[Segment 5]])","v":"Frozen"}]
["AH","Baltic CDT","U2","02. Fresh","U2.01","01. Dairy","A.16.01","28. Farmer Store","19170","10. Dry cupboard","","","","","","","","","","","X",null,"A.16.01","Farmer Store","Dry cupboard","","","","","","19170",{"$f":"_xlfn.TEXTJOIN(\"; \",TRUE,ZCDT_EXPORT_2[[#This Row],[Sub-Category]:[Segment 5]])","v":"Dry cupboard"}]
["AH","Baltic CDT","U2","02. Fresh","U2.01","01. Dairy","A.16.01","28. Farmer Store","19171","11. Dry cooking ingredients","","","","","","","","","","","X",null,"A.16.01","Farmer Store","Dry cooking ingredients","","","","","","19171",{"$f":"_xlfn.TEXTJOIN(\"; \",TRUE,ZCDT_EXPORT_2[[#This Row],[Sub-Category]:[Segment 5]])","v":"Dry cooking ingredients"}]
["AH","Baltic CDT","U2","02. Fresh","U2.01","01. Dairy","A.16.01","28. Farmer Store","19172","12. Snacks","","","","","","","","","","","X",null,"A.16.01","Farmer Store","Snacks","","","","","","19172",{"$f":"_xlfn.TEXTJOIN(\"; \",TRUE,ZCDT_EXPORT_2[[#This Row],[Sub-Category]:[Segment 5]])","v":"Snacks"}]
["AH","Baltic CDT","U2","02. Fresh","U2.01","01. Dairy","A.16.01","28. Farmer Store","19173","13. Sweets","","","","","","","","","","","X",null,"A.16.01","Farmer Store","Sweets","","","","","","19173",{"$f":"_xlfn.TEXTJOIN(\"; \",TRUE,ZCDT_EXPORT_2[[#This Row],[Sub-Category]:[Segment 5]])","v":"Sweets"}]
["AH","Baltic CDT","U2","02. Fresh","U2.01","01. Dairy","A.16.01","28. Farmer Store","19174","14. Drinks","","","","","","","","","","","X",null,"A.16.01","Farmer Store","Drinks","","","","","","19174",{"$f":"_xlfn.TEXTJOIN(\"; \",TRUE,ZCDT_EXPORT_2[[#This Row],[Sub-Category]:[Segment 5]])","v":"Drinks"}]
["AH","Baltic CDT","U2","02. Fresh","U2.01","01. Dairy","A.16.01","28. Farmer Store","19175","15. Alcoholic drinks","","","","","","","","","","","X",null,"A.16.01","Farmer Store","Alcoholic drinks","","","","","","19175",{"$f":"_xlfn.TEXTJOIN(\"; \",TRUE,ZCDT_EXPORT_2[[#This Row],[Sub-Category]:[Segment 5]])","v":"Alcoholic drinks"}]
["AH","Baltic CDT","U2","02. Fresh","U2.01","01. Dairy","A.16.01","28. Farmer Store","19176","16. Not edible","","","","","","","","","","","X",null,"A.16.01","Farmer Store","Not edible","","","","","","19176",{"$f":"_xlfn.TEXTJOIN(\"; \",TRUE,ZCDT_EXPORT_2[[#This Row],[Sub-Category]:[Segment 5]])","v":"Not edible"}]
["AH","Baltic CDT","U2","02. Fresh","U2.01","01. Dairy","A.16.01","28. Farmer Store","19177","17. Vegan","","","","","","","","","","","X",null,"A.16.01","Farmer Store","Vegan","","","","","","19177",{"$f":"_xlfn.TEXTJOIN(\"; \",TRUE,ZCDT_EXPORT_2[[#This Row],[Sub-Category]:[Segment 5]])","v":"Vegan"}]
["AH","Baltic CDT","U2","02. Fresh","U2.01","01. Dairy","A.16.01","28. Farmer Store","19481","18. Ready to eat","","","","","","","","","","","X",null,"A.16.01","Farmer Store","Ready to eat","","","","","","19481",{"$f":"_xlfn.TEXTJOIN(\"; \",TRUE,ZCDT_EXPORT_2[[#This Row],[Sub-Category]:[Segment 5]])","v":"Ready to eat"}]
["AH","Baltic CDT","U2","02. Fresh","U2.02","02. Processed Meat & Fish","A.05.01","09. Canned fish and seafood, Canned meat","16905","01. Canned Meat","","","","","","","","","","","X",null,"A.05.01","Canned fish and seafood, Canned meat","Canned Meat","","","","","","16905",{"$f":"_xlfn.TEXTJOIN(\"; \",TRUE,ZCDT_EXPORT_2[[#This Row],[Sub-Category]:[Segment 5]])","v":"Canned Meat"}]
["AH","Baltic CDT","U2","02. Fresh","U2.02","02. Processed Meat & Fish","A.05.01","09. Canned fish and seafood, Canned meat","16906","02. Canned fish and seafood","16907","01. Canned sea food","","","","","","","","","X",null,"A.05.01","Canned fish and seafood, Canned meat","Canned fish and seafood","Canned sea food","","","","","16907",{"$f":"_xlfn.TEXTJOIN(\"; \",TRUE,ZCDT_EXPORT_2[[#This Row],[Sub-Category]:[Segment 5]])","v":"Canned fish and seafood; Canned sea food"}]
["AH","Baltic CDT","U2","02. Fresh","U2.02","02. Processed Meat & Fish","A.05.01","09. Canned fish and seafood, Canned meat","16906","02. Canned fish and seafood","16908","02. Canned fish","16909","01. Canned tuna","","","","","","","X",null,"A.05.01","Canned fish and seafood, Canned meat","Canned fish and seafood","Canned fish","Canned tuna","","","","16909",{"$f":"_xlfn.TEXTJOIN(\"; \",TRUE,ZCDT_EXPORT_2[[#This Row],[Sub-Category]:[Segment 5]])","v":"Canned fish and seafood; Canned fish; Canned tuna"}]
["AH","Baltic CDT","U2","02. Fresh","U2.02","02. Processed Meat & Fish","A.05.01","09. Canned fish and seafood, Canned meat","16906","02. Canned fish and seafood","16908","02. Canned fish","16910","02. Canned sprats","","","","","","","X",null,"A.05.01","Canned fish and seafood, Canned meat","Canned fish and seafood","Canned fish","Canned sprats","","","","16910",{"$f":"_xlfn.TEXTJOIN(\"; \",TRUE,ZCDT_EXPORT_2[[#This Row],[Sub-Category]:[Segment 5]])","v":"Canned fish and seafood; Canned fish; Canned sprats"}]
["AH","Baltic CDT","U2","02. Fresh","U2.02","02. Processed Meat & Fish","A.05.01","09. Canned fish and seafood, Canned meat","16906","02. Canned fish and seafood","16908","02. Canned fish","16911","03. Other canned fish","","","","","","","X",null,"A.05.01","Canned fish and seafood, Canned meat","Canned fish and seafood","Canned fish","Other canned fish","","","","16911",{"$f":"_xlfn.TEXTJOIN(\"; \",TRUE,ZCDT_EXPORT_2[[#This Row],[Sub-Category]:[Segment 5]])","v":"Canned fish and seafood; Canned fish; Other canned fish"}]
["AH","Baltic CDT","U2","02. Fresh","U2.02","02. Processed Meat & Fish","A.06.02","11. Processed fish and seafood","16822","01. Fish meal","16831","01. Crabsticks","","","","","","","","","X",null,"A.06.02","Processed fish and seafood","Fish meal","Crabsticks","","","","","16831",{"$f":"_xlfn.TEXTJOIN(\"; \",TRUE,ZCDT_EXPORT_2[[#This Row],[Sub-Category]:[Segment 5]])","v":"Fish meal; Crabsticks"}]
["AH","Baltic CDT","U2","02. Fresh","U2.02","02. Processed Meat & Fish","A.06.02","11. Processed fish and seafood","16822","01. Fish meal","16832","02. Fish spreads","","","","","","","","","X",null,"A.06.02","Processed fish and seafood","Fish meal","Fish spreads","","","","","16832",{"$f":"_xlfn.TEXTJOIN(\"; \",TRUE,ZCDT_EXPORT_2[[#This Row],[Sub-Category]:[Segment 5]])","v":"Fish meal; Fish spreads"}]
["AH","Baltic CDT","U2","02. Fresh","U2.02","02. Processed Meat & Fish","A.06.02","11. Processed fish and seafood","16822","01. Fish meal","16833","03. Fishballs","","","","","","","","","X",null,"A.06.02","Processed fish and seafood","Fish meal","Fishballs","","","","","16833",{"$f":"_xlfn.TEXTJOIN(\"; \",TRUE,ZCDT_EXPORT_2[[#This Row],[Sub-Category]:[Segment 5]])","v":"Fish meal; Fishballs"}]
["AH","Baltic CDT","U2","02. Fresh","U2.02","02. Processed Meat & Fish","A.06.02","11. Processed fish and seafood","16821","02. Processed fish","16834","01. Cold smoked fish","16840","01. Packed","16841","01. Sliced","","","","","X",null,"A.06.02","Processed fish and seafood","Processed fish","Cold smoked fish","Packed","Sliced","","","16841",{"$f":"_xlfn.TEXTJOIN(\"; \",TRUE,ZCDT_EXPORT_2[[#This Row],[Sub-Category]:[Segment 5]])","v":"Processed fish; Cold smoked fish; Packed; Sliced"}]
["AH","Baltic CDT","U2","02. Fresh","U2.02","02. Processed Meat & Fish","A.06.02","11. Processed fish and seafood","16821","02. Processed fish","16834","01. Cold smoked fish","16840","01. Packed","16842","02. Not sliced","","","","","X",null,"A.06.02","Processed fish and seafood","Processed fish","Cold smoked fish","Packed","Not sliced","","","16842",{"$f":"_xlfn.TEXTJOIN(\"; \",TRUE,ZCDT_EXPORT_2[[#This Row],[Sub-Category]:[Segment 5]])","v":"Processed fish; Cold smoked fish; Packed; Not sliced"}]
["AH","Baltic CDT","U2","02. Fresh","U2.02","02. Processed Meat & Fish","A.06.02","11. Processed fish and seafood","16821","02. Processed fish","16834","01. Cold smoked fish","16843","02. Unpacked","","","","","","","X",null,"A.06.02","Processed fish and seafood","Processed fish","Cold smoked fish","Unpacked","","","","16843",{"$f":"_xlfn.TEXTJOIN(\"; \",TRUE,ZCDT_EXPORT_2[[#This Row],[Sub-Category]:[Segment 5]])","v":"Processed fish; Cold smoked fish; Unpacked"}]
["AH","Baltic CDT","U2","02. Fresh","U2.02","02. Processed Meat & Fish","A.06.02","11. Processed fish and seafood","16821","02. Processed fish","16835","02. Dried fish","16844","01. Packed","","","","","","","X",null,"A.06.02","Processed fish and seafood","Processed fish","Dried fish","Packed","","","","16844",{"$f":"_xlfn.TEXTJOIN(\"; \",TRUE,ZCDT_EXPORT_2[[#This Row],[Sub-Category]:[Segment 5]])","v":"Processed fish; Dried fish; Packed"}]
["AH","Baltic CDT","U2","02. Fresh","U2.02","02. Processed Meat & Fish","A.06.02","11. Processed fish and seafood","16821","02. Processed fish","16835","02. Dried fish","16845","02. Unpacked","","","","","","","X",null,"A.06.02","Processed fish and seafood","Processed fish","Dried fish","Unpacked","","","","16845",{"$f":"_xlfn.TEXTJOIN(\"; \",TRUE,ZCDT_EXPORT_2[[#This Row],[Sub-Category]:[Segment 5]])","v":"Processed fish; Dried fish; Unpacked"}]
["AH","Baltic CDT","U2","02. Fresh","U2.02","02. Processed Meat & Fish","A.06.02","11. Processed fish and seafood","16821","02. Processed fish","16836","03. Fish salads","16846","01. Packed","","","","","","","X",null,"A.06.02","Processed fish and seafood","Processed fish","Fish salads","Packed","","","","16846",{"$f":"_xlfn.TEXTJOIN(\"; \",TRUE,ZCDT_EXPORT_2[[#This Row],[Sub-Category]:[Segment 5]])","v":"Processed fish; Fish salads; Packed"}]
["AH","Baltic CDT","U2","02. Fresh","U2.02","02. Processed Meat & Fish","A.06.02","11. Processed fish and seafood","16821","02. Processed fish","16836","03. Fish salads","16847","02. Unpacked","","","","","","","X",null,"A.06.02","Processed fish and seafood","Processed fish","Fish salads","Unpacked","","","","16847",{"$f":"_xlfn.TEXTJOIN(\"; \",TRUE,ZCDT_EXPORT_2[[#This Row],[Sub-Category]:[Segment 5]])","v":"Processed fish; Fish salads; Unpacked"}]
["AH","Baltic CDT","U2","02. Fresh","U2.02","02. Processed Meat & Fish","A.06.02","11. Processed fish and seafood","16821","02. Processed fish","16837","04. Hot smoked fish","16850","01. Packed","","","","","","","X",null,"A.06.02","Processed fish and seafood","Processed fish","Hot smoked fish","Packed","","","","16850",{"$f":"_xlfn.TEXTJOIN(\"; \",TRUE,ZCDT_EXPORT_2[[#This Row],[Sub-Category]:[Segment 5]])","v":"Processed fish; Hot smoked fish; Packed"}]
["AH","Baltic CDT","U2","02. Fresh","U2.02","02. Processed Meat & Fish","A.06.02","11. Processed fish and seafood","16821","02. Processed fish","16837","04. Hot smoked fish","16852","02. Unpacked","","","","","","","X",null,"A.06.02","Processed fish and seafood","Processed fish","Hot smoked fish","Unpacked","","","","16852",{"$f":"_xlfn.TEXTJOIN(\"; \",TRUE,ZCDT_EXPORT_2[[#This Row],[Sub-Category]:[Segment 5]])","v":"Processed fish; Hot smoked fish; Unpacked"}]
["AH","Baltic CDT","U2","02. Fresh","U2.02","02. Processed Meat & Fish","A.06.02","11. Processed fish and seafood","16821","02. Processed fish","16838","05. Other processed fish","","","","","","","","","X",null,"A.06.02","Processed fish and seafood","Processed fish","Other processed fish","","","","","16838",{"$f":"_xlfn.TEXTJOIN(\"; \",TRUE,ZCDT_EXPORT_2[[#This Row],[Sub-Category]:[Segment 5]])","v":"Processed fish; Other processed fish"}]
["AH","Baltic CDT","U2","02. Fresh","U2.02","02. Processed Meat & Fish","A.06.02","11. Processed fish and seafood","16821","02. Processed fish","16839","06. Salted fish and fish in marinade","16855","01. Packed","16857","01. Herring","16860","01. In marinade","","","X",null,"A.06.02","Processed fish and seafood","Processed fish","Salted fish and fish in marinade","Packed","Herring","In marinade","","16860",{"$f":"_xlfn.TEXTJOIN(\"; \",TRUE,ZCDT_EXPORT_2[[#This Row],[Sub-Category]:[Segment 5]])","v":"Processed fish; Salted fish and fish in marinade; Packed; Herring; In marinade"}]
["AH","Baltic CDT","U2","02. Fresh","U2.02","02. Processed Meat & Fish","A.06.02","11. Processed fish and seafood","16821","02. Processed fish","16839","06. Salted fish and fish in marinade","16855","01. Packed","16857","01. Herring","16862","02. In oil","","","X",null,"A.06.02","Processed fish and seafood","Processed fish","Salted fish and fish in marinade","Packed","Herring","In oil","","16862",{"$f":"_xlfn.TEXTJOIN(\"; \",TRUE,ZCDT_EXPORT_2[[#This Row],[Sub-Category]:[Segment 5]])","v":"Processed fish; Salted fish and fish in marinade; Packed; Herring; In oil"}]
["AH","Baltic CDT","U2","02. Fresh","U2.02","02. Processed Meat & Fish","A.06.02","11. Processed fish and seafood","16821","02. Processed fish","16839","06. Salted fish and fish in marinade","16855","01. Packed","16857","01. Herring","16863","03. Other","","","X",null,"A.06.02","Processed fish and seafood","Processed fish","Salted fish and fish in marinade","Packed","Herring","Other","","16863",{"$f":"_xlfn.TEXTJOIN(\"; \",TRUE,ZCDT_EXPORT_2[[#This Row],[Sub-Category]:[Segment 5]])","v":"Processed fish; Salted fish and fish in marinade; Packed; Herring; Other"}]
["AH","Baltic CDT","U2","02. Fresh","U2.02","02. Processed Meat & Fish","A.06.02","11. Processed fish and seafood","16821","02. Processed fish","16839","06. Salted fish and fish in marinade","16855","01. Packed","16859","02. Other fish","16877","01. In marinade","","","X",null,"A.06.02","Processed fish and seafood","Processed fish","Salted fish and fish in marinade","Packed","Other fish","In marinade","","16877",{"$f":"_xlfn.TEXTJOIN(\"; \",TRUE,ZCDT_EXPORT_2[[#This Row],[Sub-Category]:[Segment 5]])","v":"Processed fish; Salted fish and fish in marinade; Packed; Other fish; In marinade"}]
["AH","Baltic CDT","U2","02. Fresh","U2.02","02. Processed Meat & Fish","A.06.02","11. Processed fish and seafood","16821","02. Processed fish","16839","06. Salted fish and fish in marinade","16855","01. Packed","16859","02. Other fish","16878","02. In oil","","","X",null,"A.06.02","Processed fish and seafood","Processed fish","Salted fish and fish in marinade","Packed","Other fish","In oil","","16878",{"$f":"_xlfn.TEXTJOIN(\"; \",TRUE,ZCDT_EXPORT_2[[#This Row],[Sub-Category]:[Segment 5]])","v":"Processed fish; Salted fish and fish in marinade; Packed; Other fish; In oil"}]
["AH","Baltic CDT","U2","02. Fresh","U2.02","02. Processed Meat & Fish","A.06.02","11. Processed fish and seafood","16821","02. Processed fish","16839","06. Salted fish and fish in marinade","16855","01. Packed","16859","02. Other fish","16880","03. Salted","16888","01. Sliced","X",null,"A.06.02","Processed fish and seafood","Processed fish","Salted fish and fish in marinade","Packed","Other fish","Salted","Sliced","16888",{"$f":"_xlfn.TEXTJOIN(\"; \",TRUE,ZCDT_EXPORT_2[[#This Row],[Sub-Category]:[Segment 5]])","v":"Processed fish; Salted fish and fish in marinade; Packed; Other fish; Salted; Sliced"}]
["AH","Baltic CDT","U2","02. Fresh","U2.02","02. Processed Meat & Fish","A.06.02","11. Processed fish and seafood","16821","02. Processed fish","16839","06. Salted fish and fish in marinade","16855","01. Packed","16859","02. Other fish","16880","03. Salted","16890","02. Not sliced","X",null,"A.06.02","Processed fish and seafood","Processed fish","Salted fish and fish in marinade","Packed","Other fish","Salted","Not sliced","16890",{"$f":"_xlfn.TEXTJOIN(\"; \",TRUE,ZCDT_EXPORT_2[[#This Row],[Sub-Category]:[Segment 5]])","v":"Processed fish; Salted fish and fish in marinade; Packed; Other fish; Salted; Not sliced"}]
["AH","Baltic CDT","U2","02. Fresh","U2.02","02. Processed Meat & Fish","A.06.02","11. Processed fish and seafood","16821","02. Processed fish","16839","06. Salted fish and fish in marinade","16855","01. Packed","16859","02. Other fish","16881","04. Other","","","X",null,"A.06.02","Processed fish and seafood","Processed fish","Salted fish and fish in marinade","Packed","Other fish","Other","","16881",{"$f":"_xlfn.TEXTJOIN(\"; \",TRUE,ZCDT_EXPORT_2[[#This Row],[Sub-Category]:[Segment 5]])","v":"Processed fish; Salted fish and fish in marinade; Packed; Other fish; Other"}]
["AH","Baltic CDT","U2","02. Fresh","U2.02","02. Processed Meat & Fish","A.06.02","11. Processed fish and seafood","16821","02. Processed fish","16839","06. Salted fish and fish in marinade","16856","02. Unpacked","16895","01. Herring","16898","01. In marinade","","","X",null,"A.06.02","Processed fish and seafood","Processed fish","Salted fish and fish in marinade","Unpacked","Herring","In marinade","","16898",{"$f":"_xlfn.TEXTJOIN(\"; \",TRUE,ZCDT_EXPORT_2[[#This Row],[Sub-Category]:[Segment 5]])","v":"Processed fish; Salted fish and fish in marinade; Unpacked; Herring; In marinade"}]
["AH","Baltic CDT","U2","02. Fresh","U2.02","02. Processed Meat & Fish","A.06.02","11. Processed fish and seafood","16821","02. Processed fish","16839","06. Salted fish and fish in marinade","16856","02. Unpacked","16895","01. Herring","16899","02. In oil","","","X",null,"A.06.02","Processed fish and seafood","Processed fish","Salted fish and fish in marinade","Unpacked","Herring","In oil","","16899",{"$f":"_xlfn.TEXTJOIN(\"; \",TRUE,ZCDT_EXPORT_2[[#This Row],[Sub-Category]:[Segment 5]])","v":"Processed fish; Salted fish and fish in marinade; Unpacked; Herring; In oil"}]
["AH","Baltic CDT","U2","02. Fresh","U2.02","02. Processed Meat & Fish","A.06.02","11. Processed fish and seafood","16821","02. Processed fish","16839","06. Salted fish and fish in marinade","16856","02. Unpacked","16895","01. Herring","16900","03. Other","","","X",null,"A.06.02","Processed fish and seafood","Processed fish","Salted fish and fish in marinade","Unpacked","Herring","Other","","16900",{"$f":"_xlfn.TEXTJOIN(\"; \",TRUE,ZCDT_EXPORT_2[[#This Row],[Sub-Category]:[Segment 5]])","v":"Processed fish; Salted fish and fish in marinade; Unpacked; Herring; Other"}]
["AH","Baltic CDT","U2","02. Fresh","U2.02","02. Processed Meat & Fish","A.06.02","11. Processed fish and seafood","16821","02. Processed fish","16839","06. Salted fish and fish in marinade","16856","02. Unpacked","16896","02. Other fish","16901","01. In marinade","","","X",null,"A.06.02","Processed fish and seafood","Processed fish","Salted fish and fish in marinade","Unpacked","Other fish","In marinade","","16901",{"$f":"_xlfn.TEXTJOIN(\"; \",TRUE,ZCDT_EXPORT_2[[#This Row],[Sub-Category]:[Segment 5]])","v":"Processed fish; Salted fish and fish in marinade; Unpacked; Other fish; In marinade"}]
["AH","Baltic CDT","U2","02. Fresh","U2.02","02. Processed Meat & Fish","A.06.02","11. Processed fish and seafood","16821","02. Processed fish","16839","06. Salted fish and fish in marinade","16856","02. Unpacked","16896","02. Other fish","16902","02. In oil","","","X",null,"A.06.02","Processed fish and seafood","Processed fish","Salted fish and fish in marinade","Unpacked","Other fish","In oil","","16902",{"$f":"_xlfn.TEXTJOIN(\"; \",TRUE,ZCDT_EXPORT_2[[#This Row],[Sub-Category]:[Segment 5]])","v":"Processed fish; Salted fish and fish in marinade; Unpacked; Other fish; In oil"}]
["AH","Baltic CDT","U2","02. Fresh","U2.02","02. Processed Meat & Fish","A.06.02","11. Processed fish and seafood","16821","02. Processed fish","16839","06. Salted fish and fish in marinade","16856","02. Unpacked","16896","02. Other fish","16903","03. Salted","","","X",null,"A.06.02","Processed fish and seafood","Processed fish","Salted fish and fish in marinade","Unpacked","Other fish","Salted","","16903",{"$f":"_xlfn.TEXTJOIN(\"; \",TRUE,ZCDT_EXPORT_2[[#This Row],[Sub-Category]:[Segment 5]])","v":"Processed fish; Salted fish and fish in marinade; Unpacked; Other fish; Salted"}]
["AH","Baltic CDT","U2","02. Fresh","U2.02","02. Processed Meat & Fish","A.06.02","11. Processed fish and seafood","16821","02. Processed fish","16839","06. Salted fish and fish in marinade","16856","02. Unpacked","16896","02. Other fish","16904","04. Other","","","X",null,"A.06.02","Processed fish and seafood","Processed fish","Salted fish and fish in marinade","Unpacked","Other fish","Other","","16904",{"$f":"_xlfn.TEXTJOIN(\"; \",TRUE,ZCDT_EXPORT_2[[#This Row],[Sub-Category]:[Segment 5]])","v":"Processed fish; Salted fish and fish in marinade; Unpacked; Other fish; Other"}]
["AH","Baltic CDT","U2","02. Fresh","U2.02","02. Processed Meat & Fish","A.06.02","11. Processed fish and seafood","16823","03. Processed sea products","16824","01. Processed seafood","","","","","","","","","X",null,"A.06.02","Processed fish and seafood","Processed sea products","Processed seafood","","","","","16824",{"$f":"_xlfn.TEXTJOIN(\"; \",TRUE,ZCDT_EXPORT_2[[#This Row],[Sub-Category]:[Segment 5]])","v":"Processed sea products; Processed seafood"}]
["AH","Baltic CDT","U2","02. Fresh","U2.02","02. Processed Meat & Fish","A.06.02","11. Processed fish and seafood","16823","03. Processed sea products","16825","02. Roe","16827","01. Packed","","","","","","","X",null,"A.06.02","Processed fish and seafood","Processed sea products","Roe","Packed","","","","16827",{"$f":"_xlfn.TEXTJOIN(\"; \",TRUE,ZCDT_EXPORT_2[[#This Row],[Sub-Category]:[Segment 5]])","v":"Processed sea products; Roe; Packed"}]
["AH","Baltic CDT","U2","02. Fresh","U2.02","02. Processed Meat & Fish","A.06.02","11. Processed fish and seafood","16823","03. Processed sea products","16825","02. Roe","16828","02. Unpacked","","","","","","","X",null,"A.06.02","Processed fish and seafood","Processed sea products","Roe","Unpacked","","","","16828",{"$f":"_xlfn.TEXTJOIN(\"; \",TRUE,ZCDT_EXPORT_2[[#This Row],[Sub-Category]:[Segment 5]])","v":"Processed sea products; Roe; Unpacked"}]
["AH","Baltic CDT","U2","02. Fresh","U2.02","02. Processed Meat & Fish","A.06.02","11. Processed fish and seafood","16823","03. Processed sea products","16826","03. Sea cabbage","16829","01. Pakced","","","","","","","X",null,"A.06.02","Processed fish and seafood","Processed sea products","Sea cabbage","Pakced","","","","16829",{"$f":"_xlfn.TEXTJOIN(\"; \",TRUE,ZCDT_EXPORT_2[[#This Row],[Sub-Category]:[Segment 5]])","v":"Processed sea products; Sea cabbage; Pakced"}]
["AH","Baltic CDT","U2","02. Fresh","U2.02","02. Processed Meat & Fish","A.06.02","11. Processed fish and seafood","16823","03. Processed sea products","16826","03. Sea cabbage","16830","02. Unpacked","","","","","","","X",null,"A.06.02","Processed fish and seafood","Processed sea products","Sea cabbage","Unpacked","","","","16830",{"$f":"_xlfn.TEXTJOIN(\"; \",TRUE,ZCDT_EXPORT_2[[#This Row],[Sub-Category]:[Segment 5]])","v":"Processed sea products; Sea cabbage; Unpacked"}]
["AH","Baltic CDT","U2","02. Fresh","U2.02","02. Processed Meat & Fish","A.12.01","23. Processed meat","17742","01. Meat meals","17748","01. Frankfurters","17753","01. Boiled","17758","01. Packaged","","","","","X",null,"A.12.01","Processed meat","Meat meals","Frankfurters","Boiled","Packaged","","","17758",{"$f":"_xlfn.TEXTJOIN(\"; \",TRUE,ZCDT_EXPORT_2[[#This Row],[Sub-Category]:[Segment 5]])","v":"Meat meals; Frankfurters; Boiled; Packaged"}]
["AH","Baltic CDT","U2","02. Fresh","U2.02","02. Processed Meat & Fish","A.12.01","23. Processed meat","17742","01. Meat meals","17748","01. Frankfurters","17753","01. Boiled","17759","02. Service counter","","","","","X",null,"A.12.01","Processed meat","Meat meals","Frankfurters","Boiled","Service counter","","","17759",{"$f":"_xlfn.TEXTJOIN(\"; \",TRUE,ZCDT_EXPORT_2[[#This Row],[Sub-Category]:[Segment 5]])","v":"Meat meals; Frankfurters; Boiled; Service counter"}]
["AH","Baltic CDT","U2","02. Fresh","U2.02","02. Processed Meat & Fish","A.12.01","23. Processed meat","17742","01. Meat meals","17748","01. Frankfurters","17754","02. Sardels","17760","01. Packaged","","","","","X",null,"A.12.01","Processed meat","Meat meals","Frankfurters","Sardels","Packaged","","","17760",{"$f":"_xlfn.TEXTJOIN(\"; \",TRUE,ZCDT_EXPORT_2[[#This Row],[Sub-Category]:[Segment 5]])","v":"Meat meals; Frankfurters; Sardels; Packaged"}]
["AH","Baltic CDT","U2","02. Fresh","U2.02","02. Processed Meat & Fish","A.12.01","23. Processed meat","17742","01. Meat meals","17748","01. Frankfurters","17754","02. Sardels","17761","02. Service counter","","","","","X",null,"A.12.01","Processed meat","Meat meals","Frankfurters","Sardels","Service counter","","","17761",{"$f":"_xlfn.TEXTJOIN(\"; \",TRUE,ZCDT_EXPORT_2[[#This Row],[Sub-Category]:[Segment 5]])","v":"Meat meals; Frankfurters; Sardels; Service counter"}]
["AH","Baltic CDT","U2","02. Fresh","U2.02","02. Processed Meat & Fish","A.12.01","23. Processed meat","17742","01. Meat meals","17748","01. Frankfurters","17755","03. Semi smoked","17762","01. Packaged","","","","","X",null,"A.12.01","Processed meat","Meat meals","Frankfurters","Semi smoked","Packaged","","","17762",{"$f":"_xlfn.TEXTJOIN(\"; \",TRUE,ZCDT_EXPORT_2[[#This Row],[Sub-Category]:[Segment 5]])","v":"Meat meals; Frankfurters; Semi smoked; Packaged"}]
["AH","Baltic CDT","U2","02. Fresh","U2.02","02. Processed Meat & Fish","A.12.01","23. Processed meat","17742","01. Meat meals","17748","01. Frankfurters","17755","03. Semi smoked","17763","02. Service counter","","","","","X",null,"A.12.01","Processed meat","Meat meals","Frankfurters","Semi smoked","Service counter","","","17763",{"$f":"_xlfn.TEXTJOIN(\"; \",TRUE,ZCDT_EXPORT_2[[#This Row],[Sub-Category]:[Segment 5]])","v":"Meat meals; Frankfurters; Semi smoked; Service counter"}]
["AH","Baltic CDT","U2","02. Fresh","U2.02","02. Processed Meat & Fish","A.12.01","23. Processed meat","17742","01. Meat meals","17748","01. Frankfurters","17756","04. White sausages","17764","01. Packaged","","","","","X",null,"A.12.01","Processed meat","Meat meals","Frankfurters","White sausages","Packaged","","","17764",{"$f":"_xlfn.TEXTJOIN(\"; \",TRUE,ZCDT_EXPORT_2[[#This Row],[Sub-Category]:[Segment 5]])","v":"Meat meals; Frankfurters; White sausages; Packaged"}]
["AH","Baltic CDT","U2","02. Fresh","U2.02","02. Processed Meat & Fish","A.12.01","23. Processed meat","17742","01. Meat meals","17748","01. Frankfurters","17756","04. White sausages","17765","02. Service counter","","","","","X",null,"A.12.01","Processed meat","Meat meals","Frankfurters","White sausages","Service counter","","","17765",{"$f":"_xlfn.TEXTJOIN(\"; \",TRUE,ZCDT_EXPORT_2[[#This Row],[Sub-Category]:[Segment 5]])","v":"Meat meals; Frankfurters; White sausages; Service counter"}]
["AH","Baltic CDT","U2","02. Fresh","U2.02","02. Processed Meat & Fish","A.12.01","23. Processed meat","17742","01. Meat meals","17748","01. Frankfurters","17757","05. Blood sausages","17766","01. Packaged","","","","","X",null,"A.12.01","Processed meat","Meat meals","Frankfurters","Blood sausages","Packaged","","","17766",{"$f":"_xlfn.TEXTJOIN(\"; \",TRUE,ZCDT_EXPORT_2[[#This Row],[Sub-Category]:[Segment 5]])","v":"Meat meals; Frankfurters; Blood sausages; Packaged"}]
["AH","Baltic CDT","U2","02. Fresh","U2.02","02. Processed Meat & Fish","A.12.01","23. Processed meat","17742","01. Meat meals","17748","01. Frankfurters","17757","05. Blood sausages","17767","02. Service counter","","","","","X",null,"A.12.01","Processed meat","Meat meals","Frankfurters","Blood sausages","Service counter","","","17767",{"$f":"_xlfn.TEXTJOIN(\"; \",TRUE,ZCDT_EXPORT_2[[#This Row],[Sub-Category]:[Segment 5]])","v":"Meat meals; Frankfurters; Blood sausages; Service counter"}]
["AH","Baltic CDT","U2","02. Fresh","U2.02","02. Processed Meat & Fish","A.12.01","23. Processed meat","17742","01. Meat meals","17749","02. Jellied meat","17768","01. Packaged","","","","","","","X",null,"A.12.01","Processed meat","Meat meals","Jellied meat","Packaged","","","","17768",{"$f":"_xlfn.TEXTJOIN(\"; \",TRUE,ZCDT_EXPORT_2[[#This Row],[Sub-Category]:[Segment 5]])","v":"Meat meals; Jellied meat; Packaged"}]
["AH","Baltic CDT","U2","02. Fresh","U2.02","02. Processed Meat & Fish","A.12.01","23. Processed meat","17742","01. Meat meals","17749","02. Jellied meat","17769","02. Service counter","","","","","","","X",null,"A.12.01","Processed meat","Meat meals","Jellied meat","Service counter","","","","17769",{"$f":"_xlfn.TEXTJOIN(\"; \",TRUE,ZCDT_EXPORT_2[[#This Row],[Sub-Category]:[Segment 5]])","v":"Meat meals; Jellied meat; Service counter"}]
["AH","Baltic CDT","U2","02. Fresh","U2.02","02. Processed Meat & Fish","A.12.01","23. Processed meat","17742","01. Meat meals","17750","03. Meat balls, nuggets, etc.","17770","01. Pork","","","","","","","X",null,"A.12.01","Processed meat","Meat meals","Meat balls, nuggets, etc.","Pork","","","","17770",{"$f":"_xlfn.TEXTJOIN(\"; \",TRUE,ZCDT_EXPORT_2[[#This Row],[Sub-Category]:[Segment 5]])","v":"Meat meals; Meat balls, nuggets, etc.; Pork"}]
["AH","Baltic CDT","U2","02. Fresh","U2.02","02. Processed Meat & Fish","A.12.01","23. Processed meat","17742","01. Meat meals","17750","03. Meat balls, nuggets, etc.","17771","02. Poultry","","","","","","","X",null,"A.12.01","Processed meat","Meat meals","Meat balls, nuggets, etc.","Poultry","","","","17771",{"$f":"_xlfn.TEXTJOIN(\"; \",TRUE,ZCDT_EXPORT_2[[#This Row],[Sub-Category]:[Segment 5]])","v":"Meat meals; Meat balls, nuggets, etc.; Poultry"}]
["AH","Baltic CDT","U2","02. Fresh","U2.02","02. Processed Meat & Fish","A.12.01","23. Processed meat","17742","01. Meat meals","17750","03. Meat balls, nuggets, etc.","17772","03. Mixed","","","","","","","X",null,"A.12.01","Processed meat","Meat meals","Meat balls, nuggets, etc.","Mixed","","","","17772",{"$f":"_xlfn.TEXTJOIN(\"; \",TRUE,ZCDT_EXPORT_2[[#This Row],[Sub-Category]:[Segment 5]])","v":"Meat meals; Meat balls, nuggets, etc.; Mixed"}]
["AH","Baltic CDT","U2","02. Fresh","U2.02","02. Processed Meat & Fish","A.12.01","23. Processed meat","17742","01. Meat meals","17751","04. Slow cooked products","","","","","","","","","X",null,"A.12.01","Processed meat","Meat meals","Slow cooked products","","","","","17751",{"$f":"_xlfn.TEXTJOIN(\"; \",TRUE,ZCDT_EXPORT_2[[#This Row],[Sub-Category]:[Segment 5]])","v":"Meat meals; Slow cooked products"}]
["AH","Baltic CDT","U2","02. Fresh","U2.02","02. Processed Meat & Fish","A.12.01","23. Processed meat","17743","02. Pates","17773","01. Liversausages","","","","","","","","","X",null,"A.12.01","Processed meat","Pates","Liversausages","","","","","17773",{"$f":"_xlfn.TEXTJOIN(\"; \",TRUE,ZCDT_EXPORT_2[[#This Row],[Sub-Category]:[Segment 5]])","v":"Pates; Liversausages"}]
["AH","Baltic CDT","U2","02. Fresh","U2.02","02. Processed Meat & Fish","A.12.01","23. Processed meat","17743","02. Pates","17774","02. Pate","","","","","","","","","X",null,"A.12.01","Processed meat","Pates","Pate","","","","","17774",{"$f":"_xlfn.TEXTJOIN(\"; \",TRUE,ZCDT_EXPORT_2[[#This Row],[Sub-Category]:[Segment 5]])","v":"Pates; Pate"}]
["AH","Baltic CDT","U2","02. Fresh","U2.02","02. Processed Meat & Fish","A.12.01","23. Processed meat","17743","02. Pates","17775","03. Spreadable meat products","","","","","","","","","X",null,"A.12.01","Processed meat","Pates","Spreadable meat products","","","","","17775",{"$f":"_xlfn.TEXTJOIN(\"; \",TRUE,ZCDT_EXPORT_2[[#This Row],[Sub-Category]:[Segment 5]])","v":"Pates; Spreadable meat products"}]
["AH","Baltic CDT","U2","02. Fresh","U2.02","02. Processed Meat & Fish","A.12.01","23. Processed meat","17744","03. Processed meat","17776","01. Cold smoked meat","17780","01. Packaged","17788","01. Not sliced","","","","","X",null,"A.12.01","Processed meat","Processed meat","Cold smoked meat","Packaged","Not sliced","","","17788",{"$f":"_xlfn.TEXTJOIN(\"; \",TRUE,ZCDT_EXPORT_2[[#This Row],[Sub-Category]:[Segment 5]])","v":"Processed meat; Cold smoked meat; Packaged; Not sliced"}]
["AH","Baltic CDT","U2","02. Fresh","U2.02","02. Processed Meat & Fish","A.12.01","23. Processed meat","17744","03. Processed meat","17776","01. Cold smoked meat","17780","01. Packaged","17789","02. Sliced","","","","","X",null,"A.12.01","Processed meat","Processed meat","Cold smoked meat","Packaged","Sliced","","","17789",{"$f":"_xlfn.TEXTJOIN(\"; \",TRUE,ZCDT_EXPORT_2[[#This Row],[Sub-Category]:[Segment 5]])","v":"Processed meat; Cold smoked meat; Packaged; Sliced"}]
["AH","Baltic CDT","U2","02. Fresh","U2.02","02. Processed Meat & Fish","A.12.01","23. Processed meat","17744","03. Processed meat","17776","01. Cold smoked meat","17781","02. Service counter","","","","","","","X",null,"A.12.01","Processed meat","Processed meat","Cold smoked meat","Service counter","","","","17781",{"$f":"_xlfn.TEXTJOIN(\"; \",TRUE,ZCDT_EXPORT_2[[#This Row],[Sub-Category]:[Segment 5]])","v":"Processed meat; Cold smoked meat; Service counter"}]
["AH","Baltic CDT","U2","02. Fresh","U2.02","02. Processed Meat & Fish","A.12.01","23. Processed meat","17744","03. Processed meat","17777","02. Hot smoked meat","17782","01. Packaged","17790","01. Not sliced","","","","","X",null,"A.12.01","Processed meat","Processed meat","Hot smoked meat","Packaged","Not sliced","","","17790",{"$f":"_xlfn.TEXTJOIN(\"; \",TRUE,ZCDT_EXPORT_2[[#This Row],[Sub-Category]:[Segment 5]])","v":"Processed meat; Hot smoked meat; Packaged; Not sliced"}]
["AH","Baltic CDT","U2","02. Fresh","U2.02","02. Processed Meat & Fish","A.12.01","23. Processed meat","17744","03. Processed meat","17777","02. Hot smoked meat","17782","01. Packaged","17791","02. Sliced","","","","","X",null,"A.12.01","Processed meat","Processed meat","Hot smoked meat","Packaged","Sliced","","","17791",{"$f":"_xlfn.TEXTJOIN(\"; \",TRUE,ZCDT_EXPORT_2[[#This Row],[Sub-Category]:[Segment 5]])","v":"Processed meat; Hot smoked meat; Packaged; Sliced"}]
["AH","Baltic CDT","U2","02. Fresh","U2.02","02. Processed Meat & Fish","A.12.01","23. Processed meat","17744","03. Processed meat","17777","02. Hot smoked meat","17783","02. Service counter","","","","","","","X",null,"A.12.01","Processed meat","Processed meat","Hot smoked meat","Service counter","","","","17783",{"$f":"_xlfn.TEXTJOIN(\"; \",TRUE,ZCDT_EXPORT_2[[#This Row],[Sub-Category]:[Segment 5]])","v":"Processed meat; Hot smoked meat; Service counter"}]
["AH","Baltic CDT","U2","02. Fresh","U2.02","02. Processed Meat & Fish","A.12.01","23. Processed meat","17744","03. Processed meat","17778","03. Boiled and baked","17784","01. Packaged","17792","01. Not sliced","","","","","X",null,"A.12.01","Processed meat","Processed meat","Boiled and baked","Packaged","Not sliced","","","17792",{"$f":"_xlfn.TEXTJOIN(\"; \",TRUE,ZCDT_EXPORT_2[[#This Row],[Sub-Category]:[Segment 5]])","v":"Processed meat; Boiled and baked; Packaged; Not sliced"}]
["AH","Baltic CDT","U2","02. Fresh","U2.02","02. Processed Meat & Fish","A.12.01","23. Processed meat","17744","03. Processed meat","17778","03. Boiled and baked","17784","01. Packaged","17793","02. Sliced","","","","","X",null,"A.12.01","Processed meat","Processed meat","Boiled and baked","Packaged","Sliced","","","17793",{"$f":"_xlfn.TEXTJOIN(\"; \",TRUE,ZCDT_EXPORT_2[[#This Row],[Sub-Category]:[Segment 5]])","v":"Processed meat; Boiled and baked; Packaged; Sliced"}]
["AH","Baltic CDT","U2","02. Fresh","U2.02","02. Processed Meat & Fish","A.12.01","23. Processed meat","17744","03. Processed meat","17778","03. Boiled and baked","17785","02. Service counter","","","","","","","X",null,"A.12.01","Processed meat","Processed meat","Boiled and baked","Service counter","","","","17785",{"$f":"_xlfn.TEXTJOIN(\"; \",TRUE,ZCDT_EXPORT_2[[#This Row],[Sub-Category]:[Segment 5]])","v":"Processed meat; Boiled and baked; Service counter"}]
["AH","Baltic CDT","U2","02. Fresh","U2.02","02. Processed Meat & Fish","A.12.01","23. Processed meat","17744","03. Processed meat","17779","04. Dried","17786","01. Packaged","17794","01. Not sliced","","","","","X",null,"A.12.01","Processed meat","Processed meat","Dried","Packaged","Not sliced","","","17794",{"$f":"_xlfn.TEXTJOIN(\"; \",TRUE,ZCDT_EXPORT_2[[#This Row],[Sub-Category]:[Segment 5]])","v":"Processed meat; Dried; Packaged; Not sliced"}]
["AH","Baltic CDT","U2","02. Fresh","U2.02","02. Processed Meat & Fish","A.12.01","23. Processed meat","17744","03. Processed meat","17779","04. Dried","17786","01. Packaged","17795","02. Sliced","","","","","X",null,"A.12.01","Processed meat","Processed meat","Dried","Packaged","Sliced","","","17795",{"$f":"_xlfn.TEXTJOIN(\"; \",TRUE,ZCDT_EXPORT_2[[#This Row],[Sub-Category]:[Segment 5]])","v":"Processed meat; Dried; Packaged; Sliced"}]
["AH","Baltic CDT","U2","02. Fresh","U2.02","02. Processed Meat & Fish","A.12.01","23. Processed meat","17744","03. Processed meat","17779","04. Dried","17787","02. Service counter","","","","","","","X",null,"A.12.01","Processed meat","Processed meat","Dried","Service counter","","","","17787",{"$f":"_xlfn.TEXTJOIN(\"; \",TRUE,ZCDT_EXPORT_2[[#This Row],[Sub-Category]:[Segment 5]])","v":"Processed meat; Dried; Service counter"}]
["AH","Baltic CDT","U2","02. Fresh","U2.02","02. Processed Meat & Fish","A.12.01","23. Processed meat","17745","04. Sausages","17796","01. Boiled sausages","17800","01. Packaged","17808","01. Not sliced","","","","","X",null,"A.12.01","Processed meat","Sausages","Boiled sausages","Packaged","Not sliced","","","17808",{"$f":"_xlfn.TEXTJOIN(\"; \",TRUE,ZCDT_EXPORT_2[[#This Row],[Sub-Category]:[Segment 5]])","v":"Sausages; Boiled sausages; Packaged; Not sliced"}]
["AH","Baltic CDT","U2","02. Fresh","U2.02","02. Processed Meat & Fish","A.12.01","23. Processed meat","17745","04. Sausages","17796","01. Boiled sausages","17800","01. Packaged","17809","02. Sliced","","","","","X",null,"A.12.01","Processed meat","Sausages","Boiled sausages","Packaged","Sliced","","","17809",{"$f":"_xlfn.TEXTJOIN(\"; \",TRUE,ZCDT_EXPORT_2[[#This Row],[Sub-Category]:[Segment 5]])","v":"Sausages; Boiled sausages; Packaged; Sliced"}]
["AH","Baltic CDT","U2","02. Fresh","U2.02","02. Processed Meat & Fish","A.12.01","23. Processed meat","17745","04. Sausages","17796","01. Boiled sausages","17801","02. Service counter","","","","","","","X",null,"A.12.01","Processed meat","Sausages","Boiled sausages","Service counter","","","","17801",{"$f":"_xlfn.TEXTJOIN(\"; \",TRUE,ZCDT_EXPORT_2[[#This Row],[Sub-Category]:[Segment 5]])","v":"Sausages; Boiled sausages; Service counter"}]
["AH","Baltic CDT","U2","02. Fresh","U2.02","02. Processed Meat & Fish","A.12.01","23. Processed meat","17745","04. Sausages","17797","02. Cold smoked sausages","17802","01. Packaged","17810","01. Not sliced","","","","","X",null,"A.12.01","Processed meat","Sausages","Cold smoked sausages","Packaged","Not sliced","","","17810",{"$f":"_xlfn.TEXTJOIN(\"; \",TRUE,ZCDT_EXPORT_2[[#This Row],[Sub-Category]:[Segment 5]])","v":"Sausages; Cold smoked sausages; Packaged; Not sliced"}]
["AH","Baltic CDT","U2","02. Fresh","U2.02","02. Processed Meat & Fish","A.12.01","23. Processed meat","17745","04. Sausages","17797","02. Cold smoked sausages","17802","01. Packaged","17811","02. Sliced","","","","","X",null,"A.12.01","Processed meat","Sausages","Cold smoked sausages","Packaged","Sliced","","","17811",{"$f":"_xlfn.TEXTJOIN(\"; \",TRUE,ZCDT_EXPORT_2[[#This Row],[Sub-Category]:[Segment 5]])","v":"Sausages; Cold smoked sausages; Packaged; Sliced"}]
["AH","Baltic CDT","U2","02. Fresh","U2.02","02. Processed Meat & Fish","A.12.01","23. Processed meat","17745","04. Sausages","17797","02. Cold smoked sausages","17803","02. Service counter","","","","","","","X",null,"A.12.01","Processed meat","Sausages","Cold smoked sausages","Service counter","","","","17803",{"$f":"_xlfn.TEXTJOIN(\"; \",TRUE,ZCDT_EXPORT_2[[#This Row],[Sub-Category]:[Segment 5]])","v":"Sausages; Cold smoked sausages; Service counter"}]
["AH","Baltic CDT","U2","02. Fresh","U2.02","02. Processed Meat & Fish","A.12.01","23. Processed meat","17745","04. Sausages","17798","03. Hot smoked sausages","17804","01. Packaged","17812","01. Not sliced","","","","","X",null,"A.12.01","Processed meat","Sausages","Hot smoked sausages","Packaged","Not sliced","","","17812",{"$f":"_xlfn.TEXTJOIN(\"; \",TRUE,ZCDT_EXPORT_2[[#This Row],[Sub-Category]:[Segment 5]])","v":"Sausages; Hot smoked sausages; Packaged; Not sliced"}]
["AH","Baltic CDT","U2","02. Fresh","U2.02","02. Processed Meat & Fish","A.12.01","23. Processed meat","17745","04. Sausages","17798","03. Hot smoked sausages","17804","01. Packaged","17813","02. Sliced","","","","","X",null,"A.12.01","Processed meat","Sausages","Hot smoked sausages","Packaged","Sliced","","","17813",{"$f":"_xlfn.TEXTJOIN(\"; \",TRUE,ZCDT_EXPORT_2[[#This Row],[Sub-Category]:[Segment 5]])","v":"Sausages; Hot smoked sausages; Packaged; Sliced"}]
["AH","Baltic CDT","U2","02. Fresh","U2.02","02. Processed Meat & Fish","A.12.01","23. Processed meat","17745","04. Sausages","17798","03. Hot smoked sausages","17805","02. Service counter","","","","","","","X",null,"A.12.01","Processed meat","Sausages","Hot smoked sausages","Service counter","","","","17805",{"$f":"_xlfn.TEXTJOIN(\"; \",TRUE,ZCDT_EXPORT_2[[#This Row],[Sub-Category]:[Segment 5]])","v":"Sausages; Hot smoked sausages; Service counter"}]
["AH","Baltic CDT","U2","02. Fresh","U2.02","02. Processed Meat & Fish","A.12.01","23. Processed meat","17745","04. Sausages","17799","04. Dried sausages","17806","01. Packaged","17814","01. Not sliced","","","","","X",null,"A.12.01","Processed meat","Sausages","Dried sausages","Packaged","Not sliced","","","17814",{"$f":"_xlfn.TEXTJOIN(\"; \",TRUE,ZCDT_EXPORT_2[[#This Row],[Sub-Category]:[Segment 5]])","v":"Sausages; Dried sausages; Packaged; Not sliced"}]
["AH","Baltic CDT","U2","02. Fresh","U2.02","02. Processed Meat & Fish","A.12.01","23. Processed meat","17745","04. Sausages","17799","04. Dried sausages","17806","01. Packaged","17815","02. Sliced","","","","","X",null,"A.12.01","Processed meat","Sausages","Dried sausages","Packaged","Sliced","","","17815",{"$f":"_xlfn.TEXTJOIN(\"; \",TRUE,ZCDT_EXPORT_2[[#This Row],[Sub-Category]:[Segment 5]])","v":"Sausages; Dried sausages; Packaged; Sliced"}]
["AH","Baltic CDT","U2","02. Fresh","U2.02","02. Processed Meat & Fish","A.12.01","23. Processed meat","17745","04. Sausages","17799","04. Dried sausages","17807","02. Service counter","","","","","","","X",null,"A.12.01","Processed meat","Sausages","Dried sausages","Service counter","","","","17807",{"$f":"_xlfn.TEXTJOIN(\"; \",TRUE,ZCDT_EXPORT_2[[#This Row],[Sub-Category]:[Segment 5]])","v":"Sausages; Dried sausages; Service counter"}]
["AH","Baltic CDT","U2","02. Fresh","U2.02","02. Processed Meat & Fish","A.12.01","23. Processed meat","17746","05. Snack","17816","01. Sausages","","","","","","","","","X",null,"A.12.01","Processed meat","Snack","Sausages","","","","","17816",{"$f":"_xlfn.TEXTJOIN(\"; \",TRUE,ZCDT_EXPORT_2[[#This Row],[Sub-Category]:[Segment 5]])","v":"Snack; Sausages"}]
["AH","Baltic CDT","U2","02. Fresh","U2.02","02. Processed Meat & Fish","A.12.01","23. Processed meat","17746","05. Snack","17817","02. Meat","","","","","","","","","X",null,"A.12.01","Processed meat","Snack","Meat","","","","","17817",{"$f":"_xlfn.TEXTJOIN(\"; \",TRUE,ZCDT_EXPORT_2[[#This Row],[Sub-Category]:[Segment 5]])","v":"Snack; Meat"}]
["AH","Baltic CDT","U3","03. Dry & Frozen","U3.01","01. Alcohol & Wine","C.01.01","01. Bitter drinks, liquors","16794","01. Liquers","16799","01. Creamy","","","","","","","","","X",null,"C.01.01","Bitter drinks, liquors","Liquers","Creamy","","","","","16799",{"$f":"_xlfn.TEXTJOIN(\"; \",TRUE,ZCDT_EXPORT_2[[#This Row],[Sub-Category]:[Segment 5]])","v":"Liquers; Creamy"}]
["AH","Baltic CDT","U3","03. Dry & Frozen","U3.01","01. Alcohol & Wine","C.01.01","01. Bitter drinks, liquors","16794","01. Liquers","16800","02. Non Creamy","","","","","","","","","X",null,"C.01.01","Bitter drinks, liquors","Liquers","Non Creamy","","","","","16800",{"$f":"_xlfn.TEXTJOIN(\"; \",TRUE,ZCDT_EXPORT_2[[#This Row],[Sub-Category]:[Segment 5]])","v":"Liquers; Non Creamy"}]
["AH","Baltic CDT","U3","03. Dry & Frozen","U3.01","01. Alcohol & Wine","C.01.01","01. Bitter drinks, liquors","16795","02. Bitters","16801","01. Honey","","","","","","","","","X",null,"C.01.01","Bitter drinks, liquors","Bitters","Honey","","","","","16801",{"$f":"_xlfn.TEXTJOIN(\"; \",TRUE,ZCDT_EXPORT_2[[#This Row],[Sub-Category]:[Segment 5]])","v":"Bitters; Honey"}]
["AH","Baltic CDT","U3","03. Dry & Frozen","U3.01","01. Alcohol & Wine","C.01.01","01. Bitter drinks, liquors","16795","02. Bitters","16802","02. Herbs","","","","","","","","","X",null,"C.01.01","Bitter drinks, liquors","Bitters","Herbs","","","","","16802",{"$f":"_xlfn.TEXTJOIN(\"; \",TRUE,ZCDT_EXPORT_2[[#This Row],[Sub-Category]:[Segment 5]])","v":"Bitters; Herbs"}]
["AH","Baltic CDT","U3","03. Dry & Frozen","U3.01","01. Alcohol & Wine","C.01.01","01. Bitter drinks, liquors","16795","02. Bitters","16803","03. Other Base","","","","","","","","","X",null,"C.01.01","Bitter drinks, liquors","Bitters","Other Base","","","","","16803",{"$f":"_xlfn.TEXTJOIN(\"; \",TRUE,ZCDT_EXPORT_2[[#This Row],[Sub-Category]:[Segment 5]])","v":"Bitters; Other Base"}]
["AH","Baltic CDT","U3","03. Dry & Frozen","U3.01","01. Alcohol & Wine","C.01.01","01. Bitter drinks, liquors","16796","03. Nastoyka & Nalivka","16804","01. Fruit Base","","","","","","","","","X",null,"C.01.01","Bitter drinks, liquors","Nastoyka & Nalivka","Fruit Base","","","","","16804",{"$f":"_xlfn.TEXTJOIN(\"; \",TRUE,ZCDT_EXPORT_2[[#This Row],[Sub-Category]:[Segment 5]])","v":"Nastoyka & Nalivka; Fruit Base"}]
["AH","Baltic CDT","U3","03. Dry & Frozen","U3.01","01. Alcohol & Wine","C.01.01","01. Bitter drinks, liquors","16796","03. Nastoyka & Nalivka","16805","02. Herb Based","","","","","","","","","X",null,"C.01.01","Bitter drinks, liquors","Nastoyka & Nalivka","Herb Based","","","","","16805",{"$f":"_xlfn.TEXTJOIN(\"; \",TRUE,ZCDT_EXPORT_2[[#This Row],[Sub-Category]:[Segment 5]])","v":"Nastoyka & Nalivka; Herb Based"}]
["AH","Baltic CDT","U3","03. Dry & Frozen","U3.01","01. Alcohol & Wine","C.01.02","02. Rum, whiskey, cognac, brandy","17925","01. Cognac","17929","01. VS","","","","","","","","","X",null,"C.01.02","Rum, whiskey, cognac, brandy","Cognac","VS","","","","","17929",{"$f":"_xlfn.TEXTJOIN(\"; \",TRUE,ZCDT_EXPORT_2[[#This Row],[Sub-Category]:[Segment 5]])","v":"Cognac; VS"}]
["AH","Baltic CDT","U3","03. Dry & Frozen","U3.01","01. Alcohol & Wine","C.01.02","02. Rum, whiskey, cognac, brandy","17925","01. Cognac","17930","02. VSOP","","","","","","","","","X",null,"C.01.02","Rum, whiskey, cognac, brandy","Cognac","VSOP","","","","","17930",{"$f":"_xlfn.TEXTJOIN(\"; \",TRUE,ZCDT_EXPORT_2[[#This Row],[Sub-Category]:[Segment 5]])","v":"Cognac; VSOP"}]
["AH","Baltic CDT","U3","03. Dry & Frozen","U3.01","01. Alcohol & Wine","C.01.02","02. Rum, whiskey, cognac, brandy","17925","01. Cognac","17931","03. XO","","","","","","","","","X",null,"C.01.02","Rum, whiskey, cognac, brandy","Cognac","XO","","","","","17931",{"$f":"_xlfn.TEXTJOIN(\"; \",TRUE,ZCDT_EXPORT_2[[#This Row],[Sub-Category]:[Segment 5]])","v":"Cognac; XO"}]
["AH","Baltic CDT","U3","03. Dry & Frozen","U3.01","01. Alcohol & Wine","C.01.02","02. Rum, whiskey, cognac, brandy","17925","01. Cognac","17932","04. Others","","","","","","","","","X",null,"C.01.02","Rum, whiskey, cognac, brandy","Cognac","Others","","","","","17932",{"$f":"_xlfn.TEXTJOIN(\"; \",TRUE,ZCDT_EXPORT_2[[#This Row],[Sub-Category]:[Segment 5]])","v":"Cognac; Others"}]
["AH","Baltic CDT","U3","03. Dry & Frozen","U3.01","01. Alcohol & Wine","C.01.02","02. Rum, whiskey, cognac, brandy","17926","02. Brandy","17933","01. Brandy & Armagnac","","","","","","","","","X",null,"C.01.02","Rum, whiskey, cognac, brandy","Brandy","Brandy & Armagnac","","","","","17933",{"$f":"_xlfn.TEXTJOIN(\"; \",TRUE,ZCDT_EXPORT_2[[#This Row],[Sub-Category]:[Segment 5]])","v":"Brandy; Brandy & Armagnac"}]
["AH","Baltic CDT","U3","03. Dry & Frozen","U3.01","01. Alcohol & Wine","C.01.02","02. Rum, whiskey, cognac, brandy","17926","02. Brandy","17934","02. Calvados","","","","","","","","","X",null,"C.01.02","Rum, whiskey, cognac, brandy","Brandy","Calvados","","","","","17934",{"$f":"_xlfn.TEXTJOIN(\"; \",TRUE,ZCDT_EXPORT_2[[#This Row],[Sub-Category]:[Segment 5]])","v":"Brandy; Calvados"}]
["AH","Baltic CDT","U3","03. Dry & Frozen","U3.01","01. Alcohol & Wine","C.01.02","02. Rum, whiskey, cognac, brandy","17926","02. Brandy","17935","03. Spirit Drink","","","","","","","","","X",null,"C.01.02","Rum, whiskey, cognac, brandy","Brandy","Spirit Drink","","","","","17935",{"$f":"_xlfn.TEXTJOIN(\"; \",TRUE,ZCDT_EXPORT_2[[#This Row],[Sub-Category]:[Segment 5]])","v":"Brandy; Spirit Drink"}]
["AH","Baltic CDT","U3","03. Dry & Frozen","U3.01","01. Alcohol & Wine","C.01.02","02. Rum, whiskey, cognac, brandy","17927","03. Rum","17936","01. White Rum","","","","","","","","","X",null,"C.01.02","Rum, whiskey, cognac, brandy","Rum","White Rum","","","","","17936",{"$f":"_xlfn.TEXTJOIN(\"; \",TRUE,ZCDT_EXPORT_2[[#This Row],[Sub-Category]:[Segment 5]])","v":"Rum; White Rum"}]
["AH","Baltic CDT","U3","03. Dry & Frozen","U3.01","01. Alcohol & Wine","C.01.02","02. Rum, whiskey, cognac, brandy","17927","03. Rum","17937","02. Gold, Spiced Rum and Spirit drinks","","","","","","","","","X",null,"C.01.02","Rum, whiskey, cognac, brandy","Rum","Gold, Spiced Rum and Spirit drinks","","","","","17937",{"$f":"_xlfn.TEXTJOIN(\"; \",TRUE,ZCDT_EXPORT_2[[#This Row],[Sub-Category]:[Segment 5]])","v":"Rum; Gold, Spiced Rum and Spirit drinks"}]
["AH","Baltic CDT","U3","03. Dry & Frozen","U3.01","01. Alcohol & Wine","C.01.02","02. Rum, whiskey, cognac, brandy","17927","03. Rum","17938","03. Dark Rum","","","","","","","","","X",null,"C.01.02","Rum, whiskey, cognac, brandy","Rum","Dark Rum","","","","","17938",{"$f":"_xlfn.TEXTJOIN(\"; \",TRUE,ZCDT_EXPORT_2[[#This Row],[Sub-Category]:[Segment 5]])","v":"Rum; Dark Rum"}]
["AH","Baltic CDT","U3","03. Dry & Frozen","U3.01","01. Alcohol & Wine","C.01.02","02. Rum, whiskey, cognac, brandy","17927","03. Rum","17939","04. Aged Rum","","","","","","","","","X",null,"C.01.02","Rum, whiskey, cognac, brandy","Rum","Aged Rum","","","","","17939",{"$f":"_xlfn.TEXTJOIN(\"; \",TRUE,ZCDT_EXPORT_2[[#This Row],[Sub-Category]:[Segment 5]])","v":"Rum; Aged Rum"}]
["AH","Baltic CDT","U3","03. Dry & Frozen","U3.01","01. Alcohol & Wine","C.01.02","02. Rum, whiskey, cognac, brandy","17927","03. Rum","17940","05. Other Rum-based drinks","","","","","","","","","X",null,"C.01.02","Rum, whiskey, cognac, brandy","Rum","Other Rum-based drinks","","","","","17940",{"$f":"_xlfn.TEXTJOIN(\"; \",TRUE,ZCDT_EXPORT_2[[#This Row],[Sub-Category]:[Segment 5]])","v":"Rum; Other Rum-based drinks"}]
["AH","Baltic CDT","U3","03. Dry & Frozen","U3.01","01. Alcohol & Wine","C.01.02","02. Rum, whiskey, cognac, brandy","17928","04. Whiskey","17941","01. USA & Canadian Whiskey","","","","","","","","","X",null,"C.01.02","Rum, whiskey, cognac, brandy","Whiskey","USA & Canadian Whiskey","","","","","17941",{"$f":"_xlfn.TEXTJOIN(\"; \",TRUE,ZCDT_EXPORT_2[[#This Row],[Sub-Category]:[Segment 5]])","v":"Whiskey; USA & Canadian Whiskey"}]
["AH","Baltic CDT","U3","03. Dry & Frozen","U3.01","01. Alcohol & Wine","C.01.02","02. Rum, whiskey, cognac, brandy","17928","04. Whiskey","17942","02. Irish Whiskey","17946","01. Blended","","","","","","","X",null,"C.01.02","Rum, whiskey, cognac, brandy","Whiskey","Irish Whiskey","Blended","","","","17946",{"$f":"_xlfn.TEXTJOIN(\"; \",TRUE,ZCDT_EXPORT_2[[#This Row],[Sub-Category]:[Segment 5]])","v":"Whiskey; Irish Whiskey; Blended"}]
["AH","Baltic CDT","U3","03. Dry & Frozen","U3.01","01. Alcohol & Wine","C.01.02","02. Rum, whiskey, cognac, brandy","17928","04. Whiskey","17942","02. Irish Whiskey","17947","02. Malt whiskey","","","","","","","X",null,"C.01.02","Rum, whiskey, cognac, brandy","Whiskey","Irish Whiskey","Malt whiskey","","","","17947",{"$f":"_xlfn.TEXTJOIN(\"; \",TRUE,ZCDT_EXPORT_2[[#This Row],[Sub-Category]:[Segment 5]])","v":"Whiskey; Irish Whiskey; Malt whiskey"}]
["AH","Baltic CDT","U3","03. Dry & Frozen","U3.01","01. Alcohol & Wine","C.01.02","02. Rum, whiskey, cognac, brandy","17928","04. Whiskey","17943","03. Scotch Whiskey","17948","01. Blended","","","","","","","X",null,"C.01.02","Rum, whiskey, cognac, brandy","Whiskey","Scotch Whiskey","Blended","","","","17948",{"$f":"_xlfn.TEXTJOIN(\"; \",TRUE,ZCDT_EXPORT_2[[#This Row],[Sub-Category]:[Segment 5]])","v":"Whiskey; Scotch Whiskey; Blended"}]
["AH","Baltic CDT","U3","03. Dry & Frozen","U3.01","01. Alcohol & Wine","C.01.02","02. Rum, whiskey, cognac, brandy","17928","04. Whiskey","17943","03. Scotch Whiskey","17949","02. Malt whiskey","","","","","","","X",null,"C.01.02","Rum, whiskey, cognac, brandy","Whiskey","Scotch Whiskey","Malt whiskey","","","","17949",{"$f":"_xlfn.TEXTJOIN(\"; \",TRUE,ZCDT_EXPORT_2[[#This Row],[Sub-Category]:[Segment 5]])","v":"Whiskey; Scotch Whiskey; Malt whiskey"}]
["AH","Baltic CDT","U3","03. Dry & Frozen","U3.01","01. Alcohol & Wine","C.01.02","02. Rum, whiskey, cognac, brandy","17928","04. Whiskey","17944","04. Other Whiskey","","","","","","","","","X",null,"C.01.02","Rum, whiskey, cognac, brandy","Whiskey","Other Whiskey","","","","","17944",{"$f":"_xlfn.TEXTJOIN(\"; \",TRUE,ZCDT_EXPORT_2[[#This Row],[Sub-Category]:[Segment 5]])","v":"Whiskey; Other Whiskey"}]
["AH","Baltic CDT","U3","03. Dry & Frozen","U3.01","01. Alcohol & Wine","C.01.02","02. Rum, whiskey, cognac, brandy","17928","04. Whiskey","17945","05. Spirit drinks","","","","","","","","","X",null,"C.01.02","Rum, whiskey, cognac, brandy","Whiskey","Spirit drinks","","","","","17945",{"$f":"_xlfn.TEXTJOIN(\"; \",TRUE,ZCDT_EXPORT_2[[#This Row],[Sub-Category]:[Segment 5]])","v":"Whiskey; Spirit drinks"}]
["AH","Baltic CDT","U3","03. Dry & Frozen","U3.01","01. Alcohol & Wine","C.01.03","03. Vermouth, Sparkling Wine","18914","01. Champagne","","","","","","","","","","","X",null,"C.01.03","Vermouth, Sparkling Wine","Champagne","","","","","","18914",{"$f":"_xlfn.TEXTJOIN(\"; \",TRUE,ZCDT_EXPORT_2[[#This Row],[Sub-Category]:[Segment 5]])","v":"Champagne"}]
["AH","Baltic CDT","U3","03. Dry & Frozen","U3.01","01. Alcohol & Wine","C.01.03","03. Vermouth, Sparkling Wine","18915","02. Sparkling Wine","18802","01. Bottle-fermented","18806","01. Cava","","","","","","","X",null,"C.01.03","Vermouth, Sparkling Wine","Sparkling Wine","Bottle-fermented","Cava","","","","18806",{"$f":"_xlfn.TEXTJOIN(\"; \",TRUE,ZCDT_EXPORT_2[[#This Row],[Sub-Category]:[Segment 5]])","v":"Sparkling Wine; Bottle-fermented; Cava"}]
["AH","Baltic CDT","U3","03. Dry & Frozen","U3.01","01. Alcohol & Wine","C.01.03","03. Vermouth, Sparkling Wine","18915","02. Sparkling Wine","18802","01. Bottle-fermented","18807","02. Cremant","","","","","","","X",null,"C.01.03","Vermouth, Sparkling Wine","Sparkling Wine","Bottle-fermented","Cremant","","","","18807",{"$f":"_xlfn.TEXTJOIN(\"; \",TRUE,ZCDT_EXPORT_2[[#This Row],[Sub-Category]:[Segment 5]])","v":"Sparkling Wine; Bottle-fermented; Cremant"}]
["AH","Baltic CDT","U3","03. Dry & Frozen","U3.01","01. Alcohol & Wine","C.01.03","03. Vermouth, Sparkling Wine","18915","02. Sparkling Wine","18802","01. Bottle-fermented","18808","03. Franciacorta and other Trad. Method","","","","","","","X",null,"C.01.03","Vermouth, Sparkling Wine","Sparkling Wine","Bottle-fermented","Franciacorta and other Trad. Method","","","","18808",{"$f":"_xlfn.TEXTJOIN(\"; \",TRUE,ZCDT_EXPORT_2[[#This Row],[Sub-Category]:[Segment 5]])","v":"Sparkling Wine; Bottle-fermented; Franciacorta and other Trad. Method"}]
["AH","Baltic CDT","U3","03. Dry & Frozen","U3.01","01. Alcohol & Wine","C.01.03","03. Vermouth, Sparkling Wine","18915","02. Sparkling Wine","18803","02. Tank-fermented","18809","01. Prosecco","","","","","","","X",null,"C.01.03","Vermouth, Sparkling Wine","Sparkling Wine","Tank-fermented","Prosecco","","","","18809",{"$f":"_xlfn.TEXTJOIN(\"; \",TRUE,ZCDT_EXPORT_2[[#This Row],[Sub-Category]:[Segment 5]])","v":"Sparkling Wine; Tank-fermented; Prosecco"}]
["AH","Baltic CDT","U3","03. Dry & Frozen","U3.01","01. Alcohol & Wine","C.01.03","03. Vermouth, Sparkling Wine","18915","02. Sparkling Wine","18803","02. Tank-fermented","18810","02. Lambrusco","","","","","","","X",null,"C.01.03","Vermouth, Sparkling Wine","Sparkling Wine","Tank-fermented","Lambrusco","","","","18810",{"$f":"_xlfn.TEXTJOIN(\"; \",TRUE,ZCDT_EXPORT_2[[#This Row],[Sub-Category]:[Segment 5]])","v":"Sparkling Wine; Tank-fermented; Lambrusco"}]
["AH","Baltic CDT","U3","03. Dry & Frozen","U3.01","01. Alcohol & Wine","C.01.03","03. Vermouth, Sparkling Wine","18915","02. Sparkling Wine","18803","02. Tank-fermented","18811","03. Asti","","","","","","","X",null,"C.01.03","Vermouth, Sparkling Wine","Sparkling Wine","Tank-fermented","Asti","","","","18811",{"$f":"_xlfn.TEXTJOIN(\"; \",TRUE,ZCDT_EXPORT_2[[#This Row],[Sub-Category]:[Segment 5]])","v":"Sparkling Wine; Tank-fermented; Asti"}]
["AH","Baltic CDT","U3","03. Dry & Frozen","U3.01","01. Alcohol & Wine","C.01.03","03. Vermouth, Sparkling Wine","18915","02. Sparkling Wine","18803","02. Tank-fermented","18812","04. Other tank-fermented sparkling wine","","","","","","","X",null,"C.01.03","Vermouth, Sparkling Wine","Sparkling Wine","Tank-fermented","Other tank-fermented sparkling wine","","","","18812",{"$f":"_xlfn.TEXTJOIN(\"; \",TRUE,ZCDT_EXPORT_2[[#This Row],[Sub-Category]:[Segment 5]])","v":"Sparkling Wine; Tank-fermented; Other tank-fermented sparkling wine"}]
["AH","Baltic CDT","U3","03. Dry & Frozen","U3.01","01. Alcohol & Wine","C.01.03","03. Vermouth, Sparkling Wine","18915","02. Sparkling Wine","18804","03. Carbonated wine","","","","","","","","","X",null,"C.01.03","Vermouth, Sparkling Wine","Sparkling Wine","Carbonated wine","","","","","18804",{"$f":"_xlfn.TEXTJOIN(\"; \",TRUE,ZCDT_EXPORT_2[[#This Row],[Sub-Category]:[Segment 5]])","v":"Sparkling Wine; Carbonated wine"}]
["AH","Baltic CDT","U3","03. Dry & Frozen","U3.01","01. Alcohol & Wine","C.01.03","03. Vermouth, Sparkling Wine","18916","03. Vermouth","","","","","","","","","","","X",null,"C.01.03","Vermouth, Sparkling Wine","Vermouth","","","","","","18916",{"$f":"_xlfn.TEXTJOIN(\"; \",TRUE,ZCDT_EXPORT_2[[#This Row],[Sub-Category]:[Segment 5]])","v":"Vermouth"}]
["AH","Baltic CDT","U3","03. Dry & Frozen","U3.01","01. Alcohol & Wine","C.01.04","04. Wine","17029","01. Red Wine","17358","01. Dry, semi dry","17360","01. Bottle","17366","01. France","","","","","X",null,"C.01.04","Wine","Red Wine","Dry, semi dry","Bottle","France","","","17366",{"$f":"_xlfn.TEXTJOIN(\"; \",TRUE,ZCDT_EXPORT_2[[#This Row],[Sub-Category]:[Segment 5]])","v":"Red Wine; Dry, semi dry; Bottle; France"}]
["AH","Baltic CDT","U3","03. Dry & Frozen","U3.01","01. Alcohol & Wine","C.01.04","04. Wine","17029","01. Red Wine","17358","01. Dry, semi dry","17360","01. Bottle","17367","02. Spain","","","","","X",null,"C.01.04","Wine","Red Wine","Dry, semi dry","Bottle","Spain","","","17367",{"$f":"_xlfn.TEXTJOIN(\"; \",TRUE,ZCDT_EXPORT_2[[#This Row],[Sub-Category]:[Segment 5]])","v":"Red Wine; Dry, semi dry; Bottle; Spain"}]
["AH","Baltic CDT","U3","03. Dry & Frozen","U3.01","01. Alcohol & Wine","C.01.04","04. Wine","17029","01. Red Wine","17358","01. Dry, semi dry","17360","01. Bottle","17368","03. Italy","","","","","X",null,"C.01.04","Wine","Red Wine","Dry, semi dry","Bottle","Italy","","","17368",{"$f":"_xlfn.TEXTJOIN(\"; \",TRUE,ZCDT_EXPORT_2[[#This Row],[Sub-Category]:[Segment 5]])","v":"Red Wine; Dry, semi dry; Bottle; Italy"}]
["AH","Baltic CDT","U3","03. Dry & Frozen","U3.01","01. Alcohol & Wine","C.01.04","04. Wine","17029","01. Red Wine","17358","01. Dry, semi dry","17360","01. Bottle","17369","04. Chile","","","","","X",null,"C.01.04","Wine","Red Wine","Dry, semi dry","Bottle","Chile","","","17369",{"$f":"_xlfn.TEXTJOIN(\"; \",TRUE,ZCDT_EXPORT_2[[#This Row],[Sub-Category]:[Segment 5]])","v":"Red Wine; Dry, semi dry; Bottle; Chile"}]
["AH","Baltic CDT","U3","03. Dry & Frozen","U3.01","01. Alcohol & Wine","C.01.04","04. Wine","17029","01. Red Wine","17358","01. Dry, semi dry","17360","01. Bottle","17370","05. Australia","","","","","X",null,"C.01.04","Wine","Red Wine","Dry, semi dry","Bottle","Australia","","","17370",{"$f":"_xlfn.TEXTJOIN(\"; \",TRUE,ZCDT_EXPORT_2[[#This Row],[Sub-Category]:[Segment 5]])","v":"Red Wine; Dry, semi dry; Bottle; Australia"}]
["AH","Baltic CDT","U3","03. Dry & Frozen","U3.01","01. Alcohol & Wine","C.01.04","04. Wine","17029","01. Red Wine","17358","01. Dry, semi dry","17360","01. Bottle","17371","06. Georgia","","","","","X",null,"C.01.04","Wine","Red Wine","Dry, semi dry","Bottle","Georgia","","","17371",{"$f":"_xlfn.TEXTJOIN(\"; \",TRUE,ZCDT_EXPORT_2[[#This Row],[Sub-Category]:[Segment 5]])","v":"Red Wine; Dry, semi dry; Bottle; Georgia"}]
["AH","Baltic CDT","U3","03. Dry & Frozen","U3.01","01. Alcohol & Wine","C.01.04","04. Wine","17029","01. Red Wine","17358","01. Dry, semi dry","17360","01. Bottle","17372","07. Argentina","","","","","X",null,"C.01.04","Wine","Red Wine","Dry, semi dry","Bottle","Argentina","","","17372",{"$f":"_xlfn.TEXTJOIN(\"; \",TRUE,ZCDT_EXPORT_2[[#This Row],[Sub-Category]:[Segment 5]])","v":"Red Wine; Dry, semi dry; Bottle; Argentina"}]
["AH","Baltic CDT","U3","03. Dry & Frozen","U3.01","01. Alcohol & Wine","C.01.04","04. Wine","17029","01. Red Wine","17358","01. Dry, semi dry","17360","01. Bottle","17373","08. South Africa","","","","","X",null,"C.01.04","Wine","Red Wine","Dry, semi dry","Bottle","South Africa","","","17373",{"$f":"_xlfn.TEXTJOIN(\"; \",TRUE,ZCDT_EXPORT_2[[#This Row],[Sub-Category]:[Segment 5]])","v":"Red Wine; Dry, semi dry; Bottle; South Africa"}]
["AH","Baltic CDT","U3","03. Dry & Frozen","U3.01","01. Alcohol & Wine","C.01.04","04. Wine","17029","01. Red Wine","17358","01. Dry, semi dry","17360","01. Bottle","17374","09. Other East-Europe","","","","","X",null,"C.01.04","Wine","Red Wine","Dry, semi dry","Bottle","Other East-Europe","","","17374",{"$f":"_xlfn.TEXTJOIN(\"; \",TRUE,ZCDT_EXPORT_2[[#This Row],[Sub-Category]:[Segment 5]])","v":"Red Wine; Dry, semi dry; Bottle; Other East-Europe"}]
["AH","Baltic CDT","U3","03. Dry & Frozen","U3.01","01. Alcohol & Wine","C.01.04","04. Wine","17029","01. Red Wine","17358","01. Dry, semi dry","17360","01. Bottle","17375","10. Other old world","","","","","X",null,"C.01.04","Wine","Red Wine","Dry, semi dry","Bottle","Other old world","","","17375",{"$f":"_xlfn.TEXTJOIN(\"; \",TRUE,ZCDT_EXPORT_2[[#This Row],[Sub-Category]:[Segment 5]])","v":"Red Wine; Dry, semi dry; Bottle; Other old world"}]
["AH","Baltic CDT","U3","03. Dry & Frozen","U3.01","01. Alcohol & Wine","C.01.04","04. Wine","17029","01. Red Wine","17358","01. Dry, semi dry","17360","01. Bottle","17376","11. Other new world","","","","","X",null,"C.01.04","Wine","Red Wine","Dry, semi dry","Bottle","Other new world","","","17376",{"$f":"_xlfn.TEXTJOIN(\"; \",TRUE,ZCDT_EXPORT_2[[#This Row],[Sub-Category]:[Segment 5]])","v":"Red Wine; Dry, semi dry; Bottle; Other new world"}]
["AH","Baltic CDT","U3","03. Dry & Frozen","U3.01","01. Alcohol & Wine","C.01.04","04. Wine","17029","01. Red Wine","17358","01. Dry, semi dry","17361","02. BIB, Tetra","17377","01. France","","","","","X",null,"C.01.04","Wine","Red Wine","Dry, semi dry","BIB, Tetra","France","","","17377",{"$f":"_xlfn.TEXTJOIN(\"; \",TRUE,ZCDT_EXPORT_2[[#This Row],[Sub-Category]:[Segment 5]])","v":"Red Wine; Dry, semi dry; BIB, Tetra; France"}]
["AH","Baltic CDT","U3","03. Dry & Frozen","U3.01","01. Alcohol & Wine","C.01.04","04. Wine","17029","01. Red Wine","17358","01. Dry, semi dry","17361","02. BIB, Tetra","17378","02. Spain","","","","","X",null,"C.01.04","Wine","Red Wine","Dry, semi dry","BIB, Tetra","Spain","","","17378",{"$f":"_xlfn.TEXTJOIN(\"; \",TRUE,ZCDT_EXPORT_2[[#This Row],[Sub-Category]:[Segment 5]])","v":"Red Wine; Dry, semi dry; BIB, Tetra; Spain"}]
["AH","Baltic CDT","U3","03. Dry & Frozen","U3.01","01. Alcohol & Wine","C.01.04","04. Wine","17029","01. Red Wine","17358","01. Dry, semi dry","17361","02. BIB, Tetra","17379","03. Italy","","","","","X",null,"C.01.04","Wine","Red Wine","Dry, semi dry","BIB, Tetra","Italy","","","17379",{"$f":"_xlfn.TEXTJOIN(\"; \",TRUE,ZCDT_EXPORT_2[[#This Row],[Sub-Category]:[Segment 5]])","v":"Red Wine; Dry, semi dry; BIB, Tetra; Italy"}]
["AH","Baltic CDT","U3","03. Dry & Frozen","U3.01","01. Alcohol & Wine","C.01.04","04. Wine","17029","01. Red Wine","17358","01. Dry, semi dry","17361","02. BIB, Tetra","17380","04. Other","","","","","X",null,"C.01.04","Wine","Red Wine","Dry, semi dry","BIB, Tetra","Other","","","17380",{"$f":"_xlfn.TEXTJOIN(\"; \",TRUE,ZCDT_EXPORT_2[[#This Row],[Sub-Category]:[Segment 5]])","v":"Red Wine; Dry, semi dry; BIB, Tetra; Other"}]
["AH","Baltic CDT","U3","03. Dry & Frozen","U3.01","01. Alcohol & Wine","C.01.04","04. Wine","17029","01. Red Wine","17358","01. Dry, semi dry","17362","03. Other volumes","","","","","","","X",null,"C.01.04","Wine","Red Wine","Dry, semi dry","Other volumes","","","","17362",{"$f":"_xlfn.TEXTJOIN(\"; \",TRUE,ZCDT_EXPORT_2[[#This Row],[Sub-Category]:[Segment 5]])","v":"Red Wine; Dry, semi dry; Other volumes"}]
["AH","Baltic CDT","U3","03. Dry & Frozen","U3.01","01. Alcohol & Wine","C.01.04","04. Wine","17029","01. Red Wine","17359","02. Sweet, semi sweet","17363","01. Bottle","17381","01. Georgia","","","","","X",null,"C.01.04","Wine","Red Wine","Sweet, semi sweet","Bottle","Georgia","","","17381",{"$f":"_xlfn.TEXTJOIN(\"; \",TRUE,ZCDT_EXPORT_2[[#This Row],[Sub-Category]:[Segment 5]])","v":"Red Wine; Sweet, semi sweet; Bottle; Georgia"}]
["AH","Baltic CDT","U3","03. Dry & Frozen","U3.01","01. Alcohol & Wine","C.01.04","04. Wine","17029","01. Red Wine","17359","02. Sweet, semi sweet","17363","01. Bottle","17382","02. Kagor type","","","","","X",null,"C.01.04","Wine","Red Wine","Sweet, semi sweet","Bottle","Kagor type","","","17382",{"$f":"_xlfn.TEXTJOIN(\"; \",TRUE,ZCDT_EXPORT_2[[#This Row],[Sub-Category]:[Segment 5]])","v":"Red Wine; Sweet, semi sweet; Bottle; Kagor type"}]
["AH","Baltic CDT","U3","03. Dry & Frozen","U3.01","01. Alcohol & Wine","C.01.04","04. Wine","17029","01. Red Wine","17359","02. Sweet, semi sweet","17363","01. Bottle","17383","03. France","","","","","X",null,"C.01.04","Wine","Red Wine","Sweet, semi sweet","Bottle","France","","","17383",{"$f":"_xlfn.TEXTJOIN(\"; \",TRUE,ZCDT_EXPORT_2[[#This Row],[Sub-Category]:[Segment 5]])","v":"Red Wine; Sweet, semi sweet; Bottle; France"}]
["AH","Baltic CDT","U3","03. Dry & Frozen","U3.01","01. Alcohol & Wine","C.01.04","04. Wine","17029","01. Red Wine","17359","02. Sweet, semi sweet","17363","01. Bottle","17384","04. Other sweet","","","","","X",null,"C.01.04","Wine","Red Wine","Sweet, semi sweet","Bottle","Other sweet","","","17384",{"$f":"_xlfn.TEXTJOIN(\"; \",TRUE,ZCDT_EXPORT_2[[#This Row],[Sub-Category]:[Segment 5]])","v":"Red Wine; Sweet, semi sweet; Bottle; Other sweet"}]
["AH","Baltic CDT","U3","03. Dry & Frozen","U3.01","01. Alcohol & Wine","C.01.04","04. Wine","17029","01. Red Wine","17359","02. Sweet, semi sweet","17364","02. BIB, Tetra","","","","","","","X",null,"C.01.04","Wine","Red Wine","Sweet, semi sweet","BIB, Tetra","","","","17364",{"$f":"_xlfn.TEXTJOIN(\"; \",TRUE,ZCDT_EXPORT_2[[#This Row],[Sub-Category]:[Segment 5]])","v":"Red Wine; Sweet, semi sweet; BIB, Tetra"}]
["AH","Baltic CDT","U3","03. Dry & Frozen","U3.01","01. Alcohol & Wine","C.01.04","04. Wine","17029","01. Red Wine","17359","02. Sweet, semi sweet","17365","03. Other volumes","","","","","","","X",null,"C.01.04","Wine","Red Wine","Sweet, semi sweet","Other volumes","","","","17365",{"$f":"_xlfn.TEXTJOIN(\"; \",TRUE,ZCDT_EXPORT_2[[#This Row],[Sub-Category]:[Segment 5]])","v":"Red Wine; Sweet, semi sweet; Other volumes"}]
["AH","Baltic CDT","U3","03. Dry & Frozen","U3.01","01. Alcohol & Wine","C.01.04","04. Wine","17030","02. White Wine","17385","01. Dry, semi dry","17390","01. Bottle","17396","01. France","","","","","X",null,"C.01.04","Wine","White Wine","Dry, semi dry","Bottle","France","","","17396",{"$f":"_xlfn.TEXTJOIN(\"; \",TRUE,ZCDT_EXPORT_2[[#This Row],[Sub-Category]:[Segment 5]])","v":"White Wine; Dry, semi dry; Bottle; France"}]
["AH","Baltic CDT","U3","03. Dry & Frozen","U3.01","01. Alcohol & Wine","C.01.04","04. Wine","17030","02. White Wine","17385","01. Dry, semi dry","17390","01. Bottle","17397","02. Germany","","","","","X",null,"C.01.04","Wine","White Wine","Dry, semi dry","Bottle","Germany","","","17397",{"$f":"_xlfn.TEXTJOIN(\"; \",TRUE,ZCDT_EXPORT_2[[#This Row],[Sub-Category]:[Segment 5]])","v":"White Wine; Dry, semi dry; Bottle; Germany"}]
["AH","Baltic CDT","U3","03. Dry & Frozen","U3.01","01. Alcohol & Wine","C.01.04","04. Wine","17030","02. White Wine","17385","01. Dry, semi dry","17390","01. Bottle","17398","03. Italy","","","","","X",null,"C.01.04","Wine","White Wine","Dry, semi dry","Bottle","Italy","","","17398",{"$f":"_xlfn.TEXTJOIN(\"; \",TRUE,ZCDT_EXPORT_2[[#This Row],[Sub-Category]:[Segment 5]])","v":"White Wine; Dry, semi dry; Bottle; Italy"}]
["AH","Baltic CDT","U3","03. Dry & Frozen","U3.01","01. Alcohol & Wine","C.01.04","04. Wine","17030","02. White Wine","17385","01. Dry, semi dry","17390","01. Bottle","17399","04. Spain","","","","","X",null,"C.01.04","Wine","White Wine","Dry, semi dry","Bottle","Spain","","","17399",{"$f":"_xlfn.TEXTJOIN(\"; \",TRUE,ZCDT_EXPORT_2[[#This Row],[Sub-Category]:[Segment 5]])","v":"White Wine; Dry, semi dry; Bottle; Spain"}]
["AH","Baltic CDT","U3","03. Dry & Frozen","U3.01","01. Alcohol & Wine","C.01.04","04. Wine","17030","02. White Wine","17385","01. Dry, semi dry","17390","01. Bottle","17400","05. Chile","","","","","X",null,"C.01.04","Wine","White Wine","Dry, semi dry","Bottle","Chile","","","17400",{"$f":"_xlfn.TEXTJOIN(\"; \",TRUE,ZCDT_EXPORT_2[[#This Row],[Sub-Category]:[Segment 5]])","v":"White Wine; Dry, semi dry; Bottle; Chile"}]
["AH","Baltic CDT","U3","03. Dry & Frozen","U3.01","01. Alcohol & Wine","C.01.04","04. Wine","17030","02. White Wine","17385","01. Dry, semi dry","17390","01. Bottle","17401","06. Australia","","","","","X",null,"C.01.04","Wine","White Wine","Dry, semi dry","Bottle","Australia","","","17401",{"$f":"_xlfn.TEXTJOIN(\"; \",TRUE,ZCDT_EXPORT_2[[#This Row],[Sub-Category]:[Segment 5]])","v":"White Wine; Dry, semi dry; Bottle; Australia"}]
["AH","Baltic CDT","U3","03. Dry & Frozen","U3.01","01. Alcohol & Wine","C.01.04","04. Wine","17030","02. White Wine","17385","01. Dry, semi dry","17390","01. Bottle","17402","07. New Zealand","","","","","X",null,"C.01.04","Wine","White Wine","Dry, semi dry","Bottle","New Zealand","","","17402",{"$f":"_xlfn.TEXTJOIN(\"; \",TRUE,ZCDT_EXPORT_2[[#This Row],[Sub-Category]:[Segment 5]])","v":"White Wine; Dry, semi dry; Bottle; New Zealand"}]
["AH","Baltic CDT","U3","03. Dry & Frozen","U3.01","01. Alcohol & Wine","C.01.04","04. Wine","17030","02. White Wine","17385","01. Dry, semi dry","17390","01. Bottle","17403","08. South Africa","","","","","X",null,"C.01.04","Wine","White Wine","Dry, semi dry","Bottle","South Africa","","","17403",{"$f":"_xlfn.TEXTJOIN(\"; \",TRUE,ZCDT_EXPORT_2[[#This Row],[Sub-Category]:[Segment 5]])","v":"White Wine; Dry, semi dry; Bottle; South Africa"}]
["AH","Baltic CDT","U3","03. Dry & Frozen","U3.01","01. Alcohol & Wine","C.01.04","04. Wine","17030","02. White Wine","17385","01. Dry, semi dry","17390","01. Bottle","17404","09. Other East-Europe","","","","","X",null,"C.01.04","Wine","White Wine","Dry, semi dry","Bottle","Other East-Europe","","","17404",{"$f":"_xlfn.TEXTJOIN(\"; \",TRUE,ZCDT_EXPORT_2[[#This Row],[Sub-Category]:[Segment 5]])","v":"White Wine; Dry, semi dry; Bottle; Other East-Europe"}]
["AH","Baltic CDT","U3","03. Dry & Frozen","U3.01","01. Alcohol & Wine","C.01.04","04. Wine","17030","02. White Wine","17385","01. Dry, semi dry","17390","01. Bottle","17405","10. Other old world","","","","","X",null,"C.01.04","Wine","White Wine","Dry, semi dry","Bottle","Other old world","","","17405",{"$f":"_xlfn.TEXTJOIN(\"; \",TRUE,ZCDT_EXPORT_2[[#This Row],[Sub-Category]:[Segment 5]])","v":"White Wine; Dry, semi dry; Bottle; Other old world"}]
["AH","Baltic CDT","U3","03. Dry & Frozen","U3.01","01. Alcohol & Wine","C.01.04","04. Wine","17030","02. White Wine","17385","01. Dry, semi dry","17390","01. Bottle","17406","11. Other new world","","","","","X",null,"C.01.04","Wine","White Wine","Dry, semi dry","Bottle","Other new world","","","17406",{"$f":"_xlfn.TEXTJOIN(\"; \",TRUE,ZCDT_EXPORT_2[[#This Row],[Sub-Category]:[Segment 5]])","v":"White Wine; Dry, semi dry; Bottle; Other new world"}]
["AH","Baltic CDT","U3","03. Dry & Frozen","U3.01","01. Alcohol & Wine","C.01.04","04. Wine","17030","02. White Wine","17385","01. Dry, semi dry","17391","02. BIB, Tetra","17407","01. France","","","","","X",null,"C.01.04","Wine","White Wine","Dry, semi dry","BIB, Tetra","France","","","17407",{"$f":"_xlfn.TEXTJOIN(\"; \",TRUE,ZCDT_EXPORT_2[[#This Row],[Sub-Category]:[Segment 5]])","v":"White Wine; Dry, semi dry; BIB, Tetra; France"}]
["AH","Baltic CDT","U3","03. Dry & Frozen","U3.01","01. Alcohol & Wine","C.01.04","04. Wine","17030","02. White Wine","17385","01. Dry, semi dry","17391","02. BIB, Tetra","17408","02. Italy","","","","","X",null,"C.01.04","Wine","White Wine","Dry, semi dry","BIB, Tetra","Italy","","","17408",{"$f":"_xlfn.TEXTJOIN(\"; \",TRUE,ZCDT_EXPORT_2[[#This Row],[Sub-Category]:[Segment 5]])","v":"White Wine; Dry, semi dry; BIB, Tetra; Italy"}]
["AH","Baltic CDT","U3","03. Dry & Frozen","U3.01","01. Alcohol & Wine","C.01.04","04. Wine","17030","02. White Wine","17385","01. Dry, semi dry","17391","02. BIB, Tetra","17409","03. Spain","","","","","X",null,"C.01.04","Wine","White Wine","Dry, semi dry","BIB, Tetra","Spain","","","17409",{"$f":"_xlfn.TEXTJOIN(\"; \",TRUE,ZCDT_EXPORT_2[[#This Row],[Sub-Category]:[Segment 5]])","v":"White Wine; Dry, semi dry; BIB, Tetra; Spain"}]
["AH","Baltic CDT","U3","03. Dry & Frozen","U3.01","01. Alcohol & Wine","C.01.04","04. Wine","17030","02. White Wine","17385","01. Dry, semi dry","17391","02. BIB, Tetra","17410","04. Other","","","","","X",null,"C.01.04","Wine","White Wine","Dry, semi dry","BIB, Tetra","Other","","","17410",{"$f":"_xlfn.TEXTJOIN(\"; \",TRUE,ZCDT_EXPORT_2[[#This Row],[Sub-Category]:[Segment 5]])","v":"White Wine; Dry, semi dry; BIB, Tetra; Other"}]
["AH","Baltic CDT","U3","03. Dry & Frozen","U3.01","01. Alcohol & Wine","C.01.04","04. Wine","17030","02. White Wine","17385","01. Dry, semi dry","17392","03. Other volumes","","","","","","","X",null,"C.01.04","Wine","White Wine","Dry, semi dry","Other volumes","","","","17392",{"$f":"_xlfn.TEXTJOIN(\"; \",TRUE,ZCDT_EXPORT_2[[#This Row],[Sub-Category]:[Segment 5]])","v":"White Wine; Dry, semi dry; Other volumes"}]
["AH","Baltic CDT","U3","03. Dry & Frozen","U3.01","01. Alcohol & Wine","C.01.04","04. Wine","17030","02. White Wine","17386","02. Sweet, semi sweet","17393","01. Bottle","17411","01. Georgia","","","","","X",null,"C.01.04","Wine","White Wine","Sweet, semi sweet","Bottle","Georgia","","","17411",{"$f":"_xlfn.TEXTJOIN(\"; \",TRUE,ZCDT_EXPORT_2[[#This Row],[Sub-Category]:[Segment 5]])","v":"White Wine; Sweet, semi sweet; Bottle; Georgia"}]
["AH","Baltic CDT","U3","03. Dry & Frozen","U3.01","01. Alcohol & Wine","C.01.04","04. Wine","17030","02. White Wine","17386","02. Sweet, semi sweet","17393","01. Bottle","17412","02. France","","","","","X",null,"C.01.04","Wine","White Wine","Sweet, semi sweet","Bottle","France","","","17412",{"$f":"_xlfn.TEXTJOIN(\"; \",TRUE,ZCDT_EXPORT_2[[#This Row],[Sub-Category]:[Segment 5]])","v":"White Wine; Sweet, semi sweet; Bottle; France"}]
["AH","Baltic CDT","U3","03. Dry & Frozen","U3.01","01. Alcohol & Wine","C.01.04","04. Wine","17030","02. White Wine","17386","02. Sweet, semi sweet","17393","01. Bottle","17413","03. Romania","","","","","X",null,"C.01.04","Wine","White Wine","Sweet, semi sweet","Bottle","Romania","","","17413",{"$f":"_xlfn.TEXTJOIN(\"; \",TRUE,ZCDT_EXPORT_2[[#This Row],[Sub-Category]:[Segment 5]])","v":"White Wine; Sweet, semi sweet; Bottle; Romania"}]
["AH","Baltic CDT","U3","03. Dry & Frozen","U3.01","01. Alcohol & Wine","C.01.04","04. Wine","17030","02. White Wine","17386","02. Sweet, semi sweet","17393","01. Bottle","17414","04. Other sweet","","","","","X",null,"C.01.04","Wine","White Wine","Sweet, semi sweet","Bottle","Other sweet","","","17414",{"$f":"_xlfn.TEXTJOIN(\"; \",TRUE,ZCDT_EXPORT_2[[#This Row],[Sub-Category]:[Segment 5]])","v":"White Wine; Sweet, semi sweet; Bottle; Other sweet"}]
["AH","Baltic CDT","U3","03. Dry & Frozen","U3.01","01. Alcohol & Wine","C.01.04","04. Wine","17030","02. White Wine","17386","02. Sweet, semi sweet","17394","02. BIB, Tetra","","","","","","","X",null,"C.01.04","Wine","White Wine","Sweet, semi sweet","BIB, Tetra","","","","17394",{"$f":"_xlfn.TEXTJOIN(\"; \",TRUE,ZCDT_EXPORT_2[[#This Row],[Sub-Category]:[Segment 5]])","v":"White Wine; Sweet, semi sweet; BIB, Tetra"}]
["AH","Baltic CDT","U3","03. Dry & Frozen","U3.01","01. Alcohol & Wine","C.01.04","04. Wine","17030","02. White Wine","17386","02. Sweet, semi sweet","17395","03. Other volumes","","","","","","","X",null,"C.01.04","Wine","White Wine","Sweet, semi sweet","Other volumes","","","","17395",{"$f":"_xlfn.TEXTJOIN(\"; \",TRUE,ZCDT_EXPORT_2[[#This Row],[Sub-Category]:[Segment 5]])","v":"White Wine; Sweet, semi sweet; Other volumes"}]
["AH","Baltic CDT","U3","03. Dry & Frozen","U3.01","01. Alcohol & Wine","C.01.04","04. Wine","17351","03. Rose Wine","17415","01. Dry, semi dry","17417","01. Bottle","17423","01. France","","","","","X",null,"C.01.04","Wine","Rose Wine","Dry, semi dry","Bottle","France","","","17423",{"$f":"_xlfn.TEXTJOIN(\"; \",TRUE,ZCDT_EXPORT_2[[#This Row],[Sub-Category]:[Segment 5]])","v":"Rose Wine; Dry, semi dry; Bottle; France"}]
["AH","Baltic CDT","U3","03. Dry & Frozen","U3.01","01. Alcohol & Wine","C.01.04","04. Wine","17351","03. Rose Wine","17415","01. Dry, semi dry","17417","01. Bottle","17424","02. Italy","","","","","X",null,"C.01.04","Wine","Rose Wine","Dry, semi dry","Bottle","Italy","","","17424",{"$f":"_xlfn.TEXTJOIN(\"; \",TRUE,ZCDT_EXPORT_2[[#This Row],[Sub-Category]:[Segment 5]])","v":"Rose Wine; Dry, semi dry; Bottle; Italy"}]
["AH","Baltic CDT","U3","03. Dry & Frozen","U3.01","01. Alcohol & Wine","C.01.04","04. Wine","17351","03. Rose Wine","17415","01. Dry, semi dry","17417","01. Bottle","17425","03. Spain","","","","","X",null,"C.01.04","Wine","Rose Wine","Dry, semi dry","Bottle","Spain","","","17425",{"$f":"_xlfn.TEXTJOIN(\"; \",TRUE,ZCDT_EXPORT_2[[#This Row],[Sub-Category]:[Segment 5]])","v":"Rose Wine; Dry, semi dry; Bottle; Spain"}]
["AH","Baltic CDT","U3","03. Dry & Frozen","U3.01","01. Alcohol & Wine","C.01.04","04. Wine","17351","03. Rose Wine","17415","01. Dry, semi dry","17417","01. Bottle","17426","04. Other old world","","","","","X",null,"C.01.04","Wine","Rose Wine","Dry, semi dry","Bottle","Other old world","","","17426",{"$f":"_xlfn.TEXTJOIN(\"; \",TRUE,ZCDT_EXPORT_2[[#This Row],[Sub-Category]:[Segment 5]])","v":"Rose Wine; Dry, semi dry; Bottle; Other old world"}]
["AH","Baltic CDT","U3","03. Dry & Frozen","U3.01","01. Alcohol & Wine","C.01.04","04. Wine","17351","03. Rose Wine","17415","01. Dry, semi dry","17417","01. Bottle","17427","05. New world","","","","","X",null,"C.01.04","Wine","Rose Wine","Dry, semi dry","Bottle","New world","","","17427",{"$f":"_xlfn.TEXTJOIN(\"; \",TRUE,ZCDT_EXPORT_2[[#This Row],[Sub-Category]:[Segment 5]])","v":"Rose Wine; Dry, semi dry; Bottle; New world"}]
["AH","Baltic CDT","U3","03. Dry & Frozen","U3.01","01. Alcohol & Wine","C.01.04","04. Wine","17351","03. Rose Wine","17415","01. Dry, semi dry","17418","02. BIB, Tetra","","","","","","","X",null,"C.01.04","Wine","Rose Wine","Dry, semi dry","BIB, Tetra","","","","17418",{"$f":"_xlfn.TEXTJOIN(\"; \",TRUE,ZCDT_EXPORT_2[[#This Row],[Sub-Category]:[Segment 5]])","v":"Rose Wine; Dry, semi dry; BIB, Tetra"}]
["AH","Baltic CDT","U3","03. Dry & Frozen","U3.01","01. Alcohol & Wine","C.01.04","04. Wine","17351","03. Rose Wine","17415","01. Dry, semi dry","17419","03. Other volumes","","","","","","","X",null,"C.01.04","Wine","Rose Wine","Dry, semi dry","Other volumes","","","","17419",{"$f":"_xlfn.TEXTJOIN(\"; \",TRUE,ZCDT_EXPORT_2[[#This Row],[Sub-Category]:[Segment 5]])","v":"Rose Wine; Dry, semi dry; Other volumes"}]
["AH","Baltic CDT","U3","03. Dry & Frozen","U3.01","01. Alcohol & Wine","C.01.04","04. Wine","17351","03. Rose Wine","17416","02. Sweet, semi sweet","17420","01. Bottle","17428","01. FRA-IT-SPA","","","","","X",null,"C.01.04","Wine","Rose Wine","Sweet, semi sweet","Bottle","FRA-IT-SPA","","","17428",{"$f":"_xlfn.TEXTJOIN(\"; \",TRUE,ZCDT_EXPORT_2[[#This Row],[Sub-Category]:[Segment 5]])","v":"Rose Wine; Sweet, semi sweet; Bottle; FRA-IT-SPA"}]
["AH","Baltic CDT","U3","03. Dry & Frozen","U3.01","01. Alcohol & Wine","C.01.04","04. Wine","17351","03. Rose Wine","17416","02. Sweet, semi sweet","17420","01. Bottle","17429","02. Romania","","","","","X",null,"C.01.04","Wine","Rose Wine","Sweet, semi sweet","Bottle","Romania","","","17429",{"$f":"_xlfn.TEXTJOIN(\"; \",TRUE,ZCDT_EXPORT_2[[#This Row],[Sub-Category]:[Segment 5]])","v":"Rose Wine; Sweet, semi sweet; Bottle; Romania"}]
["AH","Baltic CDT","U3","03. Dry & Frozen","U3.01","01. Alcohol & Wine","C.01.04","04. Wine","17351","03. Rose Wine","17416","02. Sweet, semi sweet","17420","01. Bottle","17430","03. Other sweet","","","","","X",null,"C.01.04","Wine","Rose Wine","Sweet, semi sweet","Bottle","Other sweet","","","17430",{"$f":"_xlfn.TEXTJOIN(\"; \",TRUE,ZCDT_EXPORT_2[[#This Row],[Sub-Category]:[Segment 5]])","v":"Rose Wine; Sweet, semi sweet; Bottle; Other sweet"}]
["AH","Baltic CDT","U3","03. Dry & Frozen","U3.01","01. Alcohol & Wine","C.01.04","04. Wine","17351","03. Rose Wine","17416","02. Sweet, semi sweet","17421","02. BIB, Tetra","","","","","","","X",null,"C.01.04","Wine","Rose Wine","Sweet, semi sweet","BIB, Tetra","","","","17421",{"$f":"_xlfn.TEXTJOIN(\"; \",TRUE,ZCDT_EXPORT_2[[#This Row],[Sub-Category]:[Segment 5]])","v":"Rose Wine; Sweet, semi sweet; BIB, Tetra"}]
["AH","Baltic CDT","U3","03. Dry & Frozen","U3.01","01. Alcohol & Wine","C.01.04","04. Wine","17351","03. Rose Wine","17416","02. Sweet, semi sweet","17422","03. Other volumes","","","","","","","X",null,"C.01.04","Wine","Rose Wine","Sweet, semi sweet","Other volumes","","","","17422",{"$f":"_xlfn.TEXTJOIN(\"; \",TRUE,ZCDT_EXPORT_2[[#This Row],[Sub-Category]:[Segment 5]])","v":"Rose Wine; Sweet, semi sweet; Other volumes"}]
["AH","Baltic CDT","U3","03. Dry & Frozen","U3.01","01. Alcohol & Wine","C.01.04","04. Wine","17352","04. Seasonal Wine","","","","","","","","","","","X",null,"C.01.04","Wine","Seasonal Wine","","","","","","17352",{"$f":"_xlfn.TEXTJOIN(\"; \",TRUE,ZCDT_EXPORT_2[[#This Row],[Sub-Category]:[Segment 5]])","v":"Seasonal Wine"}]
["AH","Baltic CDT","U3","03. Dry & Frozen","U3.01","01. Alcohol & Wine","C.01.04","04. Wine","17353","05. Fortified Wine","17356","01. Premium","","","","","","","","","X",null,"C.01.04","Wine","Fortified Wine","Premium","","","","","17356",{"$f":"_xlfn.TEXTJOIN(\"; \",TRUE,ZCDT_EXPORT_2[[#This Row],[Sub-Category]:[Segment 5]])","v":"Fortified Wine; Premium"}]
["AH","Baltic CDT","U3","03. Dry & Frozen","U3.01","01. Alcohol & Wine","C.01.04","04. Wine","17353","05. Fortified Wine","17357","02. Entry Level","","","","","","","","","X",null,"C.01.04","Wine","Fortified Wine","Entry Level","","","","","17357",{"$f":"_xlfn.TEXTJOIN(\"; \",TRUE,ZCDT_EXPORT_2[[#This Row],[Sub-Category]:[Segment 5]])","v":"Fortified Wine; Entry Level"}]
["AH","Baltic CDT","U3","03. Dry & Frozen","U3.01","01. Alcohol & Wine","C.01.04","04. Wine","17354","06. Fruit wine","","","","","","","","","","","X",null,"C.01.04","Wine","Fruit wine","","","","","","17354",{"$f":"_xlfn.TEXTJOIN(\"; \",TRUE,ZCDT_EXPORT_2[[#This Row],[Sub-Category]:[Segment 5]])","v":"Fruit wine"}]
["AH","Baltic CDT","U3","03. Dry & Frozen","U3.01","01. Alcohol & Wine","C.01.04","04. Wine","17355","07. Non Alco Wines","","","","","","","","","","","X",null,"C.01.04","Wine","Non Alco Wines","","","","","","17355",{"$f":"_xlfn.TEXTJOIN(\"; \",TRUE,ZCDT_EXPORT_2[[#This Row],[Sub-Category]:[Segment 5]])","v":"Non Alco Wines"}]
["AH","Baltic CDT","U3","03. Dry & Frozen","U3.01","01. Alcohol & Wine","C.01.05","05. Vodka, gin, tequila","16133","01. Vodka","18641","01. Import","18643","01. Slavic","18645","01. Flavoured","18647","01. 0.7 L","","","X",null,"C.01.05","Vodka, gin, tequila","Vodka","Import","Slavic","Flavoured","0.7 L","","18647",{"$f":"_xlfn.TEXTJOIN(\"; \",TRUE,ZCDT_EXPORT_2[[#This Row],[Sub-Category]:[Segment 5]])","v":"Vodka; Import; Slavic; Flavoured; 0.7 L"}]
["AH","Baltic CDT","U3","03. Dry & Frozen","U3.01","01. Alcohol & Wine","C.01.05","05. Vodka, gin, tequila","16133","01. Vodka","18641","01. Import","18643","01. Slavic","18645","01. Flavoured","18648","02. 0.5 L","","","X",null,"C.01.05","Vodka, gin, tequila","Vodka","Import","Slavic","Flavoured","0.5 L","","18648",{"$f":"_xlfn.TEXTJOIN(\"; \",TRUE,ZCDT_EXPORT_2[[#This Row],[Sub-Category]:[Segment 5]])","v":"Vodka; Import; Slavic; Flavoured; 0.5 L"}]
["AH","Baltic CDT","U3","03. Dry & Frozen","U3.01","01. Alcohol & Wine","C.01.05","05. Vodka, gin, tequila","16133","01. Vodka","18641","01. Import","18643","01. Slavic","18645","01. Flavoured","18649","03. Other size","","","X",null,"C.01.05","Vodka, gin, tequila","Vodka","Import","Slavic","Flavoured","Other size","","18649",{"$f":"_xlfn.TEXTJOIN(\"; \",TRUE,ZCDT_EXPORT_2[[#This Row],[Sub-Category]:[Segment 5]])","v":"Vodka; Import; Slavic; Flavoured; Other size"}]
["AH","Baltic CDT","U3","03. Dry & Frozen","U3.01","01. Alcohol & Wine","C.01.05","05. Vodka, gin, tequila","16133","01. Vodka","18641","01. Import","18643","01. Slavic","18646","02. Unflavoured","18651","01. >1.0 L","","","X",null,"C.01.05","Vodka, gin, tequila","Vodka","Import","Slavic","Unflavoured",">1.0 L","","18651",{"$f":"_xlfn.TEXTJOIN(\"; \",TRUE,ZCDT_EXPORT_2[[#This Row],[Sub-Category]:[Segment 5]])","v":"Vodka; Import; Slavic; Unflavoured; >1.0 L"}]
["AH","Baltic CDT","U3","03. Dry & Frozen","U3.01","01. Alcohol & Wine","C.01.05","05. Vodka, gin, tequila","16133","01. Vodka","18641","01. Import","18643","01. Slavic","18646","02. Unflavoured","18652","02. 1L","","","X",null,"C.01.05","Vodka, gin, tequila","Vodka","Import","Slavic","Unflavoured","1L","","18652",{"$f":"_xlfn.TEXTJOIN(\"; \",TRUE,ZCDT_EXPORT_2[[#This Row],[Sub-Category]:[Segment 5]])","v":"Vodka; Import; Slavic; Unflavoured; 1L"}]
["AH","Baltic CDT","U3","03. Dry & Frozen","U3.01","01. Alcohol & Wine","C.01.05","05. Vodka, gin, tequila","16133","01. Vodka","18641","01. Import","18643","01. Slavic","18646","02. Unflavoured","18653","03. 0.7 L","","","X",null,"C.01.05","Vodka, gin, tequila","Vodka","Import","Slavic","Unflavoured","0.7 L","","18653",{"$f":"_xlfn.TEXTJOIN(\"; \",TRUE,ZCDT_EXPORT_2[[#This Row],[Sub-Category]:[Segment 5]])","v":"Vodka; Import; Slavic; Unflavoured; 0.7 L"}]
["AH","Baltic CDT","U3","03. Dry & Frozen","U3.01","01. Alcohol & Wine","C.01.05","05. Vodka, gin, tequila","16133","01. Vodka","18641","01. Import","18643","01. Slavic","18646","02. Unflavoured","18654","04. 0.5 L","","","X",null,"C.01.05","Vodka, gin, tequila","Vodka","Import","Slavic","Unflavoured","0.5 L","","18654",{"$f":"_xlfn.TEXTJOIN(\"; \",TRUE,ZCDT_EXPORT_2[[#This Row],[Sub-Category]:[Segment 5]])","v":"Vodka; Import; Slavic; Unflavoured; 0.5 L"}]
["AH","Baltic CDT","U3","03. Dry & Frozen","U3.01","01. Alcohol & Wine","C.01.05","05. Vodka, gin, tequila","16133","01. Vodka","18641","01. Import","18643","01. Slavic","18646","02. Unflavoured","18655","05. 0.35 L","","","X",null,"C.01.05","Vodka, gin, tequila","Vodka","Import","Slavic","Unflavoured","0.35 L","","18655",{"$f":"_xlfn.TEXTJOIN(\"; \",TRUE,ZCDT_EXPORT_2[[#This Row],[Sub-Category]:[Segment 5]])","v":"Vodka; Import; Slavic; Unflavoured; 0.35 L"}]
["AH","Baltic CDT","U3","03. Dry & Frozen","U3.01","01. Alcohol & Wine","C.01.05","05. Vodka, gin, tequila","16133","01. Vodka","18641","01. Import","18643","01. Slavic","18646","02. Unflavoured","18656","06. <= 0.2L","","","X",null,"C.01.05","Vodka, gin, tequila","Vodka","Import","Slavic","Unflavoured","<= 0.2L","","18656",{"$f":"_xlfn.TEXTJOIN(\"; \",TRUE,ZCDT_EXPORT_2[[#This Row],[Sub-Category]:[Segment 5]])","v":"Vodka; Import; Slavic; Unflavoured; <= 0.2L"}]
["AH","Baltic CDT","U3","03. Dry & Frozen","U3.01","01. Alcohol & Wine","C.01.05","05. Vodka, gin, tequila","16133","01. Vodka","18641","01. Import","18644","02. Other import","18657","01. Flavoured","18659","01. 0.7 L","","","X",null,"C.01.05","Vodka, gin, tequila","Vodka","Import","Other import","Flavoured","0.7 L","","18659",{"$f":"_xlfn.TEXTJOIN(\"; \",TRUE,ZCDT_EXPORT_2[[#This Row],[Sub-Category]:[Segment 5]])","v":"Vodka; Import; Other import; Flavoured; 0.7 L"}]
["AH","Baltic CDT","U3","03. Dry & Frozen","U3.01","01. Alcohol & Wine","C.01.05","05. Vodka, gin, tequila","16133","01. Vodka","18641","01. Import","18644","02. Other import","18657","01. Flavoured","18660","02. 0.5 L","","","X",null,"C.01.05","Vodka, gin, tequila","Vodka","Import","Other import","Flavoured","0.5 L","","18660",{"$f":"_xlfn.TEXTJOIN(\"; \",TRUE,ZCDT_EXPORT_2[[#This Row],[Sub-Category]:[Segment 5]])","v":"Vodka; Import; Other import; Flavoured; 0.5 L"}]
["AH","Baltic CDT","U3","03. Dry & Frozen","U3.01","01. Alcohol & Wine","C.01.05","05. Vodka, gin, tequila","16133","01. Vodka","18641","01. Import","18644","02. Other import","18657","01. Flavoured","18661","03. Other size","","","X",null,"C.01.05","Vodka, gin, tequila","Vodka","Import","Other import","Flavoured","Other size","","18661",{"$f":"_xlfn.TEXTJOIN(\"; \",TRUE,ZCDT_EXPORT_2[[#This Row],[Sub-Category]:[Segment 5]])","v":"Vodka; Import; Other import; Flavoured; Other size"}]
["AH","Baltic CDT","U3","03. Dry & Frozen","U3.01","01. Alcohol & Wine","C.01.05","05. Vodka, gin, tequila","16133","01. Vodka","18641","01. Import","18644","02. Other import","18658","02. Unflavoured","18662","01. >1.0 L","","","X",null,"C.01.05","Vodka, gin, tequila","Vodka","Import","Other import","Unflavoured",">1.0 L","","18662",{"$f":"_xlfn.TEXTJOIN(\"; \",TRUE,ZCDT_EXPORT_2[[#This Row],[Sub-Category]:[Segment 5]])","v":"Vodka; Import; Other import; Unflavoured; >1.0 L"}]
["AH","Baltic CDT","U3","03. Dry & Frozen","U3.01","01. Alcohol & Wine","C.01.05","05. Vodka, gin, tequila","16133","01. Vodka","18641","01. Import","18644","02. Other import","18658","02. Unflavoured","18663","02. 1L","","","X",null,"C.01.05","Vodka, gin, tequila","Vodka","Import","Other import","Unflavoured","1L","","18663",{"$f":"_xlfn.TEXTJOIN(\"; \",TRUE,ZCDT_EXPORT_2[[#This Row],[Sub-Category]:[Segment 5]])","v":"Vodka; Import; Other import; Unflavoured; 1L"}]
["AH","Baltic CDT","U3","03. Dry & Frozen","U3.01","01. Alcohol & Wine","C.01.05","05. Vodka, gin, tequila","16133","01. Vodka","18641","01. Import","18644","02. Other import","18658","02. Unflavoured","18664","03. 0.7 L","","","X",null,"C.01.05","Vodka, gin, tequila","Vodka","Import","Other import","Unflavoured","0.7 L","","18664",{"$f":"_xlfn.TEXTJOIN(\"; \",TRUE,ZCDT_EXPORT_2[[#This Row],[Sub-Category]:[Segment 5]])","v":"Vodka; Import; Other import; Unflavoured; 0.7 L"}]
["AH","Baltic CDT","U3","03. Dry & Frozen","U3.01","01. Alcohol & Wine","C.01.05","05. Vodka, gin, tequila","16133","01. Vodka","18641","01. Import","18644","02. Other import","18658","02. Unflavoured","18665","04. 0.5 L","","","X",null,"C.01.05","Vodka, gin, tequila","Vodka","Import","Other import","Unflavoured","0.5 L","","18665",{"$f":"_xlfn.TEXTJOIN(\"; \",TRUE,ZCDT_EXPORT_2[[#This Row],[Sub-Category]:[Segment 5]])","v":"Vodka; Import; Other import; Unflavoured; 0.5 L"}]
["AH","Baltic CDT","U3","03. Dry & Frozen","U3.01","01. Alcohol & Wine","C.01.05","05. Vodka, gin, tequila","16133","01. Vodka","18641","01. Import","18644","02. Other import","18658","02. Unflavoured","18666","05. 0.35 L","","","X",null,"C.01.05","Vodka, gin, tequila","Vodka","Import","Other import","Unflavoured","0.35 L","","18666",{"$f":"_xlfn.TEXTJOIN(\"; \",TRUE,ZCDT_EXPORT_2[[#This Row],[Sub-Category]:[Segment 5]])","v":"Vodka; Import; Other import; Unflavoured; 0.35 L"}]
["AH","Baltic CDT","U3","03. Dry & Frozen","U3.01","01. Alcohol & Wine","C.01.05","05. Vodka, gin, tequila","16133","01. Vodka","18641","01. Import","18644","02. Other import","18658","02. Unflavoured","18667","06. <= 0.2L","","","X",null,"C.01.05","Vodka, gin, tequila","Vodka","Import","Other import","Unflavoured","<= 0.2L","","18667",{"$f":"_xlfn.TEXTJOIN(\"; \",TRUE,ZCDT_EXPORT_2[[#This Row],[Sub-Category]:[Segment 5]])","v":"Vodka; Import; Other import; Unflavoured; <= 0.2L"}]
["AH","Baltic CDT","U3","03. Dry & Frozen","U3.01","01. Alcohol & Wine","C.01.05","05. Vodka, gin, tequila","16133","01. Vodka","18642","02. Local","18668","01. Estonian","18671","01. Flavoured","18673","01. 0.7 L","","","X",null,"C.01.05","Vodka, gin, tequila","Vodka","Local","Estonian","Flavoured","0.7 L","","18673",{"$f":"_xlfn.TEXTJOIN(\"; \",TRUE,ZCDT_EXPORT_2[[#This Row],[Sub-Category]:[Segment 5]])","v":"Vodka; Local; Estonian; Flavoured; 0.7 L"}]
["AH","Baltic CDT","U3","03. Dry & Frozen","U3.01","01. Alcohol & Wine","C.01.05","05. Vodka, gin, tequila","16133","01. Vodka","18642","02. Local","18668","01. Estonian","18671","01. Flavoured","18674","02. 0.5 L","","","X",null,"C.01.05","Vodka, gin, tequila","Vodka","Local","Estonian","Flavoured","0.5 L","","18674",{"$f":"_xlfn.TEXTJOIN(\"; \",TRUE,ZCDT_EXPORT_2[[#This Row],[Sub-Category]:[Segment 5]])","v":"Vodka; Local; Estonian; Flavoured; 0.5 L"}]
["AH","Baltic CDT","U3","03. Dry & Frozen","U3.01","01. Alcohol & Wine","C.01.05","05. Vodka, gin, tequila","16133","01. Vodka","18642","02. Local","18668","01. Estonian","18671","01. Flavoured","18675","03. Other size","","","X",null,"C.01.05","Vodka, gin, tequila","Vodka","Local","Estonian","Flavoured","Other size","","18675",{"$f":"_xlfn.TEXTJOIN(\"; \",TRUE,ZCDT_EXPORT_2[[#This Row],[Sub-Category]:[Segment 5]])","v":"Vodka; Local; Estonian; Flavoured; Other size"}]
["AH","Baltic CDT","U3","03. Dry & Frozen","U3.01","01. Alcohol & Wine","C.01.05","05. Vodka, gin, tequila","16133","01. Vodka","18642","02. Local","18668","01. Estonian","18672","02. Unflavoured","18676","01. >1.0 L","","","X",null,"C.01.05","Vodka, gin, tequila","Vodka","Local","Estonian","Unflavoured",">1.0 L","","18676",{"$f":"_xlfn.TEXTJOIN(\"; \",TRUE,ZCDT_EXPORT_2[[#This Row],[Sub-Category]:[Segment 5]])","v":"Vodka; Local; Estonian; Unflavoured; >1.0 L"}]
["AH","Baltic CDT","U3","03. Dry & Frozen","U3.01","01. Alcohol & Wine","C.01.05","05. Vodka, gin, tequila","16133","01. Vodka","18642","02. Local","18668","01. Estonian","18672","02. Unflavoured","18677","02. 1L","","","X",null,"C.01.05","Vodka, gin, tequila","Vodka","Local","Estonian","Unflavoured","1L","","18677",{"$f":"_xlfn.TEXTJOIN(\"; \",TRUE,ZCDT_EXPORT_2[[#This Row],[Sub-Category]:[Segment 5]])","v":"Vodka; Local; Estonian; Unflavoured; 1L"}]
["AH","Baltic CDT","U3","03. Dry & Frozen","U3.01","01. Alcohol & Wine","C.01.05","05. Vodka, gin, tequila","16133","01. Vodka","18642","02. Local","18668","01. Estonian","18672","02. Unflavoured","18678","03. 0.7 L","","","X",null,"C.01.05","Vodka, gin, tequila","Vodka","Local","Estonian","Unflavoured","0.7 L","","18678",{"$f":"_xlfn.TEXTJOIN(\"; \",TRUE,ZCDT_EXPORT_2[[#This Row],[Sub-Category]:[Segment 5]])","v":"Vodka; Local; Estonian; Unflavoured; 0.7 L"}]
["AH","Baltic CDT","U3","03. Dry & Frozen","U3.01","01. Alcohol & Wine","C.01.05","05. Vodka, gin, tequila","16133","01. Vodka","18642","02. Local","18668","01. Estonian","18672","02. Unflavoured","18679","04. 0.5 L","","","X",null,"C.01.05","Vodka, gin, tequila","Vodka","Local","Estonian","Unflavoured","0.5 L","","18679",{"$f":"_xlfn.TEXTJOIN(\"; \",TRUE,ZCDT_EXPORT_2[[#This Row],[Sub-Category]:[Segment 5]])","v":"Vodka; Local; Estonian; Unflavoured; 0.5 L"}]
["AH","Baltic CDT","U3","03. Dry & Frozen","U3.01","01. Alcohol & Wine","C.01.05","05. Vodka, gin, tequila","16133","01. Vodka","18642","02. Local","18668","01. Estonian","18672","02. Unflavoured","18680","05. 0.35 L","","","X",null,"C.01.05","Vodka, gin, tequila","Vodka","Local","Estonian","Unflavoured","0.35 L","","18680",{"$f":"_xlfn.TEXTJOIN(\"; \",TRUE,ZCDT_EXPORT_2[[#This Row],[Sub-Category]:[Segment 5]])","v":"Vodka; Local; Estonian; Unflavoured; 0.35 L"}]
["AH","Baltic CDT","U3","03. Dry & Frozen","U3.01","01. Alcohol & Wine","C.01.05","05. Vodka, gin, tequila","16133","01. Vodka","18642","02. Local","18668","01. Estonian","18672","02. Unflavoured","18681","06. <= 0.2L","","","X",null,"C.01.05","Vodka, gin, tequila","Vodka","Local","Estonian","Unflavoured","<= 0.2L","","18681",{"$f":"_xlfn.TEXTJOIN(\"; \",TRUE,ZCDT_EXPORT_2[[#This Row],[Sub-Category]:[Segment 5]])","v":"Vodka; Local; Estonian; Unflavoured; <= 0.2L"}]
["AH","Baltic CDT","U3","03. Dry & Frozen","U3.01","01. Alcohol & Wine","C.01.05","05. Vodka, gin, tequila","16133","01. Vodka","18642","02. Local","18669","02. Latvian","18682","01. Flavoured","18684","01. 0.7 L","","","X",null,"C.01.05","Vodka, gin, tequila","Vodka","Local","Latvian","Flavoured","0.7 L","","18684",{"$f":"_xlfn.TEXTJOIN(\"; \",TRUE,ZCDT_EXPORT_2[[#This Row],[Sub-Category]:[Segment 5]])","v":"Vodka; Local; Latvian; Flavoured; 0.7 L"}]
["AH","Baltic CDT","U3","03. Dry & Frozen","U3.01","01. Alcohol & Wine","C.01.05","05. Vodka, gin, tequila","16133","01. Vodka","18642","02. Local","18669","02. Latvian","18682","01. Flavoured","18685","02. 0.5 L","","","X",null,"C.01.05","Vodka, gin, tequila","Vodka","Local","Latvian","Flavoured","0.5 L","","18685",{"$f":"_xlfn.TEXTJOIN(\"; \",TRUE,ZCDT_EXPORT_2[[#This Row],[Sub-Category]:[Segment 5]])","v":"Vodka; Local; Latvian; Flavoured; 0.5 L"}]
["AH","Baltic CDT","U3","03. Dry & Frozen","U3.01","01. Alcohol & Wine","C.01.05","05. Vodka, gin, tequila","16133","01. Vodka","18642","02. Local","18669","02. Latvian","18682","01. Flavoured","18686","03. Other size","","","X",null,"C.01.05","Vodka, gin, tequila","Vodka","Local","Latvian","Flavoured","Other size","","18686",{"$f":"_xlfn.TEXTJOIN(\"; \",TRUE,ZCDT_EXPORT_2[[#This Row],[Sub-Category]:[Segment 5]])","v":"Vodka; Local; Latvian; Flavoured; Other size"}]
["AH","Baltic CDT","U3","03. Dry & Frozen","U3.01","01. Alcohol & Wine","C.01.05","05. Vodka, gin, tequila","16133","01. Vodka","18642","02. Local","18669","02. Latvian","18683","02. Unflavoured","18687","01. >1.0 L","","","X",null,"C.01.05","Vodka, gin, tequila","Vodka","Local","Latvian","Unflavoured",">1.0 L","","18687",{"$f":"_xlfn.TEXTJOIN(\"; \",TRUE,ZCDT_EXPORT_2[[#This Row],[Sub-Category]:[Segment 5]])","v":"Vodka; Local; Latvian; Unflavoured; >1.0 L"}]
["AH","Baltic CDT","U3","03. Dry & Frozen","U3.01","01. Alcohol & Wine","C.01.05","05. Vodka, gin, tequila","16133","01. Vodka","18642","02. Local","18669","02. Latvian","18683","02. Unflavoured","18688","02. 1L","","","X",null,"C.01.05","Vodka, gin, tequila","Vodka","Local","Latvian","Unflavoured","1L","","18688",{"$f":"_xlfn.TEXTJOIN(\"; \",TRUE,ZCDT_EXPORT_2[[#This Row],[Sub-Category]:[Segment 5]])","v":"Vodka; Local; Latvian; Unflavoured; 1L"}]
["AH","Baltic CDT","U3","03. Dry & Frozen","U3.01","01. Alcohol & Wine","C.01.05","05. Vodka, gin, tequila","16133","01. Vodka","18642","02. Local","18669","02. Latvian","18683","02. Unflavoured","18689","03. 0.7 L","","","X",null,"C.01.05","Vodka, gin, tequila","Vodka","Local","Latvian","Unflavoured","0.7 L","","18689",{"$f":"_xlfn.TEXTJOIN(\"; \",TRUE,ZCDT_EXPORT_2[[#This Row],[Sub-Category]:[Segment 5]])","v":"Vodka; Local; Latvian; Unflavoured; 0.7 L"}]
["AH","Baltic CDT","U3","03. Dry & Frozen","U3.01","01. Alcohol & Wine","C.01.05","05. Vodka, gin, tequila","16133","01. Vodka","18642","02. Local","18669","02. Latvian","18683","02. Unflavoured","18690","04. 0.5 L","","","X",null,"C.01.05","Vodka, gin, tequila","Vodka","Local","Latvian","Unflavoured","0.5 L","","18690",{"$f":"_xlfn.TEXTJOIN(\"; \",TRUE,ZCDT_EXPORT_2[[#This Row],[Sub-Category]:[Segment 5]])","v":"Vodka; Local; Latvian; Unflavoured; 0.5 L"}]
["AH","Baltic CDT","U3","03. Dry & Frozen","U3.01","01. Alcohol & Wine","C.01.05","05. Vodka, gin, tequila","16133","01. Vodka","18642","02. Local","18669","02. Latvian","18683","02. Unflavoured","18691","05. 0.35 L","","","X",null,"C.01.05","Vodka, gin, tequila","Vodka","Local","Latvian","Unflavoured","0.35 L","","18691",{"$f":"_xlfn.TEXTJOIN(\"; \",TRUE,ZCDT_EXPORT_2[[#This Row],[Sub-Category]:[Segment 5]])","v":"Vodka; Local; Latvian; Unflavoured; 0.35 L"}]
["AH","Baltic CDT","U3","03. Dry & Frozen","U3.01","01. Alcohol & Wine","C.01.05","05. Vodka, gin, tequila","16133","01. Vodka","18642","02. Local","18669","02. Latvian","18683","02. Unflavoured","18692","06. <= 0.2L","","","X",null,"C.01.05","Vodka, gin, tequila","Vodka","Local","Latvian","Unflavoured","<= 0.2L","","18692",{"$f":"_xlfn.TEXTJOIN(\"; \",TRUE,ZCDT_EXPORT_2[[#This Row],[Sub-Category]:[Segment 5]])","v":"Vodka; Local; Latvian; Unflavoured; <= 0.2L"}]
["AH","Baltic CDT","U3","03. Dry & Frozen","U3.01","01. Alcohol & Wine","C.01.05","05. Vodka, gin, tequila","16133","01. Vodka","18642","02. Local","18670","03. Lithuanian","18693","01. Flavoured","18695","01. 0.7 L","","","X",null,"C.01.05","Vodka, gin, tequila","Vodka","Local","Lithuanian","Flavoured","0.7 L","","18695",{"$f":"_xlfn.TEXTJOIN(\"; \",TRUE,ZCDT_EXPORT_2[[#This Row],[Sub-Category]:[Segment 5]])","v":"Vodka; Local; Lithuanian; Flavoured; 0.7 L"}]
["AH","Baltic CDT","U3","03. Dry & Frozen","U3.01","01. Alcohol & Wine","C.01.05","05. Vodka, gin, tequila","16133","01. Vodka","18642","02. Local","18670","03. Lithuanian","18693","01. Flavoured","18696","02. 0.5 L","","","X",null,"C.01.05","Vodka, gin, tequila","Vodka","Local","Lithuanian","Flavoured","0.5 L","","18696",{"$f":"_xlfn.TEXTJOIN(\"; \",TRUE,ZCDT_EXPORT_2[[#This Row],[Sub-Category]:[Segment 5]])","v":"Vodka; Local; Lithuanian; Flavoured; 0.5 L"}]
["AH","Baltic CDT","U3","03. Dry & Frozen","U3.01","01. Alcohol & Wine","C.01.05","05. Vodka, gin, tequila","16133","01. Vodka","18642","02. Local","18670","03. Lithuanian","18693","01. Flavoured","18697","03. Other size","","","X",null,"C.01.05","Vodka, gin, tequila","Vodka","Local","Lithuanian","Flavoured","Other size","","18697",{"$f":"_xlfn.TEXTJOIN(\"; \",TRUE,ZCDT_EXPORT_2[[#This Row],[Sub-Category]:[Segment 5]])","v":"Vodka; Local; Lithuanian; Flavoured; Other size"}]
["AH","Baltic CDT","U3","03. Dry & Frozen","U3.01","01. Alcohol & Wine","C.01.05","05. Vodka, gin, tequila","16133","01. Vodka","18642","02. Local","18670","03. Lithuanian","18694","02. Unflavoured","18698","01. >1.0 L","","","X",null,"C.01.05","Vodka, gin, tequila","Vodka","Local","Lithuanian","Unflavoured",">1.0 L","","18698",{"$f":"_xlfn.TEXTJOIN(\"; \",TRUE,ZCDT_EXPORT_2[[#This Row],[Sub-Category]:[Segment 5]])","v":"Vodka; Local; Lithuanian; Unflavoured; >1.0 L"}]
["AH","Baltic CDT","U3","03. Dry & Frozen","U3.01","01. Alcohol & Wine","C.01.05","05. Vodka, gin, tequila","16133","01. Vodka","18642","02. Local","18670","03. Lithuanian","18694","02. Unflavoured","18699","02. 1L","","","X",null,"C.01.05","Vodka, gin, tequila","Vodka","Local","Lithuanian","Unflavoured","1L","","18699",{"$f":"_xlfn.TEXTJOIN(\"; \",TRUE,ZCDT_EXPORT_2[[#This Row],[Sub-Category]:[Segment 5]])","v":"Vodka; Local; Lithuanian; Unflavoured; 1L"}]
["AH","Baltic CDT","U3","03. Dry & Frozen","U3.01","01. Alcohol & Wine","C.01.05","05. Vodka, gin, tequila","16133","01. Vodka","18642","02. Local","18670","03. Lithuanian","18694","02. Unflavoured","18700","03. 0.7 L","","","X",null,"C.01.05","Vodka, gin, tequila","Vodka","Local","Lithuanian","Unflavoured","0.7 L","","18700",{"$f":"_xlfn.TEXTJOIN(\"; \",TRUE,ZCDT_EXPORT_2[[#This Row],[Sub-Category]:[Segment 5]])","v":"Vodka; Local; Lithuanian; Unflavoured; 0.7 L"}]
["AH","Baltic CDT","U3","03. Dry & Frozen","U3.01","01. Alcohol & Wine","C.01.05","05. Vodka, gin, tequila","16133","01. Vodka","18642","02. Local","18670","03. Lithuanian","18694","02. Unflavoured","18701","04. 0.5 L","","","X",null,"C.01.05","Vodka, gin, tequila","Vodka","Local","Lithuanian","Unflavoured","0.5 L","","18701",{"$f":"_xlfn.TEXTJOIN(\"; \",TRUE,ZCDT_EXPORT_2[[#This Row],[Sub-Category]:[Segment 5]])","v":"Vodka; Local; Lithuanian; Unflavoured; 0.5 L"}]
["AH","Baltic CDT","U3","03. Dry & Frozen","U3.01","01. Alcohol & Wine","C.01.05","05. Vodka, gin, tequila","16133","01. Vodka","18642","02. Local","18670","03. Lithuanian","18694","02. Unflavoured","18702","05. 0.35 L","","","X",null,"C.01.05","Vodka, gin, tequila","Vodka","Local","Lithuanian","Unflavoured","0.35 L","","18702",{"$f":"_xlfn.TEXTJOIN(\"; \",TRUE,ZCDT_EXPORT_2[[#This Row],[Sub-Category]:[Segment 5]])","v":"Vodka; Local; Lithuanian; Unflavoured; 0.35 L"}]
["AH","Baltic CDT","U3","03. Dry & Frozen","U3.01","01. Alcohol & Wine","C.01.05","05. Vodka, gin, tequila","16133","01. Vodka","18642","02. Local","18670","03. Lithuanian","18694","02. Unflavoured","18703","06. <= 0.2L","","","X",null,"C.01.05","Vodka, gin, tequila","Vodka","Local","Lithuanian","Unflavoured","<= 0.2L","","18703",{"$f":"_xlfn.TEXTJOIN(\"; \",TRUE,ZCDT_EXPORT_2[[#This Row],[Sub-Category]:[Segment 5]])","v":"Vodka; Local; Lithuanian; Unflavoured; <= 0.2L"}]
["AH","Baltic CDT","U3","03. Dry & Frozen","U3.01","01. Alcohol & Wine","C.01.05","05. Vodka, gin, tequila","16134","02. Gin","","","","","","","","","","","X",null,"C.01.05","Vodka, gin, tequila","Gin","","","","","","16134",{"$f":"_xlfn.TEXTJOIN(\"; \",TRUE,ZCDT_EXPORT_2[[#This Row],[Sub-Category]:[Segment 5]])","v":"Gin"}]
["AH","Baltic CDT","U3","03. Dry & Frozen","U3.01","01. Alcohol & Wine","C.01.05","05. Vodka, gin, tequila","16135","03. Tequila","","","","","","","","","","","X",null,"C.01.05","Vodka, gin, tequila","Tequila","","","","","","16135",{"$f":"_xlfn.TEXTJOIN(\"; \",TRUE,ZCDT_EXPORT_2[[#This Row],[Sub-Category]:[Segment 5]])","v":"Tequila"}]
["AH","Baltic CDT","U3","03. Dry & Frozen","U3.01","01. Alcohol & Wine","C.01.05","05. Vodka, gin, tequila","18940","04. Other spirits","","","","","","","","","","","X",null,"C.01.05","Vodka, gin, tequila","Other spirits","","","","","","18940",{"$f":"_xlfn.TEXTJOIN(\"; \",TRUE,ZCDT_EXPORT_2[[#This Row],[Sub-Category]:[Segment 5]])","v":"Other spirits"}]
["AH","Baltic CDT","U3","03. Dry & Frozen","U3.02","02. Local drinks & Tobacco","C.03.01","07. Beer, cider, long drinks, cocktails","16661","01. Beer","16671","01. Latvia","16675","01. Bottle","16679","01. Cocktail","","","","","X",null,"C.03.01","Beer, cider, long drinks, cocktails","Beer","Latvia","Bottle","Cocktail","","","16679",{"$f":"_xlfn.TEXTJOIN(\"; \",TRUE,ZCDT_EXPORT_2[[#This Row],[Sub-Category]:[Segment 5]])","v":"Beer; Latvia; Bottle; Cocktail"}]
["AH","Baltic CDT","U3","03. Dry & Frozen","U3.02","02. Local drinks & Tobacco","C.03.01","07. Beer, cider, long drinks, cocktails","16661","01. Beer","16671","01. Latvia","16675","01. Bottle","16681","02. Light","","","","","X",null,"C.03.01","Beer, cider, long drinks, cocktails","Beer","Latvia","Bottle","Light","","","16681",{"$f":"_xlfn.TEXTJOIN(\"; \",TRUE,ZCDT_EXPORT_2[[#This Row],[Sub-Category]:[Segment 5]])","v":"Beer; Latvia; Bottle; Light"}]
["AH","Baltic CDT","U3","03. Dry & Frozen","U3.02","02. Local drinks & Tobacco","C.03.01","07. Beer, cider, long drinks, cocktails","16661","01. Beer","16671","01. Latvia","16675","01. Bottle","16682","03. Dark","","","","","X",null,"C.03.01","Beer, cider, long drinks, cocktails","Beer","Latvia","Bottle","Dark","","","16682",{"$f":"_xlfn.TEXTJOIN(\"; \",TRUE,ZCDT_EXPORT_2[[#This Row],[Sub-Category]:[Segment 5]])","v":"Beer; Latvia; Bottle; Dark"}]
["AH","Baltic CDT","U3","03. Dry & Frozen","U3.02","02. Local drinks & Tobacco","C.03.01","07. Beer, cider, long drinks, cocktails","16661","01. Beer","16671","01. Latvia","16676","02. Can","16683","01. Cocktail","","","","","X",null,"C.03.01","Beer, cider, long drinks, cocktails","Beer","Latvia","Can","Cocktail","","","16683",{"$f":"_xlfn.TEXTJOIN(\"; \",TRUE,ZCDT_EXPORT_2[[#This Row],[Sub-Category]:[Segment 5]])","v":"Beer; Latvia; Can; Cocktail"}]
["AH","Baltic CDT","U3","03. Dry & Frozen","U3.02","02. Local drinks & Tobacco","C.03.01","07. Beer, cider, long drinks, cocktails","16661","01. Beer","16671","01. Latvia","16676","02. Can","16684","02. Light","","","","","X",null,"C.03.01","Beer, cider, long drinks, cocktails","Beer","Latvia","Can","Light","","","16684",{"$f":"_xlfn.TEXTJOIN(\"; \",TRUE,ZCDT_EXPORT_2[[#This Row],[Sub-Category]:[Segment 5]])","v":"Beer; Latvia; Can; Light"}]
["AH","Baltic CDT","U3","03. Dry & Frozen","U3.02","02. Local drinks & Tobacco","C.03.01","07. Beer, cider, long drinks, cocktails","16661","01. Beer","16671","01. Latvia","16676","02. Can","16685","03. Dark","","","","","X",null,"C.03.01","Beer, cider, long drinks, cocktails","Beer","Latvia","Can","Dark","","","16685",{"$f":"_xlfn.TEXTJOIN(\"; \",TRUE,ZCDT_EXPORT_2[[#This Row],[Sub-Category]:[Segment 5]])","v":"Beer; Latvia; Can; Dark"}]
["AH","Baltic CDT","U3","03. Dry & Frozen","U3.02","02. Local drinks & Tobacco","C.03.01","07. Beer, cider, long drinks, cocktails","16661","01. Beer","16671","01. Latvia","16677","03. Multipack","","","","","","","X",null,"C.03.01","Beer, cider, long drinks, cocktails","Beer","Latvia","Multipack","","","","16677",{"$f":"_xlfn.TEXTJOIN(\"; \",TRUE,ZCDT_EXPORT_2[[#This Row],[Sub-Category]:[Segment 5]])","v":"Beer; Latvia; Multipack"}]
["AH","Baltic CDT","U3","03. Dry & Frozen","U3.02","02. Local drinks & Tobacco","C.03.01","07. Beer, cider, long drinks, cocktails","16661","01. Beer","16671","01. Latvia","16678","04. Pet","16686","01. Cocktail","","","","","X",null,"C.03.01","Beer, cider, long drinks, cocktails","Beer","Latvia","Pet","Cocktail","","","16686",{"$f":"_xlfn.TEXTJOIN(\"; \",TRUE,ZCDT_EXPORT_2[[#This Row],[Sub-Category]:[Segment 5]])","v":"Beer; Latvia; Pet; Cocktail"}]
["AH","Baltic CDT","U3","03. Dry & Frozen","U3.02","02. Local drinks & Tobacco","C.03.01","07. Beer, cider, long drinks, cocktails","16661","01. Beer","16671","01. Latvia","16678","04. Pet","16687","02. Light","","","","","X",null,"C.03.01","Beer, cider, long drinks, cocktails","Beer","Latvia","Pet","Light","","","16687",{"$f":"_xlfn.TEXTJOIN(\"; \",TRUE,ZCDT_EXPORT_2[[#This Row],[Sub-Category]:[Segment 5]])","v":"Beer; Latvia; Pet; Light"}]
["AH","Baltic CDT","U3","03. Dry & Frozen","U3.02","02. Local drinks & Tobacco","C.03.01","07. Beer, cider, long drinks, cocktails","16661","01. Beer","16671","01. Latvia","16678","04. Pet","16688","03. Dark","","","","","X",null,"C.03.01","Beer, cider, long drinks, cocktails","Beer","Latvia","Pet","Dark","","","16688",{"$f":"_xlfn.TEXTJOIN(\"; \",TRUE,ZCDT_EXPORT_2[[#This Row],[Sub-Category]:[Segment 5]])","v":"Beer; Latvia; Pet; Dark"}]
["AH","Baltic CDT","U3","03. Dry & Frozen","U3.02","02. Local drinks & Tobacco","C.03.01","07. Beer, cider, long drinks, cocktails","16661","01. Beer","16672","02. Estonia","16689","01. Bottle","16693","01. Cocktail","","","","","X",null,"C.03.01","Beer, cider, long drinks, cocktails","Beer","Estonia","Bottle","Cocktail","","","16693",{"$f":"_xlfn.TEXTJOIN(\"; \",TRUE,ZCDT_EXPORT_2[[#This Row],[Sub-Category]:[Segment 5]])","v":"Beer; Estonia; Bottle; Cocktail"}]
["AH","Baltic CDT","U3","03. Dry & Frozen","U3.02","02. Local drinks & Tobacco","C.03.01","07. Beer, cider, long drinks, cocktails","16661","01. Beer","16672","02. Estonia","16689","01. Bottle","16694","02. Light","","","","","X",null,"C.03.01","Beer, cider, long drinks, cocktails","Beer","Estonia","Bottle","Light","","","16694",{"$f":"_xlfn.TEXTJOIN(\"; \",TRUE,ZCDT_EXPORT_2[[#This Row],[Sub-Category]:[Segment 5]])","v":"Beer; Estonia; Bottle; Light"}]
["AH","Baltic CDT","U3","03. Dry & Frozen","U3.02","02. Local drinks & Tobacco","C.03.01","07. Beer, cider, long drinks, cocktails","16661","01. Beer","16672","02. Estonia","16689","01. Bottle","16695","03. Dark","","","","","X",null,"C.03.01","Beer, cider, long drinks, cocktails","Beer","Estonia","Bottle","Dark","","","16695",{"$f":"_xlfn.TEXTJOIN(\"; \",TRUE,ZCDT_EXPORT_2[[#This Row],[Sub-Category]:[Segment 5]])","v":"Beer; Estonia; Bottle; Dark"}]
["AH","Baltic CDT","U3","03. Dry & Frozen","U3.02","02. Local drinks & Tobacco","C.03.01","07. Beer, cider, long drinks, cocktails","16661","01. Beer","16672","02. Estonia","16690","02. Can","16696","01. Cocktail","","","","","X",null,"C.03.01","Beer, cider, long drinks, cocktails","Beer","Estonia","Can","Cocktail","","","16696",{"$f":"_xlfn.TEXTJOIN(\"; \",TRUE,ZCDT_EXPORT_2[[#This Row],[Sub-Category]:[Segment 5]])","v":"Beer; Estonia; Can; Cocktail"}]
["AH","Baltic CDT","U3","03. Dry & Frozen","U3.02","02. Local drinks & Tobacco","C.03.01","07. Beer, cider, long drinks, cocktails","16661","01. Beer","16672","02. Estonia","16690","02. Can","16697","02. Light","","","","","X",null,"C.03.01","Beer, cider, long drinks, cocktails","Beer","Estonia","Can","Light","","","16697",{"$f":"_xlfn.TEXTJOIN(\"; \",TRUE,ZCDT_EXPORT_2[[#This Row],[Sub-Category]:[Segment 5]])","v":"Beer; Estonia; Can; Light"}]
["AH","Baltic CDT","U3","03. Dry & Frozen","U3.02","02. Local drinks & Tobacco","C.03.01","07. Beer, cider, long drinks, cocktails","16661","01. Beer","16672","02. Estonia","16690","02. Can","16698","03. Dark","","","","","X",null,"C.03.01","Beer, cider, long drinks, cocktails","Beer","Estonia","Can","Dark","","","16698",{"$f":"_xlfn.TEXTJOIN(\"; \",TRUE,ZCDT_EXPORT_2[[#This Row],[Sub-Category]:[Segment 5]])","v":"Beer; Estonia; Can; Dark"}]
["AH","Baltic CDT","U3","03. Dry & Frozen","U3.02","02. Local drinks & Tobacco","C.03.01","07. Beer, cider, long drinks, cocktails","16661","01. Beer","16672","02. Estonia","16691","03. Multipack","","","","","","","X",null,"C.03.01","Beer, cider, long drinks, cocktails","Beer","Estonia","Multipack","","","","16691",{"$f":"_xlfn.TEXTJOIN(\"; \",TRUE,ZCDT_EXPORT_2[[#This Row],[Sub-Category]:[Segment 5]])","v":"Beer; Estonia; Multipack"}]
["AH","Baltic CDT","U3","03. Dry & Frozen","U3.02","02. Local drinks & Tobacco","C.03.01","07. Beer, cider, long drinks, cocktails","16661","01. Beer","16672","02. Estonia","16692","04. PET","16699","01. Cocktail","","","","","X",null,"C.03.01","Beer, cider, long drinks, cocktails","Beer","Estonia","PET","Cocktail","","","16699",{"$f":"_xlfn.TEXTJOIN(\"; \",TRUE,ZCDT_EXPORT_2[[#This Row],[Sub-Category]:[Segment 5]])","v":"Beer; Estonia; PET; Cocktail"}]
["AH","Baltic CDT","U3","03. Dry & Frozen","U3.02","02. Local drinks & Tobacco","C.03.01","07. Beer, cider, long drinks, cocktails","16661","01. Beer","16672","02. Estonia","16692","04. PET","16700","02. Light","","","","","X",null,"C.03.01","Beer, cider, long drinks, cocktails","Beer","Estonia","PET","Light","","","16700",{"$f":"_xlfn.TEXTJOIN(\"; \",TRUE,ZCDT_EXPORT_2[[#This Row],[Sub-Category]:[Segment 5]])","v":"Beer; Estonia; PET; Light"}]
["AH","Baltic CDT","U3","03. Dry & Frozen","U3.02","02. Local drinks & Tobacco","C.03.01","07. Beer, cider, long drinks, cocktails","16661","01. Beer","16672","02. Estonia","16692","04. PET","16701","03. Dark","","","","","X",null,"C.03.01","Beer, cider, long drinks, cocktails","Beer","Estonia","PET","Dark","","","16701",{"$f":"_xlfn.TEXTJOIN(\"; \",TRUE,ZCDT_EXPORT_2[[#This Row],[Sub-Category]:[Segment 5]])","v":"Beer; Estonia; PET; Dark"}]
["AH","Baltic CDT","U3","03. Dry & Frozen","U3.02","02. Local drinks & Tobacco","C.03.01","07. Beer, cider, long drinks, cocktails","16661","01. Beer","16673","03. Lithuania","16702","01. Bottle","16706","01. Cocktail","","","","","X",null,"C.03.01","Beer, cider, long drinks, cocktails","Beer","Lithuania","Bottle","Cocktail","","","16706",{"$f":"_xlfn.TEXTJOIN(\"; \",TRUE,ZCDT_EXPORT_2[[#This Row],[Sub-Category]:[Segment 5]])","v":"Beer; Lithuania; Bottle; Cocktail"}]
["AH","Baltic CDT","U3","03. Dry & Frozen","U3.02","02. Local drinks & Tobacco","C.03.01","07. Beer, cider, long drinks, cocktails","16661","01. Beer","16673","03. Lithuania","16702","01. Bottle","16707","02. Light","","","","","X",null,"C.03.01","Beer, cider, long drinks, cocktails","Beer","Lithuania","Bottle","Light","","","16707",{"$f":"_xlfn.TEXTJOIN(\"; \",TRUE,ZCDT_EXPORT_2[[#This Row],[Sub-Category]:[Segment 5]])","v":"Beer; Lithuania; Bottle; Light"}]
["AH","Baltic CDT","U3","03. Dry & Frozen","U3.02","02. Local drinks & Tobacco","C.03.01","07. Beer, cider, long drinks, cocktails","16661","01. Beer","16673","03. Lithuania","16702","01. Bottle","16708","03. Dark","","","","","X",null,"C.03.01","Beer, cider, long drinks, cocktails","Beer","Lithuania","Bottle","Dark","","","16708",{"$f":"_xlfn.TEXTJOIN(\"; \",TRUE,ZCDT_EXPORT_2[[#This Row],[Sub-Category]:[Segment 5]])","v":"Beer; Lithuania; Bottle; Dark"}]
["AH","Baltic CDT","U3","03. Dry & Frozen","U3.02","02. Local drinks & Tobacco","C.03.01","07. Beer, cider, long drinks, cocktails","16661","01. Beer","16673","03. Lithuania","16703","02. Can","16709","01. Cocktail","","","","","X",null,"C.03.01","Beer, cider, long drinks, cocktails","Beer","Lithuania","Can","Cocktail","","","16709",{"$f":"_xlfn.TEXTJOIN(\"; \",TRUE,ZCDT_EXPORT_2[[#This Row],[Sub-Category]:[Segment 5]])","v":"Beer; Lithuania; Can; Cocktail"}]
["AH","Baltic CDT","U3","03. Dry & Frozen","U3.02","02. Local drinks & Tobacco","C.03.01","07. Beer, cider, long drinks, cocktails","16661","01. Beer","16673","03. Lithuania","16703","02. Can","16710","02. Light","","","","","X",null,"C.03.01","Beer, cider, long drinks, cocktails","Beer","Lithuania","Can","Light","","","16710",{"$f":"_xlfn.TEXTJOIN(\"; \",TRUE,ZCDT_EXPORT_2[[#This Row],[Sub-Category]:[Segment 5]])","v":"Beer; Lithuania; Can; Light"}]
["AH","Baltic CDT","U3","03. Dry & Frozen","U3.02","02. Local drinks & Tobacco","C.03.01","07. Beer, cider, long drinks, cocktails","16661","01. Beer","16673","03. Lithuania","16703","02. Can","16711","03. Dark","","","","","X",null,"C.03.01","Beer, cider, long drinks, cocktails","Beer","Lithuania","Can","Dark","","","16711",{"$f":"_xlfn.TEXTJOIN(\"; \",TRUE,ZCDT_EXPORT_2[[#This Row],[Sub-Category]:[Segment 5]])","v":"Beer; Lithuania; Can; Dark"}]
["AH","Baltic CDT","U3","03. Dry & Frozen","U3.02","02. Local drinks & Tobacco","C.03.01","07. Beer, cider, long drinks, cocktails","16661","01. Beer","16673","03. Lithuania","16704","03. Multipack","","","","","","","X",null,"C.03.01","Beer, cider, long drinks, cocktails","Beer","Lithuania","Multipack","","","","16704",{"$f":"_xlfn.TEXTJOIN(\"; \",TRUE,ZCDT_EXPORT_2[[#This Row],[Sub-Category]:[Segment 5]])","v":"Beer; Lithuania; Multipack"}]
["AH","Baltic CDT","U3","03. Dry & Frozen","U3.02","02. Local drinks & Tobacco","C.03.01","07. Beer, cider, long drinks, cocktails","16661","01. Beer","16673","03. Lithuania","16705","04. PET","16712","01. Cocktail","","","","","X",null,"C.03.01","Beer, cider, long drinks, cocktails","Beer","Lithuania","PET","Cocktail","","","16712",{"$f":"_xlfn.TEXTJOIN(\"; \",TRUE,ZCDT_EXPORT_2[[#This Row],[Sub-Category]:[Segment 5]])","v":"Beer; Lithuania; PET; Cocktail"}]
["AH","Baltic CDT","U3","03. Dry & Frozen","U3.02","02. Local drinks & Tobacco","C.03.01","07. Beer, cider, long drinks, cocktails","16661","01. Beer","16673","03. Lithuania","16705","04. PET","16713","02. Light","","","","","X",null,"C.03.01","Beer, cider, long drinks, cocktails","Beer","Lithuania","PET","Light","","","16713",{"$f":"_xlfn.TEXTJOIN(\"; \",TRUE,ZCDT_EXPORT_2[[#This Row],[Sub-Category]:[Segment 5]])","v":"Beer; Lithuania; PET; Light"}]
["AH","Baltic CDT","U3","03. Dry & Frozen","U3.02","02. Local drinks & Tobacco","C.03.01","07. Beer, cider, long drinks, cocktails","16661","01. Beer","16673","03. Lithuania","16705","04. PET","16714","03. Dark","","","","","X",null,"C.03.01","Beer, cider, long drinks, cocktails","Beer","Lithuania","PET","Dark","","","16714",{"$f":"_xlfn.TEXTJOIN(\"; \",TRUE,ZCDT_EXPORT_2[[#This Row],[Sub-Category]:[Segment 5]])","v":"Beer; Lithuania; PET; Dark"}]
["AH","Baltic CDT","U3","03. Dry & Frozen","U3.02","02. Local drinks & Tobacco","C.03.01","07. Beer, cider, long drinks, cocktails","16661","01. Beer","16674","04. Import","16715","01. Germany","","","","","","","X",null,"C.03.01","Beer, cider, long drinks, cocktails","Beer","Import","Germany","","","","16715",{"$f":"_xlfn.TEXTJOIN(\"; \",TRUE,ZCDT_EXPORT_2[[#This Row],[Sub-Category]:[Segment 5]])","v":"Beer; Import; Germany"}]
["AH","Baltic CDT","U3","03. Dry & Frozen","U3.02","02. Local drinks & Tobacco","C.03.01","07. Beer, cider, long drinks, cocktails","16661","01. Beer","16674","04. Import","16716","02. Denmark","","","","","","","X",null,"C.03.01","Beer, cider, long drinks, cocktails","Beer","Import","Denmark","","","","16716",{"$f":"_xlfn.TEXTJOIN(\"; \",TRUE,ZCDT_EXPORT_2[[#This Row],[Sub-Category]:[Segment 5]])","v":"Beer; Import; Denmark"}]
["AH","Baltic CDT","U3","03. Dry & Frozen","U3.02","02. Local drinks & Tobacco","C.03.01","07. Beer, cider, long drinks, cocktails","16661","01. Beer","16674","04. Import","16717","03. Belgium","","","","","","","X",null,"C.03.01","Beer, cider, long drinks, cocktails","Beer","Import","Belgium","","","","16717",{"$f":"_xlfn.TEXTJOIN(\"; \",TRUE,ZCDT_EXPORT_2[[#This Row],[Sub-Category]:[Segment 5]])","v":"Beer; Import; Belgium"}]
["AH","Baltic CDT","U3","03. Dry & Frozen","U3.02","02. Local drinks & Tobacco","C.03.01","07. Beer, cider, long drinks, cocktails","16661","01. Beer","16674","04. Import","16719","04. Czech Rep","","","","","","","X",null,"C.03.01","Beer, cider, long drinks, cocktails","Beer","Import","Czech Rep","","","","16719",{"$f":"_xlfn.TEXTJOIN(\"; \",TRUE,ZCDT_EXPORT_2[[#This Row],[Sub-Category]:[Segment 5]])","v":"Beer; Import; Czech Rep"}]
["AH","Baltic CDT","U3","03. Dry & Frozen","U3.02","02. Local drinks & Tobacco","C.03.01","07. Beer, cider, long drinks, cocktails","16661","01. Beer","16674","04. Import","16720","05. UK+ Ireland","","","","","","","X",null,"C.03.01","Beer, cider, long drinks, cocktails","Beer","Import","UK+ Ireland","","","","16720",{"$f":"_xlfn.TEXTJOIN(\"; \",TRUE,ZCDT_EXPORT_2[[#This Row],[Sub-Category]:[Segment 5]])","v":"Beer; Import; UK+ Ireland"}]
["AH","Baltic CDT","U3","03. Dry & Frozen","U3.02","02. Local drinks & Tobacco","C.03.01","07. Beer, cider, long drinks, cocktails","16661","01. Beer","16674","04. Import","16721","06. Holland","","","","","","","X",null,"C.03.01","Beer, cider, long drinks, cocktails","Beer","Import","Holland","","","","16721",{"$f":"_xlfn.TEXTJOIN(\"; \",TRUE,ZCDT_EXPORT_2[[#This Row],[Sub-Category]:[Segment 5]])","v":"Beer; Import; Holland"}]
["AH","Baltic CDT","U3","03. Dry & Frozen","U3.02","02. Local drinks & Tobacco","C.03.01","07. Beer, cider, long drinks, cocktails","16661","01. Beer","16674","04. Import","16722","07. Mexico","","","","","","","X",null,"C.03.01","Beer, cider, long drinks, cocktails","Beer","Import","Mexico","","","","16722",{"$f":"_xlfn.TEXTJOIN(\"; \",TRUE,ZCDT_EXPORT_2[[#This Row],[Sub-Category]:[Segment 5]])","v":"Beer; Import; Mexico"}]
["AH","Baltic CDT","U3","03. Dry & Frozen","U3.02","02. Local drinks & Tobacco","C.03.01","07. Beer, cider, long drinks, cocktails","16661","01. Beer","16674","04. Import","16723","08. Slavic Type","","","","","","","X",null,"C.03.01","Beer, cider, long drinks, cocktails","Beer","Import","Slavic Type","","","","16723",{"$f":"_xlfn.TEXTJOIN(\"; \",TRUE,ZCDT_EXPORT_2[[#This Row],[Sub-Category]:[Segment 5]])","v":"Beer; Import; Slavic Type"}]
["AH","Baltic CDT","U3","03. Dry & Frozen","U3.02","02. Local drinks & Tobacco","C.03.01","07. Beer, cider, long drinks, cocktails","16661","01. Beer","16674","04. Import","16724","09. Other Europe","","","","","","","X",null,"C.03.01","Beer, cider, long drinks, cocktails","Beer","Import","Other Europe","","","","16724",{"$f":"_xlfn.TEXTJOIN(\"; \",TRUE,ZCDT_EXPORT_2[[#This Row],[Sub-Category]:[Segment 5]])","v":"Beer; Import; Other Europe"}]
["AH","Baltic CDT","U3","03. Dry & Frozen","U3.02","02. Local drinks & Tobacco","C.03.01","07. Beer, cider, long drinks, cocktails","16661","01. Beer","16674","04. Import","16725","10. Other World","","","","","","","X",null,"C.03.01","Beer, cider, long drinks, cocktails","Beer","Import","Other World","","","","16725",{"$f":"_xlfn.TEXTJOIN(\"; \",TRUE,ZCDT_EXPORT_2[[#This Row],[Sub-Category]:[Segment 5]])","v":"Beer; Import; Other World"}]
["AH","Baltic CDT","U3","03. Dry & Frozen","U3.02","02. Local drinks & Tobacco","C.03.01","07. Beer, cider, long drinks, cocktails","16662","02. Cider","16726","01. Can","","","","","","","","","X",null,"C.03.01","Beer, cider, long drinks, cocktails","Cider","Can","","","","","16726",{"$f":"_xlfn.TEXTJOIN(\"; \",TRUE,ZCDT_EXPORT_2[[#This Row],[Sub-Category]:[Segment 5]])","v":"Cider; Can"}]
["AH","Baltic CDT","U3","03. Dry & Frozen","U3.02","02. Local drinks & Tobacco","C.03.01","07. Beer, cider, long drinks, cocktails","16662","02. Cider","16727","02. Glass","16729","01. <=0.5","","","","","","","X",null,"C.03.01","Beer, cider, long drinks, cocktails","Cider","Glass","<=0.5","","","","16729",{"$f":"_xlfn.TEXTJOIN(\"; \",TRUE,ZCDT_EXPORT_2[[#This Row],[Sub-Category]:[Segment 5]])","v":"Cider; Glass; <=0.5"}]
["AH","Baltic CDT","U3","03. Dry & Frozen","U3.02","02. Local drinks & Tobacco","C.03.01","07. Beer, cider, long drinks, cocktails","16662","02. Cider","16727","02. Glass","16730","02. >0.5","","","","","","","X",null,"C.03.01","Beer, cider, long drinks, cocktails","Cider","Glass",">0.5","","","","16730",{"$f":"_xlfn.TEXTJOIN(\"; \",TRUE,ZCDT_EXPORT_2[[#This Row],[Sub-Category]:[Segment 5]])","v":"Cider; Glass; >0.5"}]
["AH","Baltic CDT","U3","03. Dry & Frozen","U3.02","02. Local drinks & Tobacco","C.03.01","07. Beer, cider, long drinks, cocktails","16662","02. Cider","16728","03. PET","","","","","","","","","X",null,"C.03.01","Beer, cider, long drinks, cocktails","Cider","PET","","","","","16728",{"$f":"_xlfn.TEXTJOIN(\"; \",TRUE,ZCDT_EXPORT_2[[#This Row],[Sub-Category]:[Segment 5]])","v":"Cider; PET"}]
["AH","Baltic CDT","U3","03. Dry & Frozen","U3.02","02. Local drinks & Tobacco","C.03.01","07. Beer, cider, long drinks, cocktails","16663","03. Long Drinks","16731","01. ABV <=7%","16733","01. Can","","","","","","","X",null,"C.03.01","Beer, cider, long drinks, cocktails","Long Drinks","ABV <=7%","Can","","","","16733",{"$f":"_xlfn.TEXTJOIN(\"; \",TRUE,ZCDT_EXPORT_2[[#This Row],[Sub-Category]:[Segment 5]])","v":"Long Drinks; ABV <=7%; Can"}]
["AH","Baltic CDT","U3","03. Dry & Frozen","U3.02","02. Local drinks & Tobacco","C.03.01","07. Beer, cider, long drinks, cocktails","16663","03. Long Drinks","16731","01. ABV <=7%","16734","02. Glass","","","","","","","X",null,"C.03.01","Beer, cider, long drinks, cocktails","Long Drinks","ABV <=7%","Glass","","","","16734",{"$f":"_xlfn.TEXTJOIN(\"; \",TRUE,ZCDT_EXPORT_2[[#This Row],[Sub-Category]:[Segment 5]])","v":"Long Drinks; ABV <=7%; Glass"}]
["AH","Baltic CDT","U3","03. Dry & Frozen","U3.02","02. Local drinks & Tobacco","C.03.01","07. Beer, cider, long drinks, cocktails","16663","03. Long Drinks","16731","01. ABV <=7%","16735","03. PET","16736","01. <=0.5","","","","","X",null,"C.03.01","Beer, cider, long drinks, cocktails","Long Drinks","ABV <=7%","PET","<=0.5","","","16736",{"$f":"_xlfn.TEXTJOIN(\"; \",TRUE,ZCDT_EXPORT_2[[#This Row],[Sub-Category]:[Segment 5]])","v":"Long Drinks; ABV <=7%; PET; <=0.5"}]
["AH","Baltic CDT","U3","03. Dry & Frozen","U3.02","02. Local drinks & Tobacco","C.03.01","07. Beer, cider, long drinks, cocktails","16663","03. Long Drinks","16731","01. ABV <=7%","16735","03. PET","16737","02. >0.5","","","","","X",null,"C.03.01","Beer, cider, long drinks, cocktails","Long Drinks","ABV <=7%","PET",">0.5","","","16737",{"$f":"_xlfn.TEXTJOIN(\"; \",TRUE,ZCDT_EXPORT_2[[#This Row],[Sub-Category]:[Segment 5]])","v":"Long Drinks; ABV <=7%; PET; >0.5"}]
["AH","Baltic CDT","U3","03. Dry & Frozen","U3.02","02. Local drinks & Tobacco","C.03.01","07. Beer, cider, long drinks, cocktails","16663","03. Long Drinks","16732","02. ABV >7%","16738","01. Can","","","","","","","X",null,"C.03.01","Beer, cider, long drinks, cocktails","Long Drinks","ABV >7%","Can","","","","16738",{"$f":"_xlfn.TEXTJOIN(\"; \",TRUE,ZCDT_EXPORT_2[[#This Row],[Sub-Category]:[Segment 5]])","v":"Long Drinks; ABV >7%; Can"}]
["AH","Baltic CDT","U3","03. Dry & Frozen","U3.02","02. Local drinks & Tobacco","C.03.01","07. Beer, cider, long drinks, cocktails","16663","03. Long Drinks","16732","02. ABV >7%","16739","02. Glass","","","","","","","X",null,"C.03.01","Beer, cider, long drinks, cocktails","Long Drinks","ABV >7%","Glass","","","","16739",{"$f":"_xlfn.TEXTJOIN(\"; \",TRUE,ZCDT_EXPORT_2[[#This Row],[Sub-Category]:[Segment 5]])","v":"Long Drinks; ABV >7%; Glass"}]
["AH","Baltic CDT","U3","03. Dry & Frozen","U3.02","02. Local drinks & Tobacco","C.03.01","07. Beer, cider, long drinks, cocktails","16663","03. Long Drinks","16732","02. ABV >7%","16740","03. PET","16741","01. <=0.5","","","","","X",null,"C.03.01","Beer, cider, long drinks, cocktails","Long Drinks","ABV >7%","PET","<=0.5","","","16741",{"$f":"_xlfn.TEXTJOIN(\"; \",TRUE,ZCDT_EXPORT_2[[#This Row],[Sub-Category]:[Segment 5]])","v":"Long Drinks; ABV >7%; PET; <=0.5"}]
["AH","Baltic CDT","U3","03. Dry & Frozen","U3.02","02. Local drinks & Tobacco","C.03.01","07. Beer, cider, long drinks, cocktails","16663","03. Long Drinks","16732","02. ABV >7%","16740","03. PET","16742","02. >0.5","","","","","X",null,"C.03.01","Beer, cider, long drinks, cocktails","Long Drinks","ABV >7%","PET",">0.5","","","16742",{"$f":"_xlfn.TEXTJOIN(\"; \",TRUE,ZCDT_EXPORT_2[[#This Row],[Sub-Category]:[Segment 5]])","v":"Long Drinks; ABV >7%; PET; >0.5"}]
["AH","Baltic CDT","U3","03. Dry & Frozen","U3.02","02. Local drinks & Tobacco","C.03.01","07. Beer, cider, long drinks, cocktails","16664","04. Alco Free Drinks","16743","01. Cider","","","","","","","","","X",null,"C.03.01","Beer, cider, long drinks, cocktails","Alco Free Drinks","Cider","","","","","16743",{"$f":"_xlfn.TEXTJOIN(\"; \",TRUE,ZCDT_EXPORT_2[[#This Row],[Sub-Category]:[Segment 5]])","v":"Alco Free Drinks; Cider"}]
["AH","Baltic CDT","U3","03. Dry & Frozen","U3.02","02. Local drinks & Tobacco","C.03.01","07. Beer, cider, long drinks, cocktails","16664","04. Alco Free Drinks","16744","02. Local Beer","","","","","","","","","X",null,"C.03.01","Beer, cider, long drinks, cocktails","Alco Free Drinks","Local Beer","","","","","16744",{"$f":"_xlfn.TEXTJOIN(\"; \",TRUE,ZCDT_EXPORT_2[[#This Row],[Sub-Category]:[Segment 5]])","v":"Alco Free Drinks; Local Beer"}]
["AH","Baltic CDT","U3","03. Dry & Frozen","U3.02","02. Local drinks & Tobacco","C.03.01","07. Beer, cider, long drinks, cocktails","16664","04. Alco Free Drinks","16745","03. Foreign Beer","","","","","","","","","X",null,"C.03.01","Beer, cider, long drinks, cocktails","Alco Free Drinks","Foreign Beer","","","","","16745",{"$f":"_xlfn.TEXTJOIN(\"; \",TRUE,ZCDT_EXPORT_2[[#This Row],[Sub-Category]:[Segment 5]])","v":"Alco Free Drinks; Foreign Beer"}]
["AH","Baltic CDT","U3","03. Dry & Frozen","U3.02","02. Local drinks & Tobacco","C.03.01","07. Beer, cider, long drinks, cocktails","16664","04. Alco Free Drinks","18781","04. Cocktails","","","","","","","","","X",null,"C.03.01","Beer, cider, long drinks, cocktails","Alco Free Drinks","Cocktails","","","","","18781",{"$f":"_xlfn.TEXTJOIN(\"; \",TRUE,ZCDT_EXPORT_2[[#This Row],[Sub-Category]:[Segment 5]])","v":"Alco Free Drinks; Cocktails"}]
["AH","Baltic CDT","U3","03. Dry & Frozen","U3.02","02. Local drinks & Tobacco","C.10.01","20. Juices and nectars, concentrates and","13716","01. Juices","13721","01. Apple-Pear","13744","01. <0,33","","","","","","","X",null,"C.10.01","Juices and nectars, concentrates and","Juices","Apple-Pear","<0,33","","","","13744",{"$f":"_xlfn.TEXTJOIN(\"; \",TRUE,ZCDT_EXPORT_2[[#This Row],[Sub-Category]:[Segment 5]])","v":"Juices; Apple-Pear; <0,33"}]
["AH","Baltic CDT","U3","03. Dry & Frozen","U3.02","02. Local drinks & Tobacco","C.10.01","20. Juices and nectars, concentrates and","13716","01. Juices","13721","01. Apple-Pear","13745","02. 0,33-0,5L","","","","","","","X",null,"C.10.01","Juices and nectars, concentrates and","Juices","Apple-Pear","0,33-0,5L","","","","13745",{"$f":"_xlfn.TEXTJOIN(\"; \",TRUE,ZCDT_EXPORT_2[[#This Row],[Sub-Category]:[Segment 5]])","v":"Juices; Apple-Pear; 0,33-0,5L"}]
["AH","Baltic CDT","U3","03. Dry & Frozen","U3.02","02. Local drinks & Tobacco","C.10.01","20. Juices and nectars, concentrates and","13716","01. Juices","13721","01. Apple-Pear","13746","03. 0,75-1L","","","","","","","X",null,"C.10.01","Juices and nectars, concentrates and","Juices","Apple-Pear","0,75-1L","","","","13746",{"$f":"_xlfn.TEXTJOIN(\"; \",TRUE,ZCDT_EXPORT_2[[#This Row],[Sub-Category]:[Segment 5]])","v":"Juices; Apple-Pear; 0,75-1L"}]
["AH","Baltic CDT","U3","03. Dry & Frozen","U3.02","02. Local drinks & Tobacco","C.10.01","20. Juices and nectars, concentrates and","13716","01. Juices","13721","01. Apple-Pear","13747","04. >1L","","","","","","","X",null,"C.10.01","Juices and nectars, concentrates and","Juices","Apple-Pear",">1L","","","","13747",{"$f":"_xlfn.TEXTJOIN(\"; \",TRUE,ZCDT_EXPORT_2[[#This Row],[Sub-Category]:[Segment 5]])","v":"Juices; Apple-Pear; >1L"}]
["AH","Baltic CDT","U3","03. Dry & Frozen","U3.02","02. Local drinks & Tobacco","C.10.01","20. Juices and nectars, concentrates and","13716","01. Juices","13722","02. Citrus","13748","01. <0,33","","","","","","","X",null,"C.10.01","Juices and nectars, concentrates and","Juices","Citrus","<0,33","","","","13748",{"$f":"_xlfn.TEXTJOIN(\"; \",TRUE,ZCDT_EXPORT_2[[#This Row],[Sub-Category]:[Segment 5]])","v":"Juices; Citrus; <0,33"}]
["AH","Baltic CDT","U3","03. Dry & Frozen","U3.02","02. Local drinks & Tobacco","C.10.01","20. Juices and nectars, concentrates and","13716","01. Juices","13722","02. Citrus","13749","02. 0,33-0,5L","","","","","","","X",null,"C.10.01","Juices and nectars, concentrates and","Juices","Citrus","0,33-0,5L","","","","13749",{"$f":"_xlfn.TEXTJOIN(\"; \",TRUE,ZCDT_EXPORT_2[[#This Row],[Sub-Category]:[Segment 5]])","v":"Juices; Citrus; 0,33-0,5L"}]
["AH","Baltic CDT","U3","03. Dry & Frozen","U3.02","02. Local drinks & Tobacco","C.10.01","20. Juices and nectars, concentrates and","13716","01. Juices","13722","02. Citrus","13750","03. 0,75-1L","","","","","","","X",null,"C.10.01","Juices and nectars, concentrates and","Juices","Citrus","0,75-1L","","","","13750",{"$f":"_xlfn.TEXTJOIN(\"; \",TRUE,ZCDT_EXPORT_2[[#This Row],[Sub-Category]:[Segment 5]])","v":"Juices; Citrus; 0,75-1L"}]
["AH","Baltic CDT","U3","03. Dry & Frozen","U3.02","02. Local drinks & Tobacco","C.10.01","20. Juices and nectars, concentrates and","13716","01. Juices","13722","02. Citrus","13751","04. >1L","","","","","","","X",null,"C.10.01","Juices and nectars, concentrates and","Juices","Citrus",">1L","","","","13751",{"$f":"_xlfn.TEXTJOIN(\"; \",TRUE,ZCDT_EXPORT_2[[#This Row],[Sub-Category]:[Segment 5]])","v":"Juices; Citrus; >1L"}]
["AH","Baltic CDT","U3","03. Dry & Frozen","U3.02","02. Local drinks & Tobacco","C.10.01","20. Juices and nectars, concentrates and","13716","01. Juices","13723","03. Berry","13752","01. <0,33","","","","","","","X",null,"C.10.01","Juices and nectars, concentrates and","Juices","Berry","<0,33","","","","13752",{"$f":"_xlfn.TEXTJOIN(\"; \",TRUE,ZCDT_EXPORT_2[[#This Row],[Sub-Category]:[Segment 5]])","v":"Juices; Berry; <0,33"}]
["AH","Baltic CDT","U3","03. Dry & Frozen","U3.02","02. Local drinks & Tobacco","C.10.01","20. Juices and nectars, concentrates and","13716","01. Juices","13723","03. Berry","13753","02. 0,33-0,5L","","","","","","","X",null,"C.10.01","Juices and nectars, concentrates and","Juices","Berry","0,33-0,5L","","","","13753",{"$f":"_xlfn.TEXTJOIN(\"; \",TRUE,ZCDT_EXPORT_2[[#This Row],[Sub-Category]:[Segment 5]])","v":"Juices; Berry; 0,33-0,5L"}]
["AH","Baltic CDT","U3","03. Dry & Frozen","U3.02","02. Local drinks & Tobacco","C.10.01","20. Juices and nectars, concentrates and","13716","01. Juices","13723","03. Berry","13754","03. 0,75-1L","","","","","","","X",null,"C.10.01","Juices and nectars, concentrates and","Juices","Berry","0,75-1L","","","","13754",{"$f":"_xlfn.TEXTJOIN(\"; \",TRUE,ZCDT_EXPORT_2[[#This Row],[Sub-Category]:[Segment 5]])","v":"Juices; Berry; 0,75-1L"}]
["AH","Baltic CDT","U3","03. Dry & Frozen","U3.02","02. Local drinks & Tobacco","C.10.01","20. Juices and nectars, concentrates and","13716","01. Juices","13723","03. Berry","13755","04. >1L","","","","","","","X",null,"C.10.01","Juices and nectars, concentrates and","Juices","Berry",">1L","","","","13755",{"$f":"_xlfn.TEXTJOIN(\"; \",TRUE,ZCDT_EXPORT_2[[#This Row],[Sub-Category]:[Segment 5]])","v":"Juices; Berry; >1L"}]
["AH","Baltic CDT","U3","03. Dry & Frozen","U3.02","02. Local drinks & Tobacco","C.10.01","20. Juices and nectars, concentrates and","13716","01. Juices","13724","04. Vegetable","13756","01. <0,33","","","","","","","X",null,"C.10.01","Juices and nectars, concentrates and","Juices","Vegetable","<0,33","","","","13756",{"$f":"_xlfn.TEXTJOIN(\"; \",TRUE,ZCDT_EXPORT_2[[#This Row],[Sub-Category]:[Segment 5]])","v":"Juices; Vegetable; <0,33"}]
["AH","Baltic CDT","U3","03. Dry & Frozen","U3.02","02. Local drinks & Tobacco","C.10.01","20. Juices and nectars, concentrates and","13716","01. Juices","13724","04. Vegetable","13757","02. 0,33-0,5L","","","","","","","X",null,"C.10.01","Juices and nectars, concentrates and","Juices","Vegetable","0,33-0,5L","","","","13757",{"$f":"_xlfn.TEXTJOIN(\"; \",TRUE,ZCDT_EXPORT_2[[#This Row],[Sub-Category]:[Segment 5]])","v":"Juices; Vegetable; 0,33-0,5L"}]
["AH","Baltic CDT","U3","03. Dry & Frozen","U3.02","02. Local drinks & Tobacco","C.10.01","20. Juices and nectars, concentrates and","13716","01. Juices","13724","04. Vegetable","13758","03. 0,75-1L","","","","","","","X",null,"C.10.01","Juices and nectars, concentrates and","Juices","Vegetable","0,75-1L","","","","13758",{"$f":"_xlfn.TEXTJOIN(\"; \",TRUE,ZCDT_EXPORT_2[[#This Row],[Sub-Category]:[Segment 5]])","v":"Juices; Vegetable; 0,75-1L"}]
["AH","Baltic CDT","U3","03. Dry & Frozen","U3.02","02. Local drinks & Tobacco","C.10.01","20. Juices and nectars, concentrates and","13716","01. Juices","13724","04. Vegetable","13759","04. >1L","","","","","","","X",null,"C.10.01","Juices and nectars, concentrates and","Juices","Vegetable",">1L","","","","13759",{"$f":"_xlfn.TEXTJOIN(\"; \",TRUE,ZCDT_EXPORT_2[[#This Row],[Sub-Category]:[Segment 5]])","v":"Juices; Vegetable; >1L"}]
["AH","Baltic CDT","U3","03. Dry & Frozen","U3.02","02. Local drinks & Tobacco","C.10.01","20. Juices and nectars, concentrates and","13716","01. Juices","13725","05. Exotic","13760","01. <0,33","","","","","","","X",null,"C.10.01","Juices and nectars, concentrates and","Juices","Exotic","<0,33","","","","13760",{"$f":"_xlfn.TEXTJOIN(\"; \",TRUE,ZCDT_EXPORT_2[[#This Row],[Sub-Category]:[Segment 5]])","v":"Juices; Exotic; <0,33"}]
["AH","Baltic CDT","U3","03. Dry & Frozen","U3.02","02. Local drinks & Tobacco","C.10.01","20. Juices and nectars, concentrates and","13716","01. Juices","13725","05. Exotic","13761","02. 0,33-0,5L","","","","","","","X",null,"C.10.01","Juices and nectars, concentrates and","Juices","Exotic","0,33-0,5L","","","","13761",{"$f":"_xlfn.TEXTJOIN(\"; \",TRUE,ZCDT_EXPORT_2[[#This Row],[Sub-Category]:[Segment 5]])","v":"Juices; Exotic; 0,33-0,5L"}]
["AH","Baltic CDT","U3","03. Dry & Frozen","U3.02","02. Local drinks & Tobacco","C.10.01","20. Juices and nectars, concentrates and","13716","01. Juices","13725","05. Exotic","13762","03. 0,75-1L","","","","","","","X",null,"C.10.01","Juices and nectars, concentrates and","Juices","Exotic","0,75-1L","","","","13762",{"$f":"_xlfn.TEXTJOIN(\"; \",TRUE,ZCDT_EXPORT_2[[#This Row],[Sub-Category]:[Segment 5]])","v":"Juices; Exotic; 0,75-1L"}]
["AH","Baltic CDT","U3","03. Dry & Frozen","U3.02","02. Local drinks & Tobacco","C.10.01","20. Juices and nectars, concentrates and","13716","01. Juices","13725","05. Exotic","13763","04. >1L","","","","","","","X",null,"C.10.01","Juices and nectars, concentrates and","Juices","Exotic",">1L","","","","13763",{"$f":"_xlfn.TEXTJOIN(\"; \",TRUE,ZCDT_EXPORT_2[[#This Row],[Sub-Category]:[Segment 5]])","v":"Juices; Exotic; >1L"}]
["AH","Baltic CDT","U3","03. Dry & Frozen","U3.02","02. Local drinks & Tobacco","C.10.01","20. Juices and nectars, concentrates and","13716","01. Juices","13726","06. Multifruit","13764","01. <0,33","","","","","","","X",null,"C.10.01","Juices and nectars, concentrates and","Juices","Multifruit","<0,33","","","","13764",{"$f":"_xlfn.TEXTJOIN(\"; \",TRUE,ZCDT_EXPORT_2[[#This Row],[Sub-Category]:[Segment 5]])","v":"Juices; Multifruit; <0,33"}]
["AH","Baltic CDT","U3","03. Dry & Frozen","U3.02","02. Local drinks & Tobacco","C.10.01","20. Juices and nectars, concentrates and","13716","01. Juices","13726","06. Multifruit","13765","02. 0,33-0,5L","","","","","","","X",null,"C.10.01","Juices and nectars, concentrates and","Juices","Multifruit","0,33-0,5L","","","","13765",{"$f":"_xlfn.TEXTJOIN(\"; \",TRUE,ZCDT_EXPORT_2[[#This Row],[Sub-Category]:[Segment 5]])","v":"Juices; Multifruit; 0,33-0,5L"}]
["AH","Baltic CDT","U3","03. Dry & Frozen","U3.02","02. Local drinks & Tobacco","C.10.01","20. Juices and nectars, concentrates and","13716","01. Juices","13726","06. Multifruit","13766","03. 0,75-1L","","","","","","","X",null,"C.10.01","Juices and nectars, concentrates and","Juices","Multifruit","0,75-1L","","","","13766",{"$f":"_xlfn.TEXTJOIN(\"; \",TRUE,ZCDT_EXPORT_2[[#This Row],[Sub-Category]:[Segment 5]])","v":"Juices; Multifruit; 0,75-1L"}]
["AH","Baltic CDT","U3","03. Dry & Frozen","U3.02","02. Local drinks & Tobacco","C.10.01","20. Juices and nectars, concentrates and","13716","01. Juices","13726","06. Multifruit","13767","04. >1L","","","","","","","X",null,"C.10.01","Juices and nectars, concentrates and","Juices","Multifruit",">1L","","","","13767",{"$f":"_xlfn.TEXTJOIN(\"; \",TRUE,ZCDT_EXPORT_2[[#This Row],[Sub-Category]:[Segment 5]])","v":"Juices; Multifruit; >1L"}]
["AH","Baltic CDT","U3","03. Dry & Frozen","U3.02","02. Local drinks & Tobacco","C.10.01","20. Juices and nectars, concentrates and","13717","02. Nectars","13728","01. Apple-Pear","13768","01. <0,33","","","","","","","X",null,"C.10.01","Juices and nectars, concentrates and","Nectars","Apple-Pear","<0,33","","","","13768",{"$f":"_xlfn.TEXTJOIN(\"; \",TRUE,ZCDT_EXPORT_2[[#This Row],[Sub-Category]:[Segment 5]])","v":"Nectars; Apple-Pear; <0,33"}]
["AH","Baltic CDT","U3","03. Dry & Frozen","U3.02","02. Local drinks & Tobacco","C.10.01","20. Juices and nectars, concentrates and","13717","02. Nectars","13728","01. Apple-Pear","13769","02. 0,33-0,5L","","","","","","","X",null,"C.10.01","Juices and nectars, concentrates and","Nectars","Apple-Pear","0,33-0,5L","","","","13769",{"$f":"_xlfn.TEXTJOIN(\"; \",TRUE,ZCDT_EXPORT_2[[#This Row],[Sub-Category]:[Segment 5]])","v":"Nectars; Apple-Pear; 0,33-0,5L"}]
["AH","Baltic CDT","U3","03. Dry & Frozen","U3.02","02. Local drinks & Tobacco","C.10.01","20. Juices and nectars, concentrates and","13717","02. Nectars","13728","01. Apple-Pear","13770","03. 0,75-1L","","","","","","","X",null,"C.10.01","Juices and nectars, concentrates and","Nectars","Apple-Pear","0,75-1L","","","","13770",{"$f":"_xlfn.TEXTJOIN(\"; \",TRUE,ZCDT_EXPORT_2[[#This Row],[Sub-Category]:[Segment 5]])","v":"Nectars; Apple-Pear; 0,75-1L"}]
["AH","Baltic CDT","U3","03. Dry & Frozen","U3.02","02. Local drinks & Tobacco","C.10.01","20. Juices and nectars, concentrates and","13717","02. Nectars","13728","01. Apple-Pear","13771","04. >1L","","","","","","","X",null,"C.10.01","Juices and nectars, concentrates and","Nectars","Apple-Pear",">1L","","","","13771",{"$f":"_xlfn.TEXTJOIN(\"; \",TRUE,ZCDT_EXPORT_2[[#This Row],[Sub-Category]:[Segment 5]])","v":"Nectars; Apple-Pear; >1L"}]
["AH","Baltic CDT","U3","03. Dry & Frozen","U3.02","02. Local drinks & Tobacco","C.10.01","20. Juices and nectars, concentrates and","13717","02. Nectars","13729","02. Citrus","13775","01. <0,33","","","","","","","X",null,"C.10.01","Juices and nectars, concentrates and","Nectars","Citrus","<0,33","","","","13775",{"$f":"_xlfn.TEXTJOIN(\"; \",TRUE,ZCDT_EXPORT_2[[#This Row],[Sub-Category]:[Segment 5]])","v":"Nectars; Citrus; <0,33"}]
["AH","Baltic CDT","U3","03. Dry & Frozen","U3.02","02. Local drinks & Tobacco","C.10.01","20. Juices and nectars, concentrates and","13717","02. Nectars","13729","02. Citrus","13776","02. 0,33-0,5L","","","","","","","X",null,"C.10.01","Juices and nectars, concentrates and","Nectars","Citrus","0,33-0,5L","","","","13776",{"$f":"_xlfn.TEXTJOIN(\"; \",TRUE,ZCDT_EXPORT_2[[#This Row],[Sub-Category]:[Segment 5]])","v":"Nectars; Citrus; 0,33-0,5L"}]
["AH","Baltic CDT","U3","03. Dry & Frozen","U3.02","02. Local drinks & Tobacco","C.10.01","20. Juices and nectars, concentrates and","13717","02. Nectars","13729","02. Citrus","13777","03. 0,75-1L","","","","","","","X",null,"C.10.01","Juices and nectars, concentrates and","Nectars","Citrus","0,75-1L","","","","13777",{"$f":"_xlfn.TEXTJOIN(\"; \",TRUE,ZCDT_EXPORT_2[[#This Row],[Sub-Category]:[Segment 5]])","v":"Nectars; Citrus; 0,75-1L"}]
["AH","Baltic CDT","U3","03. Dry & Frozen","U3.02","02. Local drinks & Tobacco","C.10.01","20. Juices and nectars, concentrates and","13717","02. Nectars","13729","02. Citrus","13778","04. >1L","","","","","","","X",null,"C.10.01","Juices and nectars, concentrates and","Nectars","Citrus",">1L","","","","13778",{"$f":"_xlfn.TEXTJOIN(\"; \",TRUE,ZCDT_EXPORT_2[[#This Row],[Sub-Category]:[Segment 5]])","v":"Nectars; Citrus; >1L"}]
["AH","Baltic CDT","U3","03. Dry & Frozen","U3.02","02. Local drinks & Tobacco","C.10.01","20. Juices and nectars, concentrates and","13717","02. Nectars","13730","03. Berry","13779","01. <0,33","","","","","","","X",null,"C.10.01","Juices and nectars, concentrates and","Nectars","Berry","<0,33","","","","13779",{"$f":"_xlfn.TEXTJOIN(\"; \",TRUE,ZCDT_EXPORT_2[[#This Row],[Sub-Category]:[Segment 5]])","v":"Nectars; Berry; <0,33"}]
["AH","Baltic CDT","U3","03. Dry & Frozen","U3.02","02. Local drinks & Tobacco","C.10.01","20. Juices and nectars, concentrates and","13717","02. Nectars","13730","03. Berry","13780","02. 0,33-0,5L","","","","","","","X",null,"C.10.01","Juices and nectars, concentrates and","Nectars","Berry","0,33-0,5L","","","","13780",{"$f":"_xlfn.TEXTJOIN(\"; \",TRUE,ZCDT_EXPORT_2[[#This Row],[Sub-Category]:[Segment 5]])","v":"Nectars; Berry; 0,33-0,5L"}]
["AH","Baltic CDT","U3","03. Dry & Frozen","U3.02","02. Local drinks & Tobacco","C.10.01","20. Juices and nectars, concentrates and","13717","02. Nectars","13730","03. Berry","13781","03. 0,75-1L","","","","","","","X",null,"C.10.01","Juices and nectars, concentrates and","Nectars","Berry","0,75-1L","","","","13781",{"$f":"_xlfn.TEXTJOIN(\"; \",TRUE,ZCDT_EXPORT_2[[#This Row],[Sub-Category]:[Segment 5]])","v":"Nectars; Berry; 0,75-1L"}]
["AH","Baltic CDT","U3","03. Dry & Frozen","U3.02","02. Local drinks & Tobacco","C.10.01","20. Juices and nectars, concentrates and","13717","02. Nectars","13730","03. Berry","13782","04. >1L","","","","","","","X",null,"C.10.01","Juices and nectars, concentrates and","Nectars","Berry",">1L","","","","13782",{"$f":"_xlfn.TEXTJOIN(\"; \",TRUE,ZCDT_EXPORT_2[[#This Row],[Sub-Category]:[Segment 5]])","v":"Nectars; Berry; >1L"}]
["AH","Baltic CDT","U3","03. Dry & Frozen","U3.02","02. Local drinks & Tobacco","C.10.01","20. Juices and nectars, concentrates and","13717","02. Nectars","13731","04. Vegetable","13783","01. <0,33","","","","","","","X",null,"C.10.01","Juices and nectars, concentrates and","Nectars","Vegetable","<0,33","","","","13783",{"$f":"_xlfn.TEXTJOIN(\"; \",TRUE,ZCDT_EXPORT_2[[#This Row],[Sub-Category]:[Segment 5]])","v":"Nectars; Vegetable; <0,33"}]
["AH","Baltic CDT","U3","03. Dry & Frozen","U3.02","02. Local drinks & Tobacco","C.10.01","20. Juices and nectars, concentrates and","13717","02. Nectars","13731","04. Vegetable","13784","02. 0,33-0,5L","","","","","","","X",null,"C.10.01","Juices and nectars, concentrates and","Nectars","Vegetable","0,33-0,5L","","","","13784",{"$f":"_xlfn.TEXTJOIN(\"; \",TRUE,ZCDT_EXPORT_2[[#This Row],[Sub-Category]:[Segment 5]])","v":"Nectars; Vegetable; 0,33-0,5L"}]
["AH","Baltic CDT","U3","03. Dry & Frozen","U3.02","02. Local drinks & Tobacco","C.10.01","20. Juices and nectars, concentrates and","13717","02. Nectars","13731","04. Vegetable","13785","03. 0,75-1L","","","","","","","X",null,"C.10.01","Juices and nectars, concentrates and","Nectars","Vegetable","0,75-1L","","","","13785",{"$f":"_xlfn.TEXTJOIN(\"; \",TRUE,ZCDT_EXPORT_2[[#This Row],[Sub-Category]:[Segment 5]])","v":"Nectars; Vegetable; 0,75-1L"}]
["AH","Baltic CDT","U3","03. Dry & Frozen","U3.02","02. Local drinks & Tobacco","C.10.01","20. Juices and nectars, concentrates and","13717","02. Nectars","13731","04. Vegetable","13786","04. >1L","","","","","","","X",null,"C.10.01","Juices and nectars, concentrates and","Nectars","Vegetable",">1L","","","","13786",{"$f":"_xlfn.TEXTJOIN(\"; \",TRUE,ZCDT_EXPORT_2[[#This Row],[Sub-Category]:[Segment 5]])","v":"Nectars; Vegetable; >1L"}]
["AH","Baltic CDT","U3","03. Dry & Frozen","U3.02","02. Local drinks & Tobacco","C.10.01","20. Juices and nectars, concentrates and","13717","02. Nectars","13732","05. Exotic","13787","01. <0,33","","","","","","","X",null,"C.10.01","Juices and nectars, concentrates and","Nectars","Exotic","<0,33","","","","13787",{"$f":"_xlfn.TEXTJOIN(\"; \",TRUE,ZCDT_EXPORT_2[[#This Row],[Sub-Category]:[Segment 5]])","v":"Nectars; Exotic; <0,33"}]
["AH","Baltic CDT","U3","03. Dry & Frozen","U3.02","02. Local drinks & Tobacco","C.10.01","20. Juices and nectars, concentrates and","13717","02. Nectars","13732","05. Exotic","13788","02. 0,33-0,5L","","","","","","","X",null,"C.10.01","Juices and nectars, concentrates and","Nectars","Exotic","0,33-0,5L","","","","13788",{"$f":"_xlfn.TEXTJOIN(\"; \",TRUE,ZCDT_EXPORT_2[[#This Row],[Sub-Category]:[Segment 5]])","v":"Nectars; Exotic; 0,33-0,5L"}]
["AH","Baltic CDT","U3","03. Dry & Frozen","U3.02","02. Local drinks & Tobacco","C.10.01","20. Juices and nectars, concentrates and","13717","02. Nectars","13732","05. Exotic","13789","03. 0,75-1L","","","","","","","X",null,"C.10.01","Juices and nectars, concentrates and","Nectars","Exotic","0,75-1L","","","","13789",{"$f":"_xlfn.TEXTJOIN(\"; \",TRUE,ZCDT_EXPORT_2[[#This Row],[Sub-Category]:[Segment 5]])","v":"Nectars; Exotic; 0,75-1L"}]
["AH","Baltic CDT","U3","03. Dry & Frozen","U3.02","02. Local drinks & Tobacco","C.10.01","20. Juices and nectars, concentrates and","13717","02. Nectars","13732","05. Exotic","13790","04. >1L","","","","","","","X",null,"C.10.01","Juices and nectars, concentrates and","Nectars","Exotic",">1L","","","","13790",{"$f":"_xlfn.TEXTJOIN(\"; \",TRUE,ZCDT_EXPORT_2[[#This Row],[Sub-Category]:[Segment 5]])","v":"Nectars; Exotic; >1L"}]
["AH","Baltic CDT","U3","03. Dry & Frozen","U3.02","02. Local drinks & Tobacco","C.10.01","20. Juices and nectars, concentrates and","13717","02. Nectars","13733","06. Multifruit","13791","01. <0,33","","","","","","","X",null,"C.10.01","Juices and nectars, concentrates and","Nectars","Multifruit","<0,33","","","","13791",{"$f":"_xlfn.TEXTJOIN(\"; \",TRUE,ZCDT_EXPORT_2[[#This Row],[Sub-Category]:[Segment 5]])","v":"Nectars; Multifruit; <0,33"}]
["AH","Baltic CDT","U3","03. Dry & Frozen","U3.02","02. Local drinks & Tobacco","C.10.01","20. Juices and nectars, concentrates and","13717","02. Nectars","13733","06. Multifruit","13792","02. 0,33-0,5L","","","","","","","X",null,"C.10.01","Juices and nectars, concentrates and","Nectars","Multifruit","0,33-0,5L","","","","13792",{"$f":"_xlfn.TEXTJOIN(\"; \",TRUE,ZCDT_EXPORT_2[[#This Row],[Sub-Category]:[Segment 5]])","v":"Nectars; Multifruit; 0,33-0,5L"}]
["AH","Baltic CDT","U3","03. Dry & Frozen","U3.02","02. Local drinks & Tobacco","C.10.01","20. Juices and nectars, concentrates and","13717","02. Nectars","13733","06. Multifruit","13793","03. 0,75-1L","","","","","","","X",null,"C.10.01","Juices and nectars, concentrates and","Nectars","Multifruit","0,75-1L","","","","13793",{"$f":"_xlfn.TEXTJOIN(\"; \",TRUE,ZCDT_EXPORT_2[[#This Row],[Sub-Category]:[Segment 5]])","v":"Nectars; Multifruit; 0,75-1L"}]
["AH","Baltic CDT","U3","03. Dry & Frozen","U3.02","02. Local drinks & Tobacco","C.10.01","20. Juices and nectars, concentrates and","13717","02. Nectars","13733","06. Multifruit","13794","04. >1L","","","","","","","X",null,"C.10.01","Juices and nectars, concentrates and","Nectars","Multifruit",">1L","","","","13794",{"$f":"_xlfn.TEXTJOIN(\"; \",TRUE,ZCDT_EXPORT_2[[#This Row],[Sub-Category]:[Segment 5]])","v":"Nectars; Multifruit; >1L"}]
["AH","Baltic CDT","U3","03. Dry & Frozen","U3.02","02. Local drinks & Tobacco","C.10.01","20. Juices and nectars, concentrates and","13718","03. Juice drinks","13735","01. Apple-Pear","13795","01. <0,33","","","","","","","X",null,"C.10.01","Juices and nectars, concentrates and","Juice drinks","Apple-Pear","<0,33","","","","13795",{"$f":"_xlfn.TEXTJOIN(\"; \",TRUE,ZCDT_EXPORT_2[[#This Row],[Sub-Category]:[Segment 5]])","v":"Juice drinks; Apple-Pear; <0,33"}]
["AH","Baltic CDT","U3","03. Dry & Frozen","U3.02","02. Local drinks & Tobacco","C.10.01","20. Juices and nectars, concentrates and","13718","03. Juice drinks","13735","01. Apple-Pear","13796","02. 0,33-0,5L","","","","","","","X",null,"C.10.01","Juices and nectars, concentrates and","Juice drinks","Apple-Pear","0,33-0,5L","","","","13796",{"$f":"_xlfn.TEXTJOIN(\"; \",TRUE,ZCDT_EXPORT_2[[#This Row],[Sub-Category]:[Segment 5]])","v":"Juice drinks; Apple-Pear; 0,33-0,5L"}]
["AH","Baltic CDT","U3","03. Dry & Frozen","U3.02","02. Local drinks & Tobacco","C.10.01","20. Juices and nectars, concentrates and","13718","03. Juice drinks","13735","01. Apple-Pear","13797","03. 0,75-1L","","","","","","","X",null,"C.10.01","Juices and nectars, concentrates and","Juice drinks","Apple-Pear","0,75-1L","","","","13797",{"$f":"_xlfn.TEXTJOIN(\"; \",TRUE,ZCDT_EXPORT_2[[#This Row],[Sub-Category]:[Segment 5]])","v":"Juice drinks; Apple-Pear; 0,75-1L"}]
["AH","Baltic CDT","U3","03. Dry & Frozen","U3.02","02. Local drinks & Tobacco","C.10.01","20. Juices and nectars, concentrates and","13718","03. Juice drinks","13735","01. Apple-Pear","13798","04. >1L","","","","","","","X",null,"C.10.01","Juices and nectars, concentrates and","Juice drinks","Apple-Pear",">1L","","","","13798",{"$f":"_xlfn.TEXTJOIN(\"; \",TRUE,ZCDT_EXPORT_2[[#This Row],[Sub-Category]:[Segment 5]])","v":"Juice drinks; Apple-Pear; >1L"}]
["AH","Baltic CDT","U3","03. Dry & Frozen","U3.02","02. Local drinks & Tobacco","C.10.01","20. Juices and nectars, concentrates and","13718","03. Juice drinks","13736","02. Citrus","13799","01. <0,33","","","","","","","X",null,"C.10.01","Juices and nectars, concentrates and","Juice drinks","Citrus","<0,33","","","","13799",{"$f":"_xlfn.TEXTJOIN(\"; \",TRUE,ZCDT_EXPORT_2[[#This Row],[Sub-Category]:[Segment 5]])","v":"Juice drinks; Citrus; <0,33"}]
["AH","Baltic CDT","U3","03. Dry & Frozen","U3.02","02. Local drinks & Tobacco","C.10.01","20. Juices and nectars, concentrates and","13718","03. Juice drinks","13736","02. Citrus","13800","02. 0,33-0,5L","","","","","","","X",null,"C.10.01","Juices and nectars, concentrates and","Juice drinks","Citrus","0,33-0,5L","","","","13800",{"$f":"_xlfn.TEXTJOIN(\"; \",TRUE,ZCDT_EXPORT_2[[#This Row],[Sub-Category]:[Segment 5]])","v":"Juice drinks; Citrus; 0,33-0,5L"}]
["AH","Baltic CDT","U3","03. Dry & Frozen","U3.02","02. Local drinks & Tobacco","C.10.01","20. Juices and nectars, concentrates and","13718","03. Juice drinks","13736","02. Citrus","13801","03. 0,75-1L","","","","","","","X",null,"C.10.01","Juices and nectars, concentrates and","Juice drinks","Citrus","0,75-1L","","","","13801",{"$f":"_xlfn.TEXTJOIN(\"; \",TRUE,ZCDT_EXPORT_2[[#This Row],[Sub-Category]:[Segment 5]])","v":"Juice drinks; Citrus; 0,75-1L"}]
["AH","Baltic CDT","U3","03. Dry & Frozen","U3.02","02. Local drinks & Tobacco","C.10.01","20. Juices and nectars, concentrates and","13718","03. Juice drinks","13736","02. Citrus","13802","04. >1L","","","","","","","X",null,"C.10.01","Juices and nectars, concentrates and","Juice drinks","Citrus",">1L","","","","13802",{"$f":"_xlfn.TEXTJOIN(\"; \",TRUE,ZCDT_EXPORT_2[[#This Row],[Sub-Category]:[Segment 5]])","v":"Juice drinks; Citrus; >1L"}]
["AH","Baltic CDT","U3","03. Dry & Frozen","U3.02","02. Local drinks & Tobacco","C.10.01","20. Juices and nectars, concentrates and","13718","03. Juice drinks","13737","03. Berry","13803","01. <0,33","","","","","","","X",null,"C.10.01","Juices and nectars, concentrates and","Juice drinks","Berry","<0,33","","","","13803",{"$f":"_xlfn.TEXTJOIN(\"; \",TRUE,ZCDT_EXPORT_2[[#This Row],[Sub-Category]:[Segment 5]])","v":"Juice drinks; Berry; <0,33"}]
["AH","Baltic CDT","U3","03. Dry & Frozen","U3.02","02. Local drinks & Tobacco","C.10.01","20. Juices and nectars, concentrates and","13718","03. Juice drinks","13737","03. Berry","13804","02. 0,33-0,5L","","","","","","","X",null,"C.10.01","Juices and nectars, concentrates and","Juice drinks","Berry","0,33-0,5L","","","","13804",{"$f":"_xlfn.TEXTJOIN(\"; \",TRUE,ZCDT_EXPORT_2[[#This Row],[Sub-Category]:[Segment 5]])","v":"Juice drinks; Berry; 0,33-0,5L"}]
["AH","Baltic CDT","U3","03. Dry & Frozen","U3.02","02. Local drinks & Tobacco","C.10.01","20. Juices and nectars, concentrates and","13718","03. Juice drinks","13737","03. Berry","13805","03. 0,75-1L","","","","","","","X",null,"C.10.01","Juices and nectars, concentrates and","Juice drinks","Berry","0,75-1L","","","","13805",{"$f":"_xlfn.TEXTJOIN(\"; \",TRUE,ZCDT_EXPORT_2[[#This Row],[Sub-Category]:[Segment 5]])","v":"Juice drinks; Berry; 0,75-1L"}]
["AH","Baltic CDT","U3","03. Dry & Frozen","U3.02","02. Local drinks & Tobacco","C.10.01","20. Juices and nectars, concentrates and","13718","03. Juice drinks","13737","03. Berry","13806","04. >1L","","","","","","","X",null,"C.10.01","Juices and nectars, concentrates and","Juice drinks","Berry",">1L","","","","13806",{"$f":"_xlfn.TEXTJOIN(\"; \",TRUE,ZCDT_EXPORT_2[[#This Row],[Sub-Category]:[Segment 5]])","v":"Juice drinks; Berry; >1L"}]
["AH","Baltic CDT","U3","03. Dry & Frozen","U3.02","02. Local drinks & Tobacco","C.10.01","20. Juices and nectars, concentrates and","13718","03. Juice drinks","13738","04. Vegetable","13807","01. <0,33","","","","","","","X",null,"C.10.01","Juices and nectars, concentrates and","Juice drinks","Vegetable","<0,33","","","","13807",{"$f":"_xlfn.TEXTJOIN(\"; \",TRUE,ZCDT_EXPORT_2[[#This Row],[Sub-Category]:[Segment 5]])","v":"Juice drinks; Vegetable; <0,33"}]
["AH","Baltic CDT","U3","03. Dry & Frozen","U3.02","02. Local drinks & Tobacco","C.10.01","20. Juices and nectars, concentrates and","13718","03. Juice drinks","13738","04. Vegetable","13808","02. 0,33-0,5L","","","","","","","X",null,"C.10.01","Juices and nectars, concentrates and","Juice drinks","Vegetable","0,33-0,5L","","","","13808",{"$f":"_xlfn.TEXTJOIN(\"; \",TRUE,ZCDT_EXPORT_2[[#This Row],[Sub-Category]:[Segment 5]])","v":"Juice drinks; Vegetable; 0,33-0,5L"}]
["AH","Baltic CDT","U3","03. Dry & Frozen","U3.02","02. Local drinks & Tobacco","C.10.01","20. Juices and nectars, concentrates and","13718","03. Juice drinks","13738","04. Vegetable","13809","03. 0,75-1L","","","","","","","X",null,"C.10.01","Juices and nectars, concentrates and","Juice drinks","Vegetable","0,75-1L","","","","13809",{"$f":"_xlfn.TEXTJOIN(\"; \",TRUE,ZCDT_EXPORT_2[[#This Row],[Sub-Category]:[Segment 5]])","v":"Juice drinks; Vegetable; 0,75-1L"}]
["AH","Baltic CDT","U3","03. Dry & Frozen","U3.02","02. Local drinks & Tobacco","C.10.01","20. Juices and nectars, concentrates and","13718","03. Juice drinks","13738","04. Vegetable","13810","04. >1L","","","","","","","X",null,"C.10.01","Juices and nectars, concentrates and","Juice drinks","Vegetable",">1L","","","","13810",{"$f":"_xlfn.TEXTJOIN(\"; \",TRUE,ZCDT_EXPORT_2[[#This Row],[Sub-Category]:[Segment 5]])","v":"Juice drinks; Vegetable; >1L"}]
["AH","Baltic CDT","U3","03. Dry & Frozen","U3.02","02. Local drinks & Tobacco","C.10.01","20. Juices and nectars, concentrates and","13718","03. Juice drinks","13739","05. Exotic","13811","01. <0,33","","","","","","","X",null,"C.10.01","Juices and nectars, concentrates and","Juice drinks","Exotic","<0,33","","","","13811",{"$f":"_xlfn.TEXTJOIN(\"; \",TRUE,ZCDT_EXPORT_2[[#This Row],[Sub-Category]:[Segment 5]])","v":"Juice drinks; Exotic; <0,33"}]
["AH","Baltic CDT","U3","03. Dry & Frozen","U3.02","02. Local drinks & Tobacco","C.10.01","20. Juices and nectars, concentrates and","13718","03. Juice drinks","13739","05. Exotic","13812","02. 0,33-0,5L","","","","","","","X",null,"C.10.01","Juices and nectars, concentrates and","Juice drinks","Exotic","0,33-0,5L","","","","13812",{"$f":"_xlfn.TEXTJOIN(\"; \",TRUE,ZCDT_EXPORT_2[[#This Row],[Sub-Category]:[Segment 5]])","v":"Juice drinks; Exotic; 0,33-0,5L"}]
["AH","Baltic CDT","U3","03. Dry & Frozen","U3.02","02. Local drinks & Tobacco","C.10.01","20. Juices and nectars, concentrates and","13718","03. Juice drinks","13739","05. Exotic","13813","03. 0,75-1L","","","","","","","X",null,"C.10.01","Juices and nectars, concentrates and","Juice drinks","Exotic","0,75-1L","","","","13813",{"$f":"_xlfn.TEXTJOIN(\"; \",TRUE,ZCDT_EXPORT_2[[#This Row],[Sub-Category]:[Segment 5]])","v":"Juice drinks; Exotic; 0,75-1L"}]
["AH","Baltic CDT","U3","03. Dry & Frozen","U3.02","02. Local drinks & Tobacco","C.10.01","20. Juices and nectars, concentrates and","13718","03. Juice drinks","13739","05. Exotic","13814","04. >1L","","","","","","","X",null,"C.10.01","Juices and nectars, concentrates and","Juice drinks","Exotic",">1L","","","","13814",{"$f":"_xlfn.TEXTJOIN(\"; \",TRUE,ZCDT_EXPORT_2[[#This Row],[Sub-Category]:[Segment 5]])","v":"Juice drinks; Exotic; >1L"}]
["AH","Baltic CDT","U3","03. Dry & Frozen","U3.02","02. Local drinks & Tobacco","C.10.01","20. Juices and nectars, concentrates and","13718","03. Juice drinks","13740","06. Multifruit","13815","01. <0,33","","","","","","","X",null,"C.10.01","Juices and nectars, concentrates and","Juice drinks","Multifruit","<0,33","","","","13815",{"$f":"_xlfn.TEXTJOIN(\"; \",TRUE,ZCDT_EXPORT_2[[#This Row],[Sub-Category]:[Segment 5]])","v":"Juice drinks; Multifruit; <0,33"}]
["AH","Baltic CDT","U3","03. Dry & Frozen","U3.02","02. Local drinks & Tobacco","C.10.01","20. Juices and nectars, concentrates and","13718","03. Juice drinks","13740","06. Multifruit","13816","02. 0,33-0,5L","","","","","","","X",null,"C.10.01","Juices and nectars, concentrates and","Juice drinks","Multifruit","0,33-0,5L","","","","13816",{"$f":"_xlfn.TEXTJOIN(\"; \",TRUE,ZCDT_EXPORT_2[[#This Row],[Sub-Category]:[Segment 5]])","v":"Juice drinks; Multifruit; 0,33-0,5L"}]
["AH","Baltic CDT","U3","03. Dry & Frozen","U3.02","02. Local drinks & Tobacco","C.10.01","20. Juices and nectars, concentrates and","13718","03. Juice drinks","13740","06. Multifruit","13817","03. 0,75-1L","","","","","","","X",null,"C.10.01","Juices and nectars, concentrates and","Juice drinks","Multifruit","0,75-1L","","","","13817",{"$f":"_xlfn.TEXTJOIN(\"; \",TRUE,ZCDT_EXPORT_2[[#This Row],[Sub-Category]:[Segment 5]])","v":"Juice drinks; Multifruit; 0,75-1L"}]
["AH","Baltic CDT","U3","03. Dry & Frozen","U3.02","02. Local drinks & Tobacco","C.10.01","20. Juices and nectars, concentrates and","13718","03. Juice drinks","13740","06. Multifruit","13818","04. >1L","","","","","","","X",null,"C.10.01","Juices and nectars, concentrates and","Juice drinks","Multifruit",">1L","","","","13818",{"$f":"_xlfn.TEXTJOIN(\"; \",TRUE,ZCDT_EXPORT_2[[#This Row],[Sub-Category]:[Segment 5]])","v":"Juice drinks; Multifruit; >1L"}]
["AH","Baltic CDT","U3","03. Dry & Frozen","U3.02","02. Local drinks & Tobacco","C.10.01","20. Juices and nectars, concentrates and","13719","04. Syrups","13742","01. Squashes (Regular Syrups)","","","","","","","","","X",null,"C.10.01","Juices and nectars, concentrates and","Syrups","Squashes (Regular Syrups)","","","","","13742",{"$f":"_xlfn.TEXTJOIN(\"; \",TRUE,ZCDT_EXPORT_2[[#This Row],[Sub-Category]:[Segment 5]])","v":"Syrups; Squashes (Regular Syrups)"}]
["AH","Baltic CDT","U3","03. Dry & Frozen","U3.02","02. Local drinks & Tobacco","C.10.01","20. Juices and nectars, concentrates and","13719","04. Syrups","13743","02. Mixers (Coffee and Cocktail syrups)","","","","","","","","","X",null,"C.10.01","Juices and nectars, concentrates and","Syrups","Mixers (Coffee and Cocktail syrups)","","","","","13743",{"$f":"_xlfn.TEXTJOIN(\"; \",TRUE,ZCDT_EXPORT_2[[#This Row],[Sub-Category]:[Segment 5]])","v":"Syrups; Mixers (Coffee and Cocktail syrups)"}]
["AH","Baltic CDT","U3","03. Dry & Frozen","U3.02","02. Local drinks & Tobacco","C.10.01","20. Juices and nectars, concentrates and","13720","05. Juice drink concentrate and powder","","","","","","","","","","","X",null,"C.10.01","Juices and nectars, concentrates and","Juice drink concentrate and powder","","","","","","13720",{"$f":"_xlfn.TEXTJOIN(\"; \",TRUE,ZCDT_EXPORT_2[[#This Row],[Sub-Category]:[Segment 5]])","v":"Juice drink concentrate and powder"}]
["AH","Baltic CDT","U3","03. Dry & Frozen","U3.02","02. Local drinks & Tobacco","C.14.01","30. Cigarettes, tobacco & accessories","16162","01. E-cigaretes, cigars, cigarillas, tob","16165","01. Cigarillos","","","","","","","","","X",null,"C.14.01","Cigarettes, tobacco & accessories","E-cigaretes, cigars, cigarillas, tob","Cigarillos","","","","","16165",{"$f":"_xlfn.TEXTJOIN(\"; \",TRUE,ZCDT_EXPORT_2[[#This Row],[Sub-Category]:[Segment 5]])","v":"E-cigaretes, cigars, cigarillas, tob; Cigarillos"}]
["AH","Baltic CDT","U3","03. Dry & Frozen","U3.02","02. Local drinks & Tobacco","C.14.01","30. Cigarettes, tobacco & accessories","16162","01. E-cigaretes, cigars, cigarillas, tob","16166","02. Cigars","","","","","","","","","X",null,"C.14.01","Cigarettes, tobacco & accessories","E-cigaretes, cigars, cigarillas, tob","Cigars","","","","","16166",{"$f":"_xlfn.TEXTJOIN(\"; \",TRUE,ZCDT_EXPORT_2[[#This Row],[Sub-Category]:[Segment 5]])","v":"E-cigaretes, cigars, cigarillas, tob; Cigars"}]
["AH","Baltic CDT","U3","03. Dry & Frozen","U3.02","02. Local drinks & Tobacco","C.14.01","30. Cigarettes, tobacco & accessories","16162","01. E-cigaretes, cigars, cigarillas, tob","16167","03. E-cigarettes & accessories","16169","01. E-cigarettes","","","","","","","X",null,"C.14.01","Cigarettes, tobacco & accessories","E-cigaretes, cigars, cigarillas, tob","E-cigarettes & accessories","E-cigarettes","","","","16169",{"$f":"_xlfn.TEXTJOIN(\"; \",TRUE,ZCDT_EXPORT_2[[#This Row],[Sub-Category]:[Segment 5]])","v":"E-cigaretes, cigars, cigarillas, tob; E-cigarettes & accessories; E-cigarettes"}]
["AH","Baltic CDT","U3","03. Dry & Frozen","U3.02","02. Local drinks & Tobacco","C.14.01","30. Cigarettes, tobacco & accessories","16162","01. E-cigaretes, cigars, cigarillas, tob","16167","03. E-cigarettes & accessories","16170","02. E-cigarette fillings with nicotine","","","","","","","X",null,"C.14.01","Cigarettes, tobacco & accessories","E-cigaretes, cigars, cigarillas, tob","E-cigarettes & accessories","E-cigarette fillings with nicotine","","","","16170",{"$f":"_xlfn.TEXTJOIN(\"; \",TRUE,ZCDT_EXPORT_2[[#This Row],[Sub-Category]:[Segment 5]])","v":"E-cigaretes, cigars, cigarillas, tob; E-cigarettes & accessories; E-cigarette fillings with nicotine"}]
["AH","Baltic CDT","U3","03. Dry & Frozen","U3.02","02. Local drinks & Tobacco","C.14.01","30. Cigarettes, tobacco & accessories","16162","01. E-cigaretes, cigars, cigarillas, tob","16167","03. E-cigarettes & accessories","16171","03. E-cigarette fillings w/o nicotene","","","","","","","X",null,"C.14.01","Cigarettes, tobacco & accessories","E-cigaretes, cigars, cigarillas, tob","E-cigarettes & accessories","E-cigarette fillings w/o nicotene","","","","16171",{"$f":"_xlfn.TEXTJOIN(\"; \",TRUE,ZCDT_EXPORT_2[[#This Row],[Sub-Category]:[Segment 5]])","v":"E-cigaretes, cigars, cigarillas, tob; E-cigarettes & accessories; E-cigarette fillings w/o nicotene"}]
["AH","Baltic CDT","U3","03. Dry & Frozen","U3.02","02. Local drinks & Tobacco","C.14.01","30. Cigarettes, tobacco & accessories","16162","01. E-cigaretes, cigars, cigarillas, tob","16167","03. E-cigarettes & accessories","16172","04. E-cigarettes accessories","","","","","","","X",null,"C.14.01","Cigarettes, tobacco & accessories","E-cigaretes, cigars, cigarillas, tob","E-cigarettes & accessories","E-cigarettes accessories","","","","16172",{"$f":"_xlfn.TEXTJOIN(\"; \",TRUE,ZCDT_EXPORT_2[[#This Row],[Sub-Category]:[Segment 5]])","v":"E-cigaretes, cigars, cigarillas, tob; E-cigarettes & accessories; E-cigarettes accessories"}]
["AH","Baltic CDT","U3","03. Dry & Frozen","U3.02","02. Local drinks & Tobacco","C.14.01","30. Cigarettes, tobacco & accessories","16162","01. E-cigaretes, cigars, cigarillas, tob","16168","04. Tobacco","16180","01. Cigarette tobacco","","","","","","","X",null,"C.14.01","Cigarettes, tobacco & accessories","E-cigaretes, cigars, cigarillas, tob","Tobacco","Cigarette tobacco","","","","16180",{"$f":"_xlfn.TEXTJOIN(\"; \",TRUE,ZCDT_EXPORT_2[[#This Row],[Sub-Category]:[Segment 5]])","v":"E-cigaretes, cigars, cigarillas, tob; Tobacco; Cigarette tobacco"}]
["AH","Baltic CDT","U3","03. Dry & Frozen","U3.02","02. Local drinks & Tobacco","C.14.01","30. Cigarettes, tobacco & accessories","16162","01. E-cigaretes, cigars, cigarillas, tob","16168","04. Tobacco","16181","02. Pipe tobacco","","","","","","","X",null,"C.14.01","Cigarettes, tobacco & accessories","E-cigaretes, cigars, cigarillas, tob","Tobacco","Pipe tobacco","","","","16181",{"$f":"_xlfn.TEXTJOIN(\"; \",TRUE,ZCDT_EXPORT_2[[#This Row],[Sub-Category]:[Segment 5]])","v":"E-cigaretes, cigars, cigarillas, tob; Tobacco; Pipe tobacco"}]
["AH","Baltic CDT","U3","03. Dry & Frozen","U3.02","02. Local drinks & Tobacco","C.14.01","30. Cigarettes, tobacco & accessories","16162","01. E-cigaretes, cigars, cigarillas, tob","16168","04. Tobacco","16182","03. Water pipe tobacco","","","","","","","X",null,"C.14.01","Cigarettes, tobacco & accessories","E-cigaretes, cigars, cigarillas, tob","Tobacco","Water pipe tobacco","","","","16182",{"$f":"_xlfn.TEXTJOIN(\"; \",TRUE,ZCDT_EXPORT_2[[#This Row],[Sub-Category]:[Segment 5]])","v":"E-cigaretes, cigars, cigarillas, tob; Tobacco; Water pipe tobacco"}]
["AH","Baltic CDT","U3","03. Dry & Frozen","U3.02","02. Local drinks & Tobacco","C.14.01","30. Cigarettes, tobacco & accessories","16162","01. E-cigaretes, cigars, cigarillas, tob","18939","05. Nicotine pads","","","","","","","","","X",null,"C.14.01","Cigarettes, tobacco & accessories","E-cigaretes, cigars, cigarillas, tob","Nicotine pads","","","","","18939",{"$f":"_xlfn.TEXTJOIN(\"; \",TRUE,ZCDT_EXPORT_2[[#This Row],[Sub-Category]:[Segment 5]])","v":"E-cigaretes, cigars, cigarillas, tob; Nicotine pads"}]
["AH","Baltic CDT","U3","03. Dry & Frozen","U3.02","02. Local drinks & Tobacco","C.14.01","30. Cigarettes, tobacco & accessories","16163","02. Cigarettes","16173","01. Premium","","","","","","","","","X",null,"C.14.01","Cigarettes, tobacco & accessories","Cigarettes","Premium","","","","","16173",{"$f":"_xlfn.TEXTJOIN(\"; \",TRUE,ZCDT_EXPORT_2[[#This Row],[Sub-Category]:[Segment 5]])","v":"Cigarettes; Premium"}]
["AH","Baltic CDT","U3","03. Dry & Frozen","U3.02","02. Local drinks & Tobacco","C.14.01","30. Cigarettes, tobacco & accessories","16163","02. Cigarettes","16174","02. Medium","","","","","","","","","X",null,"C.14.01","Cigarettes, tobacco & accessories","Cigarettes","Medium","","","","","16174",{"$f":"_xlfn.TEXTJOIN(\"; \",TRUE,ZCDT_EXPORT_2[[#This Row],[Sub-Category]:[Segment 5]])","v":"Cigarettes; Medium"}]
["AH","Baltic CDT","U3","03. Dry & Frozen","U3.02","02. Local drinks & Tobacco","C.14.01","30. Cigarettes, tobacco & accessories","16163","02. Cigarettes","16175","03. Value","","","","","","","","","X",null,"C.14.01","Cigarettes, tobacco & accessories","Cigarettes","Value","","","","","16175",{"$f":"_xlfn.TEXTJOIN(\"; \",TRUE,ZCDT_EXPORT_2[[#This Row],[Sub-Category]:[Segment 5]])","v":"Cigarettes; Value"}]
["AH","Baltic CDT","U3","03. Dry & Frozen","U3.02","02. Local drinks & Tobacco","C.14.01","30. Cigarettes, tobacco & accessories","16164","03. Smoking accessories","16176","01. Lighters","","","","","","","","","X",null,"C.14.01","Cigarettes, tobacco & accessories","Smoking accessories","Lighters","","","","","16176",{"$f":"_xlfn.TEXTJOIN(\"; \",TRUE,ZCDT_EXPORT_2[[#This Row],[Sub-Category]:[Segment 5]])","v":"Smoking accessories; Lighters"}]
["AH","Baltic CDT","U3","03. Dry & Frozen","U3.02","02. Local drinks & Tobacco","C.14.01","30. Cigarettes, tobacco & accessories","16164","03. Smoking accessories","16177","02. Matches","","","","","","","","","X",null,"C.14.01","Cigarettes, tobacco & accessories","Smoking accessories","Matches","","","","","16177",{"$f":"_xlfn.TEXTJOIN(\"; \",TRUE,ZCDT_EXPORT_2[[#This Row],[Sub-Category]:[Segment 5]])","v":"Smoking accessories; Matches"}]
["AH","Baltic CDT","U3","03. Dry & Frozen","U3.02","02. Local drinks & Tobacco","C.14.01","30. Cigarettes, tobacco & accessories","16164","03. Smoking accessories","16178","03. Pipes and accessories","","","","","","","","","X",null,"C.14.01","Cigarettes, tobacco & accessories","Smoking accessories","Pipes and accessories","","","","","16178",{"$f":"_xlfn.TEXTJOIN(\"; \",TRUE,ZCDT_EXPORT_2[[#This Row],[Sub-Category]:[Segment 5]])","v":"Smoking accessories; Pipes and accessories"}]
["AH","Baltic CDT","U3","03. Dry & Frozen","U3.02","02. Local drinks & Tobacco","C.14.01","30. Cigarettes, tobacco & accessories","16164","03. Smoking accessories","16179","04. Filters, rolling paper and other smo","","","","","","","","","X",null,"C.14.01","Cigarettes, tobacco & accessories","Smoking accessories","Filters, rolling paper and other smo","","","","","16179",{"$f":"_xlfn.TEXTJOIN(\"; \",TRUE,ZCDT_EXPORT_2[[#This Row],[Sub-Category]:[Segment 5]])","v":"Smoking accessories; Filters, rolling paper and other smo"}]
["AH","Baltic CDT","U3","03. Dry & Frozen","U3.02","02. Local drinks & Tobacco","C.16.01","32. Lemonade, ice tea, kvass, tonic, par","15015","01. Energy Drinks","15020","01. <=0,75","","","","","","","","","X",null,"C.16.01","Lemonade, ice tea, kvass, tonic, par","Energy Drinks","<=0,75","","","","","15020",{"$f":"_xlfn.TEXTJOIN(\"; \",TRUE,ZCDT_EXPORT_2[[#This Row],[Sub-Category]:[Segment 5]])","v":"Energy Drinks; <=0,75"}]
["AH","Baltic CDT","U3","03. Dry & Frozen","U3.02","02. Local drinks & Tobacco","C.16.01","32. Lemonade, ice tea, kvass, tonic, par","15015","01. Energy Drinks","15021","02. >0,75","","","","","","","","","X",null,"C.16.01","Lemonade, ice tea, kvass, tonic, par","Energy Drinks",">0,75","","","","","15021",{"$f":"_xlfn.TEXTJOIN(\"; \",TRUE,ZCDT_EXPORT_2[[#This Row],[Sub-Category]:[Segment 5]])","v":"Energy Drinks; >0,75"}]
["AH","Baltic CDT","U3","03. Dry & Frozen","U3.02","02. Local drinks & Tobacco","C.16.01","32. Lemonade, ice tea, kvass, tonic, par","15017","02. Carbonated Drinks","15022","01. Cola Flavour","15029","01. <=0,75","","","","","","","X",null,"C.16.01","Lemonade, ice tea, kvass, tonic, par","Carbonated Drinks","Cola Flavour","<=0,75","","","","15029",{"$f":"_xlfn.TEXTJOIN(\"; \",TRUE,ZCDT_EXPORT_2[[#This Row],[Sub-Category]:[Segment 5]])","v":"Carbonated Drinks; Cola Flavour; <=0,75"}]
["AH","Baltic CDT","U3","03. Dry & Frozen","U3.02","02. Local drinks & Tobacco","C.16.01","32. Lemonade, ice tea, kvass, tonic, par","15017","02. Carbonated Drinks","15022","01. Cola Flavour","15030","02. >0,75","15031","01. >0,75 & <1,5","","","","","X",null,"C.16.01","Lemonade, ice tea, kvass, tonic, par","Carbonated Drinks","Cola Flavour",">0,75",">0,75 & <1,5","","","15031",{"$f":"_xlfn.TEXTJOIN(\"; \",TRUE,ZCDT_EXPORT_2[[#This Row],[Sub-Category]:[Segment 5]])","v":"Carbonated Drinks; Cola Flavour; >0,75; >0,75 & <1,5"}]
["AH","Baltic CDT","U3","03. Dry & Frozen","U3.02","02. Local drinks & Tobacco","C.16.01","32. Lemonade, ice tea, kvass, tonic, par","15017","02. Carbonated Drinks","15022","01. Cola Flavour","15030","02. >0,75","15032","02. =>1,5","","","","","X",null,"C.16.01","Lemonade, ice tea, kvass, tonic, par","Carbonated Drinks","Cola Flavour",">0,75","=>1,5","","","15032",{"$f":"_xlfn.TEXTJOIN(\"; \",TRUE,ZCDT_EXPORT_2[[#This Row],[Sub-Category]:[Segment 5]])","v":"Carbonated Drinks; Cola Flavour; >0,75; =>1,5"}]
["AH","Baltic CDT","U3","03. Dry & Frozen","U3.02","02. Local drinks & Tobacco","C.16.01","32. Lemonade, ice tea, kvass, tonic, par","15017","02. Carbonated Drinks","15023","02. Lemon-Lime Flavour","15033","01. <=0,75","","","","","","","X",null,"C.16.01","Lemonade, ice tea, kvass, tonic, par","Carbonated Drinks","Lemon-Lime Flavour","<=0,75","","","","15033",{"$f":"_xlfn.TEXTJOIN(\"; \",TRUE,ZCDT_EXPORT_2[[#This Row],[Sub-Category]:[Segment 5]])","v":"Carbonated Drinks; Lemon-Lime Flavour; <=0,75"}]
["AH","Baltic CDT","U3","03. Dry & Frozen","U3.02","02. Local drinks & Tobacco","C.16.01","32. Lemonade, ice tea, kvass, tonic, par","15017","02. Carbonated Drinks","15023","02. Lemon-Lime Flavour","15034","02. >0,75","15035","01. >0,75 & < 1,5","","","","","X",null,"C.16.01","Lemonade, ice tea, kvass, tonic, par","Carbonated Drinks","Lemon-Lime Flavour",">0,75",">0,75 & < 1,5","","","15035",{"$f":"_xlfn.TEXTJOIN(\"; \",TRUE,ZCDT_EXPORT_2[[#This Row],[Sub-Category]:[Segment 5]])","v":"Carbonated Drinks; Lemon-Lime Flavour; >0,75; >0,75 & < 1,5"}]
["AH","Baltic CDT","U3","03. Dry & Frozen","U3.02","02. Local drinks & Tobacco","C.16.01","32. Lemonade, ice tea, kvass, tonic, par","15017","02. Carbonated Drinks","15023","02. Lemon-Lime Flavour","15034","02. >0,75","15036","02. =>1.5","","","","","X",null,"C.16.01","Lemonade, ice tea, kvass, tonic, par","Carbonated Drinks","Lemon-Lime Flavour",">0,75","=>1.5","","","15036",{"$f":"_xlfn.TEXTJOIN(\"; \",TRUE,ZCDT_EXPORT_2[[#This Row],[Sub-Category]:[Segment 5]])","v":"Carbonated Drinks; Lemon-Lime Flavour; >0,75; =>1.5"}]
["AH","Baltic CDT","U3","03. Dry & Frozen","U3.02","02. Local drinks & Tobacco","C.16.01","32. Lemonade, ice tea, kvass, tonic, par","15017","02. Carbonated Drinks","15024","03. Orange Flavour","15037","01. =<0,75","","","","","","","X",null,"C.16.01","Lemonade, ice tea, kvass, tonic, par","Carbonated Drinks","Orange Flavour","=<0,75","","","","15037",{"$f":"_xlfn.TEXTJOIN(\"; \",TRUE,ZCDT_EXPORT_2[[#This Row],[Sub-Category]:[Segment 5]])","v":"Carbonated Drinks; Orange Flavour; =<0,75"}]
["AH","Baltic CDT","U3","03. Dry & Frozen","U3.02","02. Local drinks & Tobacco","C.16.01","32. Lemonade, ice tea, kvass, tonic, par","15017","02. Carbonated Drinks","15024","03. Orange Flavour","15038","02. >0,75","15039","01. >0,75 & <1,5","","","","","X",null,"C.16.01","Lemonade, ice tea, kvass, tonic, par","Carbonated Drinks","Orange Flavour",">0,75",">0,75 & <1,5","","","15039",{"$f":"_xlfn.TEXTJOIN(\"; \",TRUE,ZCDT_EXPORT_2[[#This Row],[Sub-Category]:[Segment 5]])","v":"Carbonated Drinks; Orange Flavour; >0,75; >0,75 & <1,5"}]
["AH","Baltic CDT","U3","03. Dry & Frozen","U3.02","02. Local drinks & Tobacco","C.16.01","32. Lemonade, ice tea, kvass, tonic, par","15017","02. Carbonated Drinks","15024","03. Orange Flavour","15038","02. >0,75","15040","02. =>1,5","","","","","X",null,"C.16.01","Lemonade, ice tea, kvass, tonic, par","Carbonated Drinks","Orange Flavour",">0,75","=>1,5","","","15040",{"$f":"_xlfn.TEXTJOIN(\"; \",TRUE,ZCDT_EXPORT_2[[#This Row],[Sub-Category]:[Segment 5]])","v":"Carbonated Drinks; Orange Flavour; >0,75; =>1,5"}]
["AH","Baltic CDT","U3","03. Dry & Frozen","U3.02","02. Local drinks & Tobacco","C.16.01","32. Lemonade, ice tea, kvass, tonic, par","15017","02. Carbonated Drinks","15025","04. Lemonades Flavour","15041","01. =<0,75","","","","","","","X",null,"C.16.01","Lemonade, ice tea, kvass, tonic, par","Carbonated Drinks","Lemonades Flavour","=<0,75","","","","15041",{"$f":"_xlfn.TEXTJOIN(\"; \",TRUE,ZCDT_EXPORT_2[[#This Row],[Sub-Category]:[Segment 5]])","v":"Carbonated Drinks; Lemonades Flavour; =<0,75"}]
["AH","Baltic CDT","U3","03. Dry & Frozen","U3.02","02. Local drinks & Tobacco","C.16.01","32. Lemonade, ice tea, kvass, tonic, par","15017","02. Carbonated Drinks","15025","04. Lemonades Flavour","15042","02. >0,75","","","","","","","X",null,"C.16.01","Lemonade, ice tea, kvass, tonic, par","Carbonated Drinks","Lemonades Flavour",">0,75","","","","15042",{"$f":"_xlfn.TEXTJOIN(\"; \",TRUE,ZCDT_EXPORT_2[[#This Row],[Sub-Category]:[Segment 5]])","v":"Carbonated Drinks; Lemonades Flavour; >0,75"}]
["AH","Baltic CDT","U3","03. Dry & Frozen","U3.02","02. Local drinks & Tobacco","C.16.01","32. Lemonade, ice tea, kvass, tonic, par","15017","02. Carbonated Drinks","15026","05. Kvass","15043","01. =<0,75","","","","","","","X",null,"C.16.01","Lemonade, ice tea, kvass, tonic, par","Carbonated Drinks","Kvass","=<0,75","","","","15043",{"$f":"_xlfn.TEXTJOIN(\"; \",TRUE,ZCDT_EXPORT_2[[#This Row],[Sub-Category]:[Segment 5]])","v":"Carbonated Drinks; Kvass; =<0,75"}]
["AH","Baltic CDT","U3","03. Dry & Frozen","U3.02","02. Local drinks & Tobacco","C.16.01","32. Lemonade, ice tea, kvass, tonic, par","15017","02. Carbonated Drinks","15026","05. Kvass","15044","02. >0,75","","","","","","","X",null,"C.16.01","Lemonade, ice tea, kvass, tonic, par","Carbonated Drinks","Kvass",">0,75","","","","15044",{"$f":"_xlfn.TEXTJOIN(\"; \",TRUE,ZCDT_EXPORT_2[[#This Row],[Sub-Category]:[Segment 5]])","v":"Carbonated Drinks; Kvass; >0,75"}]
["AH","Baltic CDT","U3","03. Dry & Frozen","U3.02","02. Local drinks & Tobacco","C.16.01","32. Lemonade, ice tea, kvass, tonic, par","15017","02. Carbonated Drinks","15027","06. Tonic","15045","01. <=0,75","","","","","","","X",null,"C.16.01","Lemonade, ice tea, kvass, tonic, par","Carbonated Drinks","Tonic","<=0,75","","","","15045",{"$f":"_xlfn.TEXTJOIN(\"; \",TRUE,ZCDT_EXPORT_2[[#This Row],[Sub-Category]:[Segment 5]])","v":"Carbonated Drinks; Tonic; <=0,75"}]
["AH","Baltic CDT","U3","03. Dry & Frozen","U3.02","02. Local drinks & Tobacco","C.16.01","32. Lemonade, ice tea, kvass, tonic, par","15017","02. Carbonated Drinks","15027","06. Tonic","15046","02. >0,75","","","","","","","X",null,"C.16.01","Lemonade, ice tea, kvass, tonic, par","Carbonated Drinks","Tonic",">0,75","","","","15046",{"$f":"_xlfn.TEXTJOIN(\"; \",TRUE,ZCDT_EXPORT_2[[#This Row],[Sub-Category]:[Segment 5]])","v":"Carbonated Drinks; Tonic; >0,75"}]
["AH","Baltic CDT","U3","03. Dry & Frozen","U3.02","02. Local drinks & Tobacco","C.16.01","32. Lemonade, ice tea, kvass, tonic, par","15017","02. Carbonated Drinks","15028","07. Other Flavour","15047","01. <=0,75","","","","","","","X",null,"C.16.01","Lemonade, ice tea, kvass, tonic, par","Carbonated Drinks","Other Flavour","<=0,75","","","","15047",{"$f":"_xlfn.TEXTJOIN(\"; \",TRUE,ZCDT_EXPORT_2[[#This Row],[Sub-Category]:[Segment 5]])","v":"Carbonated Drinks; Other Flavour; <=0,75"}]
["AH","Baltic CDT","U3","03. Dry & Frozen","U3.02","02. Local drinks & Tobacco","C.16.01","32. Lemonade, ice tea, kvass, tonic, par","15017","02. Carbonated Drinks","15028","07. Other Flavour","15048","02. >0,75","","","","","","","X",null,"C.16.01","Lemonade, ice tea, kvass, tonic, par","Carbonated Drinks","Other Flavour",">0,75","","","","15048",{"$f":"_xlfn.TEXTJOIN(\"; \",TRUE,ZCDT_EXPORT_2[[#This Row],[Sub-Category]:[Segment 5]])","v":"Carbonated Drinks; Other Flavour; >0,75"}]
["AH","Baltic CDT","U3","03. Dry & Frozen","U3.02","02. Local drinks & Tobacco","C.16.01","32. Lemonade, ice tea, kvass, tonic, par","15017","02. Carbonated Drinks","19282","08. Fermented Drinks","","","","","","","","","X",null,"C.16.01","Lemonade, ice tea, kvass, tonic, par","Carbonated Drinks","Fermented Drinks","","","","","19282",{"$f":"_xlfn.TEXTJOIN(\"; \",TRUE,ZCDT_EXPORT_2[[#This Row],[Sub-Category]:[Segment 5]])","v":"Carbonated Drinks; Fermented Drinks"}]
["AH","Baltic CDT","U3","03. Dry & Frozen","U3.02","02. Local drinks & Tobacco","C.16.01","32. Lemonade, ice tea, kvass, tonic, par","15018","03. Non carbonated Drinks","15049","01. Exotic Fruit Drinks","15052","01. <=0,75","","","","","","","X",null,"C.16.01","Lemonade, ice tea, kvass, tonic, par","Non carbonated Drinks","Exotic Fruit Drinks","<=0,75","","","","15052",{"$f":"_xlfn.TEXTJOIN(\"; \",TRUE,ZCDT_EXPORT_2[[#This Row],[Sub-Category]:[Segment 5]])","v":"Non carbonated Drinks; Exotic Fruit Drinks; <=0,75"}]
["AH","Baltic CDT","U3","03. Dry & Frozen","U3.02","02. Local drinks & Tobacco","C.16.01","32. Lemonade, ice tea, kvass, tonic, par","15018","03. Non carbonated Drinks","15049","01. Exotic Fruit Drinks","15053","02. >0,75","","","","","","","X",null,"C.16.01","Lemonade, ice tea, kvass, tonic, par","Non carbonated Drinks","Exotic Fruit Drinks",">0,75","","","","15053",{"$f":"_xlfn.TEXTJOIN(\"; \",TRUE,ZCDT_EXPORT_2[[#This Row],[Sub-Category]:[Segment 5]])","v":"Non carbonated Drinks; Exotic Fruit Drinks; >0,75"}]
["AH","Baltic CDT","U3","03. Dry & Frozen","U3.02","02. Local drinks & Tobacco","C.16.01","32. Lemonade, ice tea, kvass, tonic, par","15018","03. Non carbonated Drinks","15050","02. other Flavour Drinks","15054","01. <=0,75","","","","","","","X",null,"C.16.01","Lemonade, ice tea, kvass, tonic, par","Non carbonated Drinks","other Flavour Drinks","<=0,75","","","","15054",{"$f":"_xlfn.TEXTJOIN(\"; \",TRUE,ZCDT_EXPORT_2[[#This Row],[Sub-Category]:[Segment 5]])","v":"Non carbonated Drinks; other Flavour Drinks; <=0,75"}]
["AH","Baltic CDT","U3","03. Dry & Frozen","U3.02","02. Local drinks & Tobacco","C.16.01","32. Lemonade, ice tea, kvass, tonic, par","15018","03. Non carbonated Drinks","15050","02. other Flavour Drinks","15055","02. >0,75","","","","","","","X",null,"C.16.01","Lemonade, ice tea, kvass, tonic, par","Non carbonated Drinks","other Flavour Drinks",">0,75","","","","15055",{"$f":"_xlfn.TEXTJOIN(\"; \",TRUE,ZCDT_EXPORT_2[[#This Row],[Sub-Category]:[Segment 5]])","v":"Non carbonated Drinks; other Flavour Drinks; >0,75"}]
["AH","Baltic CDT","U3","03. Dry & Frozen","U3.02","02. Local drinks & Tobacco","C.16.01","32. Lemonade, ice tea, kvass, tonic, par","15018","03. Non carbonated Drinks","15051","03. Ice tea","15056","01. <=0,75","","","","","","","X",null,"C.16.01","Lemonade, ice tea, kvass, tonic, par","Non carbonated Drinks","Ice tea","<=0,75","","","","15056",{"$f":"_xlfn.TEXTJOIN(\"; \",TRUE,ZCDT_EXPORT_2[[#This Row],[Sub-Category]:[Segment 5]])","v":"Non carbonated Drinks; Ice tea; <=0,75"}]
["AH","Baltic CDT","U3","03. Dry & Frozen","U3.02","02. Local drinks & Tobacco","C.16.01","32. Lemonade, ice tea, kvass, tonic, par","15018","03. Non carbonated Drinks","15051","03. Ice tea","15057","02. >0,75","","","","","","","X",null,"C.16.01","Lemonade, ice tea, kvass, tonic, par","Non carbonated Drinks","Ice tea",">0,75","","","","15057",{"$f":"_xlfn.TEXTJOIN(\"; \",TRUE,ZCDT_EXPORT_2[[#This Row],[Sub-Category]:[Segment 5]])","v":"Non carbonated Drinks; Ice tea; >0,75"}]
["AH","Baltic CDT","U3","03. Dry & Frozen","U3.02","02. Local drinks & Tobacco","C.16.01","32. Lemonade, ice tea, kvass, tonic, par","15019","04. Party Drinks","","","","","","","","","","","X",null,"C.16.01","Lemonade, ice tea, kvass, tonic, par","Party Drinks","","","","","","15019",{"$f":"_xlfn.TEXTJOIN(\"; \",TRUE,ZCDT_EXPORT_2[[#This Row],[Sub-Category]:[Segment 5]])","v":"Party Drinks"}]
["AH","Baltic CDT","U3","03. Dry & Frozen","U3.02","02. Local drinks & Tobacco","C.16.02","33. Water, sports drinks","16136","01. Sports drinks/functional drinks/vita","16138","01. Sport/funcional drinks","","","","","","","","","X",null,"C.16.02","Water, sports drinks","Sports drinks/functional drinks/vita","Sport/funcional drinks","","","","","16138",{"$f":"_xlfn.TEXTJOIN(\"; \",TRUE,ZCDT_EXPORT_2[[#This Row],[Sub-Category]:[Segment 5]])","v":"Sports drinks/functional drinks/vita; Sport/funcional drinks"}]
["AH","Baltic CDT","U3","03. Dry & Frozen","U3.02","02. Local drinks & Tobacco","C.16.02","33. Water, sports drinks","16136","01. Sports drinks/functional drinks/vita","16139","02. Vitamin water","","","","","","","","","X",null,"C.16.02","Water, sports drinks","Sports drinks/functional drinks/vita","Vitamin water","","","","","16139",{"$f":"_xlfn.TEXTJOIN(\"; \",TRUE,ZCDT_EXPORT_2[[#This Row],[Sub-Category]:[Segment 5]])","v":"Sports drinks/functional drinks/vita; Vitamin water"}]
["AH","Baltic CDT","U3","03. Dry & Frozen","U3.02","02. Local drinks & Tobacco","C.16.02","33. Water, sports drinks","16137","02. Water","16140","01. Flavoured","16143","01. Carbonated flavoured","16145","01. Small <=0,75L","","","","","X",null,"C.16.02","Water, sports drinks","Water","Flavoured","Carbonated flavoured","Small <=0,75L","","","16145",{"$f":"_xlfn.TEXTJOIN(\"; \",TRUE,ZCDT_EXPORT_2[[#This Row],[Sub-Category]:[Segment 5]])","v":"Water; Flavoured; Carbonated flavoured; Small <=0,75L"}]
["AH","Baltic CDT","U3","03. Dry & Frozen","U3.02","02. Local drinks & Tobacco","C.16.02","33. Water, sports drinks","16137","02. Water","16140","01. Flavoured","16143","01. Carbonated flavoured","16146","02. large >0,75L","","","","","X",null,"C.16.02","Water, sports drinks","Water","Flavoured","Carbonated flavoured","large >0,75L","","","16146",{"$f":"_xlfn.TEXTJOIN(\"; \",TRUE,ZCDT_EXPORT_2[[#This Row],[Sub-Category]:[Segment 5]])","v":"Water; Flavoured; Carbonated flavoured; large >0,75L"}]
["AH","Baltic CDT","U3","03. Dry & Frozen","U3.02","02. Local drinks & Tobacco","C.16.02","33. Water, sports drinks","16137","02. Water","16140","01. Flavoured","16144","02. Non-carbonated flavoured","16147","01. Small <=0,75L","","","","","X",null,"C.16.02","Water, sports drinks","Water","Flavoured","Non-carbonated flavoured","Small <=0,75L","","","16147",{"$f":"_xlfn.TEXTJOIN(\"; \",TRUE,ZCDT_EXPORT_2[[#This Row],[Sub-Category]:[Segment 5]])","v":"Water; Flavoured; Non-carbonated flavoured; Small <=0,75L"}]
["AH","Baltic CDT","U3","03. Dry & Frozen","U3.02","02. Local drinks & Tobacco","C.16.02","33. Water, sports drinks","16137","02. Water","16140","01. Flavoured","16144","02. Non-carbonated flavoured","16148","02. Large >0,75L","","","","","X",null,"C.16.02","Water, sports drinks","Water","Flavoured","Non-carbonated flavoured","Large >0,75L","","","16148",{"$f":"_xlfn.TEXTJOIN(\"; \",TRUE,ZCDT_EXPORT_2[[#This Row],[Sub-Category]:[Segment 5]])","v":"Water; Flavoured; Non-carbonated flavoured; Large >0,75L"}]
["AH","Baltic CDT","U3","03. Dry & Frozen","U3.02","02. Local drinks & Tobacco","C.16.02","33. Water, sports drinks","16137","02. Water","16141","02. Unflavoured","16149","01. Carbonated unflavoured","16151","01. Small <=0,75L","","","","","X",null,"C.16.02","Water, sports drinks","Water","Unflavoured","Carbonated unflavoured","Small <=0,75L","","","16151",{"$f":"_xlfn.TEXTJOIN(\"; \",TRUE,ZCDT_EXPORT_2[[#This Row],[Sub-Category]:[Segment 5]])","v":"Water; Unflavoured; Carbonated unflavoured; Small <=0,75L"}]
["AH","Baltic CDT","U3","03. Dry & Frozen","U3.02","02. Local drinks & Tobacco","C.16.02","33. Water, sports drinks","16137","02. Water","16141","02. Unflavoured","16149","01. Carbonated unflavoured","16152","02. Large >0,75L","","","","","X",null,"C.16.02","Water, sports drinks","Water","Unflavoured","Carbonated unflavoured","Large >0,75L","","","16152",{"$f":"_xlfn.TEXTJOIN(\"; \",TRUE,ZCDT_EXPORT_2[[#This Row],[Sub-Category]:[Segment 5]])","v":"Water; Unflavoured; Carbonated unflavoured; Large >0,75L"}]
["AH","Baltic CDT","U3","03. Dry & Frozen","U3.02","02. Local drinks & Tobacco","C.16.02","33. Water, sports drinks","16137","02. Water","16141","02. Unflavoured","16150","02. Non-carbonated unflavoured","16153","01. Small <=0,75L","","","","","X",null,"C.16.02","Water, sports drinks","Water","Unflavoured","Non-carbonated unflavoured","Small <=0,75L","","","16153",{"$f":"_xlfn.TEXTJOIN(\"; \",TRUE,ZCDT_EXPORT_2[[#This Row],[Sub-Category]:[Segment 5]])","v":"Water; Unflavoured; Non-carbonated unflavoured; Small <=0,75L"}]
["AH","Baltic CDT","U3","03. Dry & Frozen","U3.02","02. Local drinks & Tobacco","C.16.02","33. Water, sports drinks","16137","02. Water","16141","02. Unflavoured","16150","02. Non-carbonated unflavoured","16154","02. Medium 0,75L - 2L","","","","","X",null,"C.16.02","Water, sports drinks","Water","Unflavoured","Non-carbonated unflavoured","Medium 0,75L - 2L","","","16154",{"$f":"_xlfn.TEXTJOIN(\"; \",TRUE,ZCDT_EXPORT_2[[#This Row],[Sub-Category]:[Segment 5]])","v":"Water; Unflavoured; Non-carbonated unflavoured; Medium 0,75L - 2L"}]
["AH","Baltic CDT","U3","03. Dry & Frozen","U3.02","02. Local drinks & Tobacco","C.16.02","33. Water, sports drinks","16137","02. Water","16141","02. Unflavoured","16150","02. Non-carbonated unflavoured","16155","03. Large >2L","","","","","X",null,"C.16.02","Water, sports drinks","Water","Unflavoured","Non-carbonated unflavoured","Large >2L","","","16155",{"$f":"_xlfn.TEXTJOIN(\"; \",TRUE,ZCDT_EXPORT_2[[#This Row],[Sub-Category]:[Segment 5]])","v":"Water; Unflavoured; Non-carbonated unflavoured; Large >2L"}]
["AH","Baltic CDT","U3","03. Dry & Frozen","U3.02","02. Local drinks & Tobacco","C.16.02","33. Water, sports drinks","16137","02. Water","16142","03. Mineral","16156","01. Carbonated","16158","01. Small <=0,75L","","","","","X",null,"C.16.02","Water, sports drinks","Water","Mineral","Carbonated","Small <=0,75L","","","16158",{"$f":"_xlfn.TEXTJOIN(\"; \",TRUE,ZCDT_EXPORT_2[[#This Row],[Sub-Category]:[Segment 5]])","v":"Water; Mineral; Carbonated; Small <=0,75L"}]
["AH","Baltic CDT","U3","03. Dry & Frozen","U3.02","02. Local drinks & Tobacco","C.16.02","33. Water, sports drinks","16137","02. Water","16142","03. Mineral","16156","01. Carbonated","16159","02. Large >0,75L","","","","","X",null,"C.16.02","Water, sports drinks","Water","Mineral","Carbonated","Large >0,75L","","","16159",{"$f":"_xlfn.TEXTJOIN(\"; \",TRUE,ZCDT_EXPORT_2[[#This Row],[Sub-Category]:[Segment 5]])","v":"Water; Mineral; Carbonated; Large >0,75L"}]
["AH","Baltic CDT","U3","03. Dry & Frozen","U3.02","02. Local drinks & Tobacco","C.16.02","33. Water, sports drinks","16137","02. Water","16142","03. Mineral","16157","02. Non-carbonated","16160","01. Small <=0,75L","","","","","X",null,"C.16.02","Water, sports drinks","Water","Mineral","Non-carbonated","Small <=0,75L","","","16160",{"$f":"_xlfn.TEXTJOIN(\"; \",TRUE,ZCDT_EXPORT_2[[#This Row],[Sub-Category]:[Segment 5]])","v":"Water; Mineral; Non-carbonated; Small <=0,75L"}]
["AH","Baltic CDT","U3","03. Dry & Frozen","U3.02","02. Local drinks & Tobacco","C.16.02","33. Water, sports drinks","16137","02. Water","16142","03. Mineral","16157","02. Non-carbonated","16161","02. Large >0,75L","","","","","X",null,"C.16.02","Water, sports drinks","Water","Mineral","Non-carbonated","Large >0,75L","","","16161",{"$f":"_xlfn.TEXTJOIN(\"; \",TRUE,ZCDT_EXPORT_2[[#This Row],[Sub-Category]:[Segment 5]])","v":"Water; Mineral; Non-carbonated; Large >0,75L"}]
["AH","Baltic CDT","U3","03. Dry & Frozen","U3.03","03. Sweets & Grains","C.02.01","06. Biscuits, wafers","18531","01. Prepacked","18533","01. Biscuits","18535","01. Sweet","18537","01. Assorted/Boxes","","","","","X",null,"C.02.01","Biscuits, wafers","Prepacked","Biscuits","Sweet","Assorted/Boxes","","","18537",{"$f":"_xlfn.TEXTJOIN(\"; \",TRUE,ZCDT_EXPORT_2[[#This Row],[Sub-Category]:[Segment 5]])","v":"Prepacked; Biscuits; Sweet; Assorted/Boxes"}]
["AH","Baltic CDT","U3","03. Dry & Frozen","U3.03","03. Sweets & Grains","C.02.01","06. Biscuits, wafers","18531","01. Prepacked","18533","01. Biscuits","18535","01. Sweet","18538","02. With filling","","","","","X",null,"C.02.01","Biscuits, wafers","Prepacked","Biscuits","Sweet","With filling","","","18538",{"$f":"_xlfn.TEXTJOIN(\"; \",TRUE,ZCDT_EXPORT_2[[#This Row],[Sub-Category]:[Segment 5]])","v":"Prepacked; Biscuits; Sweet; With filling"}]
["AH","Baltic CDT","U3","03. Dry & Frozen","U3.03","03. Sweets & Grains","C.02.01","06. Biscuits, wafers","18531","01. Prepacked","18533","01. Biscuits","18535","01. Sweet","18539","03. Without filling","","","","","X",null,"C.02.01","Biscuits, wafers","Prepacked","Biscuits","Sweet","Without filling","","","18539",{"$f":"_xlfn.TEXTJOIN(\"; \",TRUE,ZCDT_EXPORT_2[[#This Row],[Sub-Category]:[Segment 5]])","v":"Prepacked; Biscuits; Sweet; Without filling"}]
["AH","Baltic CDT","U3","03. Dry & Frozen","U3.03","03. Sweets & Grains","C.02.01","06. Biscuits, wafers","18531","01. Prepacked","18533","01. Biscuits","18535","01. Sweet","18540","04. Oat/Prjaniki","","","","","X",null,"C.02.01","Biscuits, wafers","Prepacked","Biscuits","Sweet","Oat/Prjaniki","","","18540",{"$f":"_xlfn.TEXTJOIN(\"; \",TRUE,ZCDT_EXPORT_2[[#This Row],[Sub-Category]:[Segment 5]])","v":"Prepacked; Biscuits; Sweet; Oat/Prjaniki"}]
["AH","Baltic CDT","U3","03. Dry & Frozen","U3.03","03. Sweets & Grains","C.02.01","06. Biscuits, wafers","18531","01. Prepacked","18533","01. Biscuits","18535","01. Sweet","18541","05. Gingerbread","","","","","X",null,"C.02.01","Biscuits, wafers","Prepacked","Biscuits","Sweet","Gingerbread","","","18541",{"$f":"_xlfn.TEXTJOIN(\"; \",TRUE,ZCDT_EXPORT_2[[#This Row],[Sub-Category]:[Segment 5]])","v":"Prepacked; Biscuits; Sweet; Gingerbread"}]
["AH","Baltic CDT","U3","03. Dry & Frozen","U3.03","03. Sweets & Grains","C.02.01","06. Biscuits, wafers","18531","01. Prepacked","18533","01. Biscuits","18535","01. Sweet","18542","06. Other seasonal","","","","","X",null,"C.02.01","Biscuits, wafers","Prepacked","Biscuits","Sweet","Other seasonal","","","18542",{"$f":"_xlfn.TEXTJOIN(\"; \",TRUE,ZCDT_EXPORT_2[[#This Row],[Sub-Category]:[Segment 5]])","v":"Prepacked; Biscuits; Sweet; Other seasonal"}]
["AH","Baltic CDT","U3","03. Dry & Frozen","U3.03","03. Sweets & Grains","C.02.01","06. Biscuits, wafers","18531","01. Prepacked","18533","01. Biscuits","18536","02. Salty","18543","01. Crackers","","","","","X",null,"C.02.01","Biscuits, wafers","Prepacked","Biscuits","Salty","Crackers","","","18543",{"$f":"_xlfn.TEXTJOIN(\"; \",TRUE,ZCDT_EXPORT_2[[#This Row],[Sub-Category]:[Segment 5]])","v":"Prepacked; Biscuits; Salty; Crackers"}]
["AH","Baltic CDT","U3","03. Dry & Frozen","U3.03","03. Sweets & Grains","C.02.01","06. Biscuits, wafers","18531","01. Prepacked","18533","01. Biscuits","18536","02. Salty","18544","02. Sticks","","","","","X",null,"C.02.01","Biscuits, wafers","Prepacked","Biscuits","Salty","Sticks","","","18544",{"$f":"_xlfn.TEXTJOIN(\"; \",TRUE,ZCDT_EXPORT_2[[#This Row],[Sub-Category]:[Segment 5]])","v":"Prepacked; Biscuits; Salty; Sticks"}]
["AH","Baltic CDT","U3","03. Dry & Frozen","U3.03","03. Sweets & Grains","C.02.01","06. Biscuits, wafers","18531","01. Prepacked","18533","01. Biscuits","18536","02. Salty","18545","03. Regular salty biscuits","","","","","X",null,"C.02.01","Biscuits, wafers","Prepacked","Biscuits","Salty","Regular salty biscuits","","","18545",{"$f":"_xlfn.TEXTJOIN(\"; \",TRUE,ZCDT_EXPORT_2[[#This Row],[Sub-Category]:[Segment 5]])","v":"Prepacked; Biscuits; Salty; Regular salty biscuits"}]
["AH","Baltic CDT","U3","03. Dry & Frozen","U3.03","03. Sweets & Grains","C.02.01","06. Biscuits, wafers","18531","01. Prepacked","18534","02. Wafers","18546","01. With filling","18549","01. Tubes","","","","","X",null,"C.02.01","Biscuits, wafers","Prepacked","Wafers","With filling","Tubes","","","18549",{"$f":"_xlfn.TEXTJOIN(\"; \",TRUE,ZCDT_EXPORT_2[[#This Row],[Sub-Category]:[Segment 5]])","v":"Prepacked; Wafers; With filling; Tubes"}]
["AH","Baltic CDT","U3","03. Dry & Frozen","U3.03","03. Sweets & Grains","C.02.01","06. Biscuits, wafers","18531","01. Prepacked","18534","02. Wafers","18546","01. With filling","18550","02. Other","","","","","X",null,"C.02.01","Biscuits, wafers","Prepacked","Wafers","With filling","Other","","","18550",{"$f":"_xlfn.TEXTJOIN(\"; \",TRUE,ZCDT_EXPORT_2[[#This Row],[Sub-Category]:[Segment 5]])","v":"Prepacked; Wafers; With filling; Other"}]
["AH","Baltic CDT","U3","03. Dry & Frozen","U3.03","03. Sweets & Grains","C.02.01","06. Biscuits, wafers","18531","01. Prepacked","18534","02. Wafers","18547","02. Without filling","18551","01. Tubes","","","","","X",null,"C.02.01","Biscuits, wafers","Prepacked","Wafers","Without filling","Tubes","","","18551",{"$f":"_xlfn.TEXTJOIN(\"; \",TRUE,ZCDT_EXPORT_2[[#This Row],[Sub-Category]:[Segment 5]])","v":"Prepacked; Wafers; Without filling; Tubes"}]
["AH","Baltic CDT","U3","03. Dry & Frozen","U3.03","03. Sweets & Grains","C.02.01","06. Biscuits, wafers","18531","01. Prepacked","18534","02. Wafers","18547","02. Without filling","18552","02. Sheets","","","","","X",null,"C.02.01","Biscuits, wafers","Prepacked","Wafers","Without filling","Sheets","","","18552",{"$f":"_xlfn.TEXTJOIN(\"; \",TRUE,ZCDT_EXPORT_2[[#This Row],[Sub-Category]:[Segment 5]])","v":"Prepacked; Wafers; Without filling; Sheets"}]
["AH","Baltic CDT","U3","03. Dry & Frozen","U3.03","03. Sweets & Grains","C.02.01","06. Biscuits, wafers","18531","01. Prepacked","18534","02. Wafers","18547","02. Without filling","18553","03. Other","","","","","X",null,"C.02.01","Biscuits, wafers","Prepacked","Wafers","Without filling","Other","","","18553",{"$f":"_xlfn.TEXTJOIN(\"; \",TRUE,ZCDT_EXPORT_2[[#This Row],[Sub-Category]:[Segment 5]])","v":"Prepacked; Wafers; Without filling; Other"}]
["AH","Baltic CDT","U3","03. Dry & Frozen","U3.03","03. Sweets & Grains","C.02.01","06. Biscuits, wafers","18531","01. Prepacked","18534","02. Wafers","18548","03. Wafer cakes","","","","","","","X",null,"C.02.01","Biscuits, wafers","Prepacked","Wafers","Wafer cakes","","","","18548",{"$f":"_xlfn.TEXTJOIN(\"; \",TRUE,ZCDT_EXPORT_2[[#This Row],[Sub-Category]:[Segment 5]])","v":"Prepacked; Wafers; Wafer cakes"}]
["AH","Baltic CDT","U3","03. Dry & Frozen","U3.03","03. Sweets & Grains","C.02.01","06. Biscuits, wafers","18532","02. Bulk","18554","01. Biscuits","18556","01. Sweet","18558","01. With filling","","","","","X",null,"C.02.01","Biscuits, wafers","Bulk","Biscuits","Sweet","With filling","","","18558",{"$f":"_xlfn.TEXTJOIN(\"; \",TRUE,ZCDT_EXPORT_2[[#This Row],[Sub-Category]:[Segment 5]])","v":"Bulk; Biscuits; Sweet; With filling"}]
["AH","Baltic CDT","U3","03. Dry & Frozen","U3.03","03. Sweets & Grains","C.02.01","06. Biscuits, wafers","18532","02. Bulk","18554","01. Biscuits","18556","01. Sweet","18559","02. Without filling","","","","","X",null,"C.02.01","Biscuits, wafers","Bulk","Biscuits","Sweet","Without filling","","","18559",{"$f":"_xlfn.TEXTJOIN(\"; \",TRUE,ZCDT_EXPORT_2[[#This Row],[Sub-Category]:[Segment 5]])","v":"Bulk; Biscuits; Sweet; Without filling"}]
["AH","Baltic CDT","U3","03. Dry & Frozen","U3.03","03. Sweets & Grains","C.02.01","06. Biscuits, wafers","18532","02. Bulk","18554","01. Biscuits","18556","01. Sweet","18560","03. Gingerbread","","","","","X",null,"C.02.01","Biscuits, wafers","Bulk","Biscuits","Sweet","Gingerbread","","","18560",{"$f":"_xlfn.TEXTJOIN(\"; \",TRUE,ZCDT_EXPORT_2[[#This Row],[Sub-Category]:[Segment 5]])","v":"Bulk; Biscuits; Sweet; Gingerbread"}]
["AH","Baltic CDT","U3","03. Dry & Frozen","U3.03","03. Sweets & Grains","C.02.01","06. Biscuits, wafers","18532","02. Bulk","18554","01. Biscuits","18556","01. Sweet","18561","04. Other seasonal","","","","","X",null,"C.02.01","Biscuits, wafers","Bulk","Biscuits","Sweet","Other seasonal","","","18561",{"$f":"_xlfn.TEXTJOIN(\"; \",TRUE,ZCDT_EXPORT_2[[#This Row],[Sub-Category]:[Segment 5]])","v":"Bulk; Biscuits; Sweet; Other seasonal"}]
["AH","Baltic CDT","U3","03. Dry & Frozen","U3.03","03. Sweets & Grains","C.02.01","06. Biscuits, wafers","18532","02. Bulk","18554","01. Biscuits","18557","02. Salty","","","","","","","X",null,"C.02.01","Biscuits, wafers","Bulk","Biscuits","Salty","","","","18557",{"$f":"_xlfn.TEXTJOIN(\"; \",TRUE,ZCDT_EXPORT_2[[#This Row],[Sub-Category]:[Segment 5]])","v":"Bulk; Biscuits; Salty"}]
["AH","Baltic CDT","U3","03. Dry & Frozen","U3.03","03. Sweets & Grains","C.02.01","06. Biscuits, wafers","18532","02. Bulk","18555","02. Wafers","","","","","","","","","X",null,"C.02.01","Biscuits, wafers","Bulk","Wafers","","","","","18555",{"$f":"_xlfn.TEXTJOIN(\"; \",TRUE,ZCDT_EXPORT_2[[#This Row],[Sub-Category]:[Segment 5]])","v":"Bulk; Wafers"}]
["AH","Baltic CDT","U3","03. Dry & Frozen","U3.03","03. Sweets & Grains","C.06.01","12. Cash zone","","","","","","","","","","","","","X",null,"C.06.01","Cash zone","","","","","","","C.06.01",{"$f":"_xlfn.TEXTJOIN(\"; \",TRUE,ZCDT_EXPORT_2[[#This Row],[Sub-Category]:[Segment 5]])","v":""}]
["AH","Baltic CDT","U3","03. Dry & Frozen","U3.03","03. Sweets & Grains","C.08.01","14. Cereals and muesli products","16429","01. Cereals","16432","01. Cornflakes","","","","","","","","","X",null,"C.08.01","Cereals and muesli products","Cereals","Cornflakes","","","","","16432",{"$f":"_xlfn.TEXTJOIN(\"; \",TRUE,ZCDT_EXPORT_2[[#This Row],[Sub-Category]:[Segment 5]])","v":"Cereals; Cornflakes"}]
["AH","Baltic CDT","U3","03. Dry & Frozen","U3.03","03. Sweets & Grains","C.08.01","14. Cereals and muesli products","16429","01. Cereals","16433","02. Other type cereals","","","","","","","","","X",null,"C.08.01","Cereals and muesli products","Cereals","Other type cereals","","","","","16433",{"$f":"_xlfn.TEXTJOIN(\"; \",TRUE,ZCDT_EXPORT_2[[#This Row],[Sub-Category]:[Segment 5]])","v":"Cereals; Other type cereals"}]
["AH","Baltic CDT","U3","03. Dry & Frozen","U3.03","03. Sweets & Grains","C.08.01","14. Cereals and muesli products","16430","02. Muesli","","","","","","","","","","","X",null,"C.08.01","Cereals and muesli products","Muesli","","","","","","16430",{"$f":"_xlfn.TEXTJOIN(\"; \",TRUE,ZCDT_EXPORT_2[[#This Row],[Sub-Category]:[Segment 5]])","v":"Muesli"}]
["AH","Baltic CDT","U3","03. Dry & Frozen","U3.03","03. Sweets & Grains","C.08.01","14. Cereals and muesli products","16431","03. Muesli bar","","","","","","","","","","","X",null,"C.08.01","Cereals and muesli products","Muesli bar","","","","","","16431",{"$f":"_xlfn.TEXTJOIN(\"; \",TRUE,ZCDT_EXPORT_2[[#This Row],[Sub-Category]:[Segment 5]])","v":"Muesli bar"}]
["AH","Baltic CDT","U3","03. Dry & Frozen","U3.03","03. Sweets & Grains","C.08.02","15. Flakes,  groats, legume, rice","17821","01. Flakes","17825","01. Oat flakes","","","","","","","","","X",null,"C.08.02","Flakes,  groats, legume, rice","Flakes","Oat flakes","","","","","17825",{"$f":"_xlfn.TEXTJOIN(\"; \",TRUE,ZCDT_EXPORT_2[[#This Row],[Sub-Category]:[Segment 5]])","v":"Flakes; Oat flakes"}]
["AH","Baltic CDT","U3","03. Dry & Frozen","U3.03","03. Sweets & Grains","C.08.02","15. Flakes,  groats, legume, rice","17821","01. Flakes","17826","02. Multi grain flakes","","","","","","","","","X",null,"C.08.02","Flakes,  groats, legume, rice","Flakes","Multi grain flakes","","","","","17826",{"$f":"_xlfn.TEXTJOIN(\"; \",TRUE,ZCDT_EXPORT_2[[#This Row],[Sub-Category]:[Segment 5]])","v":"Flakes; Multi grain flakes"}]
["AH","Baltic CDT","U3","03. Dry & Frozen","U3.03","03. Sweets & Grains","C.08.02","15. Flakes,  groats, legume, rice","17821","01. Flakes","17827","03. Buckwheat flakes","","","","","","","","","X",null,"C.08.02","Flakes,  groats, legume, rice","Flakes","Buckwheat flakes","","","","","17827",{"$f":"_xlfn.TEXTJOIN(\"; \",TRUE,ZCDT_EXPORT_2[[#This Row],[Sub-Category]:[Segment 5]])","v":"Flakes; Buckwheat flakes"}]
["AH","Baltic CDT","U3","03. Dry & Frozen","U3.03","03. Sweets & Grains","C.08.02","15. Flakes,  groats, legume, rice","17821","01. Flakes","17829","05. Rice flakes","","","","","","","","","X",null,"C.08.02","Flakes,  groats, legume, rice","Flakes","Rice flakes","","","","","17829",{"$f":"_xlfn.TEXTJOIN(\"; \",TRUE,ZCDT_EXPORT_2[[#This Row],[Sub-Category]:[Segment 5]])","v":"Flakes; Rice flakes"}]
["AH","Baltic CDT","U3","03. Dry & Frozen","U3.03","03. Sweets & Grains","C.08.02","15. Flakes,  groats, legume, rice","17821","01. Flakes","17830","06. Other flakes","","","","","","","","","X",null,"C.08.02","Flakes,  groats, legume, rice","Flakes","Other flakes","","","","","17830",{"$f":"_xlfn.TEXTJOIN(\"; \",TRUE,ZCDT_EXPORT_2[[#This Row],[Sub-Category]:[Segment 5]])","v":"Flakes; Other flakes"}]
["AH","Baltic CDT","U3","03. Dry & Frozen","U3.03","03. Sweets & Grains","C.08.02","15. Flakes,  groats, legume, rice","17821","01. Flakes","17831","07. Brans","","","","","","","","","X",null,"C.08.02","Flakes,  groats, legume, rice","Flakes","Brans","","","","","17831",{"$f":"_xlfn.TEXTJOIN(\"; \",TRUE,ZCDT_EXPORT_2[[#This Row],[Sub-Category]:[Segment 5]])","v":"Flakes; Brans"}]
["AH","Baltic CDT","U3","03. Dry & Frozen","U3.03","03. Sweets & Grains","C.08.02","15. Flakes,  groats, legume, rice","17822","02. Groats","17832","01. Barley, pearl","","","","","","","","","X",null,"C.08.02","Flakes,  groats, legume, rice","Groats","Barley, pearl","","","","","17832",{"$f":"_xlfn.TEXTJOIN(\"; \",TRUE,ZCDT_EXPORT_2[[#This Row],[Sub-Category]:[Segment 5]])","v":"Groats; Barley, pearl"}]
["AH","Baltic CDT","U3","03. Dry & Frozen","U3.03","03. Sweets & Grains","C.08.02","15. Flakes,  groats, legume, rice","17822","02. Groats","17833","02. Buckwheat","","","","","","","","","X",null,"C.08.02","Flakes,  groats, legume, rice","Groats","Buckwheat","","","","","17833",{"$f":"_xlfn.TEXTJOIN(\"; \",TRUE,ZCDT_EXPORT_2[[#This Row],[Sub-Category]:[Segment 5]])","v":"Groats; Buckwheat"}]
["AH","Baltic CDT","U3","03. Dry & Frozen","U3.03","03. Sweets & Grains","C.08.02","15. Flakes,  groats, legume, rice","17822","02. Groats","17834","03. Semolina, bulgur and couscous","","","","","","","","","X",null,"C.08.02","Flakes,  groats, legume, rice","Groats","Semolina, bulgur and couscous","","","","","17834",{"$f":"_xlfn.TEXTJOIN(\"; \",TRUE,ZCDT_EXPORT_2[[#This Row],[Sub-Category]:[Segment 5]])","v":"Groats; Semolina, bulgur and couscous"}]
["AH","Baltic CDT","U3","03. Dry & Frozen","U3.03","03. Sweets & Grains","C.08.02","15. Flakes,  groats, legume, rice","17822","02. Groats","17835","04. Other groats and mixes","","","","","","","","","X",null,"C.08.02","Flakes,  groats, legume, rice","Groats","Other groats and mixes","","","","","17835",{"$f":"_xlfn.TEXTJOIN(\"; \",TRUE,ZCDT_EXPORT_2[[#This Row],[Sub-Category]:[Segment 5]])","v":"Groats; Other groats and mixes"}]
["AH","Baltic CDT","U3","03. Dry & Frozen","U3.03","03. Sweets & Grains","C.08.02","15. Flakes,  groats, legume, rice","17823","03. Legume and other grain products","17836","01. Beans","","","","","","","","","X",null,"C.08.02","Flakes,  groats, legume, rice","Legume and other grain products","Beans","","","","","17836",{"$f":"_xlfn.TEXTJOIN(\"; \",TRUE,ZCDT_EXPORT_2[[#This Row],[Sub-Category]:[Segment 5]])","v":"Legume and other grain products; Beans"}]
["AH","Baltic CDT","U3","03. Dry & Frozen","U3.03","03. Sweets & Grains","C.08.02","15. Flakes,  groats, legume, rice","17823","03. Legume and other grain products","17837","02. Peas","","","","","","","","","X",null,"C.08.02","Flakes,  groats, legume, rice","Legume and other grain products","Peas","","","","","17837",{"$f":"_xlfn.TEXTJOIN(\"; \",TRUE,ZCDT_EXPORT_2[[#This Row],[Sub-Category]:[Segment 5]])","v":"Legume and other grain products; Peas"}]
["AH","Baltic CDT","U3","03. Dry & Frozen","U3.03","03. Sweets & Grains","C.08.02","15. Flakes,  groats, legume, rice","17823","03. Legume and other grain products","17838","03. Lentil","","","","","","","","","X",null,"C.08.02","Flakes,  groats, legume, rice","Legume and other grain products","Lentil","","","","","17838",{"$f":"_xlfn.TEXTJOIN(\"; \",TRUE,ZCDT_EXPORT_2[[#This Row],[Sub-Category]:[Segment 5]])","v":"Legume and other grain products; Lentil"}]
["AH","Baltic CDT","U3","03. Dry & Frozen","U3.03","03. Sweets & Grains","C.08.02","15. Flakes,  groats, legume, rice","17823","03. Legume and other grain products","17840","05. Other legume and grain products","","","","","","","","","X",null,"C.08.02","Flakes,  groats, legume, rice","Legume and other grain products","Other legume and grain products","","","","","17840",{"$f":"_xlfn.TEXTJOIN(\"; \",TRUE,ZCDT_EXPORT_2[[#This Row],[Sub-Category]:[Segment 5]])","v":"Legume and other grain products; Other legume and grain products"}]
["AH","Baltic CDT","U3","03. Dry & Frozen","U3.03","03. Sweets & Grains","C.08.02","15. Flakes,  groats, legume, rice","17824","04. Rice","17841","01. Regular rice","17843","01. Regular rice in portion packs","","","","","","","X",null,"C.08.02","Flakes,  groats, legume, rice","Rice","Regular rice","Regular rice in portion packs","","","","17843",{"$f":"_xlfn.TEXTJOIN(\"; \",TRUE,ZCDT_EXPORT_2[[#This Row],[Sub-Category]:[Segment 5]])","v":"Rice; Regular rice; Regular rice in portion packs"}]
["AH","Baltic CDT","U3","03. Dry & Frozen","U3.03","03. Sweets & Grains","C.08.02","15. Flakes,  groats, legume, rice","17824","04. Rice","17841","01. Regular rice","17844","02. Regular rice weighted","","","","","","","X",null,"C.08.02","Flakes,  groats, legume, rice","Rice","Regular rice","Regular rice weighted","","","","17844",{"$f":"_xlfn.TEXTJOIN(\"; \",TRUE,ZCDT_EXPORT_2[[#This Row],[Sub-Category]:[Segment 5]])","v":"Rice; Regular rice; Regular rice weighted"}]
["AH","Baltic CDT","U3","03. Dry & Frozen","U3.03","03. Sweets & Grains","C.08.02","15. Flakes,  groats, legume, rice","17824","04. Rice","17841","01. Regular rice","17845","03. Rice based and meal mixes","","","","","","","X",null,"C.08.02","Flakes,  groats, legume, rice","Rice","Regular rice","Rice based and meal mixes","","","","17845",{"$f":"_xlfn.TEXTJOIN(\"; \",TRUE,ZCDT_EXPORT_2[[#This Row],[Sub-Category]:[Segment 5]])","v":"Rice; Regular rice; Rice based and meal mixes"}]
["AH","Baltic CDT","U3","03. Dry & Frozen","U3.03","03. Sweets & Grains","C.08.02","15. Flakes,  groats, legume, rice","17824","04. Rice","17842","02. Special rice","19083","01. Special rice in portion packs","","","","","","","X",null,"C.08.02","Flakes,  groats, legume, rice","Rice","Special rice","Special rice in portion packs","","","","19083",{"$f":"_xlfn.TEXTJOIN(\"; \",TRUE,ZCDT_EXPORT_2[[#This Row],[Sub-Category]:[Segment 5]])","v":"Rice; Special rice; Special rice in portion packs"}]
["AH","Baltic CDT","U3","03. Dry & Frozen","U3.03","03. Sweets & Grains","C.08.02","15. Flakes,  groats, legume, rice","17824","04. Rice","17842","02. Special rice","19084","02. Special rice weighted","","","","","","","X",null,"C.08.02","Flakes,  groats, legume, rice","Rice","Special rice","Special rice weighted","","","","19084",{"$f":"_xlfn.TEXTJOIN(\"; \",TRUE,ZCDT_EXPORT_2[[#This Row],[Sub-Category]:[Segment 5]])","v":"Rice; Special rice; Special rice weighted"}]
["AH","Baltic CDT","U3","03. Dry & Frozen","U3.03","03. Sweets & Grains","C.08.02","15. Flakes,  groats, legume, rice","17824","04. Rice","17842","02. Special rice","19085","03. Special rice based and meal mixes","","","","","","","X",null,"C.08.02","Flakes,  groats, legume, rice","Rice","Special rice","Special rice based and meal mixes","","","","19085",{"$f":"_xlfn.TEXTJOIN(\"; \",TRUE,ZCDT_EXPORT_2[[#This Row],[Sub-Category]:[Segment 5]])","v":"Rice; Special rice; Special rice based and meal mixes"}]
["AH","Baltic CDT","U3","03. Dry & Frozen","U3.03","03. Sweets & Grains","C.08.02","15. Flakes,  groats, legume, rice","19082","05. Instant portion packs","","","","","","","","","","","X",null,"C.08.02","Flakes,  groats, legume, rice","Instant portion packs","","","","","","19082",{"$f":"_xlfn.TEXTJOIN(\"; \",TRUE,ZCDT_EXPORT_2[[#This Row],[Sub-Category]:[Segment 5]])","v":"Instant portion packs"}]
["AH","Baltic CDT","U3","03. Dry & Frozen","U3.03","03. Sweets & Grains","C.08.03","16. Flours and baking mixtures","15476","01. Flour mixes","16105","01. Bread mixes","","","","","","","","","X",null,"C.08.03","Flours and baking mixtures","Flour mixes","Bread mixes","","","","","16105",{"$f":"_xlfn.TEXTJOIN(\"; \",TRUE,ZCDT_EXPORT_2[[#This Row],[Sub-Category]:[Segment 5]])","v":"Flour mixes; Bread mixes"}]
["AH","Baltic CDT","U3","03. Dry & Frozen","U3.03","03. Sweets & Grains","C.08.03","16. Flours and baking mixtures","15476","01. Flour mixes","16106","02. Flour mixes","","","","","","","","","X",null,"C.08.03","Flours and baking mixtures","Flour mixes","Flour mixes","","","","","16106",{"$f":"_xlfn.TEXTJOIN(\"; \",TRUE,ZCDT_EXPORT_2[[#This Row],[Sub-Category]:[Segment 5]])","v":"Flour mixes; Flour mixes"}]
["AH","Baltic CDT","U3","03. Dry & Frozen","U3.03","03. Sweets & Grains","C.08.03","16. Flours and baking mixtures","15476","01. Flour mixes","16107","03. Sweet/ salty mixes","","","","","","","","","X",null,"C.08.03","Flours and baking mixtures","Flour mixes","Sweet/ salty mixes","","","","","16107",{"$f":"_xlfn.TEXTJOIN(\"; \",TRUE,ZCDT_EXPORT_2[[#This Row],[Sub-Category]:[Segment 5]])","v":"Flour mixes; Sweet/ salty mixes"}]
["AH","Baltic CDT","U3","03. Dry & Frozen","U3.03","03. Sweets & Grains","C.08.03","16. Flours and baking mixtures","15476","01. Flour mixes","16108","04. Potato mixes","","","","","","","","","X",null,"C.08.03","Flours and baking mixtures","Flour mixes","Potato mixes","","","","","16108",{"$f":"_xlfn.TEXTJOIN(\"; \",TRUE,ZCDT_EXPORT_2[[#This Row],[Sub-Category]:[Segment 5]])","v":"Flour mixes; Potato mixes"}]
["AH","Baltic CDT","U3","03. Dry & Frozen","U3.03","03. Sweets & Grains","C.08.03","16. Flours and baking mixtures","15476","01. Flour mixes","16109","05. Kama flour","","","","","","","","","X",null,"C.08.03","Flours and baking mixtures","Flour mixes","Kama flour","","","","","16109",{"$f":"_xlfn.TEXTJOIN(\"; \",TRUE,ZCDT_EXPORT_2[[#This Row],[Sub-Category]:[Segment 5]])","v":"Flour mixes; Kama flour"}]
["AH","Baltic CDT","U3","03. Dry & Frozen","U3.03","03. Sweets & Grains","C.08.03","16. Flours and baking mixtures","15478","02. Wheat flour","","","","","","","","","","","X",null,"C.08.03","Flours and baking mixtures","Wheat flour","","","","","","15478",{"$f":"_xlfn.TEXTJOIN(\"; \",TRUE,ZCDT_EXPORT_2[[#This Row],[Sub-Category]:[Segment 5]])","v":"Wheat flour"}]
["AH","Baltic CDT","U3","03. Dry & Frozen","U3.03","03. Sweets & Grains","C.08.03","16. Flours and baking mixtures","16103","03. Rye flour","","","","","","","","","","","X",null,"C.08.03","Flours and baking mixtures","Rye flour","","","","","","16103",{"$f":"_xlfn.TEXTJOIN(\"; \",TRUE,ZCDT_EXPORT_2[[#This Row],[Sub-Category]:[Segment 5]])","v":"Rye flour"}]
["AH","Baltic CDT","U3","03. Dry & Frozen","U3.03","03. Sweets & Grains","C.08.03","16. Flours and baking mixtures","15477","04. Other flour","","","","","","","","","","","X",null,"C.08.03","Flours and baking mixtures","Other flour","","","","","","15477",{"$f":"_xlfn.TEXTJOIN(\"; \",TRUE,ZCDT_EXPORT_2[[#This Row],[Sub-Category]:[Segment 5]])","v":"Other flour"}]
["AH","Baltic CDT","U3","03. Dry & Frozen","U3.03","03. Sweets & Grains","C.08.03","16. Flours and baking mixtures","16104","05. Potato flour and startch","","","","","","","","","","","X",null,"C.08.03","Flours and baking mixtures","Potato flour and startch","","","","","","16104",{"$f":"_xlfn.TEXTJOIN(\"; \",TRUE,ZCDT_EXPORT_2[[#This Row],[Sub-Category]:[Segment 5]])","v":"Potato flour and startch"}]
["AH","Baltic CDT","U3","03. Dry & Frozen","U3.03","03. Sweets & Grains","C.08.04","17. Pasta","16110","01. Lasagna/canelloni","","","","","","","","","","","X",null,"C.08.04","Pasta","Lasagna/canelloni","","","","","","16110",{"$f":"_xlfn.TEXTJOIN(\"; \",TRUE,ZCDT_EXPORT_2[[#This Row],[Sub-Category]:[Segment 5]])","v":"Lasagna/canelloni"}]
["AH","Baltic CDT","U3","03. Dry & Frozen","U3.03","03. Sweets & Grains","C.08.04","17. Pasta","16111","02. Ordinary pasta","","","","","","","","","","","X",null,"C.08.04","Pasta","Ordinary pasta","","","","","","16111",{"$f":"_xlfn.TEXTJOIN(\"; \",TRUE,ZCDT_EXPORT_2[[#This Row],[Sub-Category]:[Segment 5]])","v":"Ordinary pasta"}]
["AH","Baltic CDT","U3","03. Dry & Frozen","U3.03","03. Sweets & Grains","C.08.04","17. Pasta","16112","03. Other pasta (multi colour, filled, o","","","","","","","","","","","X",null,"C.08.04","Pasta","Other pasta (multi colour, filled, o","","","","","","16112",{"$f":"_xlfn.TEXTJOIN(\"; \",TRUE,ZCDT_EXPORT_2[[#This Row],[Sub-Category]:[Segment 5]])","v":"Other pasta (multi colour, filled, o"}]
["AH","Baltic CDT","U3","03. Dry & Frozen","U3.03","03. Sweets & Grains","C.08.04","17. Pasta","16113","04. Spagetti & Linguini","","","","","","","","","","","X",null,"C.08.04","Pasta","Spagetti & Linguini","","","","","","16113",{"$f":"_xlfn.TEXTJOIN(\"; \",TRUE,ZCDT_EXPORT_2[[#This Row],[Sub-Category]:[Segment 5]])","v":"Spagetti & Linguini"}]
["AH","Baltic CDT","U3","03. Dry & Frozen","U3.03","03. Sweets & Grains","C.08.04","17. Pasta","16114","05. Whole wheat","","","","","","","","","","","X",null,"C.08.04","Pasta","Whole wheat","","","","","","16114",{"$f":"_xlfn.TEXTJOIN(\"; \",TRUE,ZCDT_EXPORT_2[[#This Row],[Sub-Category]:[Segment 5]])","v":"Whole wheat"}]
["AH","Baltic CDT","U3","03. Dry & Frozen","U3.03","03. Sweets & Grains","C.08.04","17. Pasta","16115","06. Soft wheat pasta","","","","","","","","","","","X",null,"C.08.04","Pasta","Soft wheat pasta","","","","","","16115",{"$f":"_xlfn.TEXTJOIN(\"; \",TRUE,ZCDT_EXPORT_2[[#This Row],[Sub-Category]:[Segment 5]])","v":"Soft wheat pasta"}]
["AH","Baltic CDT","U3","03. Dry & Frozen","U3.03","03. Sweets & Grains","C.08.04","17. Pasta","16116","07. Egg pasta","","","","","","","","","","","X",null,"C.08.04","Pasta","Egg pasta","","","","","","16116",{"$f":"_xlfn.TEXTJOIN(\"; \",TRUE,ZCDT_EXPORT_2[[#This Row],[Sub-Category]:[Segment 5]])","v":"Egg pasta"}]
["AH","Baltic CDT","U3","03. Dry & Frozen","U3.03","03. Sweets & Grains","C.09.01","18. Coffee, cocoa","15143","01. Cocoa","15211","01. Cocoa Drinks","","","","","","","","","X",null,"C.09.01","Coffee, cocoa","Cocoa","Cocoa Drinks","","","","","15211",{"$f":"_xlfn.TEXTJOIN(\"; \",TRUE,ZCDT_EXPORT_2[[#This Row],[Sub-Category]:[Segment 5]])","v":"Cocoa; Cocoa Drinks"}]
["AH","Baltic CDT","U3","03. Dry & Frozen","U3.03","03. Sweets & Grains","C.09.01","18. Coffee, cocoa","15143","01. Cocoa","15212","02. Cocoa Powder","","","","","","","","","X",null,"C.09.01","Coffee, cocoa","Cocoa","Cocoa Powder","","","","","15212",{"$f":"_xlfn.TEXTJOIN(\"; \",TRUE,ZCDT_EXPORT_2[[#This Row],[Sub-Category]:[Segment 5]])","v":"Cocoa; Cocoa Powder"}]
["AH","Baltic CDT","U3","03. Dry & Frozen","U3.03","03. Sweets & Grains","C.09.01","18. Coffee, cocoa","15143","01. Cocoa","15213","03. Hot Chocolate","","","","","","","","","X",null,"C.09.01","Coffee, cocoa","Cocoa","Hot Chocolate","","","","","15213",{"$f":"_xlfn.TEXTJOIN(\"; \",TRUE,ZCDT_EXPORT_2[[#This Row],[Sub-Category]:[Segment 5]])","v":"Cocoa; Hot Chocolate"}]
["AH","Baltic CDT","U3","03. Dry & Frozen","U3.03","03. Sweets & Grains","C.09.01","18. Coffee, cocoa","15143","01. Cocoa","15214","04. Capsules","","","","","","","","","X",null,"C.09.01","Coffee, cocoa","Cocoa","Capsules","","","","","15214",{"$f":"_xlfn.TEXTJOIN(\"; \",TRUE,ZCDT_EXPORT_2[[#This Row],[Sub-Category]:[Segment 5]])","v":"Cocoa; Capsules"}]
["AH","Baltic CDT","U3","03. Dry & Frozen","U3.03","03. Sweets & Grains","C.09.01","18. Coffee, cocoa","15144","02. Coffee","15215","01. Grained","15222","01. Espresso","","","","","","","X",null,"C.09.01","Coffee, cocoa","Coffee","Grained","Espresso","","","","15222",{"$f":"_xlfn.TEXTJOIN(\"; \",TRUE,ZCDT_EXPORT_2[[#This Row],[Sub-Category]:[Segment 5]])","v":"Coffee; Grained; Espresso"}]
["AH","Baltic CDT","U3","03. Dry & Frozen","U3.03","03. Sweets & Grains","C.09.01","18. Coffee, cocoa","15144","02. Coffee","15215","01. Grained","15223","02. Regular","","","","","","","X",null,"C.09.01","Coffee, cocoa","Coffee","Grained","Regular","","","","15223",{"$f":"_xlfn.TEXTJOIN(\"; \",TRUE,ZCDT_EXPORT_2[[#This Row],[Sub-Category]:[Segment 5]])","v":"Coffee; Grained; Regular"}]
["AH","Baltic CDT","U3","03. Dry & Frozen","U3.03","03. Sweets & Grains","C.09.01","18. Coffee, cocoa","15144","02. Coffee","15215","01. Grained","15224","03. Coffeine Free","","","","","","","X",null,"C.09.01","Coffee, cocoa","Coffee","Grained","Coffeine Free","","","","15224",{"$f":"_xlfn.TEXTJOIN(\"; \",TRUE,ZCDT_EXPORT_2[[#This Row],[Sub-Category]:[Segment 5]])","v":"Coffee; Grained; Coffeine Free"}]
["AH","Baltic CDT","U3","03. Dry & Frozen","U3.03","03. Sweets & Grains","C.09.01","18. Coffee, cocoa","15144","02. Coffee","15216","02. Beans","15225","01. Espresso","","","","","","","X",null,"C.09.01","Coffee, cocoa","Coffee","Beans","Espresso","","","","15225",{"$f":"_xlfn.TEXTJOIN(\"; \",TRUE,ZCDT_EXPORT_2[[#This Row],[Sub-Category]:[Segment 5]])","v":"Coffee; Beans; Espresso"}]
["AH","Baltic CDT","U3","03. Dry & Frozen","U3.03","03. Sweets & Grains","C.09.01","18. Coffee, cocoa","15144","02. Coffee","15216","02. Beans","15226","02. Regular","","","","","","","X",null,"C.09.01","Coffee, cocoa","Coffee","Beans","Regular","","","","15226",{"$f":"_xlfn.TEXTJOIN(\"; \",TRUE,ZCDT_EXPORT_2[[#This Row],[Sub-Category]:[Segment 5]])","v":"Coffee; Beans; Regular"}]
["AH","Baltic CDT","U3","03. Dry & Frozen","U3.03","03. Sweets & Grains","C.09.01","18. Coffee, cocoa","15144","02. Coffee","15216","02. Beans","15227","03. Bulk","","","","","","","X",null,"C.09.01","Coffee, cocoa","Coffee","Beans","Bulk","","","","15227",{"$f":"_xlfn.TEXTJOIN(\"; \",TRUE,ZCDT_EXPORT_2[[#This Row],[Sub-Category]:[Segment 5]])","v":"Coffee; Beans; Bulk"}]
["AH","Baltic CDT","U3","03. Dry & Frozen","U3.03","03. Sweets & Grains","C.09.01","18. Coffee, cocoa","15144","02. Coffee","15217","03. Instant","15228","01. Freeze Dried","","","","","","","X",null,"C.09.01","Coffee, cocoa","Coffee","Instant","Freeze Dried","","","","15228",{"$f":"_xlfn.TEXTJOIN(\"; \",TRUE,ZCDT_EXPORT_2[[#This Row],[Sub-Category]:[Segment 5]])","v":"Coffee; Instant; Freeze Dried"}]
["AH","Baltic CDT","U3","03. Dry & Frozen","U3.03","03. Sweets & Grains","C.09.01","18. Coffee, cocoa","15144","02. Coffee","15217","03. Instant","15229","02. Granulated","","","","","","","X",null,"C.09.01","Coffee, cocoa","Coffee","Instant","Granulated","","","","15229",{"$f":"_xlfn.TEXTJOIN(\"; \",TRUE,ZCDT_EXPORT_2[[#This Row],[Sub-Category]:[Segment 5]])","v":"Coffee; Instant; Granulated"}]
["AH","Baltic CDT","U3","03. Dry & Frozen","U3.03","03. Sweets & Grains","C.09.01","18. Coffee, cocoa","15144","02. Coffee","15217","03. Instant","15230","03. Powder","","","","","","","X",null,"C.09.01","Coffee, cocoa","Coffee","Instant","Powder","","","","15230",{"$f":"_xlfn.TEXTJOIN(\"; \",TRUE,ZCDT_EXPORT_2[[#This Row],[Sub-Category]:[Segment 5]])","v":"Coffee; Instant; Powder"}]
["AH","Baltic CDT","U3","03. Dry & Frozen","U3.03","03. Sweets & Grains","C.09.01","18. Coffee, cocoa","15144","02. Coffee","15217","03. Instant","15231","04. Coffeine Free","","","","","","","X",null,"C.09.01","Coffee, cocoa","Coffee","Instant","Coffeine Free","","","","15231",{"$f":"_xlfn.TEXTJOIN(\"; \",TRUE,ZCDT_EXPORT_2[[#This Row],[Sub-Category]:[Segment 5]])","v":"Coffee; Instant; Coffeine Free"}]
["AH","Baltic CDT","U3","03. Dry & Frozen","U3.03","03. Sweets & Grains","C.09.01","18. Coffee, cocoa","15144","02. Coffee","15218","04. Mixes","15232","01. Regular instant pack","","","","","","","X",null,"C.09.01","Coffee, cocoa","Coffee","Mixes","Regular instant pack","","","","15232",{"$f":"_xlfn.TEXTJOIN(\"; \",TRUE,ZCDT_EXPORT_2[[#This Row],[Sub-Category]:[Segment 5]])","v":"Coffee; Mixes; Regular instant pack"}]
["AH","Baltic CDT","U3","03. Dry & Frozen","U3.03","03. Sweets & Grains","C.09.01","18. Coffee, cocoa","15144","02. Coffee","15218","04. Mixes","15233","02. 3IN1; 2IN1","","","","","","","X",null,"C.09.01","Coffee, cocoa","Coffee","Mixes","3IN1; 2IN1","","","","15233",{"$f":"_xlfn.TEXTJOIN(\"; \",TRUE,ZCDT_EXPORT_2[[#This Row],[Sub-Category]:[Segment 5]])","v":"Coffee; Mixes; 3IN1; 2IN1"}]
["AH","Baltic CDT","U3","03. Dry & Frozen","U3.03","03. Sweets & Grains","C.09.01","18. Coffee, cocoa","15144","02. Coffee","15218","04. Mixes","15234","03. Other Coffee Drinks","","","","","","","X",null,"C.09.01","Coffee, cocoa","Coffee","Mixes","Other Coffee Drinks","","","","15234",{"$f":"_xlfn.TEXTJOIN(\"; \",TRUE,ZCDT_EXPORT_2[[#This Row],[Sub-Category]:[Segment 5]])","v":"Coffee; Mixes; Other Coffee Drinks"}]
["AH","Baltic CDT","U3","03. Dry & Frozen","U3.03","03. Sweets & Grains","C.09.01","18. Coffee, cocoa","15144","02. Coffee","15219","05. Chicory","15235","01. Liquid","","","","","","","X",null,"C.09.01","Coffee, cocoa","Coffee","Chicory","Liquid","","","","15235",{"$f":"_xlfn.TEXTJOIN(\"; \",TRUE,ZCDT_EXPORT_2[[#This Row],[Sub-Category]:[Segment 5]])","v":"Coffee; Chicory; Liquid"}]
["AH","Baltic CDT","U3","03. Dry & Frozen","U3.03","03. Sweets & Grains","C.09.01","18. Coffee, cocoa","15144","02. Coffee","15219","05. Chicory","15236","02. Powder","","","","","","","X",null,"C.09.01","Coffee, cocoa","Coffee","Chicory","Powder","","","","15236",{"$f":"_xlfn.TEXTJOIN(\"; \",TRUE,ZCDT_EXPORT_2[[#This Row],[Sub-Category]:[Segment 5]])","v":"Coffee; Chicory; Powder"}]
["AH","Baltic CDT","U3","03. Dry & Frozen","U3.03","03. Sweets & Grains","C.09.01","18. Coffee, cocoa","15144","02. Coffee","15220","06. Special","15237","01. Barley Drinks","","","","","","","X",null,"C.09.01","Coffee, cocoa","Coffee","Special","Barley Drinks","","","","15237",{"$f":"_xlfn.TEXTJOIN(\"; \",TRUE,ZCDT_EXPORT_2[[#This Row],[Sub-Category]:[Segment 5]])","v":"Coffee; Special; Barley Drinks"}]
["AH","Baltic CDT","U3","03. Dry & Frozen","U3.03","03. Sweets & Grains","C.09.01","18. Coffee, cocoa","15144","02. Coffee","15220","06. Special","15238","02. Ready to drink","","","","","","","X",null,"C.09.01","Coffee, cocoa","Coffee","Special","Ready to drink","","","","15238",{"$f":"_xlfn.TEXTJOIN(\"; \",TRUE,ZCDT_EXPORT_2[[#This Row],[Sub-Category]:[Segment 5]])","v":"Coffee; Special; Ready to drink"}]
["AH","Baltic CDT","U3","03. Dry & Frozen","U3.03","03. Sweets & Grains","C.09.01","18. Coffee, cocoa","15144","02. Coffee","15221","07. Capsules","","","","","","","","","X",null,"C.09.01","Coffee, cocoa","Coffee","Capsules","","","","","15221",{"$f":"_xlfn.TEXTJOIN(\"; \",TRUE,ZCDT_EXPORT_2[[#This Row],[Sub-Category]:[Segment 5]])","v":"Coffee; Capsules"}]
["AH","Baltic CDT","U3","03. Dry & Frozen","U3.03","03. Sweets & Grains","C.09.02","19. Tea","11378","01. Packed","11382","01. Black","11388","01. Flavoured","","","","","","","X",null,"C.09.02","Tea","Packed","Black","Flavoured","","","","11388",{"$f":"_xlfn.TEXTJOIN(\"; \",TRUE,ZCDT_EXPORT_2[[#This Row],[Sub-Category]:[Segment 5]])","v":"Packed; Black; Flavoured"}]
["AH","Baltic CDT","U3","03. Dry & Frozen","U3.03","03. Sweets & Grains","C.09.02","19. Tea","11378","01. Packed","11382","01. Black","11389","02. Unflavoured","","","","","","","X",null,"C.09.02","Tea","Packed","Black","Unflavoured","","","","11389",{"$f":"_xlfn.TEXTJOIN(\"; \",TRUE,ZCDT_EXPORT_2[[#This Row],[Sub-Category]:[Segment 5]])","v":"Packed; Black; Unflavoured"}]
["AH","Baltic CDT","U3","03. Dry & Frozen","U3.03","03. Sweets & Grains","C.09.02","19. Tea","11378","01. Packed","11383","02. Fruit","","","","","","","","","X",null,"C.09.02","Tea","Packed","Fruit","","","","","11383",{"$f":"_xlfn.TEXTJOIN(\"; \",TRUE,ZCDT_EXPORT_2[[#This Row],[Sub-Category]:[Segment 5]])","v":"Packed; Fruit"}]
["AH","Baltic CDT","U3","03. Dry & Frozen","U3.03","03. Sweets & Grains","C.09.02","19. Tea","11378","01. Packed","11384","03. Special Tea","","","","","","","","","X",null,"C.09.02","Tea","Packed","Special Tea","","","","","11384",{"$f":"_xlfn.TEXTJOIN(\"; \",TRUE,ZCDT_EXPORT_2[[#This Row],[Sub-Category]:[Segment 5]])","v":"Packed; Special Tea"}]
["AH","Baltic CDT","U3","03. Dry & Frozen","U3.03","03. Sweets & Grains","C.09.02","19. Tea","11378","01. Packed","11385","04. Green","11390","01. Flavoured","","","","","","","X",null,"C.09.02","Tea","Packed","Green","Flavoured","","","","11390",{"$f":"_xlfn.TEXTJOIN(\"; \",TRUE,ZCDT_EXPORT_2[[#This Row],[Sub-Category]:[Segment 5]])","v":"Packed; Green; Flavoured"}]
["AH","Baltic CDT","U3","03. Dry & Frozen","U3.03","03. Sweets & Grains","C.09.02","19. Tea","11378","01. Packed","11385","04. Green","11391","02. Unflavoured","","","","","","","X",null,"C.09.02","Tea","Packed","Green","Unflavoured","","","","11391",{"$f":"_xlfn.TEXTJOIN(\"; \",TRUE,ZCDT_EXPORT_2[[#This Row],[Sub-Category]:[Segment 5]])","v":"Packed; Green; Unflavoured"}]
["AH","Baltic CDT","U3","03. Dry & Frozen","U3.03","03. Sweets & Grains","C.09.02","19. Tea","11378","01. Packed","11386","05. Herbal","","","","","","","","","X",null,"C.09.02","Tea","Packed","Herbal","","","","","11386",{"$f":"_xlfn.TEXTJOIN(\"; \",TRUE,ZCDT_EXPORT_2[[#This Row],[Sub-Category]:[Segment 5]])","v":"Packed; Herbal"}]
["AH","Baltic CDT","U3","03. Dry & Frozen","U3.03","03. Sweets & Grains","C.09.02","19. Tea","11378","01. Packed","11387","06. Gift sets & Other","","","","","","","","","X",null,"C.09.02","Tea","Packed","Gift sets & Other","","","","","11387",{"$f":"_xlfn.TEXTJOIN(\"; \",TRUE,ZCDT_EXPORT_2[[#This Row],[Sub-Category]:[Segment 5]])","v":"Packed; Gift sets & Other"}]
["AH","Baltic CDT","U3","03. Dry & Frozen","U3.03","03. Sweets & Grains","C.09.02","19. Tea","11379","02. Bulk","","","","","","","","","","","X",null,"C.09.02","Tea","Bulk","","","","","","11379",{"$f":"_xlfn.TEXTJOIN(\"; \",TRUE,ZCDT_EXPORT_2[[#This Row],[Sub-Category]:[Segment 5]])","v":"Bulk"}]
["AH","Baltic CDT","U3","03. Dry & Frozen","U3.03","03. Sweets & Grains","C.09.02","19. Tea","11380","03. Loose","11392","01. Black","11399","01. Flavoured","","","","","","","X",null,"C.09.02","Tea","Loose","Black","Flavoured","","","","11399",{"$f":"_xlfn.TEXTJOIN(\"; \",TRUE,ZCDT_EXPORT_2[[#This Row],[Sub-Category]:[Segment 5]])","v":"Loose; Black; Flavoured"}]
["AH","Baltic CDT","U3","03. Dry & Frozen","U3.03","03. Sweets & Grains","C.09.02","19. Tea","11380","03. Loose","11392","01. Black","11400","02. Unflavoured","","","","","","","X",null,"C.09.02","Tea","Loose","Black","Unflavoured","","","","11400",{"$f":"_xlfn.TEXTJOIN(\"; \",TRUE,ZCDT_EXPORT_2[[#This Row],[Sub-Category]:[Segment 5]])","v":"Loose; Black; Unflavoured"}]
["AH","Baltic CDT","U3","03. Dry & Frozen","U3.03","03. Sweets & Grains","C.09.02","19. Tea","11380","03. Loose","11393","02. Fruit","","","","","","","","","X",null,"C.09.02","Tea","Loose","Fruit","","","","","11393",{"$f":"_xlfn.TEXTJOIN(\"; \",TRUE,ZCDT_EXPORT_2[[#This Row],[Sub-Category]:[Segment 5]])","v":"Loose; Fruit"}]
["AH","Baltic CDT","U3","03. Dry & Frozen","U3.03","03. Sweets & Grains","C.09.02","19. Tea","11380","03. Loose","11394","03. Special Tea","","","","","","","","","X",null,"C.09.02","Tea","Loose","Special Tea","","","","","11394",{"$f":"_xlfn.TEXTJOIN(\"; \",TRUE,ZCDT_EXPORT_2[[#This Row],[Sub-Category]:[Segment 5]])","v":"Loose; Special Tea"}]
["AH","Baltic CDT","U3","03. Dry & Frozen","U3.03","03. Sweets & Grains","C.09.02","19. Tea","11380","03. Loose","11395","04. Green","11401","01. Flavoured","","","","","","","X",null,"C.09.02","Tea","Loose","Green","Flavoured","","","","11401",{"$f":"_xlfn.TEXTJOIN(\"; \",TRUE,ZCDT_EXPORT_2[[#This Row],[Sub-Category]:[Segment 5]])","v":"Loose; Green; Flavoured"}]
["AH","Baltic CDT","U3","03. Dry & Frozen","U3.03","03. Sweets & Grains","C.09.02","19. Tea","11380","03. Loose","11395","04. Green","11402","02. Unflavoured","","","","","","","X",null,"C.09.02","Tea","Loose","Green","Unflavoured","","","","11402",{"$f":"_xlfn.TEXTJOIN(\"; \",TRUE,ZCDT_EXPORT_2[[#This Row],[Sub-Category]:[Segment 5]])","v":"Loose; Green; Unflavoured"}]
["AH","Baltic CDT","U3","03. Dry & Frozen","U3.03","03. Sweets & Grains","C.09.02","19. Tea","11380","03. Loose","11396","05. Herbal","","","","","","","","","X",null,"C.09.02","Tea","Loose","Herbal","","","","","11396",{"$f":"_xlfn.TEXTJOIN(\"; \",TRUE,ZCDT_EXPORT_2[[#This Row],[Sub-Category]:[Segment 5]])","v":"Loose; Herbal"}]
["AH","Baltic CDT","U3","03. Dry & Frozen","U3.03","03. Sweets & Grains","C.09.02","19. Tea","11380","03. Loose","11397","06. Gift sets & Other","","","","","","","","","X",null,"C.09.02","Tea","Loose","Gift sets & Other","","","","","11397",{"$f":"_xlfn.TEXTJOIN(\"; \",TRUE,ZCDT_EXPORT_2[[#This Row],[Sub-Category]:[Segment 5]])","v":"Loose; Gift sets & Other"}]
["AH","Baltic CDT","U3","03. Dry & Frozen","U3.03","03. Sweets & Grains","C.09.02","19. Tea","11381","04. Instant","","","","","","","","","","","X",null,"C.09.02","Tea","Instant","","","","","","11381",{"$f":"_xlfn.TEXTJOIN(\"; \",TRUE,ZCDT_EXPORT_2[[#This Row],[Sub-Category]:[Segment 5]])","v":"Instant"}]
["AH","Baltic CDT","U3","03. Dry & Frozen","U3.03","03. Sweets & Grains","C.11.01","21. Free from","18409","01. Gluten Free","18414","01. Bread products","","","","","","","","","X",null,"C.11.01","Free from","Gluten Free","Bread products","","","","","18414",{"$f":"_xlfn.TEXTJOIN(\"; \",TRUE,ZCDT_EXPORT_2[[#This Row],[Sub-Category]:[Segment 5]])","v":"Gluten Free; Bread products"}]
["AH","Baltic CDT","U3","03. Dry & Frozen","U3.03","03. Sweets & Grains","C.11.01","21. Free from","18409","01. Gluten Free","18415","02. Flour/Baking mixtures","","","","","","","","","X",null,"C.11.01","Free from","Gluten Free","Flour/Baking mixtures","","","","","18415",{"$f":"_xlfn.TEXTJOIN(\"; \",TRUE,ZCDT_EXPORT_2[[#This Row],[Sub-Category]:[Segment 5]])","v":"Gluten Free; Flour/Baking mixtures"}]
["AH","Baltic CDT","U3","03. Dry & Frozen","U3.03","03. Sweets & Grains","C.11.01","21. Free from","18409","01. Gluten Free","18416","03. Pasta","","","","","","","","","X",null,"C.11.01","Free from","Gluten Free","Pasta","","","","","18416",{"$f":"_xlfn.TEXTJOIN(\"; \",TRUE,ZCDT_EXPORT_2[[#This Row],[Sub-Category]:[Segment 5]])","v":"Gluten Free; Pasta"}]
["AH","Baltic CDT","U3","03. Dry & Frozen","U3.03","03. Sweets & Grains","C.11.01","21. Free from","18409","01. Gluten Free","18417","04. Cereals & Muesli","","","","","","","","","X",null,"C.11.01","Free from","Gluten Free","Cereals & Muesli","","","","","18417",{"$f":"_xlfn.TEXTJOIN(\"; \",TRUE,ZCDT_EXPORT_2[[#This Row],[Sub-Category]:[Segment 5]])","v":"Gluten Free; Cereals & Muesli"}]
["AH","Baltic CDT","U3","03. Dry & Frozen","U3.03","03. Sweets & Grains","C.11.01","21. Free from","18409","01. Gluten Free","18418","05. Biscuits & Snacks","","","","","","","","","X",null,"C.11.01","Free from","Gluten Free","Biscuits & Snacks","","","","","18418",{"$f":"_xlfn.TEXTJOIN(\"; \",TRUE,ZCDT_EXPORT_2[[#This Row],[Sub-Category]:[Segment 5]])","v":"Gluten Free; Biscuits & Snacks"}]
["AH","Baltic CDT","U3","03. Dry & Frozen","U3.03","03. Sweets & Grains","C.11.01","21. Free from","18409","01. Gluten Free","18419","06. Cakes","","","","","","","","","X",null,"C.11.01","Free from","Gluten Free","Cakes","","","","","18419",{"$f":"_xlfn.TEXTJOIN(\"; \",TRUE,ZCDT_EXPORT_2[[#This Row],[Sub-Category]:[Segment 5]])","v":"Gluten Free; Cakes"}]
["AH","Baltic CDT","U3","03. Dry & Frozen","U3.03","03. Sweets & Grains","C.11.01","21. Free from","18409","01. Gluten Free","18420","07. Meal preperations","","","","","","","","","X",null,"C.11.01","Free from","Gluten Free","Meal preperations","","","","","18420",{"$f":"_xlfn.TEXTJOIN(\"; \",TRUE,ZCDT_EXPORT_2[[#This Row],[Sub-Category]:[Segment 5]])","v":"Gluten Free; Meal preperations"}]
["AH","Baltic CDT","U3","03. Dry & Frozen","U3.03","03. Sweets & Grains","C.11.01","21. Free from","18410","02. Sugar Free (Diabetic)","18422","01. Biscuits","","","","","","","","","X",null,"C.11.01","Free from","Sugar Free (Diabetic)","Biscuits","","","","","18422",{"$f":"_xlfn.TEXTJOIN(\"; \",TRUE,ZCDT_EXPORT_2[[#This Row],[Sub-Category]:[Segment 5]])","v":"Sugar Free (Diabetic); Biscuits"}]
["AH","Baltic CDT","U3","03. Dry & Frozen","U3.03","03. Sweets & Grains","C.11.01","21. Free from","18410","02. Sugar Free (Diabetic)","18421","02. Spreads & Sauces","","","","","","","","","X",null,"C.11.01","Free from","Sugar Free (Diabetic)","Spreads & Sauces","","","","","18421",{"$f":"_xlfn.TEXTJOIN(\"; \",TRUE,ZCDT_EXPORT_2[[#This Row],[Sub-Category]:[Segment 5]])","v":"Sugar Free (Diabetic); Spreads & Sauces"}]
["AH","Baltic CDT","U3","03. Dry & Frozen","U3.03","03. Sweets & Grains","C.11.01","21. Free from","18410","02. Sugar Free (Diabetic)","18423","03. Sweets","","","","","","","","","X",null,"C.11.01","Free from","Sugar Free (Diabetic)","Sweets","","","","","18423",{"$f":"_xlfn.TEXTJOIN(\"; \",TRUE,ZCDT_EXPORT_2[[#This Row],[Sub-Category]:[Segment 5]])","v":"Sugar Free (Diabetic); Sweets"}]
["AH","Baltic CDT","U3","03. Dry & Frozen","U3.03","03. Sweets & Grains","C.11.01","21. Free from","18411","03. Diet Products","18424","01. Special grains/seeds","","","","","","","","","X",null,"C.11.01","Free from","Diet Products","Special grains/seeds","","","","","18424",{"$f":"_xlfn.TEXTJOIN(\"; \",TRUE,ZCDT_EXPORT_2[[#This Row],[Sub-Category]:[Segment 5]])","v":"Diet Products; Special grains/seeds"}]
["AH","Baltic CDT","U3","03. Dry & Frozen","U3.03","03. Sweets & Grains","C.11.01","21. Free from","18411","03. Diet Products","18425","02. Soya food","","","","","","","","","X",null,"C.11.01","Free from","Diet Products","Soya food","","","","","18425",{"$f":"_xlfn.TEXTJOIN(\"; \",TRUE,ZCDT_EXPORT_2[[#This Row],[Sub-Category]:[Segment 5]])","v":"Diet Products; Soya food"}]
["AH","Baltic CDT","U3","03. Dry & Frozen","U3.03","03. Sweets & Grains","C.11.01","21. Free from","18411","03. Diet Products","18426","03. Cakes","18430","01. Rice","","","","","","","X",null,"C.11.01","Free from","Diet Products","Cakes","Rice","","","","18430",{"$f":"_xlfn.TEXTJOIN(\"; \",TRUE,ZCDT_EXPORT_2[[#This Row],[Sub-Category]:[Segment 5]])","v":"Diet Products; Cakes; Rice"}]
["AH","Baltic CDT","U3","03. Dry & Frozen","U3.03","03. Sweets & Grains","C.11.01","21. Free from","18411","03. Diet Products","18426","03. Cakes","18431","02. Corn","","","","","","","X",null,"C.11.01","Free from","Diet Products","Cakes","Corn","","","","18431",{"$f":"_xlfn.TEXTJOIN(\"; \",TRUE,ZCDT_EXPORT_2[[#This Row],[Sub-Category]:[Segment 5]])","v":"Diet Products; Cakes; Corn"}]
["AH","Baltic CDT","U3","03. Dry & Frozen","U3.03","03. Sweets & Grains","C.11.01","21. Free from","18411","03. Diet Products","18426","03. Cakes","18432","03. Wholegrain","","","","","","","X",null,"C.11.01","Free from","Diet Products","Cakes","Wholegrain","","","","18432",{"$f":"_xlfn.TEXTJOIN(\"; \",TRUE,ZCDT_EXPORT_2[[#This Row],[Sub-Category]:[Segment 5]])","v":"Diet Products; Cakes; Wholegrain"}]
["AH","Baltic CDT","U3","03. Dry & Frozen","U3.03","03. Sweets & Grains","C.11.01","21. Free from","18411","03. Diet Products","18427","04. Hematogens","","","","","","","","","X",null,"C.11.01","Free from","Diet Products","Hematogens","","","","","18427",{"$f":"_xlfn.TEXTJOIN(\"; \",TRUE,ZCDT_EXPORT_2[[#This Row],[Sub-Category]:[Segment 5]])","v":"Diet Products; Hematogens"}]
["AH","Baltic CDT","U3","03. Dry & Frozen","U3.03","03. Sweets & Grains","C.11.01","21. Free from","18411","03. Diet Products","18428","05. Raw snacks","","","","","","","","","X",null,"C.11.01","Free from","Diet Products","Raw snacks","","","","","18428",{"$f":"_xlfn.TEXTJOIN(\"; \",TRUE,ZCDT_EXPORT_2[[#This Row],[Sub-Category]:[Segment 5]])","v":"Diet Products; Raw snacks"}]
["AH","Baltic CDT","U3","03. Dry & Frozen","U3.03","03. Sweets & Grains","C.11.01","21. Free from","18411","03. Diet Products","18429","06. Superfood","","","","","","","","","X",null,"C.11.01","Free from","Diet Products","Superfood","","","","","18429",{"$f":"_xlfn.TEXTJOIN(\"; \",TRUE,ZCDT_EXPORT_2[[#This Row],[Sub-Category]:[Segment 5]])","v":"Diet Products; Superfood"}]
["AH","Baltic CDT","U3","03. Dry & Frozen","U3.03","03. Sweets & Grains","C.11.01","21. Free from","18412","04. Dairy Free","","","","","","","","","","","X",null,"C.11.01","Free from","Dairy Free","","","","","","18412",{"$f":"_xlfn.TEXTJOIN(\"; \",TRUE,ZCDT_EXPORT_2[[#This Row],[Sub-Category]:[Segment 5]])","v":"Dairy Free"}]
["AH","Baltic CDT","U3","03. Dry & Frozen","U3.03","03. Sweets & Grains","C.11.01","21. Free from","18413","05. Egg Free","","","","","","","","","","","X",null,"C.11.01","Free from","Egg Free","","","","","","18413",{"$f":"_xlfn.TEXTJOIN(\"; \",TRUE,ZCDT_EXPORT_2[[#This Row],[Sub-Category]:[Segment 5]])","v":"Egg Free"}]
["AH","Baltic CDT","U3","03. Dry & Frozen","U3.03","03. Sweets & Grains","C.11.02","22. Sports nutrition and supplements","16229","01. Bars","","","","","","","","","","","X",null,"C.11.02","Sports nutrition and supplements","Bars","","","","","","16229",{"$f":"_xlfn.TEXTJOIN(\"; \",TRUE,ZCDT_EXPORT_2[[#This Row],[Sub-Category]:[Segment 5]])","v":"Bars"}]
["AH","Baltic CDT","U3","03. Dry & Frozen","U3.03","03. Sweets & Grains","C.11.02","22. Sports nutrition and supplements","18401","02. Protein/gainer powders and creatine","","","","","","","","","","","X",null,"C.11.02","Sports nutrition and supplements","Protein/gainer powders and creatine","","","","","","18401",{"$f":"_xlfn.TEXTJOIN(\"; \",TRUE,ZCDT_EXPORT_2[[#This Row],[Sub-Category]:[Segment 5]])","v":"Protein/gainer powders and creatine"}]
["AH","Baltic CDT","U3","03. Dry & Frozen","U3.03","03. Sweets & Grains","C.11.02","22. Sports nutrition and supplements","18402","03. Isotonic powders","","","","","","","","","","","X",null,"C.11.02","Sports nutrition and supplements","Isotonic powders","","","","","","18402",{"$f":"_xlfn.TEXTJOIN(\"; \",TRUE,ZCDT_EXPORT_2[[#This Row],[Sub-Category]:[Segment 5]])","v":"Isotonic powders"}]
["AH","Baltic CDT","U3","03. Dry & Frozen","U3.03","03. Sweets & Grains","C.11.02","22. Sports nutrition and supplements","18403","04. Recovery powders","","","","","","","","","","","X",null,"C.11.02","Sports nutrition and supplements","Recovery powders","","","","","","18403",{"$f":"_xlfn.TEXTJOIN(\"; \",TRUE,ZCDT_EXPORT_2[[#This Row],[Sub-Category]:[Segment 5]])","v":"Recovery powders"}]
["AH","Baltic CDT","U3","03. Dry & Frozen","U3.03","03. Sweets & Grains","C.11.02","22. Sports nutrition and supplements","18404","05. Amino Acids (BCAA, L-carnitine)","","","","","","","","","","","X",null,"C.11.02","Sports nutrition and supplements","Amino Acids (BCAA, L-carnitine)","","","","","","18404",{"$f":"_xlfn.TEXTJOIN(\"; \",TRUE,ZCDT_EXPORT_2[[#This Row],[Sub-Category]:[Segment 5]])","v":"Amino Acids (BCAA, L-carnitine)"}]
["AH","Baltic CDT","U3","03. Dry & Frozen","U3.03","03. Sweets & Grains","C.11.02","22. Sports nutrition and supplements","18405","06. Gels and Chews","","","","","","","","","","","X",null,"C.11.02","Sports nutrition and supplements","Gels and Chews","","","","","","18405",{"$f":"_xlfn.TEXTJOIN(\"; \",TRUE,ZCDT_EXPORT_2[[#This Row],[Sub-Category]:[Segment 5]])","v":"Gels and Chews"}]
["AH","Baltic CDT","U3","03. Dry & Frozen","U3.03","03. Sweets & Grains","C.11.02","22. Sports nutrition and supplements","18406","07. Sports bottles/shakers","","","","","","","","","","","X",null,"C.11.02","Sports nutrition and supplements","Sports bottles/shakers","","","","","","18406",{"$f":"_xlfn.TEXTJOIN(\"; \",TRUE,ZCDT_EXPORT_2[[#This Row],[Sub-Category]:[Segment 5]])","v":"Sports bottles/shakers"}]
["AH","Baltic CDT","U3","03. Dry & Frozen","U3.03","03. Sweets & Grains","C.12.01","23. Seasonal Assortment","18305","01. Seasonal and Special Sweets","18306","01. Cristmas","","","","","","","","","X",null,"C.12.01","Seasonal Assortment","Seasonal and Special Sweets","Cristmas","","","","","18306",{"$f":"_xlfn.TEXTJOIN(\"; \",TRUE,ZCDT_EXPORT_2[[#This Row],[Sub-Category]:[Segment 5]])","v":"Seasonal and Special Sweets; Cristmas"}]
["AH","Baltic CDT","U3","03. Dry & Frozen","U3.03","03. Sweets & Grains","C.12.01","23. Seasonal Assortment","18305","01. Seasonal and Special Sweets","18307","02. Easter","","","","","","","","","X",null,"C.12.01","Seasonal Assortment","Seasonal and Special Sweets","Easter","","","","","18307",{"$f":"_xlfn.TEXTJOIN(\"; \",TRUE,ZCDT_EXPORT_2[[#This Row],[Sub-Category]:[Segment 5]])","v":"Seasonal and Special Sweets; Easter"}]
["AH","Baltic CDT","U3","03. Dry & Frozen","U3.03","03. Sweets & Grains","C.12.01","23. Seasonal Assortment","18305","01. Seasonal and Special Sweets","18308","03. Other Seasonal","","","","","","","","","X",null,"C.12.01","Seasonal Assortment","Seasonal and Special Sweets","Other Seasonal","","","","","18308",{"$f":"_xlfn.TEXTJOIN(\"; \",TRUE,ZCDT_EXPORT_2[[#This Row],[Sub-Category]:[Segment 5]])","v":"Seasonal and Special Sweets; Other Seasonal"}]
["AH","Baltic CDT","U3","03. Dry & Frozen","U3.03","03. Sweets & Grains","C.17.01","34. Chewing gums","16214","01. Chewing gums","16216","01. Chewing gum bags/boxes","","","","","","","","","X",null,"C.17.01","Chewing gums","Chewing gums","Chewing gum bags/boxes","","","","","16216",{"$f":"_xlfn.TEXTJOIN(\"; \",TRUE,ZCDT_EXPORT_2[[#This Row],[Sub-Category]:[Segment 5]])","v":"Chewing gums; Chewing gum bags/boxes"}]
["AH","Baltic CDT","U3","03. Dry & Frozen","U3.03","03. Sweets & Grains","C.17.01","34. Chewing gums","16214","01. Chewing gums","16217","02. Chewing gum pocket packs","","","","","","","","","X",null,"C.17.01","Chewing gums","Chewing gums","Chewing gum pocket packs","","","","","16217",{"$f":"_xlfn.TEXTJOIN(\"; \",TRUE,ZCDT_EXPORT_2[[#This Row],[Sub-Category]:[Segment 5]])","v":"Chewing gums; Chewing gum pocket packs"}]
["AH","Baltic CDT","U3","03. Dry & Frozen","U3.03","03. Sweets & Grains","C.17.02","35. Chocolate tablets and bars","13131","01. Bars","13134","01. Biscuit/ Wafer based Bars","","","","","","","","","X",null,"C.17.02","Chocolate tablets and bars","Bars","Biscuit/ Wafer based Bars","","","","","13134",{"$f":"_xlfn.TEXTJOIN(\"; \",TRUE,ZCDT_EXPORT_2[[#This Row],[Sub-Category]:[Segment 5]])","v":"Bars; Biscuit/ Wafer based Bars"}]
["AH","Baltic CDT","U3","03. Dry & Frozen","U3.03","03. Sweets & Grains","C.17.02","35. Chocolate tablets and bars","13131","01. Bars","13135","02. Chocolate Bars","","","","","","","","","X",null,"C.17.02","Chocolate tablets and bars","Bars","Chocolate Bars","","","","","13135",{"$f":"_xlfn.TEXTJOIN(\"; \",TRUE,ZCDT_EXPORT_2[[#This Row],[Sub-Category]:[Segment 5]])","v":"Bars; Chocolate Bars"}]
["AH","Baltic CDT","U3","03. Dry & Frozen","U3.03","03. Sweets & Grains","C.17.02","35. Chocolate tablets and bars","13131","01. Bars","13137","03. Other Bars","","","","","","","","","X",null,"C.17.02","Chocolate tablets and bars","Bars","Other Bars","","","","","13137",{"$f":"_xlfn.TEXTJOIN(\"; \",TRUE,ZCDT_EXPORT_2[[#This Row],[Sub-Category]:[Segment 5]])","v":"Bars; Other Bars"}]
["AH","Baltic CDT","U3","03. Dry & Frozen","U3.03","03. Sweets & Grains","C.17.02","35. Chocolate tablets and bars","13131","01. Bars","13136","04. Seeds/ Nuts Bars","","","","","","","","","X",null,"C.17.02","Chocolate tablets and bars","Bars","Seeds/ Nuts Bars","","","","","13136",{"$f":"_xlfn.TEXTJOIN(\"; \",TRUE,ZCDT_EXPORT_2[[#This Row],[Sub-Category]:[Segment 5]])","v":"Bars; Seeds/ Nuts Bars"}]
["AH","Baltic CDT","U3","03. Dry & Frozen","U3.03","03. Sweets & Grains","C.17.02","35. Chocolate tablets and bars","13132","02. Tablets","13138","01. Dark Chocolates","13142","01. Dark Chocolates with adds/ fils","","","","","","","X",null,"C.17.02","Chocolate tablets and bars","Tablets","Dark Chocolates","Dark Chocolates with adds/ fils","","","","13142",{"$f":"_xlfn.TEXTJOIN(\"; \",TRUE,ZCDT_EXPORT_2[[#This Row],[Sub-Category]:[Segment 5]])","v":"Tablets; Dark Chocolates; Dark Chocolates with adds/ fils"}]
["AH","Baltic CDT","U3","03. Dry & Frozen","U3.03","03. Sweets & Grains","C.17.02","35. Chocolate tablets and bars","13132","02. Tablets","13138","01. Dark Chocolates","13143","02. Pure Dark Chocolate","","","","","","","X",null,"C.17.02","Chocolate tablets and bars","Tablets","Dark Chocolates","Pure Dark Chocolate","","","","13143",{"$f":"_xlfn.TEXTJOIN(\"; \",TRUE,ZCDT_EXPORT_2[[#This Row],[Sub-Category]:[Segment 5]])","v":"Tablets; Dark Chocolates; Pure Dark Chocolate"}]
["AH","Baltic CDT","U3","03. Dry & Frozen","U3.03","03. Sweets & Grains","C.17.02","35. Chocolate tablets and bars","13132","02. Tablets","13138","01. Dark Chocolates","13144","03. Dark Chocolates with Nuts","","","","","","","X",null,"C.17.02","Chocolate tablets and bars","Tablets","Dark Chocolates","Dark Chocolates with Nuts","","","","13144",{"$f":"_xlfn.TEXTJOIN(\"; \",TRUE,ZCDT_EXPORT_2[[#This Row],[Sub-Category]:[Segment 5]])","v":"Tablets; Dark Chocolates; Dark Chocolates with Nuts"}]
["AH","Baltic CDT","U3","03. Dry & Frozen","U3.03","03. Sweets & Grains","C.17.02","35. Chocolate tablets and bars","13132","02. Tablets","13139","02. Milk Chocolate","13145","01. Milk Chocolates with adds/ fills","","","","","","","X",null,"C.17.02","Chocolate tablets and bars","Tablets","Milk Chocolate","Milk Chocolates with adds/ fills","","","","13145",{"$f":"_xlfn.TEXTJOIN(\"; \",TRUE,ZCDT_EXPORT_2[[#This Row],[Sub-Category]:[Segment 5]])","v":"Tablets; Milk Chocolate; Milk Chocolates with adds/ fills"}]
["AH","Baltic CDT","U3","03. Dry & Frozen","U3.03","03. Sweets & Grains","C.17.02","35. Chocolate tablets and bars","13132","02. Tablets","13139","02. Milk Chocolate","13146","02. Pure Milk Chocolates","","","","","","","X",null,"C.17.02","Chocolate tablets and bars","Tablets","Milk Chocolate","Pure Milk Chocolates","","","","13146",{"$f":"_xlfn.TEXTJOIN(\"; \",TRUE,ZCDT_EXPORT_2[[#This Row],[Sub-Category]:[Segment 5]])","v":"Tablets; Milk Chocolate; Pure Milk Chocolates"}]
["AH","Baltic CDT","U3","03. Dry & Frozen","U3.03","03. Sweets & Grains","C.17.02","35. Chocolate tablets and bars","13132","02. Tablets","13139","02. Milk Chocolate","13147","03. Milk Chocolates with Nuts","","","","","","","X",null,"C.17.02","Chocolate tablets and bars","Tablets","Milk Chocolate","Milk Chocolates with Nuts","","","","13147",{"$f":"_xlfn.TEXTJOIN(\"; \",TRUE,ZCDT_EXPORT_2[[#This Row],[Sub-Category]:[Segment 5]])","v":"Tablets; Milk Chocolate; Milk Chocolates with Nuts"}]
["AH","Baltic CDT","U3","03. Dry & Frozen","U3.03","03. Sweets & Grains","C.17.02","35. Chocolate tablets and bars","13132","02. Tablets","13141","03. Other and Special Chocolate Tablets","","","","","","","","","X",null,"C.17.02","Chocolate tablets and bars","Tablets","Other and Special Chocolate Tablets","","","","","13141",{"$f":"_xlfn.TEXTJOIN(\"; \",TRUE,ZCDT_EXPORT_2[[#This Row],[Sub-Category]:[Segment 5]])","v":"Tablets; Other and Special Chocolate Tablets"}]
["AH","Baltic CDT","U3","03. Dry & Frozen","U3.03","03. Sweets & Grains","C.17.02","35. Chocolate tablets and bars","13132","02. Tablets","13140","04. White Chocolate","","","","","","","","","X",null,"C.17.02","Chocolate tablets and bars","Tablets","White Chocolate","","","","","13140",{"$f":"_xlfn.TEXTJOIN(\"; \",TRUE,ZCDT_EXPORT_2[[#This Row],[Sub-Category]:[Segment 5]])","v":"Tablets; White Chocolate"}]
["AH","Baltic CDT","U3","03. Dry & Frozen","U3.03","03. Sweets & Grains","C.17.03","36. Sweets bags, children sweets, other","13532","01. Packed Sweets","13549","01. Children Sweets","13569","01. Candy Toys","","","","","","","X",null,"C.17.03","Sweets bags, children sweets, other","Packed Sweets","Children Sweets","Candy Toys","","","","13569",{"$f":"_xlfn.TEXTJOIN(\"; \",TRUE,ZCDT_EXPORT_2[[#This Row],[Sub-Category]:[Segment 5]])","v":"Packed Sweets; Children Sweets; Candy Toys"}]
["AH","Baltic CDT","U3","03. Dry & Frozen","U3.03","03. Sweets & Grains","C.17.03","36. Sweets bags, children sweets, other","13532","01. Packed Sweets","13549","01. Children Sweets","13570","02. Chocolate Eggs","","","","","","","X",null,"C.17.03","Sweets bags, children sweets, other","Packed Sweets","Children Sweets","Chocolate Eggs","","","","13570",{"$f":"_xlfn.TEXTJOIN(\"; \",TRUE,ZCDT_EXPORT_2[[#This Row],[Sub-Category]:[Segment 5]])","v":"Packed Sweets; Children Sweets; Chocolate Eggs"}]
["AH","Baltic CDT","U3","03. Dry & Frozen","U3.03","03. Sweets & Grains","C.17.03","36. Sweets bags, children sweets, other","13532","01. Packed Sweets","13549","01. Children Sweets","13571","03. Lollipops","","","","","","","X",null,"C.17.03","Sweets bags, children sweets, other","Packed Sweets","Children Sweets","Lollipops","","","","13571",{"$f":"_xlfn.TEXTJOIN(\"; \",TRUE,ZCDT_EXPORT_2[[#This Row],[Sub-Category]:[Segment 5]])","v":"Packed Sweets; Children Sweets; Lollipops"}]
["AH","Baltic CDT","U3","03. Dry & Frozen","U3.03","03. Sweets & Grains","C.17.03","36. Sweets bags, children sweets, other","13532","01. Packed Sweets","13549","01. Children Sweets","13572","04. Other Children Sweets","","","","","","","X",null,"C.17.03","Sweets bags, children sweets, other","Packed Sweets","Children Sweets","Other Children Sweets","","","","13572",{"$f":"_xlfn.TEXTJOIN(\"; \",TRUE,ZCDT_EXPORT_2[[#This Row],[Sub-Category]:[Segment 5]])","v":"Packed Sweets; Children Sweets; Other Children Sweets"}]
["AH","Baltic CDT","U3","03. Dry & Frozen","U3.03","03. Sweets & Grains","C.17.03","36. Sweets bags, children sweets, other","13532","01. Packed Sweets","13551","02. Chocolate Candies","13573","01. Box","","","","","","","X",null,"C.17.03","Sweets bags, children sweets, other","Packed Sweets","Chocolate Candies","Box","","","","13573",{"$f":"_xlfn.TEXTJOIN(\"; \",TRUE,ZCDT_EXPORT_2[[#This Row],[Sub-Category]:[Segment 5]])","v":"Packed Sweets; Chocolate Candies; Box"}]
["AH","Baltic CDT","U3","03. Dry & Frozen","U3.03","03. Sweets & Grains","C.17.03","36. Sweets bags, children sweets, other","13532","01. Packed Sweets","13551","02. Chocolate Candies","13574","02. Bag","","","","","","","X",null,"C.17.03","Sweets bags, children sweets, other","Packed Sweets","Chocolate Candies","Bag","","","","13574",{"$f":"_xlfn.TEXTJOIN(\"; \",TRUE,ZCDT_EXPORT_2[[#This Row],[Sub-Category]:[Segment 5]])","v":"Packed Sweets; Chocolate Candies; Bag"}]
["AH","Baltic CDT","U3","03. Dry & Frozen","U3.03","03. Sweets & Grains","C.17.03","36. Sweets bags, children sweets, other","13532","01. Packed Sweets","13552","03. Gift Sets","","","","","","","","","X",null,"C.17.03","Sweets bags, children sweets, other","Packed Sweets","Gift Sets","","","","","13552",{"$f":"_xlfn.TEXTJOIN(\"; \",TRUE,ZCDT_EXPORT_2[[#This Row],[Sub-Category]:[Segment 5]])","v":"Packed Sweets; Gift Sets"}]
["AH","Baltic CDT","U3","03. Dry & Frozen","U3.03","03. Sweets & Grains","C.17.03","36. Sweets bags, children sweets, other","13532","01. Packed Sweets","13553","04. Pastilles","18367","01. Breath fresheners","","","","","","","X",null,"C.17.03","Sweets bags, children sweets, other","Packed Sweets","Pastilles","Breath fresheners","","","","18367",{"$f":"_xlfn.TEXTJOIN(\"; \",TRUE,ZCDT_EXPORT_2[[#This Row],[Sub-Category]:[Segment 5]])","v":"Packed Sweets; Pastilles; Breath fresheners"}]
["AH","Baltic CDT","U3","03. Dry & Frozen","U3.03","03. Sweets & Grains","C.17.03","36. Sweets bags, children sweets, other","13532","01. Packed Sweets","13553","04. Pastilles","18368","02. Fruit and caramel pastilles, buttons","","","","","","","X",null,"C.17.03","Sweets bags, children sweets, other","Packed Sweets","Pastilles","Fruit and caramel pastilles, buttons","","","","18368",{"$f":"_xlfn.TEXTJOIN(\"; \",TRUE,ZCDT_EXPORT_2[[#This Row],[Sub-Category]:[Segment 5]])","v":"Packed Sweets; Pastilles; Fruit and caramel pastilles, buttons"}]
["AH","Baltic CDT","U3","03. Dry & Frozen","U3.03","03. Sweets & Grains","C.17.03","36. Sweets bags, children sweets, other","13532","01. Packed Sweets","13553","04. Pastilles","18369","03. Throat pastilles","","","","","","","X",null,"C.17.03","Sweets bags, children sweets, other","Packed Sweets","Pastilles","Throat pastilles","","","","18369",{"$f":"_xlfn.TEXTJOIN(\"; \",TRUE,ZCDT_EXPORT_2[[#This Row],[Sub-Category]:[Segment 5]])","v":"Packed Sweets; Pastilles; Throat pastilles"}]
["AH","Baltic CDT","U3","03. Dry & Frozen","U3.03","03. Sweets & Grains","C.17.03","36. Sweets bags, children sweets, other","13532","01. Packed Sweets","13555","05. Marshmallow","","","","","","","","","X",null,"C.17.03","Sweets bags, children sweets, other","Packed Sweets","Marshmallow","","","","","13555",{"$f":"_xlfn.TEXTJOIN(\"; \",TRUE,ZCDT_EXPORT_2[[#This Row],[Sub-Category]:[Segment 5]])","v":"Packed Sweets; Marshmallow"}]
["AH","Baltic CDT","U3","03. Dry & Frozen","U3.03","03. Sweets & Grains","C.17.03","36. Sweets bags, children sweets, other","13532","01. Packed Sweets","13556","06. With Alco","13580","01. Box","","","","","","","X",null,"C.17.03","Sweets bags, children sweets, other","Packed Sweets","With Alco","Box","","","","13580",{"$f":"_xlfn.TEXTJOIN(\"; \",TRUE,ZCDT_EXPORT_2[[#This Row],[Sub-Category]:[Segment 5]])","v":"Packed Sweets; With Alco; Box"}]
["AH","Baltic CDT","U3","03. Dry & Frozen","U3.03","03. Sweets & Grains","C.17.03","36. Sweets bags, children sweets, other","13532","01. Packed Sweets","13556","06. With Alco","13581","02. Bag","","","","","","","X",null,"C.17.03","Sweets bags, children sweets, other","Packed Sweets","With Alco","Bag","","","","13581",{"$f":"_xlfn.TEXTJOIN(\"; \",TRUE,ZCDT_EXPORT_2[[#This Row],[Sub-Category]:[Segment 5]])","v":"Packed Sweets; With Alco; Bag"}]
["AH","Baltic CDT","U3","03. Dry & Frozen","U3.03","03. Sweets & Grains","C.17.03","36. Sweets bags, children sweets, other","13532","01. Packed Sweets","13558","07. Marzipan","13582","01. Box","","","","","","","X",null,"C.17.03","Sweets bags, children sweets, other","Packed Sweets","Marzipan","Box","","","","13582",{"$f":"_xlfn.TEXTJOIN(\"; \",TRUE,ZCDT_EXPORT_2[[#This Row],[Sub-Category]:[Segment 5]])","v":"Packed Sweets; Marzipan; Box"}]
["AH","Baltic CDT","U3","03. Dry & Frozen","U3.03","03. Sweets & Grains","C.17.03","36. Sweets bags, children sweets, other","13532","01. Packed Sweets","13558","07. Marzipan","13583","02. Bag","","","","","","","X",null,"C.17.03","Sweets bags, children sweets, other","Packed Sweets","Marzipan","Bag","","","","13583",{"$f":"_xlfn.TEXTJOIN(\"; \",TRUE,ZCDT_EXPORT_2[[#This Row],[Sub-Category]:[Segment 5]])","v":"Packed Sweets; Marzipan; Bag"}]
["AH","Baltic CDT","U3","03. Dry & Frozen","U3.03","03. Sweets & Grains","C.17.03","36. Sweets bags, children sweets, other","13532","01. Packed Sweets","13560","08. Caramel","13585","01. Box","","","","","","","X",null,"C.17.03","Sweets bags, children sweets, other","Packed Sweets","Caramel","Box","","","","13585",{"$f":"_xlfn.TEXTJOIN(\"; \",TRUE,ZCDT_EXPORT_2[[#This Row],[Sub-Category]:[Segment 5]])","v":"Packed Sweets; Caramel; Box"}]
["AH","Baltic CDT","U3","03. Dry & Frozen","U3.03","03. Sweets & Grains","C.17.03","36. Sweets bags, children sweets, other","13532","01. Packed Sweets","13560","08. Caramel","13586","02. Bag","","","","","","","X",null,"C.17.03","Sweets bags, children sweets, other","Packed Sweets","Caramel","Bag","","","","13586",{"$f":"_xlfn.TEXTJOIN(\"; \",TRUE,ZCDT_EXPORT_2[[#This Row],[Sub-Category]:[Segment 5]])","v":"Packed Sweets; Caramel; Bag"}]
["AH","Baltic CDT","U3","03. Dry & Frozen","U3.03","03. Sweets & Grains","C.17.03","36. Sweets bags, children sweets, other","13532","01. Packed Sweets","13561","09. Zephyr","13588","01. Box","","","","","","","X",null,"C.17.03","Sweets bags, children sweets, other","Packed Sweets","Zephyr","Box","","","","13588",{"$f":"_xlfn.TEXTJOIN(\"; \",TRUE,ZCDT_EXPORT_2[[#This Row],[Sub-Category]:[Segment 5]])","v":"Packed Sweets; Zephyr; Box"}]
["AH","Baltic CDT","U3","03. Dry & Frozen","U3.03","03. Sweets & Grains","C.17.03","36. Sweets bags, children sweets, other","13532","01. Packed Sweets","13561","09. Zephyr","13589","02. Bag","","","","","","","X",null,"C.17.03","Sweets bags, children sweets, other","Packed Sweets","Zephyr","Bag","","","","13589",{"$f":"_xlfn.TEXTJOIN(\"; \",TRUE,ZCDT_EXPORT_2[[#This Row],[Sub-Category]:[Segment 5]])","v":"Packed Sweets; Zephyr; Bag"}]
["AH","Baltic CDT","U3","03. Dry & Frozen","U3.03","03. Sweets & Grains","C.17.03","36. Sweets bags, children sweets, other","13532","01. Packed Sweets","13562","10. Truffles","13590","01. Box","","","","","","","X",null,"C.17.03","Sweets bags, children sweets, other","Packed Sweets","Truffles","Box","","","","13590",{"$f":"_xlfn.TEXTJOIN(\"; \",TRUE,ZCDT_EXPORT_2[[#This Row],[Sub-Category]:[Segment 5]])","v":"Packed Sweets; Truffles; Box"}]
["AH","Baltic CDT","U3","03. Dry & Frozen","U3.03","03. Sweets & Grains","C.17.03","36. Sweets bags, children sweets, other","13532","01. Packed Sweets","13562","10. Truffles","13591","02. Bag","","","","","","","X",null,"C.17.03","Sweets bags, children sweets, other","Packed Sweets","Truffles","Bag","","","","13591",{"$f":"_xlfn.TEXTJOIN(\"; \",TRUE,ZCDT_EXPORT_2[[#This Row],[Sub-Category]:[Segment 5]])","v":"Packed Sweets; Truffles; Bag"}]
["AH","Baltic CDT","U3","03. Dry & Frozen","U3.03","03. Sweets & Grains","C.17.03","36. Sweets bags, children sweets, other","13532","01. Packed Sweets","13563","11. Oriental","","","","","","","","","X",null,"C.17.03","Sweets bags, children sweets, other","Packed Sweets","Oriental","","","","","13563",{"$f":"_xlfn.TEXTJOIN(\"; \",TRUE,ZCDT_EXPORT_2[[#This Row],[Sub-Category]:[Segment 5]])","v":"Packed Sweets; Oriental"}]
["AH","Baltic CDT","U3","03. Dry & Frozen","U3.03","03. Sweets & Grains","C.17.03","36. Sweets bags, children sweets, other","13532","01. Packed Sweets","19356","12. Wine gums & Chew candies","","","","","","","","","X",null,"C.17.03","Sweets bags, children sweets, other","Packed Sweets","Wine gums & Chew candies","","","","","19356",{"$f":"_xlfn.TEXTJOIN(\"; \",TRUE,ZCDT_EXPORT_2[[#This Row],[Sub-Category]:[Segment 5]])","v":"Packed Sweets; Wine gums & Chew candies"}]
["AH","Baltic CDT","U3","03. Dry & Frozen","U3.03","03. Sweets & Grains","C.17.03","36. Sweets bags, children sweets, other","13532","01. Packed Sweets","13565","13. Toffee & Fudges","13592","01. Box","","","","","","","X",null,"C.17.03","Sweets bags, children sweets, other","Packed Sweets","Toffee & Fudges","Box","","","","13592",{"$f":"_xlfn.TEXTJOIN(\"; \",TRUE,ZCDT_EXPORT_2[[#This Row],[Sub-Category]:[Segment 5]])","v":"Packed Sweets; Toffee & Fudges; Box"}]
["AH","Baltic CDT","U3","03. Dry & Frozen","U3.03","03. Sweets & Grains","C.17.03","36. Sweets bags, children sweets, other","13532","01. Packed Sweets","13565","13. Toffee & Fudges","13593","02. Bag","","","","","","","X",null,"C.17.03","Sweets bags, children sweets, other","Packed Sweets","Toffee & Fudges","Bag","","","","13593",{"$f":"_xlfn.TEXTJOIN(\"; \",TRUE,ZCDT_EXPORT_2[[#This Row],[Sub-Category]:[Segment 5]])","v":"Packed Sweets; Toffee & Fudges; Bag"}]
["AH","Baltic CDT","U3","03. Dry & Frozen","U3.03","03. Sweets & Grains","C.17.03","36. Sweets bags, children sweets, other","13532","01. Packed Sweets","13566","14. Draggees","13594","01. Box","","","","","","","X",null,"C.17.03","Sweets bags, children sweets, other","Packed Sweets","Draggees","Box","","","","13594",{"$f":"_xlfn.TEXTJOIN(\"; \",TRUE,ZCDT_EXPORT_2[[#This Row],[Sub-Category]:[Segment 5]])","v":"Packed Sweets; Draggees; Box"}]
["AH","Baltic CDT","U3","03. Dry & Frozen","U3.03","03. Sweets & Grains","C.17.03","36. Sweets bags, children sweets, other","13532","01. Packed Sweets","13566","14. Draggees","13595","02. Bag","","","","","","","X",null,"C.17.03","Sweets bags, children sweets, other","Packed Sweets","Draggees","Bag","","","","13595",{"$f":"_xlfn.TEXTJOIN(\"; \",TRUE,ZCDT_EXPORT_2[[#This Row],[Sub-Category]:[Segment 5]])","v":"Packed Sweets; Draggees; Bag"}]
["AH","Baltic CDT","U3","03. Dry & Frozen","U3.03","03. Sweets & Grains","C.17.03","36. Sweets bags, children sweets, other","13532","01. Packed Sweets","13567","15. Marmalades","13577","01. Box","","","","","","","X",null,"C.17.03","Sweets bags, children sweets, other","Packed Sweets","Marmalades","Box","","","","13577",{"$f":"_xlfn.TEXTJOIN(\"; \",TRUE,ZCDT_EXPORT_2[[#This Row],[Sub-Category]:[Segment 5]])","v":"Packed Sweets; Marmalades; Box"}]
["AH","Baltic CDT","U3","03. Dry & Frozen","U3.03","03. Sweets & Grains","C.17.03","36. Sweets bags, children sweets, other","13532","01. Packed Sweets","13567","15. Marmalades","13578","02. Bag","","","","","","","X",null,"C.17.03","Sweets bags, children sweets, other","Packed Sweets","Marmalades","Bag","","","","13578",{"$f":"_xlfn.TEXTJOIN(\"; \",TRUE,ZCDT_EXPORT_2[[#This Row],[Sub-Category]:[Segment 5]])","v":"Packed Sweets; Marmalades; Bag"}]
["AH","Baltic CDT","U3","03. Dry & Frozen","U3.03","03. Sweets & Grains","C.17.03","36. Sweets bags, children sweets, other","13533","02. Bulk Sweets","13538","01. Caramel","","","","","","","","","X",null,"C.17.03","Sweets bags, children sweets, other","Bulk Sweets","Caramel","","","","","13538",{"$f":"_xlfn.TEXTJOIN(\"; \",TRUE,ZCDT_EXPORT_2[[#This Row],[Sub-Category]:[Segment 5]])","v":"Bulk Sweets; Caramel"}]
["AH","Baltic CDT","U3","03. Dry & Frozen","U3.03","03. Sweets & Grains","C.17.03","36. Sweets bags, children sweets, other","13533","02. Bulk Sweets","13539","02. Chocolates","","","","","","","","","X",null,"C.17.03","Sweets bags, children sweets, other","Bulk Sweets","Chocolates","","","","","13539",{"$f":"_xlfn.TEXTJOIN(\"; \",TRUE,ZCDT_EXPORT_2[[#This Row],[Sub-Category]:[Segment 5]])","v":"Bulk Sweets; Chocolates"}]
["AH","Baltic CDT","U3","03. Dry & Frozen","U3.03","03. Sweets & Grains","C.17.03","36. Sweets bags, children sweets, other","13533","02. Bulk Sweets","13540","03. Marmelades","","","","","","","","","X",null,"C.17.03","Sweets bags, children sweets, other","Bulk Sweets","Marmelades","","","","","13540",{"$f":"_xlfn.TEXTJOIN(\"; \",TRUE,ZCDT_EXPORT_2[[#This Row],[Sub-Category]:[Segment 5]])","v":"Bulk Sweets; Marmelades"}]
["AH","Baltic CDT","U3","03. Dry & Frozen","U3.03","03. Sweets & Grains","C.17.03","36. Sweets bags, children sweets, other","13533","02. Bulk Sweets","13541","04. Wine Gums & Chewing Candies","","","","","","","","","X",null,"C.17.03","Sweets bags, children sweets, other","Bulk Sweets","Wine Gums & Chewing Candies","","","","","13541",{"$f":"_xlfn.TEXTJOIN(\"; \",TRUE,ZCDT_EXPORT_2[[#This Row],[Sub-Category]:[Segment 5]])","v":"Bulk Sweets; Wine Gums & Chewing Candies"}]
["AH","Baltic CDT","U3","03. Dry & Frozen","U3.03","03. Sweets & Grains","C.17.03","36. Sweets bags, children sweets, other","13533","02. Bulk Sweets","13542","05. Oriental","","","","","","","","","X",null,"C.17.03","Sweets bags, children sweets, other","Bulk Sweets","Oriental","","","","","13542",{"$f":"_xlfn.TEXTJOIN(\"; \",TRUE,ZCDT_EXPORT_2[[#This Row],[Sub-Category]:[Segment 5]])","v":"Bulk Sweets; Oriental"}]
["AH","Baltic CDT","U3","03. Dry & Frozen","U3.03","03. Sweets & Grains","C.17.03","36. Sweets bags, children sweets, other","13533","02. Bulk Sweets","13543","06. Toffee & Fudge","","","","","","","","","X",null,"C.17.03","Sweets bags, children sweets, other","Bulk Sweets","Toffee & Fudge","","","","","13543",{"$f":"_xlfn.TEXTJOIN(\"; \",TRUE,ZCDT_EXPORT_2[[#This Row],[Sub-Category]:[Segment 5]])","v":"Bulk Sweets; Toffee & Fudge"}]
["AH","Baltic CDT","U3","03. Dry & Frozen","U3.03","03. Sweets & Grains","C.17.03","36. Sweets bags, children sweets, other","13533","02. Bulk Sweets","13544","07. Zephyr & Marshmollow","","","","","","","","","X",null,"C.17.03","Sweets bags, children sweets, other","Bulk Sweets","Zephyr & Marshmollow","","","","","13544",{"$f":"_xlfn.TEXTJOIN(\"; \",TRUE,ZCDT_EXPORT_2[[#This Row],[Sub-Category]:[Segment 5]])","v":"Bulk Sweets; Zephyr & Marshmollow"}]
["AH","Baltic CDT","U3","03. Dry & Frozen","U3.03","03. Sweets & Grains","C.17.03","36. Sweets bags, children sweets, other","13533","02. Bulk Sweets","13545","08. Other Bulk Sweets","","","","","","","","","X",null,"C.17.03","Sweets bags, children sweets, other","Bulk Sweets","Other Bulk Sweets","","","","","13545",{"$f":"_xlfn.TEXTJOIN(\"; \",TRUE,ZCDT_EXPORT_2[[#This Row],[Sub-Category]:[Segment 5]])","v":"Bulk Sweets; Other Bulk Sweets"}]
["AH","Baltic CDT","U3","03. Dry & Frozen","U3.04","04. Cooking & Snacks","C.04.01","08. Canned (jarred) fruits and berries","16447","01. Canned fruit salad","","","","","","","","","","","X",null,"C.04.01","Canned (jarred) fruits and berries","Canned fruit salad","","","","","","16447",{"$f":"_xlfn.TEXTJOIN(\"; \",TRUE,ZCDT_EXPORT_2[[#This Row],[Sub-Category]:[Segment 5]])","v":"Canned fruit salad"}]
["AH","Baltic CDT","U3","03. Dry & Frozen","U3.04","04. Cooking & Snacks","C.04.01","08. Canned (jarred) fruits and berries","16448","02. Canned peaches","","","","","","","","","","","X",null,"C.04.01","Canned (jarred) fruits and berries","Canned peaches","","","","","","16448",{"$f":"_xlfn.TEXTJOIN(\"; \",TRUE,ZCDT_EXPORT_2[[#This Row],[Sub-Category]:[Segment 5]])","v":"Canned peaches"}]
["AH","Baltic CDT","U3","03. Dry & Frozen","U3.04","04. Cooking & Snacks","C.04.01","08. Canned (jarred) fruits and berries","16449","03. Canned pineapple","","","","","","","","","","","X",null,"C.04.01","Canned (jarred) fruits and berries","Canned pineapple","","","","","","16449",{"$f":"_xlfn.TEXTJOIN(\"; \",TRUE,ZCDT_EXPORT_2[[#This Row],[Sub-Category]:[Segment 5]])","v":"Canned pineapple"}]
["AH","Baltic CDT","U3","03. Dry & Frozen","U3.04","04. Cooking & Snacks","C.04.01","08. Canned (jarred) fruits and berries","16450","04. Compote","","","","","","","","","","","X",null,"C.04.01","Canned (jarred) fruits and berries","Compote","","","","","","16450",{"$f":"_xlfn.TEXTJOIN(\"; \",TRUE,ZCDT_EXPORT_2[[#This Row],[Sub-Category]:[Segment 5]])","v":"Compote"}]
["AH","Baltic CDT","U3","03. Dry & Frozen","U3.04","04. Cooking & Snacks","C.04.01","08. Canned (jarred) fruits and berries","16451","05. Other canned fruit and berries","","","","","","","","","","","X",null,"C.04.01","Canned (jarred) fruits and berries","Other canned fruit and berries","","","","","","16451",{"$f":"_xlfn.TEXTJOIN(\"; \",TRUE,ZCDT_EXPORT_2[[#This Row],[Sub-Category]:[Segment 5]])","v":"Other canned fruit and berries"}]
["AH","Baltic CDT","U3","03. Dry & Frozen","U3.04","04. Cooking & Snacks","C.04.02","09. Canned (jarred) vegetables, canned p","15171","01. Canned (jarred) vegetables","15178","01. Canned beans & legumes","15189","01. In souce","","","","","","","X",null,"C.04.02","Canned (jarred) vegetables, canned p","Canned (jarred) vegetables","Canned beans & legumes","In souce","","","","15189",{"$f":"_xlfn.TEXTJOIN(\"; \",TRUE,ZCDT_EXPORT_2[[#This Row],[Sub-Category]:[Segment 5]])","v":"Canned (jarred) vegetables; Canned beans & legumes; In souce"}]
["AH","Baltic CDT","U3","03. Dry & Frozen","U3.04","04. Cooking & Snacks","C.04.02","09. Canned (jarred) vegetables, canned p","15171","01. Canned (jarred) vegetables","15178","01. Canned beans & legumes","15190","02. Regular","","","","","","","X",null,"C.04.02","Canned (jarred) vegetables, canned p","Canned (jarred) vegetables","Canned beans & legumes","Regular","","","","15190",{"$f":"_xlfn.TEXTJOIN(\"; \",TRUE,ZCDT_EXPORT_2[[#This Row],[Sub-Category]:[Segment 5]])","v":"Canned (jarred) vegetables; Canned beans & legumes; Regular"}]
["AH","Baltic CDT","U3","03. Dry & Frozen","U3.04","04. Cooking & Snacks","C.04.02","09. Canned (jarred) vegetables, canned p","15171","01. Canned (jarred) vegetables","15178","01. Canned beans & legumes","15191","03. Other legumes","","","","","","","X",null,"C.04.02","Canned (jarred) vegetables, canned p","Canned (jarred) vegetables","Canned beans & legumes","Other legumes","","","","15191",{"$f":"_xlfn.TEXTJOIN(\"; \",TRUE,ZCDT_EXPORT_2[[#This Row],[Sub-Category]:[Segment 5]])","v":"Canned (jarred) vegetables; Canned beans & legumes; Other legumes"}]
["AH","Baltic CDT","U3","03. Dry & Frozen","U3.04","04. Cooking & Snacks","C.04.02","09. Canned (jarred) vegetables, canned p","15171","01. Canned (jarred) vegetables","15179","02. Canned beetroot","","","","","","","","","X",null,"C.04.02","Canned (jarred) vegetables, canned p","Canned (jarred) vegetables","Canned beetroot","","","","","15179",{"$f":"_xlfn.TEXTJOIN(\"; \",TRUE,ZCDT_EXPORT_2[[#This Row],[Sub-Category]:[Segment 5]])","v":"Canned (jarred) vegetables; Canned beetroot"}]
["AH","Baltic CDT","U3","03. Dry & Frozen","U3.04","04. Cooking & Snacks","C.04.02","09. Canned (jarred) vegetables, canned p","15171","01. Canned (jarred) vegetables","15180","03. Canned corn","","","","","","","","","X",null,"C.04.02","Canned (jarred) vegetables, canned p","Canned (jarred) vegetables","Canned corn","","","","","15180",{"$f":"_xlfn.TEXTJOIN(\"; \",TRUE,ZCDT_EXPORT_2[[#This Row],[Sub-Category]:[Segment 5]])","v":"Canned (jarred) vegetables; Canned corn"}]
["AH","Baltic CDT","U3","03. Dry & Frozen","U3.04","04. Cooking & Snacks","C.04.02","09. Canned (jarred) vegetables, canned p","15171","01. Canned (jarred) vegetables","15181","04. Canned cucumber","","","","","","","","","X",null,"C.04.02","Canned (jarred) vegetables, canned p","Canned (jarred) vegetables","Canned cucumber","","","","","15181",{"$f":"_xlfn.TEXTJOIN(\"; \",TRUE,ZCDT_EXPORT_2[[#This Row],[Sub-Category]:[Segment 5]])","v":"Canned (jarred) vegetables; Canned cucumber"}]
["AH","Baltic CDT","U3","03. Dry & Frozen","U3.04","04. Cooking & Snacks","C.04.02","09. Canned (jarred) vegetables, canned p","15171","01. Canned (jarred) vegetables","15182","05. Canned mushrooms","15192","01. Champignons","","","","","","","X",null,"C.04.02","Canned (jarred) vegetables, canned p","Canned (jarred) vegetables","Canned mushrooms","Champignons","","","","15192",{"$f":"_xlfn.TEXTJOIN(\"; \",TRUE,ZCDT_EXPORT_2[[#This Row],[Sub-Category]:[Segment 5]])","v":"Canned (jarred) vegetables; Canned mushrooms; Champignons"}]
["AH","Baltic CDT","U3","03. Dry & Frozen","U3.04","04. Cooking & Snacks","C.04.02","09. Canned (jarred) vegetables, canned p","15171","01. Canned (jarred) vegetables","15182","05. Canned mushrooms","15193","02. Mushrooms & mixes","","","","","","","X",null,"C.04.02","Canned (jarred) vegetables, canned p","Canned (jarred) vegetables","Canned mushrooms","Mushrooms & mixes","","","","15193",{"$f":"_xlfn.TEXTJOIN(\"; \",TRUE,ZCDT_EXPORT_2[[#This Row],[Sub-Category]:[Segment 5]])","v":"Canned (jarred) vegetables; Canned mushrooms; Mushrooms & mixes"}]
["AH","Baltic CDT","U3","03. Dry & Frozen","U3.04","04. Cooking & Snacks","C.04.02","09. Canned (jarred) vegetables, canned p","15171","01. Canned (jarred) vegetables","15183","06. Canned olives","15194","01. Green","15200","01. Pitted","","","","","X",null,"C.04.02","Canned (jarred) vegetables, canned p","Canned (jarred) vegetables","Canned olives","Green","Pitted","","","15200",{"$f":"_xlfn.TEXTJOIN(\"; \",TRUE,ZCDT_EXPORT_2[[#This Row],[Sub-Category]:[Segment 5]])","v":"Canned (jarred) vegetables; Canned olives; Green; Pitted"}]
["AH","Baltic CDT","U3","03. Dry & Frozen","U3.04","04. Cooking & Snacks","C.04.02","09. Canned (jarred) vegetables, canned p","15171","01. Canned (jarred) vegetables","15183","06. Canned olives","15194","01. Green","15201","02. Unpitted","","","","","X",null,"C.04.02","Canned (jarred) vegetables, canned p","Canned (jarred) vegetables","Canned olives","Green","Unpitted","","","15201",{"$f":"_xlfn.TEXTJOIN(\"; \",TRUE,ZCDT_EXPORT_2[[#This Row],[Sub-Category]:[Segment 5]])","v":"Canned (jarred) vegetables; Canned olives; Green; Unpitted"}]
["AH","Baltic CDT","U3","03. Dry & Frozen","U3.04","04. Cooking & Snacks","C.04.02","09. Canned (jarred) vegetables, canned p","15171","01. Canned (jarred) vegetables","15183","06. Canned olives","15194","01. Green","15202","03. Stuffed","","","","","X",null,"C.04.02","Canned (jarred) vegetables, canned p","Canned (jarred) vegetables","Canned olives","Green","Stuffed","","","15202",{"$f":"_xlfn.TEXTJOIN(\"; \",TRUE,ZCDT_EXPORT_2[[#This Row],[Sub-Category]:[Segment 5]])","v":"Canned (jarred) vegetables; Canned olives; Green; Stuffed"}]
["AH","Baltic CDT","U3","03. Dry & Frozen","U3.04","04. Cooking & Snacks","C.04.02","09. Canned (jarred) vegetables, canned p","15171","01. Canned (jarred) vegetables","15183","06. Canned olives","15195","02. Black","15203","01. Pitted","","","","","X",null,"C.04.02","Canned (jarred) vegetables, canned p","Canned (jarred) vegetables","Canned olives","Black","Pitted","","","15203",{"$f":"_xlfn.TEXTJOIN(\"; \",TRUE,ZCDT_EXPORT_2[[#This Row],[Sub-Category]:[Segment 5]])","v":"Canned (jarred) vegetables; Canned olives; Black; Pitted"}]
["AH","Baltic CDT","U3","03. Dry & Frozen","U3.04","04. Cooking & Snacks","C.04.02","09. Canned (jarred) vegetables, canned p","15171","01. Canned (jarred) vegetables","15183","06. Canned olives","15195","02. Black","15204","02. Unpitted","","","","","X",null,"C.04.02","Canned (jarred) vegetables, canned p","Canned (jarred) vegetables","Canned olives","Black","Unpitted","","","15204",{"$f":"_xlfn.TEXTJOIN(\"; \",TRUE,ZCDT_EXPORT_2[[#This Row],[Sub-Category]:[Segment 5]])","v":"Canned (jarred) vegetables; Canned olives; Black; Unpitted"}]
["AH","Baltic CDT","U3","03. Dry & Frozen","U3.04","04. Cooking & Snacks","C.04.02","09. Canned (jarred) vegetables, canned p","15171","01. Canned (jarred) vegetables","15183","06. Canned olives","15196","03. Mixed","","","","","","","X",null,"C.04.02","Canned (jarred) vegetables, canned p","Canned (jarred) vegetables","Canned olives","Mixed","","","","15196",{"$f":"_xlfn.TEXTJOIN(\"; \",TRUE,ZCDT_EXPORT_2[[#This Row],[Sub-Category]:[Segment 5]])","v":"Canned (jarred) vegetables; Canned olives; Mixed"}]
["AH","Baltic CDT","U3","03. Dry & Frozen","U3.04","04. Cooking & Snacks","C.04.02","09. Canned (jarred) vegetables, canned p","15171","01. Canned (jarred) vegetables","15184","07. Canned paprika","","","","","","","","","X",null,"C.04.02","Canned (jarred) vegetables, canned p","Canned (jarred) vegetables","Canned paprika","","","","","15184",{"$f":"_xlfn.TEXTJOIN(\"; \",TRUE,ZCDT_EXPORT_2[[#This Row],[Sub-Category]:[Segment 5]])","v":"Canned (jarred) vegetables; Canned paprika"}]
["AH","Baltic CDT","U3","03. Dry & Frozen","U3.04","04. Cooking & Snacks","C.04.02","09. Canned (jarred) vegetables, canned p","15171","01. Canned (jarred) vegetables","15185","08. Canned peas","","","","","","","","","X",null,"C.04.02","Canned (jarred) vegetables, canned p","Canned (jarred) vegetables","Canned peas","","","","","15185",{"$f":"_xlfn.TEXTJOIN(\"; \",TRUE,ZCDT_EXPORT_2[[#This Row],[Sub-Category]:[Segment 5]])","v":"Canned (jarred) vegetables; Canned peas"}]
["AH","Baltic CDT","U3","03. Dry & Frozen","U3.04","04. Cooking & Snacks","C.04.02","09. Canned (jarred) vegetables, canned p","15171","01. Canned (jarred) vegetables","15186","09. Canned tomatoes","15197","01. Pickled","","","","","","","X",null,"C.04.02","Canned (jarred) vegetables, canned p","Canned (jarred) vegetables","Canned tomatoes","Pickled","","","","15197",{"$f":"_xlfn.TEXTJOIN(\"; \",TRUE,ZCDT_EXPORT_2[[#This Row],[Sub-Category]:[Segment 5]])","v":"Canned (jarred) vegetables; Canned tomatoes; Pickled"}]
["AH","Baltic CDT","U3","03. Dry & Frozen","U3.04","04. Cooking & Snacks","C.04.02","09. Canned (jarred) vegetables, canned p","15171","01. Canned (jarred) vegetables","15186","09. Canned tomatoes","15198","02. In juice","15205","01. Chopped","","","","","X",null,"C.04.02","Canned (jarred) vegetables, canned p","Canned (jarred) vegetables","Canned tomatoes","In juice","Chopped","","","15205",{"$f":"_xlfn.TEXTJOIN(\"; \",TRUE,ZCDT_EXPORT_2[[#This Row],[Sub-Category]:[Segment 5]])","v":"Canned (jarred) vegetables; Canned tomatoes; In juice; Chopped"}]
["AH","Baltic CDT","U3","03. Dry & Frozen","U3.04","04. Cooking & Snacks","C.04.02","09. Canned (jarred) vegetables, canned p","15171","01. Canned (jarred) vegetables","15186","09. Canned tomatoes","15198","02. In juice","15206","02. Whole","","","","","X",null,"C.04.02","Canned (jarred) vegetables, canned p","Canned (jarred) vegetables","Canned tomatoes","In juice","Whole","","","15206",{"$f":"_xlfn.TEXTJOIN(\"; \",TRUE,ZCDT_EXPORT_2[[#This Row],[Sub-Category]:[Segment 5]])","v":"Canned (jarred) vegetables; Canned tomatoes; In juice; Whole"}]
["AH","Baltic CDT","U3","03. Dry & Frozen","U3.04","04. Cooking & Snacks","C.04.02","09. Canned (jarred) vegetables, canned p","15171","01. Canned (jarred) vegetables","15186","09. Canned tomatoes","15199","03. Dry tomatoes","","","","","","","X",null,"C.04.02","Canned (jarred) vegetables, canned p","Canned (jarred) vegetables","Canned tomatoes","Dry tomatoes","","","","15199",{"$f":"_xlfn.TEXTJOIN(\"; \",TRUE,ZCDT_EXPORT_2[[#This Row],[Sub-Category]:[Segment 5]])","v":"Canned (jarred) vegetables; Canned tomatoes; Dry tomatoes"}]
["AH","Baltic CDT","U3","03. Dry & Frozen","U3.04","04. Cooking & Snacks","C.04.02","09. Canned (jarred) vegetables, canned p","15171","01. Canned (jarred) vegetables","15187","10. Other canned vegetables","","","","","","","","","X",null,"C.04.02","Canned (jarred) vegetables, canned p","Canned (jarred) vegetables","Other canned vegetables","","","","","15187",{"$f":"_xlfn.TEXTJOIN(\"; \",TRUE,ZCDT_EXPORT_2[[#This Row],[Sub-Category]:[Segment 5]])","v":"Canned (jarred) vegetables; Other canned vegetables"}]
["AH","Baltic CDT","U3","03. Dry & Frozen","U3.04","04. Cooking & Snacks","C.04.02","09. Canned (jarred) vegetables, canned p","15171","01. Canned (jarred) vegetables","15188","11. Vegetable mixes","","","","","","","","","X",null,"C.04.02","Canned (jarred) vegetables, canned p","Canned (jarred) vegetables","Vegetable mixes","","","","","15188",{"$f":"_xlfn.TEXTJOIN(\"; \",TRUE,ZCDT_EXPORT_2[[#This Row],[Sub-Category]:[Segment 5]])","v":"Canned (jarred) vegetables; Vegetable mixes"}]
["AH","Baltic CDT","U3","03. Dry & Frozen","U3.04","04. Cooking & Snacks","C.04.02","09. Canned (jarred) vegetables, canned p","15172","02. Canned prepared food","15173","01. Canned vegetable salads & dishes","","","","","","","","","X",null,"C.04.02","Canned (jarred) vegetables, canned p","Canned prepared food","Canned vegetable salads & dishes","","","","","15173",{"$f":"_xlfn.TEXTJOIN(\"; \",TRUE,ZCDT_EXPORT_2[[#This Row],[Sub-Category]:[Segment 5]])","v":"Canned prepared food; Canned vegetable salads & dishes"}]
["AH","Baltic CDT","U3","03. Dry & Frozen","U3.04","04. Cooking & Snacks","C.04.02","09. Canned (jarred) vegetables, canned p","15172","02. Canned prepared food","15174","02. Letcho","","","","","","","","","X",null,"C.04.02","Canned (jarred) vegetables, canned p","Canned prepared food","Letcho","","","","","15174",{"$f":"_xlfn.TEXTJOIN(\"; \",TRUE,ZCDT_EXPORT_2[[#This Row],[Sub-Category]:[Segment 5]])","v":"Canned prepared food; Letcho"}]
["AH","Baltic CDT","U3","03. Dry & Frozen","U3.04","04. Cooking & Snacks","C.04.02","09. Canned (jarred) vegetables, canned p","15172","02. Canned prepared food","15175","03. Main course","","","","","","","","","X",null,"C.04.02","Canned (jarred) vegetables, canned p","Canned prepared food","Main course","","","","","15175",{"$f":"_xlfn.TEXTJOIN(\"; \",TRUE,ZCDT_EXPORT_2[[#This Row],[Sub-Category]:[Segment 5]])","v":"Canned prepared food; Main course"}]
["AH","Baltic CDT","U3","03. Dry & Frozen","U3.04","04. Cooking & Snacks","C.04.02","09. Canned (jarred) vegetables, canned p","15172","02. Canned prepared food","15176","04. Soups","","","","","","","","","X",null,"C.04.02","Canned (jarred) vegetables, canned p","Canned prepared food","Soups","","","","","15176",{"$f":"_xlfn.TEXTJOIN(\"; \",TRUE,ZCDT_EXPORT_2[[#This Row],[Sub-Category]:[Segment 5]])","v":"Canned prepared food; Soups"}]
["AH","Baltic CDT","U3","03. Dry & Frozen","U3.04","04. Cooking & Snacks","C.04.02","09. Canned (jarred) vegetables, canned p","15172","02. Canned prepared food","15177","05. Sauerkraut","","","","","","","","","X",null,"C.04.02","Canned (jarred) vegetables, canned p","Canned prepared food","Sauerkraut","","","","","15177",{"$f":"_xlfn.TEXTJOIN(\"; \",TRUE,ZCDT_EXPORT_2[[#This Row],[Sub-Category]:[Segment 5]])","v":"Canned prepared food; Sauerkraut"}]
["AH","Baltic CDT","U3","03. Dry & Frozen","U3.04","04. Cooking & Snacks","C.04.02","09. Canned (jarred) vegetables, canned p","15172","02. Canned prepared food","18761","06. Spreads","","","","","","","","","X",null,"C.04.02","Canned (jarred) vegetables, canned p","Canned prepared food","Spreads","","","","","18761",{"$f":"_xlfn.TEXTJOIN(\"; \",TRUE,ZCDT_EXPORT_2[[#This Row],[Sub-Category]:[Segment 5]])","v":"Canned prepared food; Spreads"}]
["AH","Baltic CDT","U3","03. Dry & Frozen","U3.04","04. Cooking & Snacks","C.04.03","10. Jam, marmalade, puree, honey, sweet","16434","01. Chocolate and nut spreads","16440","01. Chocolate spreads","","","","","","","","","X",null,"C.04.03","Jam, marmalade, puree, honey, sweet","Chocolate and nut spreads","Chocolate spreads","","","","","16440",{"$f":"_xlfn.TEXTJOIN(\"; \",TRUE,ZCDT_EXPORT_2[[#This Row],[Sub-Category]:[Segment 5]])","v":"Chocolate and nut spreads; Chocolate spreads"}]
["AH","Baltic CDT","U3","03. Dry & Frozen","U3.04","04. Cooking & Snacks","C.04.03","10. Jam, marmalade, puree, honey, sweet","16434","01. Chocolate and nut spreads","16441","02. Nut spreads","","","","","","","","","X",null,"C.04.03","Jam, marmalade, puree, honey, sweet","Chocolate and nut spreads","Nut spreads","","","","","16441",{"$f":"_xlfn.TEXTJOIN(\"; \",TRUE,ZCDT_EXPORT_2[[#This Row],[Sub-Category]:[Segment 5]])","v":"Chocolate and nut spreads; Nut spreads"}]
["AH","Baltic CDT","U3","03. Dry & Frozen","U3.04","04. Cooking & Snacks","C.04.03","10. Jam, marmalade, puree, honey, sweet","16434","01. Chocolate and nut spreads","16442","03. Mixed flavour spreads","","","","","","","","","X",null,"C.04.03","Jam, marmalade, puree, honey, sweet","Chocolate and nut spreads","Mixed flavour spreads","","","","","16442",{"$f":"_xlfn.TEXTJOIN(\"; \",TRUE,ZCDT_EXPORT_2[[#This Row],[Sub-Category]:[Segment 5]])","v":"Chocolate and nut spreads; Mixed flavour spreads"}]
["AH","Baltic CDT","U3","03. Dry & Frozen","U3.04","04. Cooking & Snacks","C.04.03","10. Jam, marmalade, puree, honey, sweet","16435","02. Honey","","","","","","","","","","","X",null,"C.04.03","Jam, marmalade, puree, honey, sweet","Honey","","","","","","16435",{"$f":"_xlfn.TEXTJOIN(\"; \",TRUE,ZCDT_EXPORT_2[[#This Row],[Sub-Category]:[Segment 5]])","v":"Honey"}]
["AH","Baltic CDT","U3","03. Dry & Frozen","U3.04","04. Cooking & Snacks","C.04.03","10. Jam, marmalade, puree, honey, sweet","16436","03. Jams","16443","01. LV","","","","","","","","","X",null,"C.04.03","Jam, marmalade, puree, honey, sweet","Jams","LV","","","","","16443",{"$f":"_xlfn.TEXTJOIN(\"; \",TRUE,ZCDT_EXPORT_2[[#This Row],[Sub-Category]:[Segment 5]])","v":"Jams; LV"}]
["AH","Baltic CDT","U3","03. Dry & Frozen","U3.04","04. Cooking & Snacks","C.04.03","10. Jam, marmalade, puree, honey, sweet","16436","03. Jams","16444","02. EE","","","","","","","","","X",null,"C.04.03","Jam, marmalade, puree, honey, sweet","Jams","EE","","","","","16444",{"$f":"_xlfn.TEXTJOIN(\"; \",TRUE,ZCDT_EXPORT_2[[#This Row],[Sub-Category]:[Segment 5]])","v":"Jams; EE"}]
["AH","Baltic CDT","U3","03. Dry & Frozen","U3.04","04. Cooking & Snacks","C.04.03","10. Jam, marmalade, puree, honey, sweet","16436","03. Jams","16445","03. LT","","","","","","","","","X",null,"C.04.03","Jam, marmalade, puree, honey, sweet","Jams","LT","","","","","16445",{"$f":"_xlfn.TEXTJOIN(\"; \",TRUE,ZCDT_EXPORT_2[[#This Row],[Sub-Category]:[Segment 5]])","v":"Jams; LT"}]
["AH","Baltic CDT","U3","03. Dry & Frozen","U3.04","04. Cooking & Snacks","C.04.03","10. Jam, marmalade, puree, honey, sweet","16436","03. Jams","16446","04. Import","","","","","","","","","X",null,"C.04.03","Jam, marmalade, puree, honey, sweet","Jams","Import","","","","","16446",{"$f":"_xlfn.TEXTJOIN(\"; \",TRUE,ZCDT_EXPORT_2[[#This Row],[Sub-Category]:[Segment 5]])","v":"Jams; Import"}]
["AH","Baltic CDT","U3","03. Dry & Frozen","U3.04","04. Cooking & Snacks","C.04.03","10. Jam, marmalade, puree, honey, sweet","16437","04. Sweet sauces and extracts","","","","","","","","","","","X",null,"C.04.03","Jam, marmalade, puree, honey, sweet","Sweet sauces and extracts","","","","","","16437",{"$f":"_xlfn.TEXTJOIN(\"; \",TRUE,ZCDT_EXPORT_2[[#This Row],[Sub-Category]:[Segment 5]])","v":"Sweet sauces and extracts"}]
["AH","Baltic CDT","U3","03. Dry & Frozen","U3.04","04. Cooking & Snacks","C.04.03","10. Jam, marmalade, puree, honey, sweet","16438","05. Marmalade","","","","","","","","","","","X",null,"C.04.03","Jam, marmalade, puree, honey, sweet","Marmalade","","","","","","16438",{"$f":"_xlfn.TEXTJOIN(\"; \",TRUE,ZCDT_EXPORT_2[[#This Row],[Sub-Category]:[Segment 5]])","v":"Marmalade"}]
["AH","Baltic CDT","U3","03. Dry & Frozen","U3.04","04. Cooking & Snacks","C.04.03","10. Jam, marmalade, puree, honey, sweet","16439","06. Puree","","","","","","","","","","","X",null,"C.04.03","Jam, marmalade, puree, honey, sweet","Puree","","","","","","16439",{"$f":"_xlfn.TEXTJOIN(\"; \",TRUE,ZCDT_EXPORT_2[[#This Row],[Sub-Category]:[Segment 5]])","v":"Puree"}]
["AH","Baltic CDT","U3","03. Dry & Frozen","U3.04","04. Cooking & Snacks","C.05.01","11. Salty dry ingredients","16452","01. Instant meals","16454","01. Instant meals in sachets","16461","01. Pasta / noodles","","","","","","","X",null,"C.05.01","Salty dry ingredients","Instant meals","Instant meals in sachets","Pasta / noodles","","","","16461",{"$f":"_xlfn.TEXTJOIN(\"; \",TRUE,ZCDT_EXPORT_2[[#This Row],[Sub-Category]:[Segment 5]])","v":"Instant meals; Instant meals in sachets; Pasta / noodles"}]
["AH","Baltic CDT","U3","03. Dry & Frozen","U3.04","04. Cooking & Snacks","C.05.01","11. Salty dry ingredients","16452","01. Instant meals","16454","01. Instant meals in sachets","16462","02. Mashed potatoes","","","","","","","X",null,"C.05.01","Salty dry ingredients","Instant meals","Instant meals in sachets","Mashed potatoes","","","","16462",{"$f":"_xlfn.TEXTJOIN(\"; \",TRUE,ZCDT_EXPORT_2[[#This Row],[Sub-Category]:[Segment 5]])","v":"Instant meals; Instant meals in sachets; Mashed potatoes"}]
["AH","Baltic CDT","U3","03. Dry & Frozen","U3.04","04. Cooking & Snacks","C.05.01","11. Salty dry ingredients","16452","01. Instant meals","16454","01. Instant meals in sachets","16463","03. Others","","","","","","","X",null,"C.05.01","Salty dry ingredients","Instant meals","Instant meals in sachets","Others","","","","16463",{"$f":"_xlfn.TEXTJOIN(\"; \",TRUE,ZCDT_EXPORT_2[[#This Row],[Sub-Category]:[Segment 5]])","v":"Instant meals; Instant meals in sachets; Others"}]
["AH","Baltic CDT","U3","03. Dry & Frozen","U3.04","04. Cooking & Snacks","C.05.01","11. Salty dry ingredients","16452","01. Instant meals","16455","02. Instant meals in cups","16464","01. Pasta / noodles","","","","","","","X",null,"C.05.01","Salty dry ingredients","Instant meals","Instant meals in cups","Pasta / noodles","","","","16464",{"$f":"_xlfn.TEXTJOIN(\"; \",TRUE,ZCDT_EXPORT_2[[#This Row],[Sub-Category]:[Segment 5]])","v":"Instant meals; Instant meals in cups; Pasta / noodles"}]
["AH","Baltic CDT","U3","03. Dry & Frozen","U3.04","04. Cooking & Snacks","C.05.01","11. Salty dry ingredients","16452","01. Instant meals","16455","02. Instant meals in cups","16465","02. Mashed potatoes","","","","","","","X",null,"C.05.01","Salty dry ingredients","Instant meals","Instant meals in cups","Mashed potatoes","","","","16465",{"$f":"_xlfn.TEXTJOIN(\"; \",TRUE,ZCDT_EXPORT_2[[#This Row],[Sub-Category]:[Segment 5]])","v":"Instant meals; Instant meals in cups; Mashed potatoes"}]
["AH","Baltic CDT","U3","03. Dry & Frozen","U3.04","04. Cooking & Snacks","C.05.01","11. Salty dry ingredients","16452","01. Instant meals","16455","02. Instant meals in cups","16466","03. Other","","","","","","","X",null,"C.05.01","Salty dry ingredients","Instant meals","Instant meals in cups","Other","","","","16466",{"$f":"_xlfn.TEXTJOIN(\"; \",TRUE,ZCDT_EXPORT_2[[#This Row],[Sub-Category]:[Segment 5]])","v":"Instant meals; Instant meals in cups; Other"}]
["AH","Baltic CDT","U3","03. Dry & Frozen","U3.04","04. Cooking & Snacks","C.05.01","11. Salty dry ingredients","16452","01. Instant meals","16456","03. Instant soups","","","","","","","","","X",null,"C.05.01","Salty dry ingredients","Instant meals","Instant soups","","","","","16456",{"$f":"_xlfn.TEXTJOIN(\"; \",TRUE,ZCDT_EXPORT_2[[#This Row],[Sub-Category]:[Segment 5]])","v":"Instant meals; Instant soups"}]
["AH","Baltic CDT","U3","03. Dry & Frozen","U3.04","04. Cooking & Snacks","C.05.01","11. Salty dry ingredients","16453","02. Cooking meals","16457","01. Cooking soups","","","","","","","","","X",null,"C.05.01","Salty dry ingredients","Cooking meals","Cooking soups","","","","","16457",{"$f":"_xlfn.TEXTJOIN(\"; \",TRUE,ZCDT_EXPORT_2[[#This Row],[Sub-Category]:[Segment 5]])","v":"Cooking meals; Cooking soups"}]
["AH","Baltic CDT","U3","03. Dry & Frozen","U3.04","04. Cooking & Snacks","C.05.01","11. Salty dry ingredients","16453","02. Cooking meals","16458","02. Boullions","","","","","","","","","X",null,"C.05.01","Salty dry ingredients","Cooking meals","Boullions","","","","","16458",{"$f":"_xlfn.TEXTJOIN(\"; \",TRUE,ZCDT_EXPORT_2[[#This Row],[Sub-Category]:[Segment 5]])","v":"Cooking meals; Boullions"}]
["AH","Baltic CDT","U3","03. Dry & Frozen","U3.04","04. Cooking & Snacks","C.05.01","11. Salty dry ingredients","16453","02. Cooking meals","16459","03. Dry sauces and mixes","","","","","","","","","X",null,"C.05.01","Salty dry ingredients","Cooking meals","Dry sauces and mixes","","","","","16459",{"$f":"_xlfn.TEXTJOIN(\"; \",TRUE,ZCDT_EXPORT_2[[#This Row],[Sub-Category]:[Segment 5]])","v":"Cooking meals; Dry sauces and mixes"}]
["AH","Baltic CDT","U3","03. Dry & Frozen","U3.04","04. Cooking & Snacks","C.05.01","11. Salty dry ingredients","16453","02. Cooking meals","16460","04. Dry meals","","","","","","","","","X",null,"C.05.01","Salty dry ingredients","Cooking meals","Dry meals","","","","","16460",{"$f":"_xlfn.TEXTJOIN(\"; \",TRUE,ZCDT_EXPORT_2[[#This Row],[Sub-Category]:[Segment 5]])","v":"Cooking meals; Dry meals"}]
["AH","Baltic CDT","U3","03. Dry & Frozen","U3.04","04. Cooking & Snacks","C.07.01","13. Nuts, dried fruits, dried fruit and","17726","01. Bulk dried fruit & nuts","17728","01. Dried fruit and nut mixes","","","","","","","","","X",null,"C.07.01","Nuts, dried fruits, dried fruit and","Bulk dried fruit & nuts","Dried fruit and nut mixes","","","","","17728",{"$f":"_xlfn.TEXTJOIN(\"; \",TRUE,ZCDT_EXPORT_2[[#This Row],[Sub-Category]:[Segment 5]])","v":"Bulk dried fruit & nuts; Dried fruit and nut mixes"}]
["AH","Baltic CDT","U3","03. Dry & Frozen","U3.04","04. Cooking & Snacks","C.07.01","13. Nuts, dried fruits, dried fruit and","17726","01. Bulk dried fruit & nuts","17729","02. Dried fruits","","","","","","","","","X",null,"C.07.01","Nuts, dried fruits, dried fruit and","Bulk dried fruit & nuts","Dried fruits","","","","","17729",{"$f":"_xlfn.TEXTJOIN(\"; \",TRUE,ZCDT_EXPORT_2[[#This Row],[Sub-Category]:[Segment 5]])","v":"Bulk dried fruit & nuts; Dried fruits"}]
["AH","Baltic CDT","U3","03. Dry & Frozen","U3.04","04. Cooking & Snacks","C.07.01","13. Nuts, dried fruits, dried fruit and","17726","01. Bulk dried fruit & nuts","17730","03. Dried vegetables","","","","","","","","","X",null,"C.07.01","Nuts, dried fruits, dried fruit and","Bulk dried fruit & nuts","Dried vegetables","","","","","17730",{"$f":"_xlfn.TEXTJOIN(\"; \",TRUE,ZCDT_EXPORT_2[[#This Row],[Sub-Category]:[Segment 5]])","v":"Bulk dried fruit & nuts; Dried vegetables"}]
["AH","Baltic CDT","U3","03. Dry & Frozen","U3.04","04. Cooking & Snacks","C.07.01","13. Nuts, dried fruits, dried fruit and","17726","01. Bulk dried fruit & nuts","17731","04. Nuts","","","","","","","","","X",null,"C.07.01","Nuts, dried fruits, dried fruit and","Bulk dried fruit & nuts","Nuts","","","","","17731",{"$f":"_xlfn.TEXTJOIN(\"; \",TRUE,ZCDT_EXPORT_2[[#This Row],[Sub-Category]:[Segment 5]])","v":"Bulk dried fruit & nuts; Nuts"}]
["AH","Baltic CDT","U3","03. Dry & Frozen","U3.04","04. Cooking & Snacks","C.07.01","13. Nuts, dried fruits, dried fruit and","17726","01. Bulk dried fruit & nuts","17732","05. Seeds","","","","","","","","","X",null,"C.07.01","Nuts, dried fruits, dried fruit and","Bulk dried fruit & nuts","Seeds","","","","","17732",{"$f":"_xlfn.TEXTJOIN(\"; \",TRUE,ZCDT_EXPORT_2[[#This Row],[Sub-Category]:[Segment 5]])","v":"Bulk dried fruit & nuts; Seeds"}]
["AH","Baltic CDT","U3","03. Dry & Frozen","U3.04","04. Cooking & Snacks","C.07.01","13. Nuts, dried fruits, dried fruit and","17726","01. Bulk dried fruit & nuts","17733","06. Snack nuts, flavoured","","","","","","","","","X",null,"C.07.01","Nuts, dried fruits, dried fruit and","Bulk dried fruit & nuts","Snack nuts, flavoured","","","","","17733",{"$f":"_xlfn.TEXTJOIN(\"; \",TRUE,ZCDT_EXPORT_2[[#This Row],[Sub-Category]:[Segment 5]])","v":"Bulk dried fruit & nuts; Snack nuts, flavoured"}]
["AH","Baltic CDT","U3","03. Dry & Frozen","U3.04","04. Cooking & Snacks","C.07.01","13. Nuts, dried fruits, dried fruit and","17727","02. Prepacked dried fruits & nuts","17734","01. Dried fruit and nut mixes","","","","","","","","","X",null,"C.07.01","Nuts, dried fruits, dried fruit and","Prepacked dried fruits & nuts","Dried fruit and nut mixes","","","","","17734",{"$f":"_xlfn.TEXTJOIN(\"; \",TRUE,ZCDT_EXPORT_2[[#This Row],[Sub-Category]:[Segment 5]])","v":"Prepacked dried fruits & nuts; Dried fruit and nut mixes"}]
["AH","Baltic CDT","U3","03. Dry & Frozen","U3.04","04. Cooking & Snacks","C.07.01","13. Nuts, dried fruits, dried fruit and","17727","02. Prepacked dried fruits & nuts","17735","02. Dried fruits","","","","","","","","","X",null,"C.07.01","Nuts, dried fruits, dried fruit and","Prepacked dried fruits & nuts","Dried fruits","","","","","17735",{"$f":"_xlfn.TEXTJOIN(\"; \",TRUE,ZCDT_EXPORT_2[[#This Row],[Sub-Category]:[Segment 5]])","v":"Prepacked dried fruits & nuts; Dried fruits"}]
["AH","Baltic CDT","U3","03. Dry & Frozen","U3.04","04. Cooking & Snacks","C.07.01","13. Nuts, dried fruits, dried fruit and","17727","02. Prepacked dried fruits & nuts","17736","03. Dried vegetables","","","","","","","","","X",null,"C.07.01","Nuts, dried fruits, dried fruit and","Prepacked dried fruits & nuts","Dried vegetables","","","","","17736",{"$f":"_xlfn.TEXTJOIN(\"; \",TRUE,ZCDT_EXPORT_2[[#This Row],[Sub-Category]:[Segment 5]])","v":"Prepacked dried fruits & nuts; Dried vegetables"}]
["AH","Baltic CDT","U3","03. Dry & Frozen","U3.04","04. Cooking & Snacks","C.07.01","13. Nuts, dried fruits, dried fruit and","17727","02. Prepacked dried fruits & nuts","17737","04. Nuts","","","","","","","","","X",null,"C.07.01","Nuts, dried fruits, dried fruit and","Prepacked dried fruits & nuts","Nuts","","","","","17737",{"$f":"_xlfn.TEXTJOIN(\"; \",TRUE,ZCDT_EXPORT_2[[#This Row],[Sub-Category]:[Segment 5]])","v":"Prepacked dried fruits & nuts; Nuts"}]
["AH","Baltic CDT","U3","03. Dry & Frozen","U3.04","04. Cooking & Snacks","C.07.01","13. Nuts, dried fruits, dried fruit and","17727","02. Prepacked dried fruits & nuts","17738","05. Seeds","17740","01. Sunflower","","","","","","","X",null,"C.07.01","Nuts, dried fruits, dried fruit and","Prepacked dried fruits & nuts","Seeds","Sunflower","","","","17740",{"$f":"_xlfn.TEXTJOIN(\"; \",TRUE,ZCDT_EXPORT_2[[#This Row],[Sub-Category]:[Segment 5]])","v":"Prepacked dried fruits & nuts; Seeds; Sunflower"}]
["AH","Baltic CDT","U3","03. Dry & Frozen","U3.04","04. Cooking & Snacks","C.07.01","13. Nuts, dried fruits, dried fruit and","17727","02. Prepacked dried fruits & nuts","17738","05. Seeds","17741","02. Other","","","","","","","X",null,"C.07.01","Nuts, dried fruits, dried fruit and","Prepacked dried fruits & nuts","Seeds","Other","","","","17741",{"$f":"_xlfn.TEXTJOIN(\"; \",TRUE,ZCDT_EXPORT_2[[#This Row],[Sub-Category]:[Segment 5]])","v":"Prepacked dried fruits & nuts; Seeds; Other"}]
["AH","Baltic CDT","U3","03. Dry & Frozen","U3.04","04. Cooking & Snacks","C.07.01","13. Nuts, dried fruits, dried fruit and","17727","02. Prepacked dried fruits & nuts","17739","06. Snack nuts, flavoured","","","","","","","","","X",null,"C.07.01","Nuts, dried fruits, dried fruit and","Prepacked dried fruits & nuts","Snack nuts, flavoured","","","","","17739",{"$f":"_xlfn.TEXTJOIN(\"; \",TRUE,ZCDT_EXPORT_2[[#This Row],[Sub-Category]:[Segment 5]])","v":"Prepacked dried fruits & nuts; Snack nuts, flavoured"}]
["AH","Baltic CDT","U3","03. Dry & Frozen","U3.04","04. Cooking & Snacks","C.13.01","24. Baking needs and dessert powders","16251","01. Bread crumbs","","","","","","","","","","","X",null,"C.13.01","Baking needs and dessert powders","Bread crumbs","","","","","","16251",{"$f":"_xlfn.TEXTJOIN(\"; \",TRUE,ZCDT_EXPORT_2[[#This Row],[Sub-Category]:[Segment 5]])","v":"Bread crumbs"}]
["AH","Baltic CDT","U3","03. Dry & Frozen","U3.04","04. Cooking & Snacks","C.13.01","24. Baking needs and dessert powders","16252","02. Cake decorations","","","","","","","","","","","X",null,"C.13.01","Baking needs and dessert powders","Cake decorations","","","","","","16252",{"$f":"_xlfn.TEXTJOIN(\"; \",TRUE,ZCDT_EXPORT_2[[#This Row],[Sub-Category]:[Segment 5]])","v":"Cake decorations"}]
["AH","Baltic CDT","U3","03. Dry & Frozen","U3.04","04. Cooking & Snacks","C.13.01","24. Baking needs and dessert powders","16253","03. Conditory spices","","","","","","","","","","","X",null,"C.13.01","Baking needs and dessert powders","Conditory spices","","","","","","16253",{"$f":"_xlfn.TEXTJOIN(\"; \",TRUE,ZCDT_EXPORT_2[[#This Row],[Sub-Category]:[Segment 5]])","v":"Conditory spices"}]
["AH","Baltic CDT","U3","03. Dry & Frozen","U3.04","04. Cooking & Snacks","C.13.01","24. Baking needs and dessert powders","16254","04. Jellying agent","","","","","","","","","","","X",null,"C.13.01","Baking needs and dessert powders","Jellying agent","","","","","","16254",{"$f":"_xlfn.TEXTJOIN(\"; \",TRUE,ZCDT_EXPORT_2[[#This Row],[Sub-Category]:[Segment 5]])","v":"Jellying agent"}]
["AH","Baltic CDT","U3","03. Dry & Frozen","U3.04","04. Cooking & Snacks","C.13.01","24. Baking needs and dessert powders","16255","05. Yeast and other raising agents","","","","","","","","","","","X",null,"C.13.01","Baking needs and dessert powders","Yeast and other raising agents","","","","","","16255",{"$f":"_xlfn.TEXTJOIN(\"; \",TRUE,ZCDT_EXPORT_2[[#This Row],[Sub-Category]:[Segment 5]])","v":"Yeast and other raising agents"}]
["AH","Baltic CDT","U3","03. Dry & Frozen","U3.04","04. Cooking & Snacks","C.13.01","24. Baking needs and dessert powders","16501","06. Dessert powders","","","","","","","","","","","X",null,"C.13.01","Baking needs and dessert powders","Dessert powders","","","","","","16501",{"$f":"_xlfn.TEXTJOIN(\"; \",TRUE,ZCDT_EXPORT_2[[#This Row],[Sub-Category]:[Segment 5]])","v":"Dessert powders"}]
["AH","Baltic CDT","U3","03. Dry & Frozen","U3.04","04. Cooking & Snacks","C.13.02","25. Cooking oils, vinegar","15282","01. Cooking Oils","15315","01.Olive oils","15339","01.Pomace","","","","","","","X",null,"C.13.02","Cooking oils, vinegar","Cooking Oils","Olive oils","Pomace","","","","15339",{"$f":"_xlfn.TEXTJOIN(\"; \",TRUE,ZCDT_EXPORT_2[[#This Row],[Sub-Category]:[Segment 5]])","v":"Cooking Oils; Olive oils; Pomace"}]
["AH","Baltic CDT","U3","03. Dry & Frozen","U3.04","04. Cooking & Snacks","C.13.02","25. Cooking oils, vinegar","15282","01. Cooking Oils","15315","01.Olive oils","15340","02.Regular","15342","01.Flavoured","","","","","X",null,"C.13.02","Cooking oils, vinegar","Cooking Oils","Olive oils","Regular","Flavoured","","","15342",{"$f":"_xlfn.TEXTJOIN(\"; \",TRUE,ZCDT_EXPORT_2[[#This Row],[Sub-Category]:[Segment 5]])","v":"Cooking Oils; Olive oils; Regular; Flavoured"}]
["AH","Baltic CDT","U3","03. Dry & Frozen","U3.04","04. Cooking & Snacks","C.13.02","25. Cooking oils, vinegar","15282","01. Cooking Oils","15315","01.Olive oils","15340","02.Regular","15343","02.Unflavoured","","","","","X",null,"C.13.02","Cooking oils, vinegar","Cooking Oils","Olive oils","Regular","Unflavoured","","","15343",{"$f":"_xlfn.TEXTJOIN(\"; \",TRUE,ZCDT_EXPORT_2[[#This Row],[Sub-Category]:[Segment 5]])","v":"Cooking Oils; Olive oils; Regular; Unflavoured"}]
["AH","Baltic CDT","U3","03. Dry & Frozen","U3.04","04. Cooking & Snacks","C.13.02","25. Cooking oils, vinegar","15282","01. Cooking Oils","15315","01.Olive oils","15341","03.Extra virgin","15344","01.Unflavoured","","","","","X",null,"C.13.02","Cooking oils, vinegar","Cooking Oils","Olive oils","Extra virgin","Unflavoured","","","15344",{"$f":"_xlfn.TEXTJOIN(\"; \",TRUE,ZCDT_EXPORT_2[[#This Row],[Sub-Category]:[Segment 5]])","v":"Cooking Oils; Olive oils; Extra virgin; Unflavoured"}]
["AH","Baltic CDT","U3","03. Dry & Frozen","U3.04","04. Cooking & Snacks","C.13.02","25. Cooking oils, vinegar","15282","01. Cooking Oils","15315","01.Olive oils","15341","03.Extra virgin","15345","02.Flavoured","","","","","X",null,"C.13.02","Cooking oils, vinegar","Cooking Oils","Olive oils","Extra virgin","Flavoured","","","15345",{"$f":"_xlfn.TEXTJOIN(\"; \",TRUE,ZCDT_EXPORT_2[[#This Row],[Sub-Category]:[Segment 5]])","v":"Cooking Oils; Olive oils; Extra virgin; Flavoured"}]
["AH","Baltic CDT","U3","03. Dry & Frozen","U3.04","04. Cooking & Snacks","C.13.02","25. Cooking oils, vinegar","15282","01. Cooking Oils","15316","02.Vegatable oils","","","","","","","","","X",null,"C.13.02","Cooking oils, vinegar","Cooking Oils","Vegatable oils","","","","","15316",{"$f":"_xlfn.TEXTJOIN(\"; \",TRUE,ZCDT_EXPORT_2[[#This Row],[Sub-Category]:[Segment 5]])","v":"Cooking Oils; Vegatable oils"}]
["AH","Baltic CDT","U3","03. Dry & Frozen","U3.04","04. Cooking & Snacks","C.13.02","25. Cooking oils, vinegar","15282","01. Cooking Oils","15317","03.Rapeseed oils","15346","01.Unflavoured","15348","01.Refined","","","","","X",null,"C.13.02","Cooking oils, vinegar","Cooking Oils","Rapeseed oils","Unflavoured","Refined","","","15348",{"$f":"_xlfn.TEXTJOIN(\"; \",TRUE,ZCDT_EXPORT_2[[#This Row],[Sub-Category]:[Segment 5]])","v":"Cooking Oils; Rapeseed oils; Unflavoured; Refined"}]
["AH","Baltic CDT","U3","03. Dry & Frozen","U3.04","04. Cooking & Snacks","C.13.02","25. Cooking oils, vinegar","15282","01. Cooking Oils","15317","03.Rapeseed oils","15346","01.Unflavoured","15349","02.Not Refined","","","","","X",null,"C.13.02","Cooking oils, vinegar","Cooking Oils","Rapeseed oils","Unflavoured","Not Refined","","","15349",{"$f":"_xlfn.TEXTJOIN(\"; \",TRUE,ZCDT_EXPORT_2[[#This Row],[Sub-Category]:[Segment 5]])","v":"Cooking Oils; Rapeseed oils; Unflavoured; Not Refined"}]
["AH","Baltic CDT","U3","03. Dry & Frozen","U3.04","04. Cooking & Snacks","C.13.02","25. Cooking oils, vinegar","15282","01. Cooking Oils","15317","03.Rapeseed oils","15347","02.Flavoured","","","","","","","X",null,"C.13.02","Cooking oils, vinegar","Cooking Oils","Rapeseed oils","Flavoured","","","","15347",{"$f":"_xlfn.TEXTJOIN(\"; \",TRUE,ZCDT_EXPORT_2[[#This Row],[Sub-Category]:[Segment 5]])","v":"Cooking Oils; Rapeseed oils; Flavoured"}]
["AH","Baltic CDT","U3","03. Dry & Frozen","U3.04","04. Cooking & Snacks","C.13.02","25. Cooking oils, vinegar","15282","01. Cooking Oils","15318","04.Sunflower oils","15350","01.Refined","","","","","","","X",null,"C.13.02","Cooking oils, vinegar","Cooking Oils","Sunflower oils","Refined","","","","15350",{"$f":"_xlfn.TEXTJOIN(\"; \",TRUE,ZCDT_EXPORT_2[[#This Row],[Sub-Category]:[Segment 5]])","v":"Cooking Oils; Sunflower oils; Refined"}]
["AH","Baltic CDT","U3","03. Dry & Frozen","U3.04","04. Cooking & Snacks","C.13.02","25. Cooking oils, vinegar","15282","01. Cooking Oils","15318","04.Sunflower oils","15351","02. Not Refined","","","","","","","X",null,"C.13.02","Cooking oils, vinegar","Cooking Oils","Sunflower oils","Not Refined","","","","15351",{"$f":"_xlfn.TEXTJOIN(\"; \",TRUE,ZCDT_EXPORT_2[[#This Row],[Sub-Category]:[Segment 5]])","v":"Cooking Oils; Sunflower oils; Not Refined"}]
["AH","Baltic CDT","U3","03. Dry & Frozen","U3.04","04. Cooking & Snacks","C.13.02","25. Cooking oils, vinegar","15282","01. Cooking Oils","15319","05.Grape oils","","","","","","","","","X",null,"C.13.02","Cooking oils, vinegar","Cooking Oils","Grape oils","","","","","15319",{"$f":"_xlfn.TEXTJOIN(\"; \",TRUE,ZCDT_EXPORT_2[[#This Row],[Sub-Category]:[Segment 5]])","v":"Cooking Oils; Grape oils"}]
["AH","Baltic CDT","U3","03. Dry & Frozen","U3.04","04. Cooking & Snacks","C.13.02","25. Cooking oils, vinegar","15282","01. Cooking Oils","15320","06.Coconut oils","","","","","","","","","X",null,"C.13.02","Cooking oils, vinegar","Cooking Oils","Coconut oils","","","","","15320",{"$f":"_xlfn.TEXTJOIN(\"; \",TRUE,ZCDT_EXPORT_2[[#This Row],[Sub-Category]:[Segment 5]])","v":"Cooking Oils; Coconut oils"}]
["AH","Baltic CDT","U3","03. Dry & Frozen","U3.04","04. Cooking & Snacks","C.13.02","25. Cooking oils, vinegar","15282","01. Cooking Oils","15331","07.Other / Special oils","","","","","","","","","X",null,"C.13.02","Cooking oils, vinegar","Cooking Oils","Other / Special oils","","","","","15331",{"$f":"_xlfn.TEXTJOIN(\"; \",TRUE,ZCDT_EXPORT_2[[#This Row],[Sub-Category]:[Segment 5]])","v":"Cooking Oils; Other / Special oils"}]
["AH","Baltic CDT","U3","03. Dry & Frozen","U3.04","04. Cooking & Snacks","C.13.02","25. Cooking oils, vinegar","15283","02. Vinegar","15332","01.Regular vinegar","","","","","","","","","X",null,"C.13.02","Cooking oils, vinegar","Vinegar","Regular vinegar","","","","","15332",{"$f":"_xlfn.TEXTJOIN(\"; \",TRUE,ZCDT_EXPORT_2[[#This Row],[Sub-Category]:[Segment 5]])","v":"Vinegar; Regular vinegar"}]
["AH","Baltic CDT","U3","03. Dry & Frozen","U3.04","04. Cooking & Snacks","C.13.02","25. Cooking oils, vinegar","15283","02. Vinegar","15333","02.Balsamico vinegar","15337","01.Balsamico vinegar","","","","","","","X",null,"C.13.02","Cooking oils, vinegar","Vinegar","Balsamico vinegar","Balsamico vinegar","","","","15337",{"$f":"_xlfn.TEXTJOIN(\"; \",TRUE,ZCDT_EXPORT_2[[#This Row],[Sub-Category]:[Segment 5]])","v":"Vinegar; Balsamico vinegar; Balsamico vinegar"}]
["AH","Baltic CDT","U3","03. Dry & Frozen","U3.04","04. Cooking & Snacks","C.13.02","25. Cooking oils, vinegar","15283","02. Vinegar","15333","02.Balsamico vinegar","15338","02.Balsamico dressing","","","","","","","X",null,"C.13.02","Cooking oils, vinegar","Vinegar","Balsamico vinegar","Balsamico dressing","","","","15338",{"$f":"_xlfn.TEXTJOIN(\"; \",TRUE,ZCDT_EXPORT_2[[#This Row],[Sub-Category]:[Segment 5]])","v":"Vinegar; Balsamico vinegar; Balsamico dressing"}]
["AH","Baltic CDT","U3","03. Dry & Frozen","U3.04","04. Cooking & Snacks","C.13.02","25. Cooking oils, vinegar","15283","02. Vinegar","15334","03.Apple vinegar","","","","","","","","","X",null,"C.13.02","Cooking oils, vinegar","Vinegar","Apple vinegar","","","","","15334",{"$f":"_xlfn.TEXTJOIN(\"; \",TRUE,ZCDT_EXPORT_2[[#This Row],[Sub-Category]:[Segment 5]])","v":"Vinegar; Apple vinegar"}]
["AH","Baltic CDT","U3","03. Dry & Frozen","U3.04","04. Cooking & Snacks","C.13.02","25. Cooking oils, vinegar","15283","02. Vinegar","15335","04.Wine vinegar","","","","","","","","","X",null,"C.13.02","Cooking oils, vinegar","Vinegar","Wine vinegar","","","","","15335",{"$f":"_xlfn.TEXTJOIN(\"; \",TRUE,ZCDT_EXPORT_2[[#This Row],[Sub-Category]:[Segment 5]])","v":"Vinegar; Wine vinegar"}]
["AH","Baltic CDT","U3","03. Dry & Frozen","U3.04","04. Cooking & Snacks","C.13.02","25. Cooking oils, vinegar","15283","02. Vinegar","15336","05.Other","","","","","","","","","X",null,"C.13.02","Cooking oils, vinegar","Vinegar","Other","","","","","15336",{"$f":"_xlfn.TEXTJOIN(\"; \",TRUE,ZCDT_EXPORT_2[[#This Row],[Sub-Category]:[Segment 5]])","v":"Vinegar; Other"}]
["AH","Baltic CDT","U3","03. Dry & Frozen","U3.04","04. Cooking & Snacks","C.13.03","26. Ethnic seasoning and meal ingredient","16261","01. Chinese food","16268","01. Sauces","","","","","","","","","X",null,"C.13.03","Ethnic seasoning and meal ingredient","Chinese food","Sauces","","","","","16268",{"$f":"_xlfn.TEXTJOIN(\"; \",TRUE,ZCDT_EXPORT_2[[#This Row],[Sub-Category]:[Segment 5]])","v":"Chinese food; Sauces"}]
["AH","Baltic CDT","U3","03. Dry & Frozen","U3.04","04. Cooking & Snacks","C.13.03","26. Ethnic seasoning and meal ingredient","16261","01. Chinese food","16269","02. Canned food","","","","","","","","","X",null,"C.13.03","Ethnic seasoning and meal ingredient","Chinese food","Canned food","","","","","16269",{"$f":"_xlfn.TEXTJOIN(\"; \",TRUE,ZCDT_EXPORT_2[[#This Row],[Sub-Category]:[Segment 5]])","v":"Chinese food; Canned food"}]
["AH","Baltic CDT","U3","03. Dry & Frozen","U3.04","04. Cooking & Snacks","C.13.03","26. Ethnic seasoning and meal ingredient","16261","01. Chinese food","16270","03. Other special meal ingredients","","","","","","","","","X",null,"C.13.03","Ethnic seasoning and meal ingredient","Chinese food","Other special meal ingredients","","","","","16270",{"$f":"_xlfn.TEXTJOIN(\"; \",TRUE,ZCDT_EXPORT_2[[#This Row],[Sub-Category]:[Segment 5]])","v":"Chinese food; Other special meal ingredients"}]
["AH","Baltic CDT","U3","03. Dry & Frozen","U3.04","04. Cooking & Snacks","C.13.03","26. Ethnic seasoning and meal ingredient","16262","02. Japanese food","16272","01. Rice","","","","","","","","","X",null,"C.13.03","Ethnic seasoning and meal ingredient","Japanese food","Rice","","","","","16272",{"$f":"_xlfn.TEXTJOIN(\"; \",TRUE,ZCDT_EXPORT_2[[#This Row],[Sub-Category]:[Segment 5]])","v":"Japanese food; Rice"}]
["AH","Baltic CDT","U3","03. Dry & Frozen","U3.04","04. Cooking & Snacks","C.13.03","26. Ethnic seasoning and meal ingredient","16262","02. Japanese food","16273","02. Other sauces","","","","","","","","","X",null,"C.13.03","Ethnic seasoning and meal ingredient","Japanese food","Other sauces","","","","","16273",{"$f":"_xlfn.TEXTJOIN(\"; \",TRUE,ZCDT_EXPORT_2[[#This Row],[Sub-Category]:[Segment 5]])","v":"Japanese food; Other sauces"}]
["AH","Baltic CDT","U3","03. Dry & Frozen","U3.04","04. Cooking & Snacks","C.13.03","26. Ethnic seasoning and meal ingredient","16262","02. Japanese food","16275","03. Canned food","","","","","","","","","X",null,"C.13.03","Ethnic seasoning and meal ingredient","Japanese food","Canned food","","","","","16275",{"$f":"_xlfn.TEXTJOIN(\"; \",TRUE,ZCDT_EXPORT_2[[#This Row],[Sub-Category]:[Segment 5]])","v":"Japanese food; Canned food"}]
["AH","Baltic CDT","U3","03. Dry & Frozen","U3.04","04. Cooking & Snacks","C.13.03","26. Ethnic seasoning and meal ingredient","16262","02. Japanese food","16276","04. Other special meal ingredients","","","","","","","","","X",null,"C.13.03","Ethnic seasoning and meal ingredient","Japanese food","Other special meal ingredients","","","","","16276",{"$f":"_xlfn.TEXTJOIN(\"; \",TRUE,ZCDT_EXPORT_2[[#This Row],[Sub-Category]:[Segment 5]])","v":"Japanese food; Other special meal ingredients"}]
["AH","Baltic CDT","U3","03. Dry & Frozen","U3.04","04. Cooking & Snacks","C.13.03","26. Ethnic seasoning and meal ingredient","16263","03. Mexican food (Tex Mex)","16277","01. Dip mixes/sauces","","","","","","","","","X",null,"C.13.03","Ethnic seasoning and meal ingredient","Mexican food (Tex Mex)","Dip mixes/sauces","","","","","16277",{"$f":"_xlfn.TEXTJOIN(\"; \",TRUE,ZCDT_EXPORT_2[[#This Row],[Sub-Category]:[Segment 5]])","v":"Mexican food (Tex Mex); Dip mixes/sauces"}]
["AH","Baltic CDT","U3","03. Dry & Frozen","U3.04","04. Cooking & Snacks","C.13.03","26. Ethnic seasoning and meal ingredient","16263","03. Mexican food (Tex Mex)","16278","02. Spice mixes","","","","","","","","","X",null,"C.13.03","Ethnic seasoning and meal ingredient","Mexican food (Tex Mex)","Spice mixes","","","","","16278",{"$f":"_xlfn.TEXTJOIN(\"; \",TRUE,ZCDT_EXPORT_2[[#This Row],[Sub-Category]:[Segment 5]])","v":"Mexican food (Tex Mex); Spice mixes"}]
["AH","Baltic CDT","U3","03. Dry & Frozen","U3.04","04. Cooking & Snacks","C.13.03","26. Ethnic seasoning and meal ingredient","16263","03. Mexican food (Tex Mex)","16279","03. Sauces","","","","","","","","","X",null,"C.13.03","Ethnic seasoning and meal ingredient","Mexican food (Tex Mex)","Sauces","","","","","16279",{"$f":"_xlfn.TEXTJOIN(\"; \",TRUE,ZCDT_EXPORT_2[[#This Row],[Sub-Category]:[Segment 5]])","v":"Mexican food (Tex Mex); Sauces"}]
["AH","Baltic CDT","U3","03. Dry & Frozen","U3.04","04. Cooking & Snacks","C.13.03","26. Ethnic seasoning and meal ingredient","16263","03. Mexican food (Tex Mex)","16280","04. Corn chips","","","","","","","","","X",null,"C.13.03","Ethnic seasoning and meal ingredient","Mexican food (Tex Mex)","Corn chips","","","","","16280",{"$f":"_xlfn.TEXTJOIN(\"; \",TRUE,ZCDT_EXPORT_2[[#This Row],[Sub-Category]:[Segment 5]])","v":"Mexican food (Tex Mex); Corn chips"}]
["AH","Baltic CDT","U3","03. Dry & Frozen","U3.04","04. Cooking & Snacks","C.13.03","26. Ethnic seasoning and meal ingredient","16263","03. Mexican food (Tex Mex)","16281","05. Tortillas","","","","","","","","","X",null,"C.13.03","Ethnic seasoning and meal ingredient","Mexican food (Tex Mex)","Tortillas","","","","","16281",{"$f":"_xlfn.TEXTJOIN(\"; \",TRUE,ZCDT_EXPORT_2[[#This Row],[Sub-Category]:[Segment 5]])","v":"Mexican food (Tex Mex); Tortillas"}]
["AH","Baltic CDT","U3","03. Dry & Frozen","U3.04","04. Cooking & Snacks","C.13.03","26. Ethnic seasoning and meal ingredient","16264","04. Other cuisine","16282","01. Korean","","","","","","","","","X",null,"C.13.03","Ethnic seasoning and meal ingredient","Other cuisine","Korean","","","","","16282",{"$f":"_xlfn.TEXTJOIN(\"; \",TRUE,ZCDT_EXPORT_2[[#This Row],[Sub-Category]:[Segment 5]])","v":"Other cuisine; Korean"}]
["AH","Baltic CDT","U3","03. Dry & Frozen","U3.04","04. Cooking & Snacks","C.13.03","26. Ethnic seasoning and meal ingredient","16264","04. Other cuisine","16283","02. Middle East","","","","","","","","","X",null,"C.13.03","Ethnic seasoning and meal ingredient","Other cuisine","Middle East","","","","","16283",{"$f":"_xlfn.TEXTJOIN(\"; \",TRUE,ZCDT_EXPORT_2[[#This Row],[Sub-Category]:[Segment 5]])","v":"Other cuisine; Middle East"}]
["AH","Baltic CDT","U3","03. Dry & Frozen","U3.04","04. Cooking & Snacks","C.13.03","26. Ethnic seasoning and meal ingredient","16264","04. Other cuisine","16284","03. India","","","","","","","","","X",null,"C.13.03","Ethnic seasoning and meal ingredient","Other cuisine","India","","","","","16284",{"$f":"_xlfn.TEXTJOIN(\"; \",TRUE,ZCDT_EXPORT_2[[#This Row],[Sub-Category]:[Segment 5]])","v":"Other cuisine; India"}]
["AH","Baltic CDT","U3","03. Dry & Frozen","U3.04","04. Cooking & Snacks","C.13.03","26. Ethnic seasoning and meal ingredient","16264","04. Other cuisine","16285","04. Israel","","","","","","","","","X",null,"C.13.03","Ethnic seasoning and meal ingredient","Other cuisine","Israel","","","","","16285",{"$f":"_xlfn.TEXTJOIN(\"; \",TRUE,ZCDT_EXPORT_2[[#This Row],[Sub-Category]:[Segment 5]])","v":"Other cuisine; Israel"}]
["AH","Baltic CDT","U3","03. Dry & Frozen","U3.04","04. Cooking & Snacks","C.13.03","26. Ethnic seasoning and meal ingredient","16265","05. Thai food","16288","01. Curry","","","","","","","","","X",null,"C.13.03","Ethnic seasoning and meal ingredient","Thai food","Curry","","","","","16288",{"$f":"_xlfn.TEXTJOIN(\"; \",TRUE,ZCDT_EXPORT_2[[#This Row],[Sub-Category]:[Segment 5]])","v":"Thai food; Curry"}]
["AH","Baltic CDT","U3","03. Dry & Frozen","U3.04","04. Cooking & Snacks","C.13.03","26. Ethnic seasoning and meal ingredient","16265","05. Thai food","16289","02. Sauces","","","","","","","","","X",null,"C.13.03","Ethnic seasoning and meal ingredient","Thai food","Sauces","","","","","16289",{"$f":"_xlfn.TEXTJOIN(\"; \",TRUE,ZCDT_EXPORT_2[[#This Row],[Sub-Category]:[Segment 5]])","v":"Thai food; Sauces"}]
["AH","Baltic CDT","U3","03. Dry & Frozen","U3.04","04. Cooking & Snacks","C.13.03","26. Ethnic seasoning and meal ingredient","16265","05. Thai food","16290","03. Canned food","","","","","","","","","X",null,"C.13.03","Ethnic seasoning and meal ingredient","Thai food","Canned food","","","","","16290",{"$f":"_xlfn.TEXTJOIN(\"; \",TRUE,ZCDT_EXPORT_2[[#This Row],[Sub-Category]:[Segment 5]])","v":"Thai food; Canned food"}]
["AH","Baltic CDT","U3","03. Dry & Frozen","U3.04","04. Cooking & Snacks","C.13.03","26. Ethnic seasoning and meal ingredient","16265","05. Thai food","16292","04. Other special meal ingredients","","","","","","","","","X",null,"C.13.03","Ethnic seasoning and meal ingredient","Thai food","Other special meal ingredients","","","","","16292",{"$f":"_xlfn.TEXTJOIN(\"; \",TRUE,ZCDT_EXPORT_2[[#This Row],[Sub-Category]:[Segment 5]])","v":"Thai food; Other special meal ingredients"}]
["AH","Baltic CDT","U3","03. Dry & Frozen","U3.04","04. Cooking & Snacks","C.13.03","26. Ethnic seasoning and meal ingredient","16266","06. Generic food","18386","01. Noodles","","","","","","","","","X",null,"C.13.03","Ethnic seasoning and meal ingredient","Generic food","Noodles","","","","","18386",{"$f":"_xlfn.TEXTJOIN(\"; \",TRUE,ZCDT_EXPORT_2[[#This Row],[Sub-Category]:[Segment 5]])","v":"Generic food; Noodles"}]
["AH","Baltic CDT","U3","03. Dry & Frozen","U3.04","04. Cooking & Snacks","C.13.03","26. Ethnic seasoning and meal ingredient","16266","06. Generic food","18387","02. Coconut milk","","","","","","","","","X",null,"C.13.03","Ethnic seasoning and meal ingredient","Generic food","Coconut milk","","","","","18387",{"$f":"_xlfn.TEXTJOIN(\"; \",TRUE,ZCDT_EXPORT_2[[#This Row],[Sub-Category]:[Segment 5]])","v":"Generic food; Coconut milk"}]
["AH","Baltic CDT","U3","03. Dry & Frozen","U3.04","04. Cooking & Snacks","C.13.03","26. Ethnic seasoning and meal ingredient","16266","06. Generic food","18388","03. Soya sauce","","","","","","","","","X",null,"C.13.03","Ethnic seasoning and meal ingredient","Generic food","Soya sauce","","","","","18388",{"$f":"_xlfn.TEXTJOIN(\"; \",TRUE,ZCDT_EXPORT_2[[#This Row],[Sub-Category]:[Segment 5]])","v":"Generic food; Soya sauce"}]
["AH","Baltic CDT","U3","03. Dry & Frozen","U3.04","04. Cooking & Snacks","C.13.04","27. Mustard, horseradish, sauces and ket","16117","01. Horseradish","","","","","","","","","","","X",null,"C.13.04","Mustard, horseradish, sauces and ket","Horseradish","","","","","","16117",{"$f":"_xlfn.TEXTJOIN(\"; \",TRUE,ZCDT_EXPORT_2[[#This Row],[Sub-Category]:[Segment 5]])","v":"Horseradish"}]
["AH","Baltic CDT","U3","03. Dry & Frozen","U3.04","04. Cooking & Snacks","C.13.04","27. Mustard, horseradish, sauces and ket","16118","02. Mustard","","","","","","","","","","","X",null,"C.13.04","Mustard, horseradish, sauces and ket","Mustard","","","","","","16118",{"$f":"_xlfn.TEXTJOIN(\"; \",TRUE,ZCDT_EXPORT_2[[#This Row],[Sub-Category]:[Segment 5]])","v":"Mustard"}]
["AH","Baltic CDT","U3","03. Dry & Frozen","U3.04","04. Cooking & Snacks","C.13.04","27. Mustard, horseradish, sauces and ket","16119","03. Sauces and ketchup","16120","01. Tomato ketchup","","","","","","","","","X",null,"C.13.04","Mustard, horseradish, sauces and ket","Sauces and ketchup","Tomato ketchup","","","","","16120",{"$f":"_xlfn.TEXTJOIN(\"; \",TRUE,ZCDT_EXPORT_2[[#This Row],[Sub-Category]:[Segment 5]])","v":"Sauces and ketchup; Tomato ketchup"}]
["AH","Baltic CDT","U3","03. Dry & Frozen","U3.04","04. Cooking & Snacks","C.13.04","27. Mustard, horseradish, sauces and ket","16119","03. Sauces and ketchup","16121","02. Tomato sauces and pastas","","","","","","","","","X",null,"C.13.04","Mustard, horseradish, sauces and ket","Sauces and ketchup","Tomato sauces and pastas","","","","","16121",{"$f":"_xlfn.TEXTJOIN(\"; \",TRUE,ZCDT_EXPORT_2[[#This Row],[Sub-Category]:[Segment 5]])","v":"Sauces and ketchup; Tomato sauces and pastas"}]
["AH","Baltic CDT","U3","03. Dry & Frozen","U3.04","04. Cooking & Snacks","C.13.04","27. Mustard, horseradish, sauces and ket","16119","03. Sauces and ketchup","16122","03. Salad dressing and sauces","","","","","","","","","X",null,"C.13.04","Mustard, horseradish, sauces and ket","Sauces and ketchup","Salad dressing and sauces","","","","","16122",{"$f":"_xlfn.TEXTJOIN(\"; \",TRUE,ZCDT_EXPORT_2[[#This Row],[Sub-Category]:[Segment 5]])","v":"Sauces and ketchup; Salad dressing and sauces"}]
["AH","Baltic CDT","U3","03. Dry & Frozen","U3.04","04. Cooking & Snacks","C.13.04","27. Mustard, horseradish, sauces and ket","16119","03. Sauces and ketchup","16123","04. Cooking sauces","","","","","","","","","X",null,"C.13.04","Mustard, horseradish, sauces and ket","Sauces and ketchup","Cooking sauces","","","","","16123",{"$f":"_xlfn.TEXTJOIN(\"; \",TRUE,ZCDT_EXPORT_2[[#This Row],[Sub-Category]:[Segment 5]])","v":"Sauces and ketchup; Cooking sauces"}]
["AH","Baltic CDT","U3","03. Dry & Frozen","U3.04","04. Cooking & Snacks","C.13.04","27. Mustard, horseradish, sauces and ket","16119","03. Sauces and ketchup","16124","05. Pesto sauces","","","","","","","","","X",null,"C.13.04","Mustard, horseradish, sauces and ket","Sauces and ketchup","Pesto sauces","","","","","16124",{"$f":"_xlfn.TEXTJOIN(\"; \",TRUE,ZCDT_EXPORT_2[[#This Row],[Sub-Category]:[Segment 5]])","v":"Sauces and ketchup; Pesto sauces"}]
["AH","Baltic CDT","U3","03. Dry & Frozen","U3.04","04. Cooking & Snacks","C.13.04","27. Mustard, horseradish, sauces and ket","16119","03. Sauces and ketchup","16125","06. Other dressing sauces (berry/ fruit","","","","","","","","","X",null,"C.13.04","Mustard, horseradish, sauces and ket","Sauces and ketchup","Other dressing sauces (berry/ fruit","","","","","16125",{"$f":"_xlfn.TEXTJOIN(\"; \",TRUE,ZCDT_EXPORT_2[[#This Row],[Sub-Category]:[Segment 5]])","v":"Sauces and ketchup; Other dressing sauces (berry/ fruit"}]
["AH","Baltic CDT","U3","03. Dry & Frozen","U3.04","04. Cooking & Snacks","C.13.04","27. Mustard, horseradish, sauces and ket","16119","03. Sauces and ketchup","16126","07. Ajika","","","","","","","","","X",null,"C.13.04","Mustard, horseradish, sauces and ket","Sauces and ketchup","Ajika","","","","","16126",{"$f":"_xlfn.TEXTJOIN(\"; \",TRUE,ZCDT_EXPORT_2[[#This Row],[Sub-Category]:[Segment 5]])","v":"Sauces and ketchup; Ajika"}]
["AH","Baltic CDT","U3","03. Dry & Frozen","U3.04","04. Cooking & Snacks","C.13.04","27. Mustard, horseradish, sauces and ket","16119","03. Sauces and ketchup","19181","08. BBQ Sauces","","","","","","","","","X",null,"C.13.04","Mustard, horseradish, sauces and ket","Sauces and ketchup","BBQ Sauces","","","","","19181",{"$f":"_xlfn.TEXTJOIN(\"; \",TRUE,ZCDT_EXPORT_2[[#This Row],[Sub-Category]:[Segment 5]])","v":"Sauces and ketchup; BBQ Sauces"}]
["AH","Baltic CDT","U3","03. Dry & Frozen","U3.04","04. Cooking & Snacks","C.13.05","28. Spices","16231","01. Marinades","","","","","","","","","","","X",null,"C.13.05","Spices","Marinades","","","","","","16231",{"$f":"_xlfn.TEXTJOIN(\"; \",TRUE,ZCDT_EXPORT_2[[#This Row],[Sub-Category]:[Segment 5]])","v":"Marinades"}]
["AH","Baltic CDT","U3","03. Dry & Frozen","U3.04","04. Cooking & Snacks","C.13.05","28. Spices","16232","02. Pepper","16237","01. Whole","16239","01. Jar","","","","","","","X",null,"C.13.05","Spices","Pepper","Whole","Jar","","","","16239",{"$f":"_xlfn.TEXTJOIN(\"; \",TRUE,ZCDT_EXPORT_2[[#This Row],[Sub-Category]:[Segment 5]])","v":"Pepper; Whole; Jar"}]
["AH","Baltic CDT","U3","03. Dry & Frozen","U3.04","04. Cooking & Snacks","C.13.05","28. Spices","16232","02. Pepper","16237","01. Whole","16240","02. Bag","","","","","","","X",null,"C.13.05","Spices","Pepper","Whole","Bag","","","","16240",{"$f":"_xlfn.TEXTJOIN(\"; \",TRUE,ZCDT_EXPORT_2[[#This Row],[Sub-Category]:[Segment 5]])","v":"Pepper; Whole; Bag"}]
["AH","Baltic CDT","U3","03. Dry & Frozen","U3.04","04. Cooking & Snacks","C.13.05","28. Spices","16232","02. Pepper","16238","02. Ground","16241","01. Jar","","","","","","","X",null,"C.13.05","Spices","Pepper","Ground","Jar","","","","16241",{"$f":"_xlfn.TEXTJOIN(\"; \",TRUE,ZCDT_EXPORT_2[[#This Row],[Sub-Category]:[Segment 5]])","v":"Pepper; Ground; Jar"}]
["AH","Baltic CDT","U3","03. Dry & Frozen","U3.04","04. Cooking & Snacks","C.13.05","28. Spices","16232","02. Pepper","16238","02. Ground","16242","02. Bag","","","","","","","X",null,"C.13.05","Spices","Pepper","Ground","Bag","","","","16242",{"$f":"_xlfn.TEXTJOIN(\"; \",TRUE,ZCDT_EXPORT_2[[#This Row],[Sub-Category]:[Segment 5]])","v":"Pepper; Ground; Bag"}]
["AH","Baltic CDT","U3","03. Dry & Frozen","U3.04","04. Cooking & Snacks","C.13.05","28. Spices","16233","03. Pure & herbs","16243","01. Spice bag","","","","","","","","","X",null,"C.13.05","Spices","Pure & herbs","Spice bag","","","","","16243",{"$f":"_xlfn.TEXTJOIN(\"; \",TRUE,ZCDT_EXPORT_2[[#This Row],[Sub-Category]:[Segment 5]])","v":"Pure & herbs; Spice bag"}]
["AH","Baltic CDT","U3","03. Dry & Frozen","U3.04","04. Cooking & Snacks","C.13.05","28. Spices","16233","03. Pure & herbs","16244","02. Spice jar/spice meals","","","","","","","","","X",null,"C.13.05","Spices","Pure & herbs","Spice jar/spice meals","","","","","16244",{"$f":"_xlfn.TEXTJOIN(\"; \",TRUE,ZCDT_EXPORT_2[[#This Row],[Sub-Category]:[Segment 5]])","v":"Pure & herbs; Spice jar/spice meals"}]
["AH","Baltic CDT","U3","03. Dry & Frozen","U3.04","04. Cooking & Snacks","C.13.05","28. Spices","16234","04. Salt","16245","01. Sea salt","","","","","","","","","X",null,"C.13.05","Spices","Salt","Sea salt","","","","","16245",{"$f":"_xlfn.TEXTJOIN(\"; \",TRUE,ZCDT_EXPORT_2[[#This Row],[Sub-Category]:[Segment 5]])","v":"Salt; Sea salt"}]
["AH","Baltic CDT","U3","03. Dry & Frozen","U3.04","04. Cooking & Snacks","C.13.05","28. Spices","16234","04. Salt","16246","02. Ordinary salt","","","","","","","","","X",null,"C.13.05","Spices","Salt","Ordinary salt","","","","","16246",{"$f":"_xlfn.TEXTJOIN(\"; \",TRUE,ZCDT_EXPORT_2[[#This Row],[Sub-Category]:[Segment 5]])","v":"Salt; Ordinary salt"}]
["AH","Baltic CDT","U3","03. Dry & Frozen","U3.04","04. Cooking & Snacks","C.13.05","28. Spices","16234","04. Salt","16247","03. Hymalayas salt","","","","","","","","","X",null,"C.13.05","Spices","Salt","Hymalayas salt","","","","","16247",{"$f":"_xlfn.TEXTJOIN(\"; \",TRUE,ZCDT_EXPORT_2[[#This Row],[Sub-Category]:[Segment 5]])","v":"Salt; Hymalayas salt"}]
["AH","Baltic CDT","U3","03. Dry & Frozen","U3.04","04. Cooking & Snacks","C.13.05","28. Spices","16234","04. Salt","16248","04. Other salt/salt with additives","","","","","","","","","X",null,"C.13.05","Spices","Salt","Other salt/salt with additives","","","","","16248",{"$f":"_xlfn.TEXTJOIN(\"; \",TRUE,ZCDT_EXPORT_2[[#This Row],[Sub-Category]:[Segment 5]])","v":"Salt; Other salt/salt with additives"}]
["AH","Baltic CDT","U3","03. Dry & Frozen","U3.04","04. Cooking & Snacks","C.13.05","28. Spices","16235","05. Spice mixes","16249","01. Spice bag","","","","","","","","","X",null,"C.13.05","Spices","Spice mixes","Spice bag","","","","","16249",{"$f":"_xlfn.TEXTJOIN(\"; \",TRUE,ZCDT_EXPORT_2[[#This Row],[Sub-Category]:[Segment 5]])","v":"Spice mixes; Spice bag"}]
["AH","Baltic CDT","U3","03. Dry & Frozen","U3.04","04. Cooking & Snacks","C.13.05","28. Spices","16235","05. Spice mixes","16250","02. Spice jar","","","","","","","","","X",null,"C.13.05","Spices","Spice mixes","Spice jar","","","","","16250",{"$f":"_xlfn.TEXTJOIN(\"; \",TRUE,ZCDT_EXPORT_2[[#This Row],[Sub-Category]:[Segment 5]])","v":"Spice mixes; Spice jar"}]
["AH","Baltic CDT","U3","03. Dry & Frozen","U3.04","04. Cooking & Snacks","C.13.05","28. Spices","16236","06. Universal spices","","","","","","","","","","","X",null,"C.13.05","Spices","Universal spices","","","","","","16236",{"$f":"_xlfn.TEXTJOIN(\"; \",TRUE,ZCDT_EXPORT_2[[#This Row],[Sub-Category]:[Segment 5]])","v":"Universal spices"}]
["AH","Baltic CDT","U3","03. Dry & Frozen","U3.04","04. Cooking & Snacks","C.13.06","29. Sweetening agents","16256","01. Brown sugar (cane)","","","","","","","","","","","X",null,"C.13.06","Sweetening agents","Brown sugar (cane)","","","","","","16256",{"$f":"_xlfn.TEXTJOIN(\"; \",TRUE,ZCDT_EXPORT_2[[#This Row],[Sub-Category]:[Segment 5]])","v":"Brown sugar (cane)"}]
["AH","Baltic CDT","U3","03. Dry & Frozen","U3.04","04. Cooking & Snacks","C.13.06","29. Sweetening agents","16257","02. Special sugar","","","","","","","","","","","X",null,"C.13.06","Sweetening agents","Special sugar","","","","","","16257",{"$f":"_xlfn.TEXTJOIN(\"; \",TRUE,ZCDT_EXPORT_2[[#This Row],[Sub-Category]:[Segment 5]])","v":"Special sugar"}]
["AH","Baltic CDT","U3","03. Dry & Frozen","U3.04","04. Cooking & Snacks","C.13.06","29. Sweetening agents","16258","03. Sugar syrups","","","","","","","","","","","X",null,"C.13.06","Sweetening agents","Sugar syrups","","","","","","16258",{"$f":"_xlfn.TEXTJOIN(\"; \",TRUE,ZCDT_EXPORT_2[[#This Row],[Sub-Category]:[Segment 5]])","v":"Sugar syrups"}]
["AH","Baltic CDT","U3","03. Dry & Frozen","U3.04","04. Cooking & Snacks","C.13.06","29. Sweetening agents","16259","04. White sugar","","","","","","","","","","","X",null,"C.13.06","Sweetening agents","White sugar","","","","","","16259",{"$f":"_xlfn.TEXTJOIN(\"; \",TRUE,ZCDT_EXPORT_2[[#This Row],[Sub-Category]:[Segment 5]])","v":"White sugar"}]
["AH","Baltic CDT","U3","03. Dry & Frozen","U3.04","04. Cooking & Snacks","C.13.06","29. Sweetening agents","16260","05. Artificial sweetener","","","","","","","","","","","X",null,"C.13.06","Sweetening agents","Artificial sweetener","","","","","","16260",{"$f":"_xlfn.TEXTJOIN(\"; \",TRUE,ZCDT_EXPORT_2[[#This Row],[Sub-Category]:[Segment 5]])","v":"Artificial sweetener"}]
["AH","Baltic CDT","U3","03. Dry & Frozen","U3.04","04. Cooking & Snacks","C.15.01","31. Chips, dip mixes, snacks, popcorn","16039","01. Chips","16054","01. Fruit/ Veggy Chips (fried)","","","","","","","","","X",null,"C.15.01","Chips, dip mixes, snacks, popcorn","Chips","Fruit/ Veggy Chips (fried)","","","","","16054",{"$f":"_xlfn.TEXTJOIN(\"; \",TRUE,ZCDT_EXPORT_2[[#This Row],[Sub-Category]:[Segment 5]])","v":"Chips; Fruit/ Veggy Chips (fried)"}]
["AH","Baltic CDT","U3","03. Dry & Frozen","U3.04","04. Cooking & Snacks","C.15.01","31. Chips, dip mixes, snacks, popcorn","16039","01. Chips","16055","02. Potato Chips","16059","01. <=100g","","","","","","","X",null,"C.15.01","Chips, dip mixes, snacks, popcorn","Chips","Potato Chips","<=100g","","","","16059",{"$f":"_xlfn.TEXTJOIN(\"; \",TRUE,ZCDT_EXPORT_2[[#This Row],[Sub-Category]:[Segment 5]])","v":"Chips; Potato Chips; <=100g"}]
["AH","Baltic CDT","U3","03. Dry & Frozen","U3.04","04. Cooking & Snacks","C.15.01","31. Chips, dip mixes, snacks, popcorn","16039","01. Chips","16055","02. Potato Chips","16060","02. >100g & <175g","","","","","","","X",null,"C.15.01","Chips, dip mixes, snacks, popcorn","Chips","Potato Chips",">100g & <175g","","","","16060",{"$f":"_xlfn.TEXTJOIN(\"; \",TRUE,ZCDT_EXPORT_2[[#This Row],[Sub-Category]:[Segment 5]])","v":"Chips; Potato Chips; >100g & <175g"}]
["AH","Baltic CDT","U3","03. Dry & Frozen","U3.04","04. Cooking & Snacks","C.15.01","31. Chips, dip mixes, snacks, popcorn","16039","01. Chips","16055","02. Potato Chips","16061","03. >175g","","","","","","","X",null,"C.15.01","Chips, dip mixes, snacks, popcorn","Chips","Potato Chips",">175g","","","","16061",{"$f":"_xlfn.TEXTJOIN(\"; \",TRUE,ZCDT_EXPORT_2[[#This Row],[Sub-Category]:[Segment 5]])","v":"Chips; Potato Chips; >175g"}]
["AH","Baltic CDT","U3","03. Dry & Frozen","U3.04","04. Cooking & Snacks","C.15.01","31. Chips, dip mixes, snacks, popcorn","16039","01. Chips","16056","03. Bread Chips","","","","","","","","","X",null,"C.15.01","Chips, dip mixes, snacks, popcorn","Chips","Bread Chips","","","","","16056",{"$f":"_xlfn.TEXTJOIN(\"; \",TRUE,ZCDT_EXPORT_2[[#This Row],[Sub-Category]:[Segment 5]])","v":"Chips; Bread Chips"}]
["AH","Baltic CDT","U3","03. Dry & Frozen","U3.04","04. Cooking & Snacks","C.15.01","31. Chips, dip mixes, snacks, popcorn","16040","02. Dip Mixes","","","","","","","","","","","X",null,"C.15.01","Chips, dip mixes, snacks, popcorn","Dip Mixes","","","","","","16040",{"$f":"_xlfn.TEXTJOIN(\"; \",TRUE,ZCDT_EXPORT_2[[#This Row],[Sub-Category]:[Segment 5]])","v":"Dip Mixes"}]
["AH","Baltic CDT","U3","03. Dry & Frozen","U3.04","04. Cooking & Snacks","C.15.01","31. Chips, dip mixes, snacks, popcorn","16051","03. Popcorn","16062","01. Salty","","","","","","","","","X",null,"C.15.01","Chips, dip mixes, snacks, popcorn","Popcorn","Salty","","","","","16062",{"$f":"_xlfn.TEXTJOIN(\"; \",TRUE,ZCDT_EXPORT_2[[#This Row],[Sub-Category]:[Segment 5]])","v":"Popcorn; Salty"}]
["AH","Baltic CDT","U3","03. Dry & Frozen","U3.04","04. Cooking & Snacks","C.15.01","31. Chips, dip mixes, snacks, popcorn","16051","03. Popcorn","16063","02. Sweet","","","","","","","","","X",null,"C.15.01","Chips, dip mixes, snacks, popcorn","Popcorn","Sweet","","","","","16063",{"$f":"_xlfn.TEXTJOIN(\"; \",TRUE,ZCDT_EXPORT_2[[#This Row],[Sub-Category]:[Segment 5]])","v":"Popcorn; Sweet"}]
["AH","Baltic CDT","U3","03. Dry & Frozen","U3.04","04. Cooking & Snacks","C.15.01","31. Chips, dip mixes, snacks, popcorn","16052","04. Snacks","16064","01. Bread Snacks","","","","","","","","","X",null,"C.15.01","Chips, dip mixes, snacks, popcorn","Snacks","Bread Snacks","","","","","16064",{"$f":"_xlfn.TEXTJOIN(\"; \",TRUE,ZCDT_EXPORT_2[[#This Row],[Sub-Category]:[Segment 5]])","v":"Snacks; Bread Snacks"}]
["AH","Baltic CDT","U3","03. Dry & Frozen","U3.04","04. Cooking & Snacks","C.15.01","31. Chips, dip mixes, snacks, popcorn","16052","04. Snacks","16065","02. Other Snacks","","","","","","","","","X",null,"C.15.01","Chips, dip mixes, snacks, popcorn","Snacks","Other Snacks","","","","","16065",{"$f":"_xlfn.TEXTJOIN(\"; \",TRUE,ZCDT_EXPORT_2[[#This Row],[Sub-Category]:[Segment 5]])","v":"Snacks; Other Snacks"}]
["AH","Baltic CDT","U3","03. Dry & Frozen","U3.04","04. Cooking & Snacks","C.15.01","31. Chips, dip mixes, snacks, popcorn","18357","05. Corn Snacks","18358","01. Salty","","","","","","","","","X",null,"C.15.01","Chips, dip mixes, snacks, popcorn","Corn Snacks","Salty","","","","","18358",{"$f":"_xlfn.TEXTJOIN(\"; \",TRUE,ZCDT_EXPORT_2[[#This Row],[Sub-Category]:[Segment 5]])","v":"Corn Snacks; Salty"}]
["AH","Baltic CDT","U3","03. Dry & Frozen","U3.04","04. Cooking & Snacks","C.15.01","31. Chips, dip mixes, snacks, popcorn","18357","05. Corn Snacks","18359","02. Sweet","","","","","","","","","X",null,"C.15.01","Chips, dip mixes, snacks, popcorn","Corn Snacks","Sweet","","","","","18359",{"$f":"_xlfn.TEXTJOIN(\"; \",TRUE,ZCDT_EXPORT_2[[#This Row],[Sub-Category]:[Segment 5]])","v":"Corn Snacks; Sweet"}]
["AH","Baltic CDT","U3","03. Dry & Frozen","U3.05","05. Frozen World & Ice Cream","A.08.01","15. Frozen fish and seafood","17245","01. Frozen fish","17248","01. Fillet","","","","","","","","","X",null,"A.08.01","Frozen fish and seafood","Frozen fish","Fillet","","","","","17248",{"$f":"_xlfn.TEXTJOIN(\"; \",TRUE,ZCDT_EXPORT_2[[#This Row],[Sub-Category]:[Segment 5]])","v":"Frozen fish; Fillet"}]
["AH","Baltic CDT","U3","03. Dry & Frozen","U3.05","05. Frozen World & Ice Cream","A.08.01","15. Frozen fish and seafood","17245","01. Frozen fish","17249","02. Other (whole, minced, etc)","","","","","","","","","X",null,"A.08.01","Frozen fish and seafood","Frozen fish","Other (whole, minced, etc)","","","","","17249",{"$f":"_xlfn.TEXTJOIN(\"; \",TRUE,ZCDT_EXPORT_2[[#This Row],[Sub-Category]:[Segment 5]])","v":"Frozen fish; Other (whole, minced, etc)"}]
["AH","Baltic CDT","U3","03. Dry & Frozen","U3.05","05. Frozen World & Ice Cream","A.08.01","15. Frozen fish and seafood","17246","02. Frozen breaded fish products","19295","01. Fillet fish","","","","","","","","","X",null,"A.08.01","Frozen fish and seafood","Frozen breaded fish products","Fillet fish","","","","","19295",{"$f":"_xlfn.TEXTJOIN(\"; \",TRUE,ZCDT_EXPORT_2[[#This Row],[Sub-Category]:[Segment 5]])","v":"Frozen breaded fish products; Fillet fish"}]
["AH","Baltic CDT","U3","03. Dry & Frozen","U3.05","05. Frozen World & Ice Cream","A.08.01","15. Frozen fish and seafood","17246","02. Frozen breaded fish products","19294","02. Minced fish","","","","","","","","","X",null,"A.08.01","Frozen fish and seafood","Frozen breaded fish products","Minced fish","","","","","19294",{"$f":"_xlfn.TEXTJOIN(\"; \",TRUE,ZCDT_EXPORT_2[[#This Row],[Sub-Category]:[Segment 5]])","v":"Frozen breaded fish products; Minced fish"}]
["AH","Baltic CDT","U3","03. Dry & Frozen","U3.05","05. Frozen World & Ice Cream","A.08.01","15. Frozen fish and seafood","17246","02. Frozen breaded fish products","17252","03. Other breaded fish products","","","","","","","","","X",null,"A.08.01","Frozen fish and seafood","Frozen breaded fish products","Other breaded fish products","","","","","17252",{"$f":"_xlfn.TEXTJOIN(\"; \",TRUE,ZCDT_EXPORT_2[[#This Row],[Sub-Category]:[Segment 5]])","v":"Frozen breaded fish products; Other breaded fish products"}]
["AH","Baltic CDT","U3","03. Dry & Frozen","U3.05","05. Frozen World & Ice Cream","A.08.01","15. Frozen fish and seafood","17247","03. Frozen seafood","19291","01. Shrimp","19292","01. Cooked","","","","","","","X",null,"A.08.01","Frozen fish and seafood","Frozen seafood","Shrimp","Cooked","","","","19292",{"$f":"_xlfn.TEXTJOIN(\"; \",TRUE,ZCDT_EXPORT_2[[#This Row],[Sub-Category]:[Segment 5]])","v":"Frozen seafood; Shrimp; Cooked"}]
["AH","Baltic CDT","U3","03. Dry & Frozen","U3.05","05. Frozen World & Ice Cream","A.08.01","15. Frozen fish and seafood","17247","03. Frozen seafood","19291","01. Shrimp","19293","02. Raw","","","","","","","X",null,"A.08.01","Frozen fish and seafood","Frozen seafood","Shrimp","Raw","","","","19293",{"$f":"_xlfn.TEXTJOIN(\"; \",TRUE,ZCDT_EXPORT_2[[#This Row],[Sub-Category]:[Segment 5]])","v":"Frozen seafood; Shrimp; Raw"}]
["AH","Baltic CDT","U3","03. Dry & Frozen","U3.05","05. Frozen World & Ice Cream","A.08.01","15. Frozen fish and seafood","17247","03. Frozen seafood","17254","02. Squid/ octopus","","","","","","","","","X",null,"A.08.01","Frozen fish and seafood","Frozen seafood","Squid/ octopus","","","","","17254",{"$f":"_xlfn.TEXTJOIN(\"; \",TRUE,ZCDT_EXPORT_2[[#This Row],[Sub-Category]:[Segment 5]])","v":"Frozen seafood; Squid/ octopus"}]
["AH","Baltic CDT","U3","03. Dry & Frozen","U3.05","05. Frozen World & Ice Cream","A.08.01","15. Frozen fish and seafood","17247","03. Frozen seafood","17255","03. Mussel","","","","","","","","","X",null,"A.08.01","Frozen fish and seafood","Frozen seafood","Mussel","","","","","17255",{"$f":"_xlfn.TEXTJOIN(\"; \",TRUE,ZCDT_EXPORT_2[[#This Row],[Sub-Category]:[Segment 5]])","v":"Frozen seafood; Mussel"}]
["AH","Baltic CDT","U3","03. Dry & Frozen","U3.05","05. Frozen World & Ice Cream","A.08.01","15. Frozen fish and seafood","17247","03. Frozen seafood","17256","04. Seafood mix","","","","","","","","","X",null,"A.08.01","Frozen fish and seafood","Frozen seafood","Seafood mix","","","","","17256",{"$f":"_xlfn.TEXTJOIN(\"; \",TRUE,ZCDT_EXPORT_2[[#This Row],[Sub-Category]:[Segment 5]])","v":"Frozen seafood; Seafood mix"}]
["AH","Baltic CDT","U3","03. Dry & Frozen","U3.05","05. Frozen World & Ice Cream","A.08.01","15. Frozen fish and seafood","17247","03. Frozen seafood","17257","05. Other frozen seafood","","","","","","","","","X",null,"A.08.01","Frozen fish and seafood","Frozen seafood","Other frozen seafood","","","","","17257",{"$f":"_xlfn.TEXTJOIN(\"; \",TRUE,ZCDT_EXPORT_2[[#This Row],[Sub-Category]:[Segment 5]])","v":"Frozen seafood; Other frozen seafood"}]
["AH","Baltic CDT","U3","03. Dry & Frozen","U3.05","05. Frozen World & Ice Cream","A.08.02","16. Frozen food, meat, F&V","15967","01. Frozen food","15995","01. Frozen dough & other products","15999","01. Frozen confectionery","","","","","","","X",null,"A.08.02","Frozen food, meat, F&V","Frozen food","Frozen dough & other products","Frozen confectionery","","","","15999",{"$f":"_xlfn.TEXTJOIN(\"; \",TRUE,ZCDT_EXPORT_2[[#This Row],[Sub-Category]:[Segment 5]])","v":"Frozen food; Frozen dough & other products; Frozen confectionery"}]
["AH","Baltic CDT","U3","03. Dry & Frozen","U3.05","05. Frozen World & Ice Cream","A.08.02","16. Frozen food, meat, F&V","15967","01. Frozen food","15995","01. Frozen dough & other products","16000","02. Frozen bread products","","","","","","","X",null,"A.08.02","Frozen food, meat, F&V","Frozen food","Frozen dough & other products","Frozen bread products","","","","16000",{"$f":"_xlfn.TEXTJOIN(\"; \",TRUE,ZCDT_EXPORT_2[[#This Row],[Sub-Category]:[Segment 5]])","v":"Frozen food; Frozen dough & other products; Frozen bread products"}]
["AH","Baltic CDT","U3","03. Dry & Frozen","U3.05","05. Frozen World & Ice Cream","A.08.02","16. Frozen food, meat, F&V","15967","01. Frozen food","15995","01. Frozen dough & other products","16001","03. Frozen buns and pies","","","","","","","X",null,"A.08.02","Frozen food, meat, F&V","Frozen food","Frozen dough & other products","Frozen buns and pies","","","","16001",{"$f":"_xlfn.TEXTJOIN(\"; \",TRUE,ZCDT_EXPORT_2[[#This Row],[Sub-Category]:[Segment 5]])","v":"Frozen food; Frozen dough & other products; Frozen buns and pies"}]
["AH","Baltic CDT","U3","03. Dry & Frozen","U3.05","05. Frozen World & Ice Cream","A.08.02","16. Frozen food, meat, F&V","15967","01. Frozen food","15995","01. Frozen dough & other products","16002","04. Frozen dough","","","","","","","X",null,"A.08.02","Frozen food, meat, F&V","Frozen food","Frozen dough & other products","Frozen dough","","","","16002",{"$f":"_xlfn.TEXTJOIN(\"; \",TRUE,ZCDT_EXPORT_2[[#This Row],[Sub-Category]:[Segment 5]])","v":"Frozen food; Frozen dough & other products; Frozen dough"}]
["AH","Baltic CDT","U3","03. Dry & Frozen","U3.05","05. Frozen World & Ice Cream","A.08.02","16. Frozen food, meat, F&V","15967","01. Frozen food","15996","02. Frozen pizzas","","","","","","","","","X",null,"A.08.02","Frozen food, meat, F&V","Frozen food","Frozen pizzas","","","","","15996",{"$f":"_xlfn.TEXTJOIN(\"; \",TRUE,ZCDT_EXPORT_2[[#This Row],[Sub-Category]:[Segment 5]])","v":"Frozen food; Frozen pizzas"}]
["AH","Baltic CDT","U3","03. Dry & Frozen","U3.05","05. Frozen World & Ice Cream","A.08.02","16. Frozen food, meat, F&V","15967","01. Frozen food","15997","03. Frozen ready meals","16011","01. Dumplings","","","","","","","X",null,"A.08.02","Frozen food, meat, F&V","Frozen food","Frozen ready meals","Dumplings","","","","16011",{"$f":"_xlfn.TEXTJOIN(\"; \",TRUE,ZCDT_EXPORT_2[[#This Row],[Sub-Category]:[Segment 5]])","v":"Frozen food; Frozen ready meals; Dumplings"}]
["AH","Baltic CDT","U3","03. Dry & Frozen","U3.05","05. Frozen World & Ice Cream","A.08.02","16. Frozen food, meat, F&V","15967","01. Frozen food","15997","03. Frozen ready meals","16012","02. Pancakes","","","","","","","X",null,"A.08.02","Frozen food, meat, F&V","Frozen food","Frozen ready meals","Pancakes","","","","16012",{"$f":"_xlfn.TEXTJOIN(\"; \",TRUE,ZCDT_EXPORT_2[[#This Row],[Sub-Category]:[Segment 5]])","v":"Frozen food; Frozen ready meals; Pancakes"}]
["AH","Baltic CDT","U3","03. Dry & Frozen","U3.05","05. Frozen World & Ice Cream","A.08.02","16. Frozen food, meat, F&V","15967","01. Frozen food","15997","03. Frozen ready meals","16013","03. Zeppling","","","","","","","X",null,"A.08.02","Frozen food, meat, F&V","Frozen food","Frozen ready meals","Zeppling","","","","16013",{"$f":"_xlfn.TEXTJOIN(\"; \",TRUE,ZCDT_EXPORT_2[[#This Row],[Sub-Category]:[Segment 5]])","v":"Frozen food; Frozen ready meals; Zeppling"}]
["AH","Baltic CDT","U3","03. Dry & Frozen","U3.05","05. Frozen World & Ice Cream","A.08.02","16. Frozen food, meat, F&V","15967","01. Frozen food","15997","03. Frozen ready meals","16014","04. Vareniki","","","","","","","X",null,"A.08.02","Frozen food, meat, F&V","Frozen food","Frozen ready meals","Vareniki","","","","16014",{"$f":"_xlfn.TEXTJOIN(\"; \",TRUE,ZCDT_EXPORT_2[[#This Row],[Sub-Category]:[Segment 5]])","v":"Frozen food; Frozen ready meals; Vareniki"}]
["AH","Baltic CDT","U3","03. Dry & Frozen","U3.05","05. Frozen World & Ice Cream","A.08.02","16. Frozen food, meat, F&V","15967","01. Frozen food","15997","03. Frozen ready meals","16015","05. Meals","","","","","","","X",null,"A.08.02","Frozen food, meat, F&V","Frozen food","Frozen ready meals","Meals","","","","16015",{"$f":"_xlfn.TEXTJOIN(\"; \",TRUE,ZCDT_EXPORT_2[[#This Row],[Sub-Category]:[Segment 5]])","v":"Frozen food; Frozen ready meals; Meals"}]
["AH","Baltic CDT","U3","03. Dry & Frozen","U3.05","05. Frozen World & Ice Cream","A.08.02","16. Frozen food, meat, F&V","15968","02. Frozen meat","","","","","","","","","","","X",null,"A.08.02","Frozen food, meat, F&V","Frozen meat","","","","","","15968",{"$f":"_xlfn.TEXTJOIN(\"; \",TRUE,ZCDT_EXPORT_2[[#This Row],[Sub-Category]:[Segment 5]])","v":"Frozen meat"}]
["AH","Baltic CDT","U3","03. Dry & Frozen","U3.05","05. Frozen World & Ice Cream","A.08.02","16. Frozen food, meat, F&V","15969","03. Frozen fruits and berries","16028","01. Single","","","","","","","","","X",null,"A.08.02","Frozen food, meat, F&V","Frozen fruits and berries","Single","","","","","16028",{"$f":"_xlfn.TEXTJOIN(\"; \",TRUE,ZCDT_EXPORT_2[[#This Row],[Sub-Category]:[Segment 5]])","v":"Frozen fruits and berries; Single"}]
["AH","Baltic CDT","U3","03. Dry & Frozen","U3.05","05. Frozen World & Ice Cream","A.08.02","16. Frozen food, meat, F&V","15969","03. Frozen fruits and berries","16029","02. Mix","","","","","","","","","X",null,"A.08.02","Frozen food, meat, F&V","Frozen fruits and berries","Mix","","","","","16029",{"$f":"_xlfn.TEXTJOIN(\"; \",TRUE,ZCDT_EXPORT_2[[#This Row],[Sub-Category]:[Segment 5]])","v":"Frozen fruits and berries; Mix"}]
["AH","Baltic CDT","U3","03. Dry & Frozen","U3.05","05. Frozen World & Ice Cream","A.08.02","16. Frozen food, meat, F&V","15970","04. Frozen vegetables","16030","01. Frozen potatoes","16034","01. Shaped","","","","","","","X",null,"A.08.02","Frozen food, meat, F&V","Frozen vegetables","Frozen potatoes","Shaped","","","","16034",{"$f":"_xlfn.TEXTJOIN(\"; \",TRUE,ZCDT_EXPORT_2[[#This Row],[Sub-Category]:[Segment 5]])","v":"Frozen vegetables; Frozen potatoes; Shaped"}]
["AH","Baltic CDT","U3","03. Dry & Frozen","U3.05","05. Frozen World & Ice Cream","A.08.02","16. Frozen food, meat, F&V","15970","04. Frozen vegetables","16030","01. Frozen potatoes","16035","02. Straight (Fries)","","","","","","","X",null,"A.08.02","Frozen food, meat, F&V","Frozen vegetables","Frozen potatoes","Straight (Fries)","","","","16035",{"$f":"_xlfn.TEXTJOIN(\"; \",TRUE,ZCDT_EXPORT_2[[#This Row],[Sub-Category]:[Segment 5]])","v":"Frozen vegetables; Frozen potatoes; Straight (Fries)"}]
["AH","Baltic CDT","U3","03. Dry & Frozen","U3.05","05. Frozen World & Ice Cream","A.08.02","16. Frozen food, meat, F&V","15970","04. Frozen vegetables","16030","01. Frozen potatoes","16036","03. Other (Fries)","","","","","","","X",null,"A.08.02","Frozen food, meat, F&V","Frozen vegetables","Frozen potatoes","Other (Fries)","","","","16036",{"$f":"_xlfn.TEXTJOIN(\"; \",TRUE,ZCDT_EXPORT_2[[#This Row],[Sub-Category]:[Segment 5]])","v":"Frozen vegetables; Frozen potatoes; Other (Fries)"}]
["AH","Baltic CDT","U3","03. Dry & Frozen","U3.05","05. Frozen World & Ice Cream","A.08.02","16. Frozen food, meat, F&V","15970","04. Frozen vegetables","16031","02. Frozen vegetables","16037","01. Vegetables Single","","","","","","","X",null,"A.08.02","Frozen food, meat, F&V","Frozen vegetables","Frozen vegetables","Vegetables Single","","","","16037",{"$f":"_xlfn.TEXTJOIN(\"; \",TRUE,ZCDT_EXPORT_2[[#This Row],[Sub-Category]:[Segment 5]])","v":"Frozen vegetables; Frozen vegetables; Vegetables Single"}]
["AH","Baltic CDT","U3","03. Dry & Frozen","U3.05","05. Frozen World & Ice Cream","A.08.02","16. Frozen food, meat, F&V","15970","04. Frozen vegetables","16031","02. Frozen vegetables","16038","02. Vegetables Mix","","","","","","","X",null,"A.08.02","Frozen food, meat, F&V","Frozen vegetables","Frozen vegetables","Vegetables Mix","","","","16038",{"$f":"_xlfn.TEXTJOIN(\"; \",TRUE,ZCDT_EXPORT_2[[#This Row],[Sub-Category]:[Segment 5]])","v":"Frozen vegetables; Frozen vegetables; Vegetables Mix"}]
["AH","Baltic CDT","U3","03. Dry & Frozen","U3.05","05. Frozen World & Ice Cream","A.08.02","16. Frozen food, meat, F&V","15970","04. Frozen vegetables","16032","03. Frozen mushrooms","","","","","","","","","X",null,"A.08.02","Frozen food, meat, F&V","Frozen vegetables","Frozen mushrooms","","","","","16032",{"$f":"_xlfn.TEXTJOIN(\"; \",TRUE,ZCDT_EXPORT_2[[#This Row],[Sub-Category]:[Segment 5]])","v":"Frozen vegetables; Frozen mushrooms"}]
["AH","Baltic CDT","U3","03. Dry & Frozen","U3.05","05. Frozen World & Ice Cream","A.08.02","16. Frozen food, meat, F&V","15970","04. Frozen vegetables","16033","04. Frozen herbs","","","","","","","","","X",null,"A.08.02","Frozen food, meat, F&V","Frozen vegetables","Frozen herbs","","","","","16033",{"$f":"_xlfn.TEXTJOIN(\"; \",TRUE,ZCDT_EXPORT_2[[#This Row],[Sub-Category]:[Segment 5]])","v":"Frozen vegetables; Frozen herbs"}]
["AH","Baltic CDT","U3","03. Dry & Frozen","U3.05","05. Frozen World & Ice Cream","A.09.01","17. Ice cream, ice products","17258","01. Ice cream","17260","01. Portion ice cream","17263","01. In waffle cups","","","","","","","X",null,"A.09.01","Ice cream, ice products","Ice cream","Portion ice cream","In waffle cups","","","","17263",{"$f":"_xlfn.TEXTJOIN(\"; \",TRUE,ZCDT_EXPORT_2[[#This Row],[Sub-Category]:[Segment 5]])","v":"Ice cream; Portion ice cream; In waffle cups"}]
["AH","Baltic CDT","U3","03. Dry & Frozen","U3.05","05. Frozen World & Ice Cream","A.09.01","17. Ice cream, ice products","17258","01. Ice cream","17260","01. Portion ice cream","17264","02. In waffle cones","","","","","","","X",null,"A.09.01","Ice cream, ice products","Ice cream","Portion ice cream","In waffle cones","","","","17264",{"$f":"_xlfn.TEXTJOIN(\"; \",TRUE,ZCDT_EXPORT_2[[#This Row],[Sub-Category]:[Segment 5]])","v":"Ice cream; Portion ice cream; In waffle cones"}]
["AH","Baltic CDT","U3","03. Dry & Frozen","U3.05","05. Frozen World & Ice Cream","A.09.01","17. Ice cream, ice products","17258","01. Ice cream","17260","01. Portion ice cream","17265","03. Ice cream sticks","","","","","","","X",null,"A.09.01","Ice cream, ice products","Ice cream","Portion ice cream","Ice cream sticks","","","","17265",{"$f":"_xlfn.TEXTJOIN(\"; \",TRUE,ZCDT_EXPORT_2[[#This Row],[Sub-Category]:[Segment 5]])","v":"Ice cream; Portion ice cream; Ice cream sticks"}]
["AH","Baltic CDT","U3","03. Dry & Frozen","U3.05","05. Frozen World & Ice Cream","A.09.01","17. Ice cream, ice products","17258","01. Ice cream","17260","01. Portion ice cream","17266","04. Fruit/juice ice cream","","","","","","","X",null,"A.09.01","Ice cream, ice products","Ice cream","Portion ice cream","Fruit/juice ice cream","","","","17266",{"$f":"_xlfn.TEXTJOIN(\"; \",TRUE,ZCDT_EXPORT_2[[#This Row],[Sub-Category]:[Segment 5]])","v":"Ice cream; Portion ice cream; Fruit/juice ice cream"}]
["AH","Baltic CDT","U3","03. Dry & Frozen","U3.05","05. Frozen World & Ice Cream","A.09.01","17. Ice cream, ice products","17258","01. Ice cream","17260","01. Portion ice cream","17267","05. Sandwich-type ice cream","","","","","","","X",null,"A.09.01","Ice cream, ice products","Ice cream","Portion ice cream","Sandwich-type ice cream","","","","17267",{"$f":"_xlfn.TEXTJOIN(\"; \",TRUE,ZCDT_EXPORT_2[[#This Row],[Sub-Category]:[Segment 5]])","v":"Ice cream; Portion ice cream; Sandwich-type ice cream"}]
["AH","Baltic CDT","U3","03. Dry & Frozen","U3.05","05. Frozen World & Ice Cream","A.09.01","17. Ice cream, ice products","17258","01. Ice cream","17261","02. Take-home ice cream","17268","01. Family-pack","","","","","","","X",null,"A.09.01","Ice cream, ice products","Ice cream","Take-home ice cream","Family-pack","","","","17268",{"$f":"_xlfn.TEXTJOIN(\"; \",TRUE,ZCDT_EXPORT_2[[#This Row],[Sub-Category]:[Segment 5]])","v":"Ice cream; Take-home ice cream; Family-pack"}]
["AH","Baltic CDT","U3","03. Dry & Frozen","U3.05","05. Frozen World & Ice Cream","A.09.01","17. Ice cream, ice products","17258","01. Ice cream","17261","02. Take-home ice cream","17269","02. Multipacks","","","","","","","X",null,"A.09.01","Ice cream, ice products","Ice cream","Take-home ice cream","Multipacks","","","","17269",{"$f":"_xlfn.TEXTJOIN(\"; \",TRUE,ZCDT_EXPORT_2[[#This Row],[Sub-Category]:[Segment 5]])","v":"Ice cream; Take-home ice cream; Multipacks"}]
["AH","Baltic CDT","U3","03. Dry & Frozen","U3.05","05. Frozen World & Ice Cream","A.09.01","17. Ice cream, ice products","17258","01. Ice cream","17261","02. Take-home ice cream","17270","03. Ice-cream cakes","","","","","","","X",null,"A.09.01","Ice cream, ice products","Ice cream","Take-home ice cream","Ice-cream cakes","","","","17270",{"$f":"_xlfn.TEXTJOIN(\"; \",TRUE,ZCDT_EXPORT_2[[#This Row],[Sub-Category]:[Segment 5]])","v":"Ice cream; Take-home ice cream; Ice-cream cakes"}]
["AH","Baltic CDT","U3","03. Dry & Frozen","U3.05","05. Frozen World & Ice Cream","A.09.01","17. Ice cream, ice products","17258","01. Ice cream","17261","02. Take-home ice cream","17271","04. Cocktail ice-cream","","","","","","","X",null,"A.09.01","Ice cream, ice products","Ice cream","Take-home ice cream","Cocktail ice-cream","","","","17271",{"$f":"_xlfn.TEXTJOIN(\"; \",TRUE,ZCDT_EXPORT_2[[#This Row],[Sub-Category]:[Segment 5]])","v":"Ice cream; Take-home ice cream; Cocktail ice-cream"}]
["AH","Baltic CDT","U3","03. Dry & Frozen","U3.05","05. Frozen World & Ice Cream","A.09.01","17. Ice cream, ice products","17258","01. Ice cream","17262","03. Lactose-gluten free ice cream","","","","","","","","","X",null,"A.09.01","Ice cream, ice products","Ice cream","Lactose-gluten free ice cream","","","","","17262",{"$f":"_xlfn.TEXTJOIN(\"; \",TRUE,ZCDT_EXPORT_2[[#This Row],[Sub-Category]:[Segment 5]])","v":"Ice cream; Lactose-gluten free ice cream"}]
["AH","Baltic CDT","U3","03. Dry & Frozen","U3.05","05. Frozen World & Ice Cream","A.09.01","17. Ice cream, ice products","17258","01. Ice cream","19581","04. Free from ice cream","19582","01. Portion ice cream","","","","","","","X",null,"A.09.01","Ice cream, ice products","Ice cream","Free from ice cream","Portion ice cream","","","","19582",{"$f":"_xlfn.TEXTJOIN(\"; \",TRUE,ZCDT_EXPORT_2[[#This Row],[Sub-Category]:[Segment 5]])","v":"Ice cream; Free from ice cream; Portion ice cream"}]
["AH","Baltic CDT","U3","03. Dry & Frozen","U3.05","05. Frozen World & Ice Cream","A.09.01","17. Ice cream, ice products","17258","01. Ice cream","19581","04. Free from ice cream","19583","02. Take-home ice cream","","","","","","","X",null,"A.09.01","Ice cream, ice products","Ice cream","Free from ice cream","Take-home ice cream","","","","19583",{"$f":"_xlfn.TEXTJOIN(\"; \",TRUE,ZCDT_EXPORT_2[[#This Row],[Sub-Category]:[Segment 5]])","v":"Ice cream; Free from ice cream; Take-home ice cream"}]
["AH","Baltic CDT","U3","03. Dry & Frozen","U3.05","05. Frozen World & Ice Cream","A.09.01","17. Ice cream, ice products","17259","02. Ice products","","","","","","","","","","","X",null,"A.09.01","Ice cream, ice products","Ice products","","","","","","17259",{"$f":"_xlfn.TEXTJOIN(\"; \",TRUE,ZCDT_EXPORT_2[[#This Row],[Sub-Category]:[Segment 5]])","v":"Ice products"}]
["AH","Baltic CDT","U4","04. Non-Edibles","U4.01","01. Home, Food & Free Time","D.11.01","01. Audio and video records","18571","01. Films, recorded","18941","01. Regular films","","","","","","","","","X",null,"D.05.01","Home laundry","Pre-treatment","Eco / natural","","","","","16954",{"$f":"_xlfn.TEXTJOIN(\"; \",TRUE,ZCDT_EXPORT_2[[#This Row],[Sub-Category]:[Segment 5]])","v":"Pre-treatment; Eco / natural"}]
["AH","Baltic CDT","U4","04. Non-Edibles","U4.01","01. Home, Food & Free Time","D.11.01","01. Audio and video records","18571","01. Films, recorded","18942","02. Campaign films","","","","","","","","","X",null,"D.05.01","Home laundry","Pre-treatment","Bleaches","","","","","16955",{"$f":"_xlfn.TEXTJOIN(\"; \",TRUE,ZCDT_EXPORT_2[[#This Row],[Sub-Category]:[Segment 5]])","v":"Pre-treatment; Bleaches"}]
["AH","Baltic CDT","U4","04. Non-Edibles","U4.01","01. Home, Food & Free Time","D.11.01","01. Audio and video records","18572","02. Music, recorded","18943","01. Regular music","","","","","","","","","X",null,"D.05.01","Home laundry","Pre-treatment","Stain removers","","","","","16956",{"$f":"_xlfn.TEXTJOIN(\"; \",TRUE,ZCDT_EXPORT_2[[#This Row],[Sub-Category]:[Segment 5]])","v":"Pre-treatment; Stain removers"}]
["AH","Baltic CDT","U4","04. Non-Edibles","U4.01","01. Home, Food & Free Time","D.11.01","01. Audio and video records","18572","02. Music, recorded","18944","02. Campaign music","","","","","","","","","X",null,"D.05.01","Home laundry","Pre-treatment","Watersoftners / anti-calc","","","","","16957",{"$f":"_xlfn.TEXTJOIN(\"; \",TRUE,ZCDT_EXPORT_2[[#This Row],[Sub-Category]:[Segment 5]])","v":"Pre-treatment; Watersoftners / anti-calc"}]
["AH","Baltic CDT","U4","04. Non-Edibles","U4.01","01. Home, Food & Free Time","E.02.01","01. Batteries","9","01. Battery chargers","","","","","","","","","","","X",null,"D.05.01","Home laundry","Pre-treatment","Color catchers","","","","","16958",{"$f":"_xlfn.TEXTJOIN(\"; \",TRUE,ZCDT_EXPORT_2[[#This Row],[Sub-Category]:[Segment 5]])","v":"Pre-treatment; Color catchers"}]
["AH","Baltic CDT","U4","04. Non-Edibles","U4.01","01. Home, Food & Free Time","E.02.01","01. Batteries","10","02. Non-rechargeble batteries","366","01. AA","","","","","","","","","X",null,"D.05.01","Home laundry","Wash","Eco label / natural / alergic skin","Liquid","Perfume","","","16972",{"$f":"_xlfn.TEXTJOIN(\"; \",TRUE,ZCDT_EXPORT_2[[#This Row],[Sub-Category]:[Segment 5]])","v":"Wash; Eco label / natural / alergic skin; Liquid; Perfume"}]
["AH","Baltic CDT","U4","04. Non-Edibles","U4.01","01. Home, Food & Free Time","E.02.01","01. Batteries","10","02. Non-rechargeble batteries","367","02. AAA","","","","","","","","","X",null,"D.05.01","Home laundry","Wash","Eco label / natural / alergic skin","Liquid","Perfume free","","","16973",{"$f":"_xlfn.TEXTJOIN(\"; \",TRUE,ZCDT_EXPORT_2[[#This Row],[Sub-Category]:[Segment 5]])","v":"Wash; Eco label / natural / alergic skin; Liquid; Perfume free"}]
["AH","Baltic CDT","U4","04. Non-Edibles","U4.01","01. Home, Food & Free Time","E.02.01","01. Batteries","10","02. Non-rechargeble batteries","13622","03. C,D,Krona","","","","","","","","","X",null,"D.05.01","Home laundry","Wash","Eco label / natural / alergic skin","Powder","Perfume","","","16974",{"$f":"_xlfn.TEXTJOIN(\"; \",TRUE,ZCDT_EXPORT_2[[#This Row],[Sub-Category]:[Segment 5]])","v":"Wash; Eco label / natural / alergic skin; Powder; Perfume"}]
["AH","Baltic CDT","U4","04. Non-Edibles","U4.01","01. Home, Food & Free Time","E.02.01","01. Batteries","10","02. Non-rechargeble batteries","13623","04. Special batteries/ button cells","","","","","","","","","X",null,"D.05.01","Home laundry","Wash","Eco label / natural / alergic skin","Powder","Perfume free","","","16975",{"$f":"_xlfn.TEXTJOIN(\"; \",TRUE,ZCDT_EXPORT_2[[#This Row],[Sub-Category]:[Segment 5]])","v":"Wash; Eco label / natural / alergic skin; Powder; Perfume free"}]
["AH","Baltic CDT","U4","04. Non-Edibles","U4.01","01. Home, Food & Free Time","E.02.01","01. Batteries","13617","03. Rechargable","","","","","","","","","","","X",null,"D.05.01","Home laundry","Wash","Eco label / natural / alergic skin","Capsules","Perfume","","","16976",{"$f":"_xlfn.TEXTJOIN(\"; \",TRUE,ZCDT_EXPORT_2[[#This Row],[Sub-Category]:[Segment 5]])","v":"Wash; Eco label / natural / alergic skin; Capsules; Perfume"}]
["AH","Baltic CDT","U4","04. Non-Edibles","U4.01","01. Home, Food & Free Time","E.01.01","01. Beauty electronics","2","01. Hair cutting items","5","01. Epilators","13604","01. 220V","","","","","","","X",null,"D.05.01","Home laundry","Wash","Eco label / natural / alergic skin","Capsules","Perfume free","","","16977",{"$f":"_xlfn.TEXTJOIN(\"; \",TRUE,ZCDT_EXPORT_2[[#This Row],[Sub-Category]:[Segment 5]])","v":"Wash; Eco label / natural / alergic skin; Capsules; Perfume free"}]
["AH","Baltic CDT","U4","04. Non-Edibles","U4.01","01. Home, Food & Free Time","E.01.01","01. Beauty electronics","2","01. Hair cutting items","5","01. Epilators","13605","02. Battery","","","","","","","X",null,"D.05.01","Home laundry","Wash","For babies","","","","","16960",{"$f":"_xlfn.TEXTJOIN(\"; \",TRUE,ZCDT_EXPORT_2[[#This Row],[Sub-Category]:[Segment 5]])","v":"Wash; For babies"}]
["AH","Baltic CDT","U4","04. Non-Edibles","U4.01","01. Home, Food & Free Time","E.01.01","01. Beauty electronics","2","01. Hair cutting items","361","02. Shavers","13609","01. 220V","","","","","","","X",null,"D.05.01","Home laundry","Wash","Wash liquid","Colored","","","","16978",{"$f":"_xlfn.TEXTJOIN(\"; \",TRUE,ZCDT_EXPORT_2[[#This Row],[Sub-Category]:[Segment 5]])","v":"Wash; Wash liquid; Colored"}]
["AH","Baltic CDT","U4","04. Non-Edibles","U4.01","01. Home, Food & Free Time","E.01.01","01. Beauty electronics","2","01. Hair cutting items","361","02. Shavers","13610","02. Battery","","","","","","","X",null,"D.05.01","Home laundry","Wash","Wash liquid","White","","","","16979",{"$f":"_xlfn.TEXTJOIN(\"; \",TRUE,ZCDT_EXPORT_2[[#This Row],[Sub-Category]:[Segment 5]])","v":"Wash; Wash liquid; White"}]
["AH","Baltic CDT","U4","04. Non-Edibles","U4.01","01. Home, Food & Free Time","E.01.01","01. Beauty electronics","2","01. Hair cutting items","10759","03. Different hair cutting items","","","","","","","","","X",null,"D.05.01","Home laundry","Wash","Wash liquid","Zero waste","","","","18957",{"$f":"_xlfn.TEXTJOIN(\"; \",TRUE,ZCDT_EXPORT_2[[#This Row],[Sub-Category]:[Segment 5]])","v":"Wash; Wash liquid; Zero waste"}]
["AH","Baltic CDT","U4","04. Non-Edibles","U4.01","01. Home, Food & Free Time","E.01.01","01. Beauty electronics","2","01. Hair cutting items","13568","04. Hair clippers","13607","01. 220V","","","","","","","X",null,"D.05.01","Home laundry","Wash","Liquid capsules","Colored","","","","16980",{"$f":"_xlfn.TEXTJOIN(\"; \",TRUE,ZCDT_EXPORT_2[[#This Row],[Sub-Category]:[Segment 5]])","v":"Wash; Liquid capsules; Colored"}]
["AH","Baltic CDT","U4","04. Non-Edibles","U4.01","01. Home, Food & Free Time","E.01.01","01. Beauty electronics","2","01. Hair cutting items","13568","04. Hair clippers","13608","02. Battery","","","","","","","X",null,"D.05.01","Home laundry","Wash","Liquid capsules","White","","","","16981",{"$f":"_xlfn.TEXTJOIN(\"; \",TRUE,ZCDT_EXPORT_2[[#This Row],[Sub-Category]:[Segment 5]])","v":"Wash; Liquid capsules; White"}]
["AH","Baltic CDT","U4","04. Non-Edibles","U4.01","01. Home, Food & Free Time","E.01.01","01. Beauty electronics","3","02. Hair styling items","362","01. Hair curlers","","","","","","","","","X",null,"D.05.01","Home laundry","Wash","Powder","Colored","","","","16982",{"$f":"_xlfn.TEXTJOIN(\"; \",TRUE,ZCDT_EXPORT_2[[#This Row],[Sub-Category]:[Segment 5]])","v":"Wash; Powder; Colored"}]
["AH","Baltic CDT","U4","04. Non-Edibles","U4.01","01. Home, Food & Free Time","E.01.01","01. Beauty electronics","3","02. Hair styling items","363","02. Hair dryers","","","","","","","","","X",null,"D.05.01","Home laundry","Wash","Powder","White","","","","16983",{"$f":"_xlfn.TEXTJOIN(\"; \",TRUE,ZCDT_EXPORT_2[[#This Row],[Sub-Category]:[Segment 5]])","v":"Wash; Powder; White"}]
["AH","Baltic CDT","U4","04. Non-Edibles","U4.01","01. Home, Food & Free Time","E.01.01","01. Beauty electronics","3","02. Hair styling items","364","03. Hair straighteners","","","","","","","","","X",null,"D.05.01","Home laundry","Wash","Soap bars","","","","","16964",{"$f":"_xlfn.TEXTJOIN(\"; \",TRUE,ZCDT_EXPORT_2[[#This Row],[Sub-Category]:[Segment 5]])","v":"Wash; Soap bars"}]
["AH","Baltic CDT","U4","04. Non-Edibles","U4.01","01. Home, Food & Free Time","E.01.01","01. Beauty electronics","3","02. Hair styling items","13579","04. Multi function hair stylers","","","","","","","","","X",null,"D.05.01","Home laundry","Wash","Special functionality (Down; silk)","","","","","16965",{"$f":"_xlfn.TEXTJOIN(\"; \",TRUE,ZCDT_EXPORT_2[[#This Row],[Sub-Category]:[Segment 5]])","v":"Wash; Special functionality (Down; silk)"}]
["AH","Baltic CDT","U4","04. Non-Edibles","U4.01","01. Home, Food & Free Time","E.01.01","01. Beauty electronics","8","03. Health support items","13584","01. Different health support items","","","","","","","","","X",null,"D.05.01","Home laundry","After-wash","Regular rinses","Perfume","","","","16984",{"$f":"_xlfn.TEXTJOIN(\"; \",TRUE,ZCDT_EXPORT_2[[#This Row],[Sub-Category]:[Segment 5]])","v":"After-wash; Regular rinses; Perfume"}]
["AH","Baltic CDT","U4","04. Non-Edibles","U4.01","01. Home, Food & Free Time","E.01.01","01. Beauty electronics","8","03. Health support items","13587","02. Scales","13611","01. Electric","","","","","","","X",null,"D.05.01","Home laundry","After-wash","Regular rinses","Perfume free","","","","16985",{"$f":"_xlfn.TEXTJOIN(\"; \",TRUE,ZCDT_EXPORT_2[[#This Row],[Sub-Category]:[Segment 5]])","v":"After-wash; Regular rinses; Perfume free"}]
["AH","Baltic CDT","U4","04. Non-Edibles","U4.01","01. Home, Food & Free Time","E.01.01","01. Beauty electronics","8","03. Health support items","13587","02. Scales","13612","02. Analog","","","","","","","X",null,"D.05.01","Home laundry","After-wash","Drying, ironing assistants","","","","","16967",{"$f":"_xlfn.TEXTJOIN(\"; \",TRUE,ZCDT_EXPORT_2[[#This Row],[Sub-Category]:[Segment 5]])","v":"After-wash; Drying, ironing assistants"}]
["AH","Baltic CDT","U4","04. Non-Edibles","U4.01","01. Home, Food & Free Time","E.04.01","01. Candles and home deco","14011","01. Candleholders","14015","01. Candle plates","","","","","","","","","X",null,"D.05.01","Home laundry","After-wash","Eco / natural / rinses","","","","","16968",{"$f":"_xlfn.TEXTJOIN(\"; \",TRUE,ZCDT_EXPORT_2[[#This Row],[Sub-Category]:[Segment 5]])","v":"After-wash; Eco / natural / rinses"}]
["AH","Baltic CDT","U4","04. Non-Edibles","U4.01","01. Home, Food & Free Time","E.04.01","01. Candles and home deco","14011","01. Candleholders","14016","02. Candleholders","","","","","","","","","X",null,"D.05.02","Household cleaning and dishwashing","Dishwashing","Automatic dishwashing detergents","Regular","","","","16398",{"$f":"_xlfn.TEXTJOIN(\"; \",TRUE,ZCDT_EXPORT_2[[#This Row],[Sub-Category]:[Segment 5]])","v":"Dishwashing; Automatic dishwashing detergents; Regular"}]
["AH","Baltic CDT","U4","04. Non-Edibles","U4.01","01. Home, Food & Free Time","E.04.01","01. Candles and home deco","14012","02. Candles","14017","01. Differnt shape candles","14023","01. No scents","","","","","","","X",null,"D.05.02","Household cleaning and dishwashing","Dishwashing","Automatic dishwashing detergents","Eco","","","","16399",{"$f":"_xlfn.TEXTJOIN(\"; \",TRUE,ZCDT_EXPORT_2[[#This Row],[Sub-Category]:[Segment 5]])","v":"Dishwashing; Automatic dishwashing detergents; Eco"}]
["AH","Baltic CDT","U4","04. Non-Edibles","U4.01","01. Home, Food & Free Time","E.04.01","01. Candles and home deco","14012","02. Candles","14017","01. Differnt shape candles","14024","02. Scented","","","","","","","X",null,"D.05.02","Household cleaning and dishwashing","Dishwashing","Hand dishwashing deteregents","Regular","","","","16400",{"$f":"_xlfn.TEXTJOIN(\"; \",TRUE,ZCDT_EXPORT_2[[#This Row],[Sub-Category]:[Segment 5]])","v":"Dishwashing; Hand dishwashing deteregents; Regular"}]
["AH","Baltic CDT","U4","04. Non-Edibles","U4.01","01. Home, Food & Free Time","E.04.01","01. Candles and home deco","14012","02. Candles","14018","02. In glass","14025","01. No scents","","","","","","","X",null,"D.05.02","Household cleaning and dishwashing","Dishwashing","Hand dishwashing deteregents","Eco","","","","16401",{"$f":"_xlfn.TEXTJOIN(\"; \",TRUE,ZCDT_EXPORT_2[[#This Row],[Sub-Category]:[Segment 5]])","v":"Dishwashing; Hand dishwashing deteregents; Eco"}]
["AH","Baltic CDT","U4","04. Non-Edibles","U4.01","01. Home, Food & Free Time","E.04.01","01. Candles and home deco","14012","02. Candles","14018","02. In glass","14026","02. Scented","","","","","","","X",null,"D.05.02","Household cleaning and dishwashing","Dishwashing","Hand dishwashing deteregents","Zero waste","","","","18958",{"$f":"_xlfn.TEXTJOIN(\"; \",TRUE,ZCDT_EXPORT_2[[#This Row],[Sub-Category]:[Segment 5]])","v":"Dishwashing; Hand dishwashing deteregents; Zero waste"}]
["AH","Baltic CDT","U4","04. Non-Edibles","U4.01","01. Home, Food & Free Time","E.04.01","01. Candles and home deco","14012","02. Candles","14019","03. Pillar","14027","01. No scents","","","","","","","X",null,"D.05.02","Household cleaning and dishwashing","Floor cleaning","Regular","","","","","16402",{"$f":"_xlfn.TEXTJOIN(\"; \",TRUE,ZCDT_EXPORT_2[[#This Row],[Sub-Category]:[Segment 5]])","v":"Floor cleaning; Regular"}]
["AH","Baltic CDT","U4","04. Non-Edibles","U4.01","01. Home, Food & Free Time","E.04.01","01. Candles and home deco","14012","02. Candles","14019","03. Pillar","14028","02. Scented","","","","","","","X",null,"D.05.02","Household cleaning and dishwashing","Floor cleaning","Eco","","","","","16403",{"$f":"_xlfn.TEXTJOIN(\"; \",TRUE,ZCDT_EXPORT_2[[#This Row],[Sub-Category]:[Segment 5]])","v":"Floor cleaning; Eco"}]
["AH","Baltic CDT","U4","04. Non-Edibles","U4.01","01. Home, Food & Free Time","E.04.01","01. Candles and home deco","14012","02. Candles","14020","04. Tapper","","","","","","","","","X",null,"D.05.02","Household cleaning and dishwashing","Window cleaning","Regular","","","","","16404",{"$f":"_xlfn.TEXTJOIN(\"; \",TRUE,ZCDT_EXPORT_2[[#This Row],[Sub-Category]:[Segment 5]])","v":"Window cleaning; Regular"}]
["AH","Baltic CDT","U4","04. Non-Edibles","U4.01","01. Home, Food & Free Time","E.04.01","01. Candles and home deco","14012","02. Candles","14021","05. Tealights","14029","01. No scents","","","","","","","X",null,"D.05.02","Household cleaning and dishwashing","Window cleaning","Eco","","","","","16405",{"$f":"_xlfn.TEXTJOIN(\"; \",TRUE,ZCDT_EXPORT_2[[#This Row],[Sub-Category]:[Segment 5]])","v":"Window cleaning; Eco"}]
["AH","Baltic CDT","U4","04. Non-Edibles","U4.01","01. Home, Food & Free Time","E.04.01","01. Candles and home deco","14012","02. Candles","14021","05. Tealights","14030","02. Scented","","","","","","","X",null,"D.05.02","Household cleaning and dishwashing","Kitchen, bathroom, universal cleaner","Regular","","","","","16406",{"$f":"_xlfn.TEXTJOIN(\"; \",TRUE,ZCDT_EXPORT_2[[#This Row],[Sub-Category]:[Segment 5]])","v":"Kitchen, bathroom, universal cleaner; Regular"}]
["AH","Baltic CDT","U4","04. Non-Edibles","U4.01","01. Home, Food & Free Time","E.04.01","01. Candles and home deco","14012","02. Candles","19361","06. Christmas candles","","","","","","","","","X",null,"D.05.02","Household cleaning and dishwashing","Kitchen, bathroom, universal cleaner","Eco","","","","","16407",{"$f":"_xlfn.TEXTJOIN(\"; \",TRUE,ZCDT_EXPORT_2[[#This Row],[Sub-Category]:[Segment 5]])","v":"Kitchen, bathroom, universal cleaner; Eco"}]
["AH","Baltic CDT","U4","04. Non-Edibles","U4.01","01. Home, Food & Free Time","E.04.01","01. Candles and home deco","14012","02. Candles","19357","07. Other seasonal candles","","","","","","","","","X",null,"D.05.02","Household cleaning and dishwashing","Other cleaners","Regular","","","","","16408",{"$f":"_xlfn.TEXTJOIN(\"; \",TRUE,ZCDT_EXPORT_2[[#This Row],[Sub-Category]:[Segment 5]])","v":"Other cleaners; Regular"}]
["AH","Baltic CDT","U4","04. Non-Edibles","U4.01","01. Home, Food & Free Time","E.04.01","01. Candles and home deco","14698","03. Graveyard candles","","","","","","","","","","","X",null,"D.05.02","Household cleaning and dishwashing","Other cleaners","Eco","","","","","16409",{"$f":"_xlfn.TEXTJOIN(\"; \",TRUE,ZCDT_EXPORT_2[[#This Row],[Sub-Category]:[Segment 5]])","v":"Other cleaners; Eco"}]
["AH","Baltic CDT","U4","04. Non-Edibles","U4.01","01. Home, Food & Free Time","E.04.01","01. Candles and home deco","19371","04. Photo and photo acessories","19372","01. Albums","19374","01. Albums for kids","","","","","","","X",null,"D.05.02","Household cleaning and dishwashing","Toilet cleaning","Toilet blocks","","","","","16410",{"$f":"_xlfn.TEXTJOIN(\"; \",TRUE,ZCDT_EXPORT_2[[#This Row],[Sub-Category]:[Segment 5]])","v":"Toilet cleaning; Toilet blocks"}]
["AH","Baltic CDT","U4","04. Non-Edibles","U4.01","01. Home, Food & Free Time","E.04.01","01. Candles and home deco","19371","04. Photo and photo acessories","19372","01. Albums","19375","02. Regular","","","","","","","X",null,"D.05.02","Household cleaning and dishwashing","Toilet cleaning","Toilet cleaners","Regular","","","","16412",{"$f":"_xlfn.TEXTJOIN(\"; \",TRUE,ZCDT_EXPORT_2[[#This Row],[Sub-Category]:[Segment 5]])","v":"Toilet cleaning; Toilet cleaners; Regular"}]
["AH","Baltic CDT","U4","04. Non-Edibles","U4.01","01. Home, Food & Free Time","E.04.01","01. Candles and home deco","19371","04. Photo and photo acessories","19373","02. Frames","","","","","","","","","X",null,"D.05.02","Household cleaning and dishwashing","Toilet cleaning","Toilet cleaners","Eco","","","","16413",{"$f":"_xlfn.TEXTJOIN(\"; \",TRUE,ZCDT_EXPORT_2[[#This Row],[Sub-Category]:[Segment 5]])","v":"Toilet cleaning; Toilet cleaners; Eco"}]
["AH","Baltic CDT","U4","04. Non-Edibles","U4.01","01. Home, Food & Free Time","E.04.01","01. Candles and home deco","14159","05. Interior decorations","","","","","","","","","","","X",null,"D.05.02","Household cleaning and dishwashing","Air refresheners","Electrical","","","","","16394",{"$f":"_xlfn.TEXTJOIN(\"; \",TRUE,ZCDT_EXPORT_2[[#This Row],[Sub-Category]:[Segment 5]])","v":"Air refresheners; Electrical"}]
["AH","Baltic CDT","U4","04. Non-Edibles","U4.01","01. Home, Food & Free Time","E.04.01","01. Candles and home deco","19376","06. Outdoor candles","19377","01. Anti-mosquito candles","","","","","","","","","X",null,"D.05.02","Household cleaning and dishwashing","Air refresheners","Regular","","","","","16395",{"$f":"_xlfn.TEXTJOIN(\"; \",TRUE,ZCDT_EXPORT_2[[#This Row],[Sub-Category]:[Segment 5]])","v":"Air refresheners; Regular"}]
["AH","Baltic CDT","U4","04. Non-Edibles","U4.01","01. Home, Food & Free Time","E.04.01","01. Candles and home deco","19376","06. Outdoor candles","19378","02. Garden candles","","","","","","","","","X",null,"D.05.03","Seasonal homecare","Dehumidifiers and accessories","","","","","","16414",{"$f":"_xlfn.TEXTJOIN(\"; \",TRUE,ZCDT_EXPORT_2[[#This Row],[Sub-Category]:[Segment 5]])","v":"Dehumidifiers and accessories"}]
["AH","Baltic CDT","U4","04. Non-Edibles","U4.01","01. Home, Food & Free Time","E.04.01","01. Candles and home deco","18704","07. Artificial flowers","","","","","","","","","","","X",null,"D.05.03","Seasonal homecare","Glues","","","","","","16415",{"$f":"_xlfn.TEXTJOIN(\"; \",TRUE,ZCDT_EXPORT_2[[#This Row],[Sub-Category]:[Segment 5]])","v":"Glues"}]
["AH","Baltic CDT","U4","04. Non-Edibles","U4.01","01. Home, Food & Free Time","E.04.01","01. Candles and home deco","14013","08. Incenses","14031","01. Diffusers","","","","","","","","","X",null,"D.05.03","Seasonal homecare","Repellents","Mosquito repellents","","","","","16418",{"$f":"_xlfn.TEXTJOIN(\"; \",TRUE,ZCDT_EXPORT_2[[#This Row],[Sub-Category]:[Segment 5]])","v":"Repellents; Mosquito repellents"}]
["AH","Baltic CDT","U4","04. Non-Edibles","U4.01","01. Home, Food & Free Time","E.04.01","01. Candles and home deco","14013","08. Incenses","14032","02. Holders","14039","01. Inscense stick holders","","","","","","","X",null,"D.05.03","Seasonal homecare","Repellents","Insecticides","","","","","16419",{"$f":"_xlfn.TEXTJOIN(\"; \",TRUE,ZCDT_EXPORT_2[[#This Row],[Sub-Category]:[Segment 5]])","v":"Repellents; Insecticides"}]
["AH","Baltic CDT","U4","04. Non-Edibles","U4.01","01. Home, Food & Free Time","E.04.01","01. Candles and home deco","14013","08. Incenses","14032","02. Holders","14040","02. Scented Oil and tabs holders","","","","","","","X",null,"D.05.03","Seasonal homecare","Shoe care","Accessories","Shoe insoles","","","","16422",{"$f":"_xlfn.TEXTJOIN(\"; \",TRUE,ZCDT_EXPORT_2[[#This Row],[Sub-Category]:[Segment 5]])","v":"Shoe care; Accessories; Shoe insoles"}]
["AH","Baltic CDT","U4","04. Non-Edibles","U4.01","01. Home, Food & Free Time","E.04.01","01. Candles and home deco","14013","08. Incenses","14033","03. Inscense sticks","","","","","","","","","X",null,"D.05.03","Seasonal homecare","Shoe care","Accessories","Shoe laces / accessories","","","","16423",{"$f":"_xlfn.TEXTJOIN(\"; \",TRUE,ZCDT_EXPORT_2[[#This Row],[Sub-Category]:[Segment 5]])","v":"Shoe care; Accessories; Shoe laces / accessories"}]
["AH","Baltic CDT","U4","04. Non-Edibles","U4.01","01. Home, Food & Free Time","E.04.01","01. Candles and home deco","14013","08. Incenses","14035","04. Scented oils","","","","","","","","","X",null,"D.05.03","Seasonal homecare","Shoe care","Protective products","Shoe sponge","","","","16424",{"$f":"_xlfn.TEXTJOIN(\"; \",TRUE,ZCDT_EXPORT_2[[#This Row],[Sub-Category]:[Segment 5]])","v":"Shoe care; Protective products; Shoe sponge"}]
["AH","Baltic CDT","U4","04. Non-Edibles","U4.01","01. Home, Food & Free Time","E.04.01","01. Candles and home deco","14013","08. Incenses","14036","05. Scented tabs","","","","","","","","","X",null,"D.05.03","Seasonal homecare","Shoe care","Protective products","Creams","","","","19106",{"$f":"_xlfn.TEXTJOIN(\"; \",TRUE,ZCDT_EXPORT_2[[#This Row],[Sub-Category]:[Segment 5]])","v":"Shoe care; Protective products; Creams"}]
["AH","Baltic CDT","U4","04. Non-Edibles","U4.01","01. Home, Food & Free Time","E.06.01","01. Disposable tableware","14295","01. Disposable cups & glasses","14303","01. Cups","","","","","","","","","X",null,"D.05.03","Seasonal homecare","Shoe care","Protective products","Deodorants","","","","19107",{"$f":"_xlfn.TEXTJOIN(\"; \",TRUE,ZCDT_EXPORT_2[[#This Row],[Sub-Category]:[Segment 5]])","v":"Shoe care; Protective products; Deodorants"}]
["AH","Baltic CDT","U4","04. Non-Edibles","U4.01","01. Home, Food & Free Time","E.06.01","01. Disposable tableware","14295","01. Disposable cups & glasses","14304","02. Glasses","","","","","","","","","X",null,"D.05.03","Seasonal homecare","Shoe care","Protective products","Special protective products","","","","19108",{"$f":"_xlfn.TEXTJOIN(\"; \",TRUE,ZCDT_EXPORT_2[[#This Row],[Sub-Category]:[Segment 5]])","v":"Shoe care; Protective products; Special protective products"}]
["AH","Baltic CDT","U4","04. Non-Edibles","U4.01","01. Home, Food & Free Time","E.06.01","01. Disposable tableware","14296","02. Disposable cutlery","14305","01. Assorted cutlery sets","","","","","","","","","X",null,"D.08.02","Partner services","Gift cards","","","","","","16384",{"$f":"_xlfn.TEXTJOIN(\"; \",TRUE,ZCDT_EXPORT_2[[#This Row],[Sub-Category]:[Segment 5]])","v":"Gift cards"}]
["AH","Baltic CDT","U4","04. Non-Edibles","U4.01","01. Home, Food & Free Time","E.06.01","01. Disposable tableware","14296","02. Disposable cutlery","14306","02. Forks","","","","","","","","","X",null,"D.08.02","Partner services","Lottery tickets","Instant","","","","","18918",{"$f":"_xlfn.TEXTJOIN(\"; \",TRUE,ZCDT_EXPORT_2[[#This Row],[Sub-Category]:[Segment 5]])","v":"Lottery tickets; Instant"}]
["AH","Baltic CDT","U4","04. Non-Edibles","U4.01","01. Home, Food & Free Time","E.06.01","01. Disposable tableware","14296","02. Disposable cutlery","14845","03. Knifes","","","","","","","","","X",null,"D.08.02","Partner services","Lottery tickets","Terminal","","","","","18919",{"$f":"_xlfn.TEXTJOIN(\"; \",TRUE,ZCDT_EXPORT_2[[#This Row],[Sub-Category]:[Segment 5]])","v":"Lottery tickets; Terminal"}]
["AH","Baltic CDT","U4","04. Non-Edibles","U4.01","01. Home, Food & Free Time","E.06.01","01. Disposable tableware","14296","02. Disposable cutlery","14846","04. Spoons","","","","","","","","","X",null,"D.08.02","Partner services","GSM","GSM prepaid","","","","","18921",{"$f":"_xlfn.TEXTJOIN(\"; \",TRUE,ZCDT_EXPORT_2[[#This Row],[Sub-Category]:[Segment 5]])","v":"GSM; GSM prepaid"}]
["AH","Baltic CDT","U4","04. Non-Edibles","U4.01","01. Home, Food & Free Time","E.06.01","01. Disposable tableware","14297","03. Disposable plates","14310","01. Plate","","","","","","","","","X",null,"D.08.02","Partner services","GSM","GSM refill","","","","","18922",{"$f":"_xlfn.TEXTJOIN(\"; \",TRUE,ZCDT_EXPORT_2[[#This Row],[Sub-Category]:[Segment 5]])","v":"GSM; GSM refill"}]
["AH","Baltic CDT","U4","04. Non-Edibles","U4.01","01. Home, Food & Free Time","E.06.01","01. Disposable tableware","14297","03. Disposable plates","14847","03. Serving plate","","","","","","","","","X",null,"D.08.02","Partner services","Transport tickets","Cards","","","","","18924",{"$f":"_xlfn.TEXTJOIN(\"; \",TRUE,ZCDT_EXPORT_2[[#This Row],[Sub-Category]:[Segment 5]])","v":"Transport tickets; Cards"}]
["AH","Baltic CDT","U4","04. Non-Edibles","U4.01","01. Home, Food & Free Time","E.06.01","01. Disposable tableware","14297","03. Disposable plates","14848","04. Bowl","","","","","","","","","X",null,"D.08.02","Partner services","Transport tickets","Tickets refill, day","","","","","18926",{"$f":"_xlfn.TEXTJOIN(\"; \",TRUE,ZCDT_EXPORT_2[[#This Row],[Sub-Category]:[Segment 5]])","v":"Transport tickets; Tickets refill, day"}]
["AH","Baltic CDT","U4","04. Non-Edibles","U4.01","01. Home, Food & Free Time","E.06.01","01. Disposable tableware","14298","04. Disposable tableware sets","","","","","","","","","","","X",null,"D.08.02","Partner services","Transport tickets","Tickets refill, minutes","","","","","18925",{"$f":"_xlfn.TEXTJOIN(\"; \",TRUE,ZCDT_EXPORT_2[[#This Row],[Sub-Category]:[Segment 5]])","v":"Transport tickets; Tickets refill, minutes"}]
["AH","Baltic CDT","U4","04. Non-Edibles","U4.01","01. Home, Food & Free Time","E.04.02","02. Car accessories and chemicals","14041","01. Car accessories","14043","01. Car bulbs","","","","","","","","","X",null,"D.08.02","Partner services","Transport tickets","Tickets refill, month","","","","","18927",{"$f":"_xlfn.TEXTJOIN(\"; \",TRUE,ZCDT_EXPORT_2[[#This Row],[Sub-Category]:[Segment 5]])","v":"Transport tickets; Tickets refill, month"}]
["AH","Baltic CDT","U4","04. Non-Edibles","U4.01","01. Home, Food & Free Time","E.04.02","02. Car accessories and chemicals","14041","01. Car accessories","14044","02. Car fragrances","14050","01. bags","","","","","","","X",null,"D.11.01","Audio and video records","Films, recorded","Regular films","","","","","18941",{"$f":"_xlfn.TEXTJOIN(\"; \",TRUE,ZCDT_EXPORT_2[[#This Row],[Sub-Category]:[Segment 5]])","v":"Films, recorded; Regular films"}]
["AH","Baltic CDT","U4","04. Non-Edibles","U4.01","01. Home, Food & Free Time","E.04.02","02. Car accessories and chemicals","14041","01. Car accessories","14044","02. Car fragrances","14051","02. dry","","","","","","","X",null,"D.11.01","Audio and video records","Films, recorded","Campaign films","","","","","18942",{"$f":"_xlfn.TEXTJOIN(\"; \",TRUE,ZCDT_EXPORT_2[[#This Row],[Sub-Category]:[Segment 5]])","v":"Films, recorded; Campaign films"}]
["AH","Baltic CDT","U4","04. Non-Edibles","U4.01","01. Home, Food & Free Time","E.04.02","02. Car accessories and chemicals","14041","01. Car accessories","14044","02. Car fragrances","14052","03. wet","","","","","","","X",null,"D.11.01","Audio and video records","Music, recorded","Regular music","","","","","18943",{"$f":"_xlfn.TEXTJOIN(\"; \",TRUE,ZCDT_EXPORT_2[[#This Row],[Sub-Category]:[Segment 5]])","v":"Music, recorded; Regular music"}]
["AH","Baltic CDT","U4","04. Non-Edibles","U4.01","01. Home, Food & Free Time","E.04.02","02. Car accessories and chemicals","14041","01. Car accessories","14045","03. Car interior accesories","14054","01. Carpets","","","","","","","X",null,"D.11.01","Audio and video records","Music, recorded","Campaign music","","","","","18944",{"$f":"_xlfn.TEXTJOIN(\"; \",TRUE,ZCDT_EXPORT_2[[#This Row],[Sub-Category]:[Segment 5]])","v":"Music, recorded; Campaign music"}]
["AH","Baltic CDT","U4","04. Non-Edibles","U4.01","01. Home, Food & Free Time","E.04.02","02. Car accessories and chemicals","14041","01. Car accessories","14045","03. Car interior accesories","14055","02. Children Car Seats","","","","","","","X",null,"D.11.02","National souvenirs","Badge, Magnets, Key chains","","","","","","18584",{"$f":"_xlfn.TEXTJOIN(\"; \",TRUE,ZCDT_EXPORT_2[[#This Row],[Sub-Category]:[Segment 5]])","v":"Badge, Magnets, Key chains"}]
["AH","Baltic CDT","U4","04. Non-Edibles","U4.01","01. Home, Food & Free Time","E.04.02","02. Car accessories and chemicals","14041","01. Car accessories","14045","03. Car interior accesories","14056","03. Seat Covers","","","","","","","X",null,"D.11.02","National souvenirs","Fan atributes, Textiles","","","","","","18582",{"$f":"_xlfn.TEXTJOIN(\"; \",TRUE,ZCDT_EXPORT_2[[#This Row],[Sub-Category]:[Segment 5]])","v":"Fan atributes, Textiles"}]
["AH","Baltic CDT","U4","04. Non-Edibles","U4.01","01. Home, Food & Free Time","E.04.02","02. Car accessories and chemicals","14041","01. Car accessories","14045","03. Car interior accesories","14057","04. Sunscreens","","","","","","","X",null,"D.11.02","National souvenirs","Ceramics/glass","","","","","","18821",{"$f":"_xlfn.TEXTJOIN(\"; \",TRUE,ZCDT_EXPORT_2[[#This Row],[Sub-Category]:[Segment 5]])","v":"Ceramics/glass"}]
["AH","Baltic CDT","U4","04. Non-Edibles","U4.01","01. Home, Food & Free Time","E.04.02","02. Car accessories and chemicals","14041","01. Car accessories","14046","04. Car tools and  accesories","","","","","","","","","X",null,"D.11.02","National souvenirs","Local National attributes/gifts","","","","","","18585",{"$f":"_xlfn.TEXTJOIN(\"; \",TRUE,ZCDT_EXPORT_2[[#This Row],[Sub-Category]:[Segment 5]])","v":"Local National attributes/gifts"}]
["AH","Baltic CDT","U4","04. Non-Edibles","U4.01","01. Home, Food & Free Time","E.04.02","02. Car accessories and chemicals","14041","01. Car accessories","14047","05. Snow brushes and ice scrappers","","","","","","","","","X",null,"D.11.02","National souvenirs","Flags, bunting","","","","","","18583",{"$f":"_xlfn.TEXTJOIN(\"; \",TRUE,ZCDT_EXPORT_2[[#This Row],[Sub-Category]:[Segment 5]])","v":"Flags, bunting"}]
["AH","Baltic CDT","U4","04. Non-Edibles","U4.01","01. Home, Food & Free Time","E.04.02","02. Car accessories and chemicals","14041","01. Car accessories","14048","06. Wiper Blades","","","","","","","","","X",null,"E.01.01","Beauty electronics","Hair cutting items","Epilators","220V","","","","13604",{"$f":"_xlfn.TEXTJOIN(\"; \",TRUE,ZCDT_EXPORT_2[[#This Row],[Sub-Category]:[Segment 5]])","v":"Hair cutting items; Epilators; 220V"}]
["AH","Baltic CDT","U4","04. Non-Edibles","U4.01","01. Home, Food & Free Time","E.04.02","02. Car accessories and chemicals","14042","02. Car chemical","14059","01. Car addatives","","","","","","","","","X",null,"E.01.01","Beauty electronics","Hair cutting items","Epilators","Battery","","","","13605",{"$f":"_xlfn.TEXTJOIN(\"; \",TRUE,ZCDT_EXPORT_2[[#This Row],[Sub-Category]:[Segment 5]])","v":"Hair cutting items; Epilators; Battery"}]
["AH","Baltic CDT","U4","04. Non-Edibles","U4.01","01. Home, Food & Free Time","E.04.02","02. Car accessories and chemicals","14042","02. Car chemical","14060","02. Car cleaning assortment","14066","01. Glass cleaners","","","","","","","X",null,"E.01.01","Beauty electronics","Hair cutting items","Shavers","220V","","","","13609",{"$f":"_xlfn.TEXTJOIN(\"; \",TRUE,ZCDT_EXPORT_2[[#This Row],[Sub-Category]:[Segment 5]])","v":"Hair cutting items; Shavers; 220V"}]
["AH","Baltic CDT","U4","04. Non-Edibles","U4.01","01. Home, Food & Free Time","E.04.02","02. Car accessories and chemicals","14042","02. Car chemical","14060","02. Car cleaning assortment","14067","02. Panel cocpits","","","","","","","X",null,"E.01.01","Beauty electronics","Hair cutting items","Shavers","Battery","","","","13610",{"$f":"_xlfn.TEXTJOIN(\"; \",TRUE,ZCDT_EXPORT_2[[#This Row],[Sub-Category]:[Segment 5]])","v":"Hair cutting items; Shavers; Battery"}]
["AH","Baltic CDT","U4","04. Non-Edibles","U4.01","01. Home, Food & Free Time","E.04.02","02. Car accessories and chemicals","14042","02. Car chemical","14060","02. Car cleaning assortment","14068","03. Shampoo","","","","","","","X",null,"E.01.01","Beauty electronics","Hair cutting items","Different hair cutting items","","","","","10759",{"$f":"_xlfn.TEXTJOIN(\"; \",TRUE,ZCDT_EXPORT_2[[#This Row],[Sub-Category]:[Segment 5]])","v":"Hair cutting items; Different hair cutting items"}]
["AH","Baltic CDT","U4","04. Non-Edibles","U4.01","01. Home, Food & Free Time","E.04.02","02. Car accessories and chemicals","14042","02. Car chemical","14060","02. Car cleaning assortment","14069","04. Shampoo with wax","","","","","","","X",null,"E.01.01","Beauty electronics","Hair cutting items","Hair clippers","220V","","","","13607",{"$f":"_xlfn.TEXTJOIN(\"; \",TRUE,ZCDT_EXPORT_2[[#This Row],[Sub-Category]:[Segment 5]])","v":"Hair cutting items; Hair clippers; 220V"}]
["AH","Baltic CDT","U4","04. Non-Edibles","U4.01","01. Home, Food & Free Time","E.04.02","02. Car accessories and chemicals","14042","02. Car chemical","14060","02. Car cleaning assortment","14070","05. Tire cleaners","","","","","","","X",null,"E.01.01","Beauty electronics","Hair cutting items","Hair clippers","Battery","","","","13608",{"$f":"_xlfn.TEXTJOIN(\"; \",TRUE,ZCDT_EXPORT_2[[#This Row],[Sub-Category]:[Segment 5]])","v":"Hair cutting items; Hair clippers; Battery"}]
["AH","Baltic CDT","U4","04. Non-Edibles","U4.01","01. Home, Food & Free Time","E.04.02","02. Car accessories and chemicals","14042","02. Car chemical","14060","02. Car cleaning assortment","14071","06. Universal cloth and sponges","","","","","","","X",null,"E.01.01","Beauty electronics","Hair styling items","Hair curlers","","","","","362",{"$f":"_xlfn.TEXTJOIN(\"; \",TRUE,ZCDT_EXPORT_2[[#This Row],[Sub-Category]:[Segment 5]])","v":"Hair styling items; Hair curlers"}]
["AH","Baltic CDT","U4","04. Non-Edibles","U4.01","01. Home, Food & Free Time","E.04.02","02. Car accessories and chemicals","14042","02. Car chemical","14060","02. Car cleaning assortment","14072","07. Upholstery and carpet cleaniners","","","","","","","X",null,"E.01.01","Beauty electronics","Hair styling items","Hair dryers","","","","","363",{"$f":"_xlfn.TEXTJOIN(\"; \",TRUE,ZCDT_EXPORT_2[[#This Row],[Sub-Category]:[Segment 5]])","v":"Hair styling items; Hair dryers"}]
["AH","Baltic CDT","U4","04. Non-Edibles","U4.01","01. Home, Food & Free Time","E.04.02","02. Car accessories and chemicals","14042","02. Car chemical","14060","02. Car cleaning assortment","14073","08. Wax","","","","","","","X",null,"E.01.01","Beauty electronics","Hair styling items","Hair straighteners","","","","","364",{"$f":"_xlfn.TEXTJOIN(\"; \",TRUE,ZCDT_EXPORT_2[[#This Row],[Sub-Category]:[Segment 5]])","v":"Hair styling items; Hair straighteners"}]
["AH","Baltic CDT","U4","04. Non-Edibles","U4.01","01. Home, Food & Free Time","E.04.02","02. Car accessories and chemicals","14042","02. Car chemical","14061","03. Car exterior accesories","","","","","","","","","X",null,"E.01.01","Beauty electronics","Hair styling items","Multi function hair stylers","","","","","13579",{"$f":"_xlfn.TEXTJOIN(\"; \",TRUE,ZCDT_EXPORT_2[[#This Row],[Sub-Category]:[Segment 5]])","v":"Hair styling items; Multi function hair stylers"}]
["AH","Baltic CDT","U4","04. Non-Edibles","U4.01","01. Home, Food & Free Time","E.04.02","02. Car accessories and chemicals","14042","02. Car chemical","14062","04. Car interior accesories","","","","","","","","","X",null,"E.01.01","Beauty electronics","Health support items","Different health support items","","","","","13584",{"$f":"_xlfn.TEXTJOIN(\"; \",TRUE,ZCDT_EXPORT_2[[#This Row],[Sub-Category]:[Segment 5]])","v":"Health support items; Different health support items"}]
["AH","Baltic CDT","U4","04. Non-Edibles","U4.01","01. Home, Food & Free Time","E.04.02","02. Car accessories and chemicals","14042","02. Car chemical","14063","05. Car liquids","14075","01. Antifreeze","","","","","","","X",null,"E.01.01","Beauty electronics","Health support items","Scales","Electric","","","","13611",{"$f":"_xlfn.TEXTJOIN(\"; \",TRUE,ZCDT_EXPORT_2[[#This Row],[Sub-Category]:[Segment 5]])","v":"Health support items; Scales; Electric"}]
["AH","Baltic CDT","U4","04. Non-Edibles","U4.01","01. Home, Food & Free Time","E.04.02","02. Car accessories and chemicals","14042","02. Car chemical","14063","05. Car liquids","14076","02. Break liquid","","","","","","","X",null,"E.01.01","Beauty electronics","Health support items","Scales","Analog","","","","13612",{"$f":"_xlfn.TEXTJOIN(\"; \",TRUE,ZCDT_EXPORT_2[[#This Row],[Sub-Category]:[Segment 5]])","v":"Health support items; Scales; Analog"}]
["AH","Baltic CDT","U4","04. Non-Edibles","U4.01","01. Home, Food & Free Time","E.04.02","02. Car accessories and chemicals","14042","02. Car chemical","14063","05. Car liquids","14077","03. Distillate water and other liquids","","","","","","","X",null,"E.02.01","Batteries","Battery chargers","","","","","","9",{"$f":"_xlfn.TEXTJOIN(\"; \",TRUE,ZCDT_EXPORT_2[[#This Row],[Sub-Category]:[Segment 5]])","v":"Battery chargers"}]
["AH","Baltic CDT","U4","04. Non-Edibles","U4.01","01. Home, Food & Free Time","E.04.02","02. Car accessories and chemicals","14042","02. Car chemical","14063","05. Car liquids","14078","04. Windscreen liquid","14080","01. summer","","","","","X",null,"E.02.01","Batteries","Non-rechargeble batteries","AA","","","","","366",{"$f":"_xlfn.TEXTJOIN(\"; \",TRUE,ZCDT_EXPORT_2[[#This Row],[Sub-Category]:[Segment 5]])","v":"Non-rechargeble batteries; AA"}]
["AH","Baltic CDT","U4","04. Non-Edibles","U4.01","01. Home, Food & Free Time","E.04.02","02. Car accessories and chemicals","14042","02. Car chemical","14063","05. Car liquids","14078","04. Windscreen liquid","14081","02. winter","","","","","X",null,"E.02.01","Batteries","Non-rechargeble batteries","AAA","","","","","367",{"$f":"_xlfn.TEXTJOIN(\"; \",TRUE,ZCDT_EXPORT_2[[#This Row],[Sub-Category]:[Segment 5]])","v":"Non-rechargeble batteries; AAA"}]
["AH","Baltic CDT","U4","04. Non-Edibles","U4.01","01. Home, Food & Free Time","E.04.02","02. Car accessories and chemicals","14042","02. Car chemical","14064","06. Car oils","14082","01. Chain oil","","","","","","","X",null,"E.02.01","Batteries","Non-rechargeble batteries","C,D,Krona","","","","","13622",{"$f":"_xlfn.TEXTJOIN(\"; \",TRUE,ZCDT_EXPORT_2[[#This Row],[Sub-Category]:[Segment 5]])","v":"Non-rechargeble batteries; C,D,Krona"}]
["AH","Baltic CDT","U4","04. Non-Edibles","U4.01","01. Home, Food & Free Time","E.04.02","02. Car accessories and chemicals","14042","02. Car chemical","14064","06. Car oils","14083","02. Mineral oil","","","","","","","X",null,"E.02.01","Batteries","Non-rechargeble batteries","Special batteries/ button cells","","","","","13623",{"$f":"_xlfn.TEXTJOIN(\"; \",TRUE,ZCDT_EXPORT_2[[#This Row],[Sub-Category]:[Segment 5]])","v":"Non-rechargeble batteries; Special batteries/ button cells"}]
["AH","Baltic CDT","U4","04. Non-Edibles","U4.01","01. Home, Food & Free Time","E.04.02","02. Car accessories and chemicals","14042","02. Car chemical","14064","06. Car oils","14084","03. Power steering oil","","","","","","","X",null,"E.02.01","Batteries","Rechargable","","","","","","13617",{"$f":"_xlfn.TEXTJOIN(\"; \",TRUE,ZCDT_EXPORT_2[[#This Row],[Sub-Category]:[Segment 5]])","v":"Rechargable"}]
["AH","Baltic CDT","U4","04. Non-Edibles","U4.01","01. Home, Food & Free Time","E.04.02","02. Car accessories and chemicals","14042","02. Car chemical","14064","06. Car oils","14085","04. Semisintetic","","","","","","","X",null,"E.02.02","Consumer electronics","Blank digital media","Blank computer recordings","","","","","13626",{"$f":"_xlfn.TEXTJOIN(\"; \",TRUE,ZCDT_EXPORT_2[[#This Row],[Sub-Category]:[Segment 5]])","v":"Blank digital media; Blank computer recordings"}]
["AH","Baltic CDT","U4","04. Non-Edibles","U4.01","01. Home, Food & Free Time","E.04.02","02. Car accessories and chemicals","14042","02. Car chemical","14064","06. Car oils","14086","05. Sintetic","","","","","","","X",null,"E.02.02","Consumer electronics","Blank digital media","Memory cards and sticks","Flash drives","","","","13703",{"$f":"_xlfn.TEXTJOIN(\"; \",TRUE,ZCDT_EXPORT_2[[#This Row],[Sub-Category]:[Segment 5]])","v":"Blank digital media; Memory cards and sticks; Flash drives"}]
["AH","Baltic CDT","U4","04. Non-Edibles","U4.01","01. Home, Food & Free Time","E.02.02","02. Consumer electronics","11","01. Blank digital media","13626","01. Blank computer recordings","","","","","","","","","X",null,"E.02.02","Consumer electronics","Blank digital media","Memory cards and sticks","SD cards","","","","13704",{"$f":"_xlfn.TEXTJOIN(\"; \",TRUE,ZCDT_EXPORT_2[[#This Row],[Sub-Category]:[Segment 5]])","v":"Blank digital media; Memory cards and sticks; SD cards"}]
["AH","Baltic CDT","U4","04. Non-Edibles","U4.01","01. Home, Food & Free Time","E.02.02","02. Consumer electronics","11","01. Blank digital media","13627","02. Memory cards and sticks","13703","01. Flash drives","","","","","","","X",null,"E.02.02","Consumer electronics","Blank digital media","Memory cards and sticks","Other","","","","18211",{"$f":"_xlfn.TEXTJOIN(\"; \",TRUE,ZCDT_EXPORT_2[[#This Row],[Sub-Category]:[Segment 5]])","v":"Blank digital media; Memory cards and sticks; Other"}]
["AH","Baltic CDT","U4","04. Non-Edibles","U4.01","01. Home, Food & Free Time","E.02.02","02. Consumer electronics","11","01. Blank digital media","13627","02. Memory cards and sticks","13704","02. SD cards","","","","","","","X",null,"E.02.02","Consumer electronics","Cables and connent","Cables","","","","","13628",{"$f":"_xlfn.TEXTJOIN(\"; \",TRUE,ZCDT_EXPORT_2[[#This Row],[Sub-Category]:[Segment 5]])","v":"Cables and connent; Cables"}]
["AH","Baltic CDT","U4","04. Non-Edibles","U4.01","01. Home, Food & Free Time","E.02.02","02. Consumer electronics","11","01. Blank digital media","13627","02. Memory cards and sticks","18211","03. Other","","","","","","","X",null,"E.02.02","Consumer electronics","Cables and connent","Remote controls","","","","","13629",{"$f":"_xlfn.TEXTJOIN(\"; \",TRUE,ZCDT_EXPORT_2[[#This Row],[Sub-Category]:[Segment 5]])","v":"Cables and connent; Remote controls"}]
["AH","Baltic CDT","U4","04. Non-Edibles","U4.01","01. Home, Food & Free Time","E.02.02","02. Consumer electronics","12","02. Cables and connent","13628","01. Cables","","","","","","","","","X",null,"E.02.02","Consumer electronics","Cables and connent","Wall chargers","","","","","18212",{"$f":"_xlfn.TEXTJOIN(\"; \",TRUE,ZCDT_EXPORT_2[[#This Row],[Sub-Category]:[Segment 5]])","v":"Cables and connent; Wall chargers"}]
["AH","Baltic CDT","U4","04. Non-Edibles","U4.01","01. Home, Food & Free Time","E.02.02","02. Consumer electronics","12","02. Cables and connent","13629","02. Remote controls","","","","","","","","","X",null,"E.02.02","Consumer electronics","Cables and connent","Power banks","","","","","18213",{"$f":"_xlfn.TEXTJOIN(\"; \",TRUE,ZCDT_EXPORT_2[[#This Row],[Sub-Category]:[Segment 5]])","v":"Cables and connent; Power banks"}]
["AH","Baltic CDT","U4","04. Non-Edibles","U4.01","01. Home, Food & Free Time","E.02.02","02. Consumer electronics","12","02. Cables and connent","18212","03. Wall chargers","","","","","","","","","X",null,"E.02.02","Consumer electronics","Different home electronics","Clocks","","","","","13630",{"$f":"_xlfn.TEXTJOIN(\"; \",TRUE,ZCDT_EXPORT_2[[#This Row],[Sub-Category]:[Segment 5]])","v":"Different home electronics; Clocks"}]
["AH","Baltic CDT","U4","04. Non-Edibles","U4.01","01. Home, Food & Free Time","E.02.02","02. Consumer electronics","12","02. Cables and connent","18213","04. Power banks","","","","","","","","","X",null,"E.02.02","Consumer electronics","Different home electronics","Radio","","","","","13631",{"$f":"_xlfn.TEXTJOIN(\"; \",TRUE,ZCDT_EXPORT_2[[#This Row],[Sub-Category]:[Segment 5]])","v":"Different home electronics; Radio"}]
["AH","Baltic CDT","U4","04. Non-Edibles","U4.01","01. Home, Food & Free Time","E.02.02","02. Consumer electronics","13","03. Different home electronics","13630","01. Clocks","","","","","","","","","X",null,"E.02.02","Consumer electronics","Different home electronics","Cameras","","","","","18214",{"$f":"_xlfn.TEXTJOIN(\"; \",TRUE,ZCDT_EXPORT_2[[#This Row],[Sub-Category]:[Segment 5]])","v":"Different home electronics; Cameras"}]
["AH","Baltic CDT","U4","04. Non-Edibles","U4.01","01. Home, Food & Free Time","E.02.02","02. Consumer electronics","13","03. Different home electronics","13631","02. Radio","","","","","","","","","X",null,"E.02.02","Consumer electronics","Different home electronics","Remote controls","","","","","18215",{"$f":"_xlfn.TEXTJOIN(\"; \",TRUE,ZCDT_EXPORT_2[[#This Row],[Sub-Category]:[Segment 5]])","v":"Different home electronics; Remote controls"}]
["AH","Baltic CDT","U4","04. Non-Edibles","U4.01","01. Home, Food & Free Time","E.02.02","02. Consumer electronics","13","03. Different home electronics","18214","03. Cameras","","","","","","","","","X",null,"E.02.02","Consumer electronics","Different home electronics","Tablets and accessories","Tablets","","","","18220",{"$f":"_xlfn.TEXTJOIN(\"; \",TRUE,ZCDT_EXPORT_2[[#This Row],[Sub-Category]:[Segment 5]])","v":"Different home electronics; Tablets and accessories; Tablets"}]
["AH","Baltic CDT","U4","04. Non-Edibles","U4.01","01. Home, Food & Free Time","E.02.02","02. Consumer electronics","13","03. Different home electronics","18215","04. Remote controls","","","","","","","","","X",null,"E.02.02","Consumer electronics","Different home electronics","Tablets and accessories","Accesories for tablets","","","","18221",{"$f":"_xlfn.TEXTJOIN(\"; \",TRUE,ZCDT_EXPORT_2[[#This Row],[Sub-Category]:[Segment 5]])","v":"Different home electronics; Tablets and accessories; Accesories for tablets"}]
["AH","Baltic CDT","U4","04. Non-Edibles","U4.01","01. Home, Food & Free Time","E.02.02","02. Consumer electronics","13","03. Different home electronics","18216","05. Tablets and accessories","18220","01. Tablets","","","","","","","X",null,"E.02.02","Consumer electronics","Different home electronics","Activity trackers","","","","","18217",{"$f":"_xlfn.TEXTJOIN(\"; \",TRUE,ZCDT_EXPORT_2[[#This Row],[Sub-Category]:[Segment 5]])","v":"Different home electronics; Activity trackers"}]
["AH","Baltic CDT","U4","04. Non-Edibles","U4.01","01. Home, Food & Free Time","E.02.02","02. Consumer electronics","13","03. Different home electronics","18216","05. Tablets and accessories","18221","02. Accesories for tablets","","","","","","","X",null,"E.02.02","Consumer electronics","Different home electronics","Virtual reality glasses","","","","","18218",{"$f":"_xlfn.TEXTJOIN(\"; \",TRUE,ZCDT_EXPORT_2[[#This Row],[Sub-Category]:[Segment 5]])","v":"Different home electronics; Virtual reality glasses"}]
["AH","Baltic CDT","U4","04. Non-Edibles","U4.01","01. Home, Food & Free Time","E.02.02","02. Consumer electronics","13","03. Different home electronics","18217","06. Activity trackers","","","","","","","","","X",null,"E.02.02","Consumer electronics","Different home electronics","Other","","","","","18219",{"$f":"_xlfn.TEXTJOIN(\"; \",TRUE,ZCDT_EXPORT_2[[#This Row],[Sub-Category]:[Segment 5]])","v":"Different home electronics; Other"}]
["AH","Baltic CDT","U4","04. Non-Edibles","U4.01","01. Home, Food & Free Time","E.02.02","02. Consumer electronics","13","03. Different home electronics","18218","07. Virtual reality glasses","","","","","","","","","X",null,"E.02.02","Consumer electronics","Headphones","In-ear","Bluetooth","","","","18240",{"$f":"_xlfn.TEXTJOIN(\"; \",TRUE,ZCDT_EXPORT_2[[#This Row],[Sub-Category]:[Segment 5]])","v":"Headphones; In-ear; Bluetooth"}]
["AH","Baltic CDT","U4","04. Non-Edibles","U4.01","01. Home, Food & Free Time","E.02.02","02. Consumer electronics","13","03. Different home electronics","18219","08. Other","","","","","","","","","X",null,"E.02.02","Consumer electronics","Headphones","In-ear","Without bluetooth","","","","18241",{"$f":"_xlfn.TEXTJOIN(\"; \",TRUE,ZCDT_EXPORT_2[[#This Row],[Sub-Category]:[Segment 5]])","v":"Headphones; In-ear; Without bluetooth"}]
["AH","Baltic CDT","U4","04. Non-Edibles","U4.01","01. Home, Food & Free Time","E.02.02","02. Consumer electronics","14","04. Headphones","13632","01. In-ear","18240","01. Bluetooth","","","","","","","X",null,"E.02.02","Consumer electronics","Headphones","On ear","Bluetooth","","","","18242",{"$f":"_xlfn.TEXTJOIN(\"; \",TRUE,ZCDT_EXPORT_2[[#This Row],[Sub-Category]:[Segment 5]])","v":"Headphones; On ear; Bluetooth"}]
["AH","Baltic CDT","U4","04. Non-Edibles","U4.01","01. Home, Food & Free Time","E.02.02","02. Consumer electronics","14","04. Headphones","13632","01. In-ear","18241","02. Without bluetooth","","","","","","","X",null,"E.02.02","Consumer electronics","Headphones","On ear","Without bluetooth","","","","18243",{"$f":"_xlfn.TEXTJOIN(\"; \",TRUE,ZCDT_EXPORT_2[[#This Row],[Sub-Category]:[Segment 5]])","v":"Headphones; On ear; Without bluetooth"}]
["AH","Baltic CDT","U4","04. Non-Edibles","U4.01","01. Home, Food & Free Time","E.02.02","02. Consumer electronics","14","04. Headphones","13633","02. On ear","18242","01. Bluetooth","","","","","","","X",null,"E.02.02","Consumer electronics","Headphones","Over the ear","Bluetooth","","","","18244",{"$f":"_xlfn.TEXTJOIN(\"; \",TRUE,ZCDT_EXPORT_2[[#This Row],[Sub-Category]:[Segment 5]])","v":"Headphones; Over the ear; Bluetooth"}]
["AH","Baltic CDT","U4","04. Non-Edibles","U4.01","01. Home, Food & Free Time","E.02.02","02. Consumer electronics","14","04. Headphones","13633","02. On ear","18243","02. Without bluetooth","","","","","","","X",null,"E.02.02","Consumer electronics","Headphones","Over the ear","Without bluetooth","","","","18245",{"$f":"_xlfn.TEXTJOIN(\"; \",TRUE,ZCDT_EXPORT_2[[#This Row],[Sub-Category]:[Segment 5]])","v":"Headphones; Over the ear; Without bluetooth"}]
["AH","Baltic CDT","U4","04. Non-Edibles","U4.01","01. Home, Food & Free Time","E.02.02","02. Consumer electronics","14","04. Headphones","13634","03. Over the ear","18244","01. Bluetooth","","","","","","","X",null,"E.02.02","Consumer electronics","Mobile accesories","Covers and bags","","","","","13637",{"$f":"_xlfn.TEXTJOIN(\"; \",TRUE,ZCDT_EXPORT_2[[#This Row],[Sub-Category]:[Segment 5]])","v":"Mobile accesories; Covers and bags"}]
["AH","Baltic CDT","U4","04. Non-Edibles","U4.01","01. Home, Food & Free Time","E.02.02","02. Consumer electronics","14","04. Headphones","13634","03. Over the ear","18245","02. Without bluetooth","","","","","","","X",null,"E.02.02","Consumer electronics","Mobile accesories","Mobile phones","","","","","13638",{"$f":"_xlfn.TEXTJOIN(\"; \",TRUE,ZCDT_EXPORT_2[[#This Row],[Sub-Category]:[Segment 5]])","v":"Mobile accesories; Mobile phones"}]
["AH","Baltic CDT","U4","04. Non-Edibles","U4.01","01. Home, Food & Free Time","E.02.02","02. Consumer electronics","15","05. Mobile accesories","13637","01. Covers and bags","","","","","","","","","X",null,"E.02.02","Consumer electronics","Mobile accesories","Screen protectors","","","","","13640",{"$f":"_xlfn.TEXTJOIN(\"; \",TRUE,ZCDT_EXPORT_2[[#This Row],[Sub-Category]:[Segment 5]])","v":"Mobile accesories; Screen protectors"}]
["AH","Baltic CDT","U4","04. Non-Edibles","U4.01","01. Home, Food & Free Time","E.02.02","02. Consumer electronics","15","05. Mobile accesories","13638","02. Mobile phones","","","","","","","","","X",null,"E.02.02","Consumer electronics","Mobile accesories","Tablets","","","","","13641",{"$f":"_xlfn.TEXTJOIN(\"; \",TRUE,ZCDT_EXPORT_2[[#This Row],[Sub-Category]:[Segment 5]])","v":"Mobile accesories; Tablets"}]
["AH","Baltic CDT","U4","04. Non-Edibles","U4.01","01. Home, Food & Free Time","E.02.02","02. Consumer electronics","15","05. Mobile accesories","13640","04. Screen protectors","","","","","","","","","X",null,"E.02.02","Consumer electronics","Mobile accesories","Selfie sticks","","","","","18222",{"$f":"_xlfn.TEXTJOIN(\"; \",TRUE,ZCDT_EXPORT_2[[#This Row],[Sub-Category]:[Segment 5]])","v":"Mobile accesories; Selfie sticks"}]
["AH","Baltic CDT","U4","04. Non-Edibles","U4.01","01. Home, Food & Free Time","E.02.02","02. Consumer electronics","15","05. Mobile accesories","13641","05. Tablets","","","","","","","","","X",null,"E.02.02","Consumer electronics","Mobile accesories","Other mobile accessories","","","","","18223",{"$f":"_xlfn.TEXTJOIN(\"; \",TRUE,ZCDT_EXPORT_2[[#This Row],[Sub-Category]:[Segment 5]])","v":"Mobile accesories; Other mobile accessories"}]
["AH","Baltic CDT","U4","04. Non-Edibles","U4.01","01. Home, Food & Free Time","E.02.02","02. Consumer electronics","15","05. Mobile accesories","18222","06. Selfie sticks","","","","","","","","","X",null,"E.02.02","Consumer electronics","PC accessories","Cameras","","","","","13642",{"$f":"_xlfn.TEXTJOIN(\"; \",TRUE,ZCDT_EXPORT_2[[#This Row],[Sub-Category]:[Segment 5]])","v":"PC accessories; Cameras"}]
["AH","Baltic CDT","U4","04. Non-Edibles","U4.01","01. Home, Food & Free Time","E.02.02","02. Consumer electronics","15","05. Mobile accesories","18223","07. Other mobile accessories","","","","","","","","","X",null,"E.02.02","Consumer electronics","PC accessories","Cooling pads","","","","","13643",{"$f":"_xlfn.TEXTJOIN(\"; \",TRUE,ZCDT_EXPORT_2[[#This Row],[Sub-Category]:[Segment 5]])","v":"PC accessories; Cooling pads"}]
["AH","Baltic CDT","U4","04. Non-Edibles","U4.01","01. Home, Food & Free Time","E.02.02","02. Consumer electronics","13618","06. PC accessories","13642","01. Cameras","","","","","","","","","X",null,"E.02.02","Consumer electronics","PC accessories","Game consoles","","","","","13644",{"$f":"_xlfn.TEXTJOIN(\"; \",TRUE,ZCDT_EXPORT_2[[#This Row],[Sub-Category]:[Segment 5]])","v":"PC accessories; Game consoles"}]
["AH","Baltic CDT","U4","04. Non-Edibles","U4.01","01. Home, Food & Free Time","E.02.02","02. Consumer electronics","13618","06. PC accessories","13643","02. Cooling pads","","","","","","","","","X",null,"E.02.02","Consumer electronics","PC accessories","IT cleaning accessories","","","","","13645",{"$f":"_xlfn.TEXTJOIN(\"; \",TRUE,ZCDT_EXPORT_2[[#This Row],[Sub-Category]:[Segment 5]])","v":"PC accessories; IT cleaning accessories"}]
["AH","Baltic CDT","U4","04. Non-Edibles","U4.01","01. Home, Food & Free Time","E.02.02","02. Consumer electronics","13618","06. PC accessories","13644","03. Game consoles","","","","","","","","","X",null,"E.02.02","Consumer electronics","PC accessories","Keyboards","","","","","13646",{"$f":"_xlfn.TEXTJOIN(\"; \",TRUE,ZCDT_EXPORT_2[[#This Row],[Sub-Category]:[Segment 5]])","v":"PC accessories; Keyboards"}]
["AH","Baltic CDT","U4","04. Non-Edibles","U4.01","01. Home, Food & Free Time","E.02.02","02. Consumer electronics","13618","06. PC accessories","13645","04. IT cleaning accessories","","","","","","","","","X",null,"E.02.02","Consumer electronics","PC accessories","Laptops bags","","","","","13647",{"$f":"_xlfn.TEXTJOIN(\"; \",TRUE,ZCDT_EXPORT_2[[#This Row],[Sub-Category]:[Segment 5]])","v":"PC accessories; Laptops bags"}]
["AH","Baltic CDT","U4","04. Non-Edibles","U4.01","01. Home, Food & Free Time","E.02.02","02. Consumer electronics","13618","06. PC accessories","13646","05. Keyboards","","","","","","","","","X",null,"E.02.02","Consumer electronics","PC accessories","Mouses","Wireless","","","","13708",{"$f":"_xlfn.TEXTJOIN(\"; \",TRUE,ZCDT_EXPORT_2[[#This Row],[Sub-Category]:[Segment 5]])","v":"PC accessories; Mouses; Wireless"}]
["AH","Baltic CDT","U4","04. Non-Edibles","U4.01","01. Home, Food & Free Time","E.02.02","02. Consumer electronics","13618","06. PC accessories","13647","06. Laptops bags","","","","","","","","","X",null,"E.02.02","Consumer electronics","PC accessories","Mouses","With wire","","","","13709",{"$f":"_xlfn.TEXTJOIN(\"; \",TRUE,ZCDT_EXPORT_2[[#This Row],[Sub-Category]:[Segment 5]])","v":"PC accessories; Mouses; With wire"}]
["AH","Baltic CDT","U4","04. Non-Edibles","U4.01","01. Home, Food & Free Time","E.02.02","02. Consumer electronics","13618","06. PC accessories","13649","08. Mouses","13708","01. Wireless","","","","","","","X",null,"E.02.02","Consumer electronics","PC accessories","Mouses","Mouse pads","","","","13710",{"$f":"_xlfn.TEXTJOIN(\"; \",TRUE,ZCDT_EXPORT_2[[#This Row],[Sub-Category]:[Segment 5]])","v":"PC accessories; Mouses; Mouse pads"}]
["AH","Baltic CDT","U4","04. Non-Edibles","U4.01","01. Home, Food & Free Time","E.02.02","02. Consumer electronics","13618","06. PC accessories","13649","08. Mouses","13709","02. With wire","","","","","","","X",null,"E.02.02","Consumer electronics","PC accessories","Printers, scanners","","","","","13650",{"$f":"_xlfn.TEXTJOIN(\"; \",TRUE,ZCDT_EXPORT_2[[#This Row],[Sub-Category]:[Segment 5]])","v":"PC accessories; Printers, scanners"}]
["AH","Baltic CDT","U4","04. Non-Edibles","U4.01","01. Home, Food & Free Time","E.02.02","02. Consumer electronics","13618","06. PC accessories","13649","08. Mouses","13710","03. Mouse pads","","","","","","","X",null,"E.02.02","Consumer electronics","PC accessories","Gaming equipment","Mouses","","","","18228",{"$f":"_xlfn.TEXTJOIN(\"; \",TRUE,ZCDT_EXPORT_2[[#This Row],[Sub-Category]:[Segment 5]])","v":"PC accessories; Gaming equipment; Mouses"}]
["AH","Baltic CDT","U4","04. Non-Edibles","U4.01","01. Home, Food & Free Time","E.02.02","02. Consumer electronics","13618","06. PC accessories","13650","09. Printers, scanners","","","","","","","","","X",null,"E.02.02","Consumer electronics","PC accessories","Gaming equipment","Keyboards","","","","18229",{"$f":"_xlfn.TEXTJOIN(\"; \",TRUE,ZCDT_EXPORT_2[[#This Row],[Sub-Category]:[Segment 5]])","v":"PC accessories; Gaming equipment; Keyboards"}]
["AH","Baltic CDT","U4","04. Non-Edibles","U4.01","01. Home, Food & Free Time","E.02.02","02. Consumer electronics","13618","06. PC accessories","18224","10. Gaming equipment","18228","01. Mouses","","","","","","","X",null,"E.02.02","Consumer electronics","PC accessories","Gaming equipment","Gamepads","","","","18230",{"$f":"_xlfn.TEXTJOIN(\"; \",TRUE,ZCDT_EXPORT_2[[#This Row],[Sub-Category]:[Segment 5]])","v":"PC accessories; Gaming equipment; Gamepads"}]
["AH","Baltic CDT","U4","04. Non-Edibles","U4.01","01. Home, Food & Free Time","E.02.02","02. Consumer electronics","13618","06. PC accessories","18224","10. Gaming equipment","18229","02. Keyboards","","","","","","","X",null,"E.02.02","Consumer electronics","PC accessories","Gaming equipment","Headsets","","","","18231",{"$f":"_xlfn.TEXTJOIN(\"; \",TRUE,ZCDT_EXPORT_2[[#This Row],[Sub-Category]:[Segment 5]])","v":"PC accessories; Gaming equipment; Headsets"}]
["AH","Baltic CDT","U4","04. Non-Edibles","U4.01","01. Home, Food & Free Time","E.02.02","02. Consumer electronics","13618","06. PC accessories","18224","10. Gaming equipment","18230","03. Gamepads","","","","","","","X",null,"E.02.02","Consumer electronics","PC accessories","Gaming equipment","Other","","","","18232",{"$f":"_xlfn.TEXTJOIN(\"; \",TRUE,ZCDT_EXPORT_2[[#This Row],[Sub-Category]:[Segment 5]])","v":"PC accessories; Gaming equipment; Other"}]
["AH","Baltic CDT","U4","04. Non-Edibles","U4.01","01. Home, Food & Free Time","E.02.02","02. Consumer electronics","13618","06. PC accessories","18224","10. Gaming equipment","18231","04. Headsets","","","","","","","X",null,"E.02.02","Consumer electronics","PC accessories","Headsets","","","","","18225",{"$f":"_xlfn.TEXTJOIN(\"; \",TRUE,ZCDT_EXPORT_2[[#This Row],[Sub-Category]:[Segment 5]])","v":"PC accessories; Headsets"}]
["AH","Baltic CDT","U4","04. Non-Edibles","U4.01","01. Home, Food & Free Time","E.02.02","02. Consumer electronics","13618","06. PC accessories","18224","10. Gaming equipment","18232","05. Other","","","","","","","X",null,"E.02.02","Consumer electronics","PC accessories","Web cameras","","","","","18226",{"$f":"_xlfn.TEXTJOIN(\"; \",TRUE,ZCDT_EXPORT_2[[#This Row],[Sub-Category]:[Segment 5]])","v":"PC accessories; Web cameras"}]
["AH","Baltic CDT","U4","04. Non-Edibles","U4.01","01. Home, Food & Free Time","E.02.02","02. Consumer electronics","13618","06. PC accessories","18225","11. Headsets","","","","","","","","","X",null,"E.02.02","Consumer electronics","PC accessories","Other PC accessories","","","","","18227",{"$f":"_xlfn.TEXTJOIN(\"; \",TRUE,ZCDT_EXPORT_2[[#This Row],[Sub-Category]:[Segment 5]])","v":"PC accessories; Other PC accessories"}]
["AH","Baltic CDT","U4","04. Non-Edibles","U4.01","01. Home, Food & Free Time","E.02.02","02. Consumer electronics","13618","06. PC accessories","18226","12. Web cameras","","","","","","","","","X",null,"E.02.02","Consumer electronics","Indoor/outdoor thermometer","","","","","","16665",{"$f":"_xlfn.TEXTJOIN(\"; \",TRUE,ZCDT_EXPORT_2[[#This Row],[Sub-Category]:[Segment 5]])","v":"Indoor/outdoor thermometer"}]
["AH","Baltic CDT","U4","04. Non-Edibles","U4.01","01. Home, Food & Free Time","E.02.02","02. Consumer electronics","13618","06. PC accessories","18227","13. Other PC accessories","","","","","","","","","X",null,"E.02.02","Consumer electronics","Car accessories","Car chargers","","","","","18234",{"$f":"_xlfn.TEXTJOIN(\"; \",TRUE,ZCDT_EXPORT_2[[#This Row],[Sub-Category]:[Segment 5]])","v":"Car accessories; Car chargers"}]
["AH","Baltic CDT","U4","04. Non-Edibles","U4.01","01. Home, Food & Free Time","E.02.02","02. Consumer electronics","16665","07. Indoor/outdoor thermometer","","","","","","","","","","","X",null,"E.02.02","Consumer electronics","Car accessories","Transmiters and modulators","","","","","18235",{"$f":"_xlfn.TEXTJOIN(\"; \",TRUE,ZCDT_EXPORT_2[[#This Row],[Sub-Category]:[Segment 5]])","v":"Car accessories; Transmiters and modulators"}]
["AH","Baltic CDT","U4","04. Non-Edibles","U4.01","01. Home, Food & Free Time","E.02.02","02. Consumer electronics","18233","08. Car accessories","18234","01. Car chargers","","","","","","","","","X",null,"E.02.02","Consumer electronics","Car accessories","Phone holders","","","","","18236",{"$f":"_xlfn.TEXTJOIN(\"; \",TRUE,ZCDT_EXPORT_2[[#This Row],[Sub-Category]:[Segment 5]])","v":"Car accessories; Phone holders"}]
["AH","Baltic CDT","U4","04. Non-Edibles","U4.01","01. Home, Food & Free Time","E.02.02","02. Consumer electronics","18233","08. Car accessories","18235","02. Transmiters and modulators","","","","","","","","","X",null,"E.02.02","Consumer electronics","Loudspeakers","Bluetooth","","","","","18238",{"$f":"_xlfn.TEXTJOIN(\"; \",TRUE,ZCDT_EXPORT_2[[#This Row],[Sub-Category]:[Segment 5]])","v":"Loudspeakers; Bluetooth"}]
["AH","Baltic CDT","U4","04. Non-Edibles","U4.01","01. Home, Food & Free Time","E.02.02","02. Consumer electronics","18233","08. Car accessories","18236","03. Phone holders","","","","","","","","","X",null,"E.02.02","Consumer electronics","Loudspeakers","Without bluetooth","","","","","18239",{"$f":"_xlfn.TEXTJOIN(\"; \",TRUE,ZCDT_EXPORT_2[[#This Row],[Sub-Category]:[Segment 5]])","v":"Loudspeakers; Without bluetooth"}]
["AH","Baltic CDT","U4","04. Non-Edibles","U4.01","01. Home, Food & Free Time","E.02.02","02. Consumer electronics","18237","09. Loudspeakers","18238","01. Bluetooth","","","","","","","","","X",null,"E.02.03","Gifts and hobby","Gift packing","Decorations and ribbons","","","","","13651",{"$f":"_xlfn.TEXTJOIN(\"; \",TRUE,ZCDT_EXPORT_2[[#This Row],[Sub-Category]:[Segment 5]])","v":"Gift packing; Decorations and ribbons"}]
["AH","Baltic CDT","U4","04. Non-Edibles","U4.01","01. Home, Food & Free Time","E.02.02","02. Consumer electronics","18237","09. Loudspeakers","18239","02. Without bluetooth","","","","","","","","","X",null,"E.02.03","Gifts and hobby","Gift packing","Gift bags","Non sesonal","Small","","","18199",{"$f":"_xlfn.TEXTJOIN(\"; \",TRUE,ZCDT_EXPORT_2[[#This Row],[Sub-Category]:[Segment 5]])","v":"Gift packing; Gift bags; Non sesonal; Small"}]
["AH","Baltic CDT","U4","04. Non-Edibles","U4.01","01. Home, Food & Free Time","E.06.02","02. Food preparation","14312","01. Bakeware & Ovenware","18901","01. Ceramic","","","","","","","","","X",null,"E.02.03","Gifts and hobby","Gift packing","Gift bags","Non sesonal","Medium","","","18200",{"$f":"_xlfn.TEXTJOIN(\"; \",TRUE,ZCDT_EXPORT_2[[#This Row],[Sub-Category]:[Segment 5]])","v":"Gift packing; Gift bags; Non sesonal; Medium"}]
["AH","Baltic CDT","U4","04. Non-Edibles","U4.01","01. Home, Food & Free Time","E.06.02","02. Food preparation","14312","01. Bakeware & Ovenware","18902","02. Glass","","","","","","","","","X",null,"E.02.03","Gifts and hobby","Gift packing","Gift bags","Non sesonal","Large","","","18201",{"$f":"_xlfn.TEXTJOIN(\"; \",TRUE,ZCDT_EXPORT_2[[#This Row],[Sub-Category]:[Segment 5]])","v":"Gift packing; Gift bags; Non sesonal; Large"}]
["AH","Baltic CDT","U4","04. Non-Edibles","U4.01","01. Home, Food & Free Time","E.06.02","02. Food preparation","14312","01. Bakeware & Ovenware","18903","03. Metal","","","","","","","","","X",null,"E.02.03","Gifts and hobby","Gift packing","Gift bags","Non sesonal","Bottle","","","18202",{"$f":"_xlfn.TEXTJOIN(\"; \",TRUE,ZCDT_EXPORT_2[[#This Row],[Sub-Category]:[Segment 5]])","v":"Gift packing; Gift bags; Non sesonal; Bottle"}]
["AH","Baltic CDT","U4","04. Non-Edibles","U4.01","01. Home, Food & Free Time","E.06.02","02. Food preparation","14312","01. Bakeware & Ovenware","18904","04. Silicon","","","","","","","","","X",null,"E.02.03","Gifts and hobby","Gift packing","Gift bags","Non sesonal","Extra large","","","18203",{"$f":"_xlfn.TEXTJOIN(\"; \",TRUE,ZCDT_EXPORT_2[[#This Row],[Sub-Category]:[Segment 5]])","v":"Gift packing; Gift bags; Non sesonal; Extra large"}]
["AH","Baltic CDT","U4","04. Non-Edibles","U4.01","01. Home, Food & Free Time","E.06.02","02. Food preparation","14313","02. Cookware","14866","01. Pans & lids","14874","01. Frying pans","","","","","","","X",null,"E.02.03","Gifts and hobby","Gift packing","Gift bags","Non sesonal","Unknown","","","18204",{"$f":"_xlfn.TEXTJOIN(\"; \",TRUE,ZCDT_EXPORT_2[[#This Row],[Sub-Category]:[Segment 5]])","v":"Gift packing; Gift bags; Non sesonal; Unknown"}]
["AH","Baltic CDT","U4","04. Non-Edibles","U4.01","01. Home, Food & Free Time","E.06.02","02. Food preparation","14313","02. Cookware","14866","01. Pans & lids","14875","02. Grill pans","","","","","","","X",null,"E.02.03","Gifts and hobby","Gift packing","Gift bags","Christmas","Small","","","18205",{"$f":"_xlfn.TEXTJOIN(\"; \",TRUE,ZCDT_EXPORT_2[[#This Row],[Sub-Category]:[Segment 5]])","v":"Gift packing; Gift bags; Christmas; Small"}]
["AH","Baltic CDT","U4","04. Non-Edibles","U4.01","01. Home, Food & Free Time","E.06.02","02. Food preparation","14313","02. Cookware","14866","01. Pans & lids","14876","03. Lids","","","","","","","X",null,"E.02.03","Gifts and hobby","Gift packing","Gift bags","Christmas","Medium","","","18206",{"$f":"_xlfn.TEXTJOIN(\"; \",TRUE,ZCDT_EXPORT_2[[#This Row],[Sub-Category]:[Segment 5]])","v":"Gift packing; Gift bags; Christmas; Medium"}]
["AH","Baltic CDT","U4","04. Non-Edibles","U4.01","01. Home, Food & Free Time","E.06.02","02. Food preparation","14313","02. Cookware","14866","01. Pans & lids","14877","04. Pancake & other pans","","","","","","","X",null,"E.02.03","Gifts and hobby","Gift packing","Gift bags","Christmas","Large","","","18207",{"$f":"_xlfn.TEXTJOIN(\"; \",TRUE,ZCDT_EXPORT_2[[#This Row],[Sub-Category]:[Segment 5]])","v":"Gift packing; Gift bags; Christmas; Large"}]
["AH","Baltic CDT","U4","04. Non-Edibles","U4.01","01. Home, Food & Free Time","E.06.02","02. Food preparation","14313","02. Cookware","14866","01. Pans & lids","14878","05. Wok pans","","","","","","","X",null,"E.02.03","Gifts and hobby","Gift packing","Gift bags","Christmas","Extra large","","","18208",{"$f":"_xlfn.TEXTJOIN(\"; \",TRUE,ZCDT_EXPORT_2[[#This Row],[Sub-Category]:[Segment 5]])","v":"Gift packing; Gift bags; Christmas; Extra large"}]
["AH","Baltic CDT","U4","04. Non-Edibles","U4.01","01. Home, Food & Free Time","E.06.02","02. Food preparation","14313","02. Cookware","14867","02. Pots & other cookers","14880","01. Juicers","","","","","","","X",null,"E.02.03","Gifts and hobby","Gift packing","Gift bags","Christmas","Bottle","","","18209",{"$f":"_xlfn.TEXTJOIN(\"; \",TRUE,ZCDT_EXPORT_2[[#This Row],[Sub-Category]:[Segment 5]])","v":"Gift packing; Gift bags; Christmas; Bottle"}]
["AH","Baltic CDT","U4","04. Non-Edibles","U4.01","01. Home, Food & Free Time","E.06.02","02. Food preparation","14313","02. Cookware","14867","02. Pots & other cookers","14881","02. Pots & sautepans","","","","","","","X",null,"E.02.03","Gifts and hobby","Gift packing","Gift bags","Christmas","Unknown","","","18210",{"$f":"_xlfn.TEXTJOIN(\"; \",TRUE,ZCDT_EXPORT_2[[#This Row],[Sub-Category]:[Segment 5]])","v":"Gift packing; Gift bags; Christmas; Unknown"}]
["AH","Baltic CDT","U4","04. Non-Edibles","U4.01","01. Home, Food & Free Time","E.06.02","02. Food preparation","14313","02. Cookware","14867","02. Pots & other cookers","14882","03. Steamers","","","","","","","X",null,"E.02.03","Gifts and hobby","Gift packing","Gift bags","Other seasonal","","","","18198",{"$f":"_xlfn.TEXTJOIN(\"; \",TRUE,ZCDT_EXPORT_2[[#This Row],[Sub-Category]:[Segment 5]])","v":"Gift packing; Gift bags; Other seasonal"}]
["AH","Baltic CDT","U4","04. Non-Edibles","U4.01","01. Home, Food & Free Time","E.06.02","02. Food preparation","14313","02. Cookware","14867","02. Pots & other cookers","14885","04. Fondues","","","","","","","X",null,"E.02.03","Gifts and hobby","Gift packing","Gift box","Christmas","","","","18186",{"$f":"_xlfn.TEXTJOIN(\"; \",TRUE,ZCDT_EXPORT_2[[#This Row],[Sub-Category]:[Segment 5]])","v":"Gift packing; Gift box; Christmas"}]
["AH","Baltic CDT","U4","04. Non-Edibles","U4.01","01. Home, Food & Free Time","E.06.02","02. Food preparation","14313","02. Cookware","14867","02. Pots & other cookers","14886","05. Pressure cookers","","","","","","","X",null,"E.02.03","Gifts and hobby","Gift packing","Gift box","Non sesonal","","","","18187",{"$f":"_xlfn.TEXTJOIN(\"; \",TRUE,ZCDT_EXPORT_2[[#This Row],[Sub-Category]:[Segment 5]])","v":"Gift packing; Gift box; Non sesonal"}]
["AH","Baltic CDT","U4","04. Non-Edibles","U4.01","01. Home, Food & Free Time","E.06.02","02. Food preparation","18900","03. Beverage makers","18907","01. Tea kettles","","","","","","","","","X",null,"E.02.03","Gifts and hobby","Gift packing","Wrapping paper","Christmas","","","","18188",{"$f":"_xlfn.TEXTJOIN(\"; \",TRUE,ZCDT_EXPORT_2[[#This Row],[Sub-Category]:[Segment 5]])","v":"Gift packing; Wrapping paper; Christmas"}]
["AH","Baltic CDT","U4","04. Non-Edibles","U4.01","01. Home, Food & Free Time","E.06.02","02. Food preparation","18900","03. Beverage makers","18908","02. Coffee pots","","","","","","","","","X",null,"E.02.03","Gifts and hobby","Gift packing","Wrapping paper","Non sesonal","","","","18189",{"$f":"_xlfn.TEXTJOIN(\"; \",TRUE,ZCDT_EXPORT_2[[#This Row],[Sub-Category]:[Segment 5]])","v":"Gift packing; Wrapping paper; Non sesonal"}]
["AH","Baltic CDT","U4","04. Non-Edibles","U4.01","01. Home, Food & Free Time","E.06.02","02. Food preparation","19561","04. 1 EUR stand","","","","","","","","","","","X",null,"E.02.03","Gifts and hobby","Gift packing","Wrapping paper","Other seasonal","","","","18190",{"$f":"_xlfn.TEXTJOIN(\"; \",TRUE,ZCDT_EXPORT_2[[#This Row],[Sub-Category]:[Segment 5]])","v":"Gift packing; Wrapping paper; Other seasonal"}]
["AH","Baltic CDT","U4","04. Non-Edibles","U4.01","01. Home, Food & Free Time","D.11.02","02. National souvenirs","18584","01. Badge, Magnets, Key chains","","","","","","","","","","","X",null,"E.02.03","Gifts and hobby","Gift packing","Ribbons","","","","","18192",{"$f":"_xlfn.TEXTJOIN(\"; \",TRUE,ZCDT_EXPORT_2[[#This Row],[Sub-Category]:[Segment 5]])","v":"Gift packing; Ribbons"}]
["AH","Baltic CDT","U4","04. Non-Edibles","U4.01","01. Home, Food & Free Time","D.11.02","02. National souvenirs","18582","02. Fan atributes, Textiles","","","","","","","","","","","X",null,"E.02.03","Gifts and hobby","Gift packing","Bows","","","","","18193",{"$f":"_xlfn.TEXTJOIN(\"; \",TRUE,ZCDT_EXPORT_2[[#This Row],[Sub-Category]:[Segment 5]])","v":"Gift packing; Bows"}]
["AH","Baltic CDT","U4","04. Non-Edibles","U4.01","01. Home, Food & Free Time","D.11.02","02. National souvenirs","18821","03. Ceramics/glass","","","","","","","","","","","X",null,"E.02.03","Gifts and hobby","Gift packing","Other gift packaging","","","","","18194",{"$f":"_xlfn.TEXTJOIN(\"; \",TRUE,ZCDT_EXPORT_2[[#This Row],[Sub-Category]:[Segment 5]])","v":"Gift packing; Other gift packaging"}]
["AH","Baltic CDT","U4","04. Non-Edibles","U4.01","01. Home, Food & Free Time","D.11.02","02. National souvenirs","18585","04. Local National attributes/gifts","","","","","","","","","","","X",null,"E.02.06","Stationery and bags","Art equipment","Art materials and accessories","Chalk","","","","17978",{"$f":"_xlfn.TEXTJOIN(\"; \",TRUE,ZCDT_EXPORT_2[[#This Row],[Sub-Category]:[Segment 5]])","v":"Art equipment; Art materials and accessories; Chalk"}]
["AH","Baltic CDT","U4","04. Non-Edibles","U4.01","01. Home, Food & Free Time","D.11.02","02. National souvenirs","18583","05. Flags, bunting","","","","","","","","","","","X",null,"E.02.06","Stationery and bags","Art equipment","Art materials and accessories","Palettes","","","","17979",{"$f":"_xlfn.TEXTJOIN(\"; \",TRUE,ZCDT_EXPORT_2[[#This Row],[Sub-Category]:[Segment 5]])","v":"Art equipment; Art materials and accessories; Palettes"}]
["AH","Baltic CDT","U4","04. Non-Edibles","U4.01","01. Home, Food & Free Time","E.04.03","03. Cleaning tools and accessories","14089","01. Floor cleaning","14098","01. Dry cleaning","14111","01. Brooms","","","","","","","X",null,"E.02.06","Stationery and bags","Art equipment","Art materials and accessories","Water trays","","","","17980",{"$f":"_xlfn.TEXTJOIN(\"; \",TRUE,ZCDT_EXPORT_2[[#This Row],[Sub-Category]:[Segment 5]])","v":"Art equipment; Art materials and accessories; Water trays"}]
["AH","Baltic CDT","U4","04. Non-Edibles","U4.01","01. Home, Food & Free Time","E.04.03","03. Cleaning tools and accessories","14089","01. Floor cleaning","14098","01. Dry cleaning","14112","02. Dry cleaning set","","","","","","","X",null,"E.02.06","Stationery and bags","Art equipment","Art materials and accessories","Other","","","","17981",{"$f":"_xlfn.TEXTJOIN(\"; \",TRUE,ZCDT_EXPORT_2[[#This Row],[Sub-Category]:[Segment 5]])","v":"Art equipment; Art materials and accessories; Other"}]
["AH","Baltic CDT","U4","04. Non-Edibles","U4.01","01. Home, Food & Free Time","E.04.03","03. Cleaning tools and accessories","14089","01. Floor cleaning","14098","01. Dry cleaning","14113","03. Dustpans","","","","","","","X",null,"E.02.06","Stationery and bags","Art equipment","Brushes","","","","","13660",{"$f":"_xlfn.TEXTJOIN(\"; \",TRUE,ZCDT_EXPORT_2[[#This Row],[Sub-Category]:[Segment 5]])","v":"Art equipment; Brushes"}]
["AH","Baltic CDT","U4","04. Non-Edibles","U4.01","01. Home, Food & Free Time","E.04.03","03. Cleaning tools and accessories","14089","01. Floor cleaning","14099","02. Wet cleaning","14114","01. Buckets","","","","","","","X",null,"E.02.06","Stationery and bags","Art equipment","crayons","","","","","13661",{"$f":"_xlfn.TEXTJOIN(\"; \",TRUE,ZCDT_EXPORT_2[[#This Row],[Sub-Category]:[Segment 5]])","v":"Art equipment; crayons"}]
["AH","Baltic CDT","U4","04. Non-Edibles","U4.01","01. Home, Food & Free Time","E.04.03","03. Cleaning tools and accessories","14089","01. Floor cleaning","14099","02. Wet cleaning","14115","02. Cloth","","","","","","","X",null,"E.02.06","Stationery and bags","Art equipment","modeling clay","","","","","13662",{"$f":"_xlfn.TEXTJOIN(\"; \",TRUE,ZCDT_EXPORT_2[[#This Row],[Sub-Category]:[Segment 5]])","v":"Art equipment; modeling clay"}]
["AH","Baltic CDT","U4","04. Non-Edibles","U4.01","01. Home, Food & Free Time","E.04.03","03. Cleaning tools and accessories","14089","01. Floor cleaning","14099","02. Wet cleaning","14116","03. Mops","","","","","","","X",null,"E.02.06","Stationery and bags","Art equipment","Paints","Aquarel","","","","17982",{"$f":"_xlfn.TEXTJOIN(\"; \",TRUE,ZCDT_EXPORT_2[[#This Row],[Sub-Category]:[Segment 5]])","v":"Art equipment; Paints; Aquarel"}]
["AH","Baltic CDT","U4","04. Non-Edibles","U4.01","01. Home, Food & Free Time","E.04.03","03. Cleaning tools and accessories","14089","01. Floor cleaning","14099","02. Wet cleaning","14117","04. Wet cleaning sets","","","","","","","X",null,"E.02.06","Stationery and bags","Art equipment","Paints","Guasche","","","","17983",{"$f":"_xlfn.TEXTJOIN(\"; \",TRUE,ZCDT_EXPORT_2[[#This Row],[Sub-Category]:[Segment 5]])","v":"Art equipment; Paints; Guasche"}]
["AH","Baltic CDT","U4","04. Non-Edibles","U4.01","01. Home, Food & Free Time","E.04.03","03. Cleaning tools and accessories","14090","02. Cleaning supplies","14101","01. Brushes","","","","","","","","","X",null,"E.02.06","Stationery and bags","Art equipment","Paints","Other paints","","","","17984",{"$f":"_xlfn.TEXTJOIN(\"; \",TRUE,ZCDT_EXPORT_2[[#This Row],[Sub-Category]:[Segment 5]])","v":"Art equipment; Paints; Other paints"}]
["AH","Baltic CDT","U4","04. Non-Edibles","U4.01","01. Home, Food & Free Time","E.04.03","03. Cleaning tools and accessories","14090","02. Cleaning supplies","14102","02. Clothes","","","","","","","","","X",null,"E.02.06","Stationery and bags","Organisers and accessories","Different document organisers","","","","","13665",{"$f":"_xlfn.TEXTJOIN(\"; \",TRUE,ZCDT_EXPORT_2[[#This Row],[Sub-Category]:[Segment 5]])","v":"Organisers and accessories; Different document organisers"}]
["AH","Baltic CDT","U4","04. Non-Edibles","U4.01","01. Home, Food & Free Time","E.04.03","03. Cleaning tools and accessories","14090","02. Cleaning supplies","14103","03. Sponges and scourers","","","","","","","","","X",null,"E.02.06","Stationery and bags","Organisers and accessories","File folders","","","","","13666",{"$f":"_xlfn.TEXTJOIN(\"; \",TRUE,ZCDT_EXPORT_2[[#This Row],[Sub-Category]:[Segment 5]])","v":"Organisers and accessories; File folders"}]
["AH","Baltic CDT","U4","04. Non-Edibles","U4.01","01. Home, Food & Free Time","E.04.03","03. Cleaning tools and accessories","14090","02. Cleaning supplies","14789","04. Drying mats","","","","","","","","","X",null,"E.02.06","Stationery and bags","Organisers and accessories","Pencil cases","Empty pencil cases","","","","13686",{"$f":"_xlfn.TEXTJOIN(\"; \",TRUE,ZCDT_EXPORT_2[[#This Row],[Sub-Category]:[Segment 5]])","v":"Organisers and accessories; Pencil cases; Empty pencil cases"}]
["AH","Baltic CDT","U4","04. Non-Edibles","U4.01","01. Home, Food & Free Time","E.04.03","03. Cleaning tools and accessories","14091","03. Overall cleaning accessories","","","","","","","","","","","X",null,"E.02.06","Stationery and bags","Organisers and accessories","Pencil cases","Pencil cases with filling","","","","13687",{"$f":"_xlfn.TEXTJOIN(\"; \",TRUE,ZCDT_EXPORT_2[[#This Row],[Sub-Category]:[Segment 5]])","v":"Organisers and accessories; Pencil cases; Pencil cases with filling"}]
["AH","Baltic CDT","U4","04. Non-Edibles","U4.01","01. Home, Food & Free Time","E.04.03","03. Cleaning tools and accessories","14092","04. Protective gloves","14105","01. Disposable rubber gloves","","","","","","","","","X",null,"E.02.06","Stationery and bags","Organisers and accessories","Ring binders","","","","","13668",{"$f":"_xlfn.TEXTJOIN(\"; \",TRUE,ZCDT_EXPORT_2[[#This Row],[Sub-Category]:[Segment 5]])","v":"Organisers and accessories; Ring binders"}]
["AH","Baltic CDT","U4","04. Non-Edibles","U4.01","01. Home, Food & Free Time","E.04.03","03. Cleaning tools and accessories","14092","04. Protective gloves","14106","02. Multiusage rubber gloves","","","","","","","","","X",null,"E.02.06","Stationery and bags","Organisers and accessories","School accessories sets","","","","","13669",{"$f":"_xlfn.TEXTJOIN(\"; \",TRUE,ZCDT_EXPORT_2[[#This Row],[Sub-Category]:[Segment 5]])","v":"Organisers and accessories; School accessories sets"}]
["AH","Baltic CDT","U4","04. Non-Edibles","U4.01","01. Home, Food & Free Time","E.04.03","03. Cleaning tools and accessories","14093","05. Waste handling","14108","01. Waste bins","","","","","","","","","X",null,"E.02.06","Stationery and bags","Paper products","Book and notebook covers","","","","","13672",{"$f":"_xlfn.TEXTJOIN(\"; \",TRUE,ZCDT_EXPORT_2[[#This Row],[Sub-Category]:[Segment 5]])","v":"Paper products; Book and notebook covers"}]
["AH","Baltic CDT","U4","04. Non-Edibles","U4.01","01. Home, Food & Free Time","E.04.03","03. Cleaning tools and accessories","14093","05. Waste handling","14109","02. Wastebags","","","","","","","","","X",null,"E.02.06","Stationery and bags","Paper products","Colored paper","","","","","13673",{"$f":"_xlfn.TEXTJOIN(\"; \",TRUE,ZCDT_EXPORT_2[[#This Row],[Sub-Category]:[Segment 5]])","v":"Paper products; Colored paper"}]
["AH","Baltic CDT","U4","04. Non-Edibles","U4.01","01. Home, Food & Free Time","E.04.03","03. Cleaning tools and accessories","14095","06. Window cleaning","","","","","","","","","","","X",null,"E.02.06","Stationery and bags","Paper products","Copy paper","","","","","13674",{"$f":"_xlfn.TEXTJOIN(\"; \",TRUE,ZCDT_EXPORT_2[[#This Row],[Sub-Category]:[Segment 5]])","v":"Paper products; Copy paper"}]
["AH","Baltic CDT","U4","04. Non-Edibles","U4.01","01. Home, Food & Free Time","E.04.03","03. Cleaning tools and accessories","14160","07. Laundry care","14175","01. Basins","","","","","","","","","X",null,"E.02.06","Stationery and bags","Paper products","Drawing paper","Simple","A4","","","17987",{"$f":"_xlfn.TEXTJOIN(\"; \",TRUE,ZCDT_EXPORT_2[[#This Row],[Sub-Category]:[Segment 5]])","v":"Paper products; Drawing paper; Simple; A4"}]
["AH","Baltic CDT","U4","04. Non-Edibles","U4.01","01. Home, Food & Free Time","E.04.03","03. Cleaning tools and accessories","14160","07. Laundry care","14176","02. Clothes dryers","","","","","","","","","X",null,"E.02.06","Stationery and bags","Paper products","Drawing paper","Simple","A3","","","17988",{"$f":"_xlfn.TEXTJOIN(\"; \",TRUE,ZCDT_EXPORT_2[[#This Row],[Sub-Category]:[Segment 5]])","v":"Paper products; Drawing paper; Simple; A3"}]
["AH","Baltic CDT","U4","04. Non-Edibles","U4.01","01. Home, Food & Free Time","E.04.03","03. Cleaning tools and accessories","14160","07. Laundry care","14177","03. Ironing boards","","","","","","","","","X",null,"E.02.06","Stationery and bags","Paper products","Drawing paper","For aquarel","A4","","","17989",{"$f":"_xlfn.TEXTJOIN(\"; \",TRUE,ZCDT_EXPORT_2[[#This Row],[Sub-Category]:[Segment 5]])","v":"Paper products; Drawing paper; For aquarel; A4"}]
["AH","Baltic CDT","U4","04. Non-Edibles","U4.01","01. Home, Food & Free Time","E.04.03","03. Cleaning tools and accessories","14160","07. Laundry care","14179","04. Laundry baskets","","","","","","","","","X",null,"E.02.06","Stationery and bags","Paper products","Drawing paper","For aquarel","A3","","","17990",{"$f":"_xlfn.TEXTJOIN(\"; \",TRUE,ZCDT_EXPORT_2[[#This Row],[Sub-Category]:[Segment 5]])","v":"Paper products; Drawing paper; For aquarel; A3"}]
["AH","Baltic CDT","U4","04. Non-Edibles","U4.01","01. Home, Food & Free Time","E.04.03","03. Cleaning tools and accessories","14160","07. Laundry care","14180","05. Laundry care accessories","","","","","","","","","X",null,"E.02.06","Stationery and bags","Paper products","Envelopes","","","","","13676",{"$f":"_xlfn.TEXTJOIN(\"; \",TRUE,ZCDT_EXPORT_2[[#This Row],[Sub-Category]:[Segment 5]])","v":"Paper products; Envelopes"}]
["AH","Baltic CDT","U4","04. Non-Edibles","U4.01","01. Home, Food & Free Time","E.04.03","03. Cleaning tools and accessories","14163","08. Storage boxes and baskets","14192","01. Storage boxes other material","","","","","","","","","X",null,"E.02.06","Stationery and bags","Paper products","Exercise books","Lines","12 sheets","","","17995",{"$f":"_xlfn.TEXTJOIN(\"; \",TRUE,ZCDT_EXPORT_2[[#This Row],[Sub-Category]:[Segment 5]])","v":"Paper products; Exercise books; Lines; 12 sheets"}]
["AH","Baltic CDT","U4","04. Non-Edibles","U4.01","01. Home, Food & Free Time","E.04.03","03. Cleaning tools and accessories","14163","08. Storage boxes and baskets","14193","02. Storage boxes plastic","","","","","","","","","X",null,"E.02.06","Stationery and bags","Paper products","Exercise books","Lines","18 sheets","","","17996",{"$f":"_xlfn.TEXTJOIN(\"; \",TRUE,ZCDT_EXPORT_2[[#This Row],[Sub-Category]:[Segment 5]])","v":"Paper products; Exercise books; Lines; 18 sheets"}]
["AH","Baltic CDT","U4","04. Non-Edibles","U4.01","01. Home, Food & Free Time","E.04.03","03. Cleaning tools and accessories","14164","09. Wardrobe accessories","14196","01. Clothes bags","","","","","","","","","X",null,"E.02.06","Stationery and bags","Paper products","Exercise books","Lines","24 sheets","","","17997",{"$f":"_xlfn.TEXTJOIN(\"; \",TRUE,ZCDT_EXPORT_2[[#This Row],[Sub-Category]:[Segment 5]])","v":"Paper products; Exercise books; Lines; 24 sheets"}]
["AH","Baltic CDT","U4","04. Non-Edibles","U4.01","01. Home, Food & Free Time","E.04.03","03. Cleaning tools and accessories","14164","09. Wardrobe accessories","14197","02. Hangers","","","","","","","","","X",null,"E.02.06","Stationery and bags","Paper products","Exercise books","Squares","12 sheets","","","17998",{"$f":"_xlfn.TEXTJOIN(\"; \",TRUE,ZCDT_EXPORT_2[[#This Row],[Sub-Category]:[Segment 5]])","v":"Paper products; Exercise books; Squares; 12 sheets"}]
["AH","Baltic CDT","U4","04. Non-Edibles","U4.01","01. Home, Food & Free Time","E.04.03","03. Cleaning tools and accessories","14164","09. Wardrobe accessories","14198","03. Lints rollers and cloth brushes","","","","","","","","","X",null,"E.02.06","Stationery and bags","Paper products","Exercise books","Squares","18 sheets","","","17999",{"$f":"_xlfn.TEXTJOIN(\"; \",TRUE,ZCDT_EXPORT_2[[#This Row],[Sub-Category]:[Segment 5]])","v":"Paper products; Exercise books; Squares; 18 sheets"}]
["AH","Baltic CDT","U4","04. Non-Edibles","U4.01","01. Home, Food & Free Time","E.04.03","03. Cleaning tools and accessories","14164","09. Wardrobe accessories","14200","04. Wardrobe organizers","","","","","","","","","X",null,"E.02.06","Stationery and bags","Paper products","Exercise books","Squares","24 sheets","","","18000",{"$f":"_xlfn.TEXTJOIN(\"; \",TRUE,ZCDT_EXPORT_2[[#This Row],[Sub-Category]:[Segment 5]])","v":"Paper products; Exercise books; Squares; 24 sheets"}]
["AH","Baltic CDT","U4","04. Non-Edibles","U4.01","01. Home, Food & Free Time","E.04.03","03. Cleaning tools and accessories","19485","10. 1 EUR Stand","","","","","","","","","","","X",null,"E.02.06","Stationery and bags","Paper products","Exercise books","Music","","","","17993",{"$f":"_xlfn.TEXTJOIN(\"; \",TRUE,ZCDT_EXPORT_2[[#This Row],[Sub-Category]:[Segment 5]])","v":"Paper products; Exercise books; Music"}]
["AH","Baltic CDT","U4","04. Non-Edibles","U4.01","01. Home, Food & Free Time","E.07.03","03. Gardening supplies","14629","01. Garden care products","14633","01. Garden gloves","","","","","","","","","X",null,"E.02.06","Stationery and bags","Paper products","Exercise books","Other","","","","17994",{"$f":"_xlfn.TEXTJOIN(\"; \",TRUE,ZCDT_EXPORT_2[[#This Row],[Sub-Category]:[Segment 5]])","v":"Paper products; Exercise books; Other"}]
["AH","Baltic CDT","U4","04. Non-Edibles","U4.01","01. Home, Food & Free Time","E.07.03","03. Gardening supplies","14629","01. Garden care products","14634","02. Garden tools","14640","02. Cutting tools","","","","","","","X",null,"E.02.06","Stationery and bags","Paper products","Notebooks","A5","Lines","","","18004",{"$f":"_xlfn.TEXTJOIN(\"; \",TRUE,ZCDT_EXPORT_2[[#This Row],[Sub-Category]:[Segment 5]])","v":"Paper products; Notebooks; A5; Lines"}]
["AH","Baltic CDT","U4","04. Non-Edibles","U4.01","01. Home, Food & Free Time","E.07.03","03. Gardening supplies","14629","01. Garden care products","14634","02. Garden tools","14641","03. Gardening tools","","","","","","","X",null,"E.02.06","Stationery and bags","Paper products","Notebooks","A5","Squares","","","18005",{"$f":"_xlfn.TEXTJOIN(\"; \",TRUE,ZCDT_EXPORT_2[[#This Row],[Sub-Category]:[Segment 5]])","v":"Paper products; Notebooks; A5; Squares"}]
["AH","Baltic CDT","U4","04. Non-Edibles","U4.01","01. Home, Food & Free Time","E.07.03","03. Gardening supplies","14629","01. Garden care products","14635","03. Gardening acessories","","","","","","","","","X",null,"E.02.06","Stationery and bags","Paper products","Notebooks","A5","Other","","","18006",{"$f":"_xlfn.TEXTJOIN(\"; \",TRUE,ZCDT_EXPORT_2[[#This Row],[Sub-Category]:[Segment 5]])","v":"Paper products; Notebooks; A5; Other"}]
["AH","Baltic CDT","U4","04. Non-Edibles","U4.01","01. Home, Food & Free Time","E.07.03","03. Gardening supplies","14629","01. Garden care products","14636","04. Irrigation accessories","14642","04. Irrigation accessories","","","","","","","X",null,"E.02.06","Stationery and bags","Paper products","Notebooks","A4","Squares","","","18007",{"$f":"_xlfn.TEXTJOIN(\"; \",TRUE,ZCDT_EXPORT_2[[#This Row],[Sub-Category]:[Segment 5]])","v":"Paper products; Notebooks; A4; Squares"}]
["AH","Baltic CDT","U4","04. Non-Edibles","U4.01","01. Home, Food & Free Time","E.07.03","03. Gardening supplies","14629","01. Garden care products","14636","04. Irrigation accessories","14643","05. Tubes","","","","","","","X",null,"E.02.06","Stationery and bags","Paper products","Notebooks","A4","Other","","","18008",{"$f":"_xlfn.TEXTJOIN(\"; \",TRUE,ZCDT_EXPORT_2[[#This Row],[Sub-Category]:[Segment 5]])","v":"Paper products; Notebooks; A4; Other"}]
["AH","Baltic CDT","U4","04. Non-Edibles","U4.01","01. Home, Food & Free Time","E.07.03","03. Gardening supplies","14629","01. Garden care products","14636","04. Irrigation accessories","14644","06. Watering cans","","","","","","","X",null,"E.02.06","Stationery and bags","Paper products","Notebooks","Other","","","","18003",{"$f":"_xlfn.TEXTJOIN(\"; \",TRUE,ZCDT_EXPORT_2[[#This Row],[Sub-Category]:[Segment 5]])","v":"Paper products; Notebooks; Other"}]
["AH","Baltic CDT","U4","04. Non-Edibles","U4.01","01. Home, Food & Free Time","E.07.03","03. Gardening supplies","14630","02. Seeding/planting","14647","02. Fertilisers","14657","02. Liquid fertilisers","","","","","","","X",null,"E.02.06","Stationery and bags","Paper products","Notepads","","","","","13679",{"$f":"_xlfn.TEXTJOIN(\"; \",TRUE,ZCDT_EXPORT_2[[#This Row],[Sub-Category]:[Segment 5]])","v":"Paper products; Notepads"}]
["AH","Baltic CDT","U4","04. Non-Edibles","U4.01","01. Home, Food & Free Time","E.07.03","03. Gardening supplies","14630","02. Seeding/planting","14647","02. Fertilisers","14658","03. Nonliquid fertilisers","","","","","","","X",null,"E.02.06","Stationery and bags","Paper products","Planners","","","","","13680",{"$f":"_xlfn.TEXTJOIN(\"; \",TRUE,ZCDT_EXPORT_2[[#This Row],[Sub-Category]:[Segment 5]])","v":"Paper products; Planners"}]
["AH","Baltic CDT","U4","04. Non-Edibles","U4.01","01. Home, Food & Free Time","E.07.03","03. Gardening supplies","14630","02. Seeding/planting","14648","03. Flower bulbs","","","","","","","","","X",null,"E.02.06","Stationery and bags","Paper products","School diaries","","","","","13681",{"$f":"_xlfn.TEXTJOIN(\"; \",TRUE,ZCDT_EXPORT_2[[#This Row],[Sub-Category]:[Segment 5]])","v":"Paper products; School diaries"}]
["AH","Baltic CDT","U4","04. Non-Edibles","U4.01","01. Home, Food & Free Time","E.07.03","03. Gardening supplies","14630","02. Seeding/planting","14649","04. Flower pots","14659","01. Ceramic pots","","","","","","","X",null,"E.02.06","Stationery and bags","Paper products","Notes","","","","","18009",{"$f":"_xlfn.TEXTJOIN(\"; \",TRUE,ZCDT_EXPORT_2[[#This Row],[Sub-Category]:[Segment 5]])","v":"Paper products; Notes"}]
["AH","Baltic CDT","U4","04. Non-Edibles","U4.01","01. Home, Food & Free Time","E.07.03","03. Gardening supplies","14630","02. Seeding/planting","14649","04. Flower pots","14660","02. Metalic and other pots","","","","","","","X",null,"E.02.06","Stationery and bags","Paper products","Other paper products","","","","","18010",{"$f":"_xlfn.TEXTJOIN(\"; \",TRUE,ZCDT_EXPORT_2[[#This Row],[Sub-Category]:[Segment 5]])","v":"Paper products; Other paper products"}]
["AH","Baltic CDT","U4","04. Non-Edibles","U4.01","01. Home, Food & Free Time","E.07.03","03. Gardening supplies","14630","02. Seeding/planting","14649","04. Flower pots","14661","03. Plastic pots","","","","","","","X",null,"E.02.06","Stationery and bags","Table lamps","","","","","","13620",{"$f":"_xlfn.TEXTJOIN(\"; \",TRUE,ZCDT_EXPORT_2[[#This Row],[Sub-Category]:[Segment 5]])","v":"Table lamps"}]
["AH","Baltic CDT","U4","04. Non-Edibles","U4.01","01. Home, Food & Free Time","E.07.03","03. Gardening supplies","14630","02. Seeding/planting","14650","05. Planting acessories","","","","","","","","","X",null,"E.02.06","Stationery and bags","Writing accessories","Markers, felt tip pens","Felt tip pens","","","","18031",{"$f":"_xlfn.TEXTJOIN(\"; \",TRUE,ZCDT_EXPORT_2[[#This Row],[Sub-Category]:[Segment 5]])","v":"Writing accessories; Markers, felt tip pens; Felt tip pens"}]
["AH","Baltic CDT","U4","04. Non-Edibles","U4.01","01. Home, Food & Free Time","E.07.03","03. Gardening supplies","14630","02. Seeding/planting","14651","06. Seeding pots and trays","14663","01. Seeding pots","","","","","","","X",null,"E.02.06","Stationery and bags","Writing accessories","Markers, felt tip pens","Highlighters","","","","18032",{"$f":"_xlfn.TEXTJOIN(\"; \",TRUE,ZCDT_EXPORT_2[[#This Row],[Sub-Category]:[Segment 5]])","v":"Writing accessories; Markers, felt tip pens; Highlighters"}]
["AH","Baltic CDT","U4","04. Non-Edibles","U4.01","01. Home, Food & Free Time","E.07.03","03. Gardening supplies","14630","02. Seeding/planting","14651","06. Seeding pots and trays","14664","02. Seeding trays","","","","","","","X",null,"E.02.06","Stationery and bags","Writing accessories","Markers, felt tip pens","Markers","","","","18033",{"$f":"_xlfn.TEXTJOIN(\"; \",TRUE,ZCDT_EXPORT_2[[#This Row],[Sub-Category]:[Segment 5]])","v":"Writing accessories; Markers, felt tip pens; Markers"}]
["AH","Baltic CDT","U4","04. Non-Edibles","U4.01","01. Home, Food & Free Time","E.07.03","03. Gardening supplies","14630","02. Seeding/planting","14652","07. Seedling onions","","","","","","","","","X",null,"E.02.06","Stationery and bags","Writing accessories","Pencils","Colour pencils","","","","13699",{"$f":"_xlfn.TEXTJOIN(\"; \",TRUE,ZCDT_EXPORT_2[[#This Row],[Sub-Category]:[Segment 5]])","v":"Writing accessories; Pencils; Colour pencils"}]
["AH","Baltic CDT","U4","04. Non-Edibles","U4.01","01. Home, Food & Free Time","E.07.03","03. Gardening supplies","14630","02. Seeding/planting","14653","08. Seeds","","","","","","","","","X",null,"E.02.06","Stationery and bags","Writing accessories","Pencils","Pencil refills","","","","13700",{"$f":"_xlfn.TEXTJOIN(\"; \",TRUE,ZCDT_EXPORT_2[[#This Row],[Sub-Category]:[Segment 5]])","v":"Writing accessories; Pencils; Pencil refills"}]
["AH","Baltic CDT","U4","04. Non-Edibles","U4.01","01. Home, Food & Free Time","E.07.03","03. Gardening supplies","14630","02. Seeding/planting","14654","09. Soils","14667","01. 10 ltr and more","","","","","","","X",null,"E.02.06","Stationery and bags","Writing accessories","Pencils","Pencils mehanical","","","","13701",{"$f":"_xlfn.TEXTJOIN(\"; \",TRUE,ZCDT_EXPORT_2[[#This Row],[Sub-Category]:[Segment 5]])","v":"Writing accessories; Pencils; Pencils mehanical"}]
["AH","Baltic CDT","U4","04. Non-Edibles","U4.01","01. Home, Food & Free Time","E.07.03","03. Gardening supplies","14630","02. Seeding/planting","14654","09. Soils","14668","02. till 10 ltr","","","","","","","X",null,"E.02.06","Stationery and bags","Writing accessories","Pencils","Regular pencils","","","","13702",{"$f":"_xlfn.TEXTJOIN(\"; \",TRUE,ZCDT_EXPORT_2[[#This Row],[Sub-Category]:[Segment 5]])","v":"Writing accessories; Pencils; Regular pencils"}]
["AH","Baltic CDT","U4","04. Non-Edibles","U4.01","01. Home, Food & Free Time","E.07.03","03. Gardening supplies","14631","03. Winter garden","14670","01. Different winter garden items","","","","","","","","","X",null,"E.02.06","Stationery and bags","Writing accessories","Pens","Ballpoint","","","","18034",{"$f":"_xlfn.TEXTJOIN(\"; \",TRUE,ZCDT_EXPORT_2[[#This Row],[Sub-Category]:[Segment 5]])","v":"Writing accessories; Pens; Ballpoint"}]
["AH","Baltic CDT","U4","04. Non-Edibles","U4.01","01. Home, Food & Free Time","E.07.03","03. Gardening supplies","14631","03. Winter garden","14671","02. Snow shovels","","","","","","","","","X",null,"E.02.06","Stationery and bags","Writing accessories","Pens","Fineliner pens","","","","18035",{"$f":"_xlfn.TEXTJOIN(\"; \",TRUE,ZCDT_EXPORT_2[[#This Row],[Sub-Category]:[Segment 5]])","v":"Writing accessories; Pens; Fineliner pens"}]
["AH","Baltic CDT","U4","04. Non-Edibles","U4.01","01. Home, Food & Free Time","E.02.03","03. Gifts and hobby","20","01. Gift packing","13651","01. Decorations and ribbons","","","","","","","","","X",null,"E.02.06","Stationery and bags","Writing accessories","Pens","Fountain pens","","","","18036",{"$f":"_xlfn.TEXTJOIN(\"; \",TRUE,ZCDT_EXPORT_2[[#This Row],[Sub-Category]:[Segment 5]])","v":"Writing accessories; Pens; Fountain pens"}]
["AH","Baltic CDT","U4","04. Non-Edibles","U4.01","01. Home, Food & Free Time","E.02.03","03. Gifts and hobby","20","01. Gift packing","13652","02. Gift bags","18196","01. Non sesonal","18199","01. Small","","","","","X",null,"E.02.06","Stationery and bags","Writing accessories","Pens","Gel","","","","18037",{"$f":"_xlfn.TEXTJOIN(\"; \",TRUE,ZCDT_EXPORT_2[[#This Row],[Sub-Category]:[Segment 5]])","v":"Writing accessories; Pens; Gel"}]
["AH","Baltic CDT","U4","04. Non-Edibles","U4.01","01. Home, Food & Free Time","E.02.03","03. Gifts and hobby","20","01. Gift packing","13652","02. Gift bags","18196","01. Non sesonal","18200","02. Medium","","","","","X",null,"E.02.06","Stationery and bags","Writing accessories","Pens","Ink cartridges","","","","18038",{"$f":"_xlfn.TEXTJOIN(\"; \",TRUE,ZCDT_EXPORT_2[[#This Row],[Sub-Category]:[Segment 5]])","v":"Writing accessories; Pens; Ink cartridges"}]
["AH","Baltic CDT","U4","04. Non-Edibles","U4.01","01. Home, Food & Free Time","E.02.03","03. Gifts and hobby","20","01. Gift packing","13652","02. Gift bags","18196","01. Non sesonal","18201","03. Large","","","","","X",null,"E.02.06","Stationery and bags","Writing accessories","Pens","Multicolour pens","","","","18039",{"$f":"_xlfn.TEXTJOIN(\"; \",TRUE,ZCDT_EXPORT_2[[#This Row],[Sub-Category]:[Segment 5]])","v":"Writing accessories; Pens; Multicolour pens"}]
["AH","Baltic CDT","U4","04. Non-Edibles","U4.01","01. Home, Food & Free Time","E.02.03","03. Gifts and hobby","20","01. Gift packing","13652","02. Gift bags","18196","01. Non sesonal","18202","04. Bottle","","","","","X",null,"E.02.06","Stationery and bags","Writing accessories","Pens","Other pens","","","","18040",{"$f":"_xlfn.TEXTJOIN(\"; \",TRUE,ZCDT_EXPORT_2[[#This Row],[Sub-Category]:[Segment 5]])","v":"Writing accessories; Pens; Other pens"}]
["AH","Baltic CDT","U4","04. Non-Edibles","U4.01","01. Home, Food & Free Time","E.02.03","03. Gifts and hobby","20","01. Gift packing","13652","02. Gift bags","18196","01. Non sesonal","18203","05. Extra large","","","","","X",null,"E.02.06","Stationery and bags","Writing accessories","Pens","Roller ball pens","","","","18041",{"$f":"_xlfn.TEXTJOIN(\"; \",TRUE,ZCDT_EXPORT_2[[#This Row],[Sub-Category]:[Segment 5]])","v":"Writing accessories; Pens; Roller ball pens"}]
["AH","Baltic CDT","U4","04. Non-Edibles","U4.01","01. Home, Food & Free Time","E.02.03","03. Gifts and hobby","20","01. Gift packing","13652","02. Gift bags","18196","01. Non sesonal","18204","06. Unknown","","","","","X",null,"E.02.06","Stationery and bags","Writing accessories","Pens","Topliner pens","","","","18042",{"$f":"_xlfn.TEXTJOIN(\"; \",TRUE,ZCDT_EXPORT_2[[#This Row],[Sub-Category]:[Segment 5]])","v":"Writing accessories; Pens; Topliner pens"}]
["AH","Baltic CDT","U4","04. Non-Edibles","U4.01","01. Home, Food & Free Time","E.02.03","03. Gifts and hobby","20","01. Gift packing","13652","02. Gift bags","18197","02. Christmas","18205","01. Small","","","","","X",null,"E.02.06","Stationery and bags","Writing accessories","Writing items sets","","","","","13685",{"$f":"_xlfn.TEXTJOIN(\"; \",TRUE,ZCDT_EXPORT_2[[#This Row],[Sub-Category]:[Segment 5]])","v":"Writing accessories; Writing items sets"}]
["AH","Baltic CDT","U4","04. Non-Edibles","U4.01","01. Home, Food & Free Time","E.02.03","03. Gifts and hobby","20","01. Gift packing","13652","02. Gift bags","18197","02. Christmas","18206","02. Medium","","","","","X",null,"E.02.06","Stationery and bags","Table top accessories","Adhesive tapes","","","","","18012",{"$f":"_xlfn.TEXTJOIN(\"; \",TRUE,ZCDT_EXPORT_2[[#This Row],[Sub-Category]:[Segment 5]])","v":"Table top accessories; Adhesive tapes"}]
["AH","Baltic CDT","U4","04. Non-Edibles","U4.01","01. Home, Food & Free Time","E.02.03","03. Gifts and hobby","20","01. Gift packing","13652","02. Gift bags","18197","02. Christmas","18207","03. Large","","","","","X",null,"E.02.06","Stationery and bags","Table top accessories","Calculators","","","","","18013",{"$f":"_xlfn.TEXTJOIN(\"; \",TRUE,ZCDT_EXPORT_2[[#This Row],[Sub-Category]:[Segment 5]])","v":"Table top accessories; Calculators"}]
["AH","Baltic CDT","U4","04. Non-Edibles","U4.01","01. Home, Food & Free Time","E.02.03","03. Gifts and hobby","20","01. Gift packing","13652","02. Gift bags","18197","02. Christmas","18208","04. Extra large","","","","","X",null,"E.02.06","Stationery and bags","Table top accessories","Compasses","","","","","18014",{"$f":"_xlfn.TEXTJOIN(\"; \",TRUE,ZCDT_EXPORT_2[[#This Row],[Sub-Category]:[Segment 5]])","v":"Table top accessories; Compasses"}]
["AH","Baltic CDT","U4","04. Non-Edibles","U4.01","01. Home, Food & Free Time","E.02.03","03. Gifts and hobby","20","01. Gift packing","13652","02. Gift bags","18197","02. Christmas","18209","05. Bottle","","","","","X",null,"E.02.06","Stationery and bags","Table top accessories","Correctors","","","","","18015",{"$f":"_xlfn.TEXTJOIN(\"; \",TRUE,ZCDT_EXPORT_2[[#This Row],[Sub-Category]:[Segment 5]])","v":"Table top accessories; Correctors"}]
["AH","Baltic CDT","U4","04. Non-Edibles","U4.01","01. Home, Food & Free Time","E.02.03","03. Gifts and hobby","20","01. Gift packing","13652","02. Gift bags","18197","02. Christmas","18210","06. Unknown","","","","","X",null,"E.02.06","Stationery and bags","Table top accessories","Cutters","","","","","18016",{"$f":"_xlfn.TEXTJOIN(\"; \",TRUE,ZCDT_EXPORT_2[[#This Row],[Sub-Category]:[Segment 5]])","v":"Table top accessories; Cutters"}]
["AH","Baltic CDT","U4","04. Non-Edibles","U4.01","01. Home, Food & Free Time","E.02.03","03. Gifts and hobby","20","01. Gift packing","13652","02. Gift bags","18198","03. Other seasonal","","","","","","","X",null,"E.02.06","Stationery and bags","Table top accessories","Erasers","","","","","18017",{"$f":"_xlfn.TEXTJOIN(\"; \",TRUE,ZCDT_EXPORT_2[[#This Row],[Sub-Category]:[Segment 5]])","v":"Table top accessories; Erasers"}]
["AH","Baltic CDT","U4","04. Non-Edibles","U4.01","01. Home, Food & Free Time","E.02.03","03. Gifts and hobby","20","01. Gift packing","13653","03. Gift box","18186","01. Christmas","","","","","","","X",null,"E.02.06","Stationery and bags","Table top accessories","Glues","Glue sticks","","","","18026",{"$f":"_xlfn.TEXTJOIN(\"; \",TRUE,ZCDT_EXPORT_2[[#This Row],[Sub-Category]:[Segment 5]])","v":"Table top accessories; Glues; Glue sticks"}]
["AH","Baltic CDT","U4","04. Non-Edibles","U4.01","01. Home, Food & Free Time","E.02.03","03. Gifts and hobby","20","01. Gift packing","13653","03. Gift box","18187","02. Non sesonal","","","","","","","X",null,"E.02.06","Stationery and bags","Table top accessories","Glues","PVA","","","","18027",{"$f":"_xlfn.TEXTJOIN(\"; \",TRUE,ZCDT_EXPORT_2[[#This Row],[Sub-Category]:[Segment 5]])","v":"Table top accessories; Glues; PVA"}]
["AH","Baltic CDT","U4","04. Non-Edibles","U4.01","01. Home, Food & Free Time","E.02.03","03. Gifts and hobby","20","01. Gift packing","13654","04. Wrapping paper","18188","01. Christmas","","","","","","","X",null,"E.02.06","Stationery and bags","Table top accessories","Glues","Others","","","","18028",{"$f":"_xlfn.TEXTJOIN(\"; \",TRUE,ZCDT_EXPORT_2[[#This Row],[Sub-Category]:[Segment 5]])","v":"Table top accessories; Glues; Others"}]
["AH","Baltic CDT","U4","04. Non-Edibles","U4.01","01. Home, Food & Free Time","E.02.03","03. Gifts and hobby","20","01. Gift packing","13654","04. Wrapping paper","18189","02. Non sesonal","","","","","","","X",null,"E.02.06","Stationery and bags","Table top accessories","Other table top items","","","","","18019",{"$f":"_xlfn.TEXTJOIN(\"; \",TRUE,ZCDT_EXPORT_2[[#This Row],[Sub-Category]:[Segment 5]])","v":"Table top accessories; Other table top items"}]
["AH","Baltic CDT","U4","04. Non-Edibles","U4.01","01. Home, Food & Free Time","E.02.03","03. Gifts and hobby","20","01. Gift packing","13654","04. Wrapping paper","18190","03. Other seasonal","","","","","","","X",null,"E.02.06","Stationery and bags","Table top accessories","Pins and clips","","","","","18020",{"$f":"_xlfn.TEXTJOIN(\"; \",TRUE,ZCDT_EXPORT_2[[#This Row],[Sub-Category]:[Segment 5]])","v":"Table top accessories; Pins and clips"}]
["AH","Baltic CDT","U4","04. Non-Edibles","U4.01","01. Home, Food & Free Time","E.02.03","03. Gifts and hobby","20","01. Gift packing","18192","05. Ribbons","","","","","","","","","X",null,"E.02.06","Stationery and bags","Table top accessories","Rulers","","","","","18021",{"$f":"_xlfn.TEXTJOIN(\"; \",TRUE,ZCDT_EXPORT_2[[#This Row],[Sub-Category]:[Segment 5]])","v":"Table top accessories; Rulers"}]
["AH","Baltic CDT","U4","04. Non-Edibles","U4.01","01. Home, Food & Free Time","E.02.03","03. Gifts and hobby","20","01. Gift packing","18193","06. Bows","","","","","","","","","X",null,"E.02.06","Stationery and bags","Table top accessories","Scissors","","","","","18022",{"$f":"_xlfn.TEXTJOIN(\"; \",TRUE,ZCDT_EXPORT_2[[#This Row],[Sub-Category]:[Segment 5]])","v":"Table top accessories; Scissors"}]
["AH","Baltic CDT","U4","04. Non-Edibles","U4.01","01. Home, Food & Free Time","E.02.03","03. Gifts and hobby","20","01. Gift packing","18194","07. Other gift packaging","","","","","","","","","X",null,"E.02.06","Stationery and bags","Table top accessories","Sharpeners","","","","","18023",{"$f":"_xlfn.TEXTJOIN(\"; \",TRUE,ZCDT_EXPORT_2[[#This Row],[Sub-Category]:[Segment 5]])","v":"Table top accessories; Sharpeners"}]
["AH","Baltic CDT","U4","04. Non-Edibles","U4.01","01. Home, Food & Free Time","E.06.03","03. Kitchen Gadgets","14316","01. Bar tools and accesories","14320","01. Openers and closers","","","","","","","","","X",null,"E.02.06","Stationery and bags","Table top accessories","Staplers and punchers","Punchers","","","","18029",{"$f":"_xlfn.TEXTJOIN(\"; \",TRUE,ZCDT_EXPORT_2[[#This Row],[Sub-Category]:[Segment 5]])","v":"Table top accessories; Staplers and punchers; Punchers"}]
["AH","Baltic CDT","U4","04. Non-Edibles","U4.01","01. Home, Food & Free Time","E.06.03","03. Kitchen Gadgets","14316","01. Bar tools and accesories","14321","02. Tea strainers","","","","","","","","","X",null,"E.02.06","Stationery and bags","Table top accessories","Staplers and punchers","Staplers","","","","18030",{"$f":"_xlfn.TEXTJOIN(\"; \",TRUE,ZCDT_EXPORT_2[[#This Row],[Sub-Category]:[Segment 5]])","v":"Table top accessories; Staplers and punchers; Staplers"}]
["AH","Baltic CDT","U4","04. Non-Edibles","U4.01","01. Home, Food & Free Time","E.06.03","03. Kitchen Gadgets","14316","01. Bar tools and accesories","14322","03. Tea/coffee accessories","","","","","","","","","X",null,"E.02.06","Stationery and bags","Table top accessories","Table accessories sets","","","","","18025",{"$f":"_xlfn.TEXTJOIN(\"; \",TRUE,ZCDT_EXPORT_2[[#This Row],[Sub-Category]:[Segment 5]])","v":"Table top accessories; Table accessories sets"}]
["AH","Baltic CDT","U4","04. Non-Edibles","U4.01","01. Home, Food & Free Time","E.06.03","03. Kitchen Gadgets","14316","01. Bar tools and accesories","14323","04. Wine accessories","","","","","","","","","X",null,"E.02.06","Stationery and bags","Stickers and hobby accessories","Hobby items","Beads","","","","18179",{"$f":"_xlfn.TEXTJOIN(\"; \",TRUE,ZCDT_EXPORT_2[[#This Row],[Sub-Category]:[Segment 5]])","v":"Stickers and hobby accessories; Hobby items; Beads"}]
["AH","Baltic CDT","U4","04. Non-Edibles","U4.01","01. Home, Food & Free Time","E.06.03","03. Kitchen Gadgets","14317","02. Cooking and baking utensils","19385","01. Different cooking utensils","","","","","","","","","X",null,"E.02.06","Stationery and bags","Stickers and hobby accessories","Hobby items","Craft punchers","","","","18180",{"$f":"_xlfn.TEXTJOIN(\"; \",TRUE,ZCDT_EXPORT_2[[#This Row],[Sub-Category]:[Segment 5]])","v":"Stickers and hobby accessories; Hobby items; Craft punchers"}]
["AH","Baltic CDT","U4","04. Non-Edibles","U4.01","01. Home, Food & Free Time","E.06.03","03. Kitchen Gadgets","14317","02. Cooking and baking utensils","19386","02. Ladles Skimmers, spoons, forks etc.","","","","","","","","","X",null,"E.02.06","Stationery and bags","Stickers and hobby accessories","Hobby items","other hobby materials","","","","18181",{"$f":"_xlfn.TEXTJOIN(\"; \",TRUE,ZCDT_EXPORT_2[[#This Row],[Sub-Category]:[Segment 5]])","v":"Stickers and hobby accessories; Hobby items; other hobby materials"}]
["AH","Baltic CDT","U4","04. Non-Edibles","U4.01","01. Home, Food & Free Time","E.06.03","03. Kitchen Gadgets","14317","02. Cooking and baking utensils","19387","03. Meat hammers, tenderizers","","","","","","","","","X",null,"E.02.06","Stationery and bags","Stickers and hobby accessories","Stickers","Hearts and Valentines day stickers","","","","18182",{"$f":"_xlfn.TEXTJOIN(\"; \",TRUE,ZCDT_EXPORT_2[[#This Row],[Sub-Category]:[Segment 5]])","v":"Stickers and hobby accessories; Stickers; Hearts and Valentines day stickers"}]
["AH","Baltic CDT","U4","04. Non-Edibles","U4.01","01. Home, Food & Free Time","E.06.03","03. Kitchen Gadgets","14317","02. Cooking and baking utensils","19388","04. Spatulas, turners","","","","","","","","","X",null,"E.02.06","Stationery and bags","Stickers and hobby accessories","Stickers","Christmas stickers","","","","18183",{"$f":"_xlfn.TEXTJOIN(\"; \",TRUE,ZCDT_EXPORT_2[[#This Row],[Sub-Category]:[Segment 5]])","v":"Stickers and hobby accessories; Stickers; Christmas stickers"}]
["AH","Baltic CDT","U4","04. Non-Edibles","U4.01","01. Home, Food & Free Time","E.06.03","03. Kitchen Gadgets","14317","02. Cooking and baking utensils","19389","05. Whisks, brushes","","","","","","","","","X",null,"E.02.06","Stationery and bags","Stickers and hobby accessories","Stickers","Easter stickers","","","","18184",{"$f":"_xlfn.TEXTJOIN(\"; \",TRUE,ZCDT_EXPORT_2[[#This Row],[Sub-Category]:[Segment 5]])","v":"Stickers and hobby accessories; Stickers; Easter stickers"}]
["AH","Baltic CDT","U4","04. Non-Edibles","U4.01","01. Home, Food & Free Time","E.06.03","03. Kitchen Gadgets","14317","02. Cooking and baking utensils","18085","06. Baking tools & accessories","18086","01. Baking tools","","","","","","","X",null,"E.02.06","Stationery and bags","Stickers and hobby accessories","Stickers","Non sesonal and other stickers","","","","18185",{"$f":"_xlfn.TEXTJOIN(\"; \",TRUE,ZCDT_EXPORT_2[[#This Row],[Sub-Category]:[Segment 5]])","v":"Stickers and hobby accessories; Stickers; Non sesonal and other stickers"}]
["AH","Baltic CDT","U4","04. Non-Edibles","U4.01","01. Home, Food & Free Time","E.06.03","03. Kitchen Gadgets","14317","02. Cooking and baking utensils","18085","06. Baking tools & accessories","18087","02. Mixing bowls","","","","","","","X",null,"E.02.06","Stationery and bags","Bags","Backpacks/sport bags","","","","","13886",{"$f":"_xlfn.TEXTJOIN(\"; \",TRUE,ZCDT_EXPORT_2[[#This Row],[Sub-Category]:[Segment 5]])","v":"Bags; Backpacks/sport bags"}]
["AH","Baltic CDT","U4","04. Non-Edibles","U4.01","01. Home, Food & Free Time","E.06.03","03. Kitchen Gadgets","14317","02. Cooking and baking utensils","18085","06. Baking tools & accessories","18088","03. Scales, timers, threads etc.","","","","","","","X",null,"E.02.06","Stationery and bags","Bags","Handbags","","","","","13887",{"$f":"_xlfn.TEXTJOIN(\"; \",TRUE,ZCDT_EXPORT_2[[#This Row],[Sub-Category]:[Segment 5]])","v":"Bags; Handbags"}]
["AH","Baltic CDT","U4","04. Non-Edibles","U4.01","01. Home, Food & Free Time","E.06.03","03. Kitchen Gadgets","14317","02. Cooking and baking utensils","18085","06. Baking tools & accessories","18089","04. Strainers, coolanders, funnels","","","","","","","X",null,"E.02.06","Stationery and bags","Bags","Shoe bags","","","","","13888",{"$f":"_xlfn.TEXTJOIN(\"; \",TRUE,ZCDT_EXPORT_2[[#This Row],[Sub-Category]:[Segment 5]])","v":"Bags; Shoe bags"}]
["AH","Baltic CDT","U4","04. Non-Edibles","U4.01","01. Home, Food & Free Time","E.06.03","03. Kitchen Gadgets","14317","02. Cooking and baking utensils","18085","06. Baking tools & accessories","18257","05. Cookie cutters / muffin forms","","","","","","","X",null,"E.02.06","Stationery and bags","Bags","Suitcases and trolley suitcases","","","","","13889",{"$f":"_xlfn.TEXTJOIN(\"; \",TRUE,ZCDT_EXPORT_2[[#This Row],[Sub-Category]:[Segment 5]])","v":"Bags; Suitcases and trolley suitcases"}]
["AH","Baltic CDT","U4","04. Non-Edibles","U4.01","01. Home, Food & Free Time","E.06.03","03. Kitchen Gadgets","14318","03. Cutting, slicing","14353","01. Cutting boards","14361","01. Different materials","","","","","","","X",null,"E.02.06","Stationery and bags","Bags","Wallets","","","","","13890",{"$f":"_xlfn.TEXTJOIN(\"; \",TRUE,ZCDT_EXPORT_2[[#This Row],[Sub-Category]:[Segment 5]])","v":"Bags; Wallets"}]
["AH","Baltic CDT","U4","04. Non-Edibles","U4.01","01. Home, Food & Free Time","E.06.03","03. Kitchen Gadgets","14318","03. Cutting, slicing","14353","01. Cutting boards","14362","02. Wooden","","","","","","","X",null,"E.02.06","Stationery and bags","Bags","Beach bags","","","","","18511",{"$f":"_xlfn.TEXTJOIN(\"; \",TRUE,ZCDT_EXPORT_2[[#This Row],[Sub-Category]:[Segment 5]])","v":"Bags; Beach bags"}]
["AH","Baltic CDT","U4","04. Non-Edibles","U4.01","01. Home, Food & Free Time","E.06.03","03. Kitchen Gadgets","14318","03. Cutting, slicing","14354","02. Cutting slicing accesories","","","","","","","","","X",null,"E.02.06","Stationery and bags","Magnets","","","","","","18195",{"$f":"_xlfn.TEXTJOIN(\"; \",TRUE,ZCDT_EXPORT_2[[#This Row],[Sub-Category]:[Segment 5]])","v":"Magnets"}]
["AH","Baltic CDT","U4","04. Non-Edibles","U4.01","01. Home, Food & Free Time","E.06.03","03. Kitchen Gadgets","14318","03. Cutting, slicing","14355","03. Graters, squeezers","","","","","","","","","X",null,"E.04.01","Candles and home deco","Candleholders","Candle plates","","","","","14015",{"$f":"_xlfn.TEXTJOIN(\"; \",TRUE,ZCDT_EXPORT_2[[#This Row],[Sub-Category]:[Segment 5]])","v":"Candleholders; Candle plates"}]
["AH","Baltic CDT","U4","04. Non-Edibles","U4.01","01. Home, Food & Free Time","E.06.03","03. Kitchen Gadgets","14318","03. Cutting, slicing","14356","04. Grinders and mortars","","","","","","","","","X",null,"E.04.01","Candles and home deco","Candleholders","Candleholders","","","","","14016",{"$f":"_xlfn.TEXTJOIN(\"; \",TRUE,ZCDT_EXPORT_2[[#This Row],[Sub-Category]:[Segment 5]])","v":"Candleholders; Candleholders"}]
["AH","Baltic CDT","U4","04. Non-Edibles","U4.01","01. Home, Food & Free Time","E.06.03","03. Kitchen Gadgets","14318","03. Cutting, slicing","14357","05. Knives","","","","","","","","","X",null,"E.04.01","Candles and home deco","Candles","Differnt shape candles","No scents","","","","14023",{"$f":"_xlfn.TEXTJOIN(\"; \",TRUE,ZCDT_EXPORT_2[[#This Row],[Sub-Category]:[Segment 5]])","v":"Candles; Differnt shape candles; No scents"}]
["AH","Baltic CDT","U4","04. Non-Edibles","U4.01","01. Home, Food & Free Time","E.06.03","03. Kitchen Gadgets","14318","03. Cutting, slicing","14358","06. Scissors","","","","","","","","","X",null,"E.04.01","Candles and home deco","Candles","Differnt shape candles","Scented","","","","14024",{"$f":"_xlfn.TEXTJOIN(\"; \",TRUE,ZCDT_EXPORT_2[[#This Row],[Sub-Category]:[Segment 5]])","v":"Candles; Differnt shape candles; Scented"}]
["AH","Baltic CDT","U4","04. Non-Edibles","U4.01","01. Home, Food & Free Time","E.06.03","03. Kitchen Gadgets","14318","03. Cutting, slicing","14359","07. Slicers, peelers, corers, cutters","","","","","","","","","X",null,"E.04.01","Candles and home deco","Candles","In glass","No scents","","","","14025",{"$f":"_xlfn.TEXTJOIN(\"; \",TRUE,ZCDT_EXPORT_2[[#This Row],[Sub-Category]:[Segment 5]])","v":"Candles; In glass; No scents"}]
["AH","Baltic CDT","U4","04. Non-Edibles","U4.01","01. Home, Food & Free Time","E.06.03","03. Kitchen Gadgets","19562","04. 1 EUR stand","","","","","","","","","","","X",null,"E.04.01","Candles and home deco","Candles","In glass","Scented","","","","14026",{"$f":"_xlfn.TEXTJOIN(\"; \",TRUE,ZCDT_EXPORT_2[[#This Row],[Sub-Category]:[Segment 5]])","v":"Candles; In glass; Scented"}]
["AH","Baltic CDT","U4","04. Non-Edibles","U4.01","01. Home, Food & Free Time","E.06.04","04. Disposable materials","18372","01. Aluminium foil","","","","","","","","","","","X",null,"E.04.01","Candles and home deco","Candles","Pillar","No scents","","","","14027",{"$f":"_xlfn.TEXTJOIN(\"; \",TRUE,ZCDT_EXPORT_2[[#This Row],[Sub-Category]:[Segment 5]])","v":"Candles; Pillar; No scents"}]
["AH","Baltic CDT","U4","04. Non-Edibles","U4.01","01. Home, Food & Free Time","E.06.04","04. Disposable materials","18373","02. Baking bags and sleeves","","","","","","","","","","","X",null,"E.04.01","Candles and home deco","Candles","Pillar","Scented","","","","14028",{"$f":"_xlfn.TEXTJOIN(\"; \",TRUE,ZCDT_EXPORT_2[[#This Row],[Sub-Category]:[Segment 5]])","v":"Candles; Pillar; Scented"}]
["AH","Baltic CDT","U4","04. Non-Edibles","U4.01","01. Home, Food & Free Time","E.06.04","04. Disposable materials","18374","03. Baking paper","18382","01. Pre-cut sheets","","","","","","","","","X",null,"E.04.01","Candles and home deco","Candles","Tapper","","","","","14020",{"$f":"_xlfn.TEXTJOIN(\"; \",TRUE,ZCDT_EXPORT_2[[#This Row],[Sub-Category]:[Segment 5]])","v":"Candles; Tapper"}]
["AH","Baltic CDT","U4","04. Non-Edibles","U4.01","01. Home, Food & Free Time","E.06.04","04. Disposable materials","18374","03. Baking paper","18383","02. Rolls","","","","","","","","","X",null,"E.04.01","Candles and home deco","Candles","Tealights","No scents","","","","14029",{"$f":"_xlfn.TEXTJOIN(\"; \",TRUE,ZCDT_EXPORT_2[[#This Row],[Sub-Category]:[Segment 5]])","v":"Candles; Tealights; No scents"}]
["AH","Baltic CDT","U4","04. Non-Edibles","U4.01","01. Home, Food & Free Time","E.06.04","04. Disposable materials","18375","04. Coffee, tea filters","","","","","","","","","","","X",null,"E.04.01","Candles and home deco","Candles","Tealights","Scented","","","","14030",{"$f":"_xlfn.TEXTJOIN(\"; \",TRUE,ZCDT_EXPORT_2[[#This Row],[Sub-Category]:[Segment 5]])","v":"Candles; Tealights; Scented"}]
["AH","Baltic CDT","U4","04. Non-Edibles","U4.01","01. Home, Food & Free Time","E.06.04","04. Disposable materials","18376","05. Food boxes and buckets","","","","","","","","","","","X",null,"E.04.01","Candles and home deco","Candles","Christmas candles","","","","","19361",{"$f":"_xlfn.TEXTJOIN(\"; \",TRUE,ZCDT_EXPORT_2[[#This Row],[Sub-Category]:[Segment 5]])","v":"Candles; Christmas candles"}]
["AH","Baltic CDT","U4","04. Non-Edibles","U4.01","01. Home, Food & Free Time","E.06.04","04. Disposable materials","18377","06. Food storage bags","","","","","","","","","","","X",null,"E.04.01","Candles and home deco","Candles","Other seasonal candles","","","","","19357",{"$f":"_xlfn.TEXTJOIN(\"; \",TRUE,ZCDT_EXPORT_2[[#This Row],[Sub-Category]:[Segment 5]])","v":"Candles; Other seasonal candles"}]
["AH","Baltic CDT","U4","04. Non-Edibles","U4.01","01. Home, Food & Free Time","E.06.04","04. Disposable materials","18378","07. Food wrap films","","","","","","","","","","","X",null,"E.04.01","Candles and home deco","Graveyard candles","","","","","","14698",{"$f":"_xlfn.TEXTJOIN(\"; \",TRUE,ZCDT_EXPORT_2[[#This Row],[Sub-Category]:[Segment 5]])","v":"Graveyard candles"}]
["AH","Baltic CDT","U4","04. Non-Edibles","U4.01","01. Home, Food & Free Time","E.06.04","04. Disposable materials","18379","08. Ice-cube bags and trays","","","","","","","","","","","X",null,"E.04.01","Candles and home deco","Photo and photo acessories","Albums","Albums for kids","","","","19374",{"$f":"_xlfn.TEXTJOIN(\"; \",TRUE,ZCDT_EXPORT_2[[#This Row],[Sub-Category]:[Segment 5]])","v":"Photo and photo acessories; Albums; Albums for kids"}]
["AH","Baltic CDT","U4","04. Non-Edibles","U4.01","01. Home, Food & Free Time","E.06.04","04. Disposable materials","18380","09. Baking cups and forms","18384","01. Paper","","","","","","","","","X",null,"E.04.01","Candles and home deco","Photo and photo acessories","Albums","Regular","","","","19375",{"$f":"_xlfn.TEXTJOIN(\"; \",TRUE,ZCDT_EXPORT_2[[#This Row],[Sub-Category]:[Segment 5]])","v":"Photo and photo acessories; Albums; Regular"}]
["AH","Baltic CDT","U4","04. Non-Edibles","U4.01","01. Home, Food & Free Time","E.06.04","04. Disposable materials","18380","09. Baking cups and forms","18385","02. Foil","","","","","","","","","X",null,"E.04.01","Candles and home deco","Photo and photo acessories","Frames","","","","","19373",{"$f":"_xlfn.TEXTJOIN(\"; \",TRUE,ZCDT_EXPORT_2[[#This Row],[Sub-Category]:[Segment 5]])","v":"Photo and photo acessories; Frames"}]
["AH","Baltic CDT","U4","04. Non-Edibles","U4.01","01. Home, Food & Free Time","E.04.04","04. DIY","14121","01. Basic tools","14130","01. Basic home furniture","","","","","","","","","X",null,"E.04.01","Candles and home deco","Interior decorations","","","","","","14159",{"$f":"_xlfn.TEXTJOIN(\"; \",TRUE,ZCDT_EXPORT_2[[#This Row],[Sub-Category]:[Segment 5]])","v":"Interior decorations"}]
["AH","Baltic CDT","U4","04. Non-Edibles","U4.01","01. Home, Food & Free Time","E.04.04","04. DIY","14121","01. Basic tools","14131","02. Glue, glue guns","","","","","","","","","X",null,"E.04.01","Candles and home deco","Outdoor candles","Anti-mosquito candles","","","","","19377",{"$f":"_xlfn.TEXTJOIN(\"; \",TRUE,ZCDT_EXPORT_2[[#This Row],[Sub-Category]:[Segment 5]])","v":"Outdoor candles; Anti-mosquito candles"}]
["AH","Baltic CDT","U4","04. Non-Edibles","U4.01","01. Home, Food & Free Time","E.04.04","04. DIY","14121","01. Basic tools","14132","03. Hand tool accesories","","","","","","","","","X",null,"E.04.01","Candles and home deco","Outdoor candles","Garden candles","","","","","19378",{"$f":"_xlfn.TEXTJOIN(\"; \",TRUE,ZCDT_EXPORT_2[[#This Row],[Sub-Category]:[Segment 5]])","v":"Outdoor candles; Garden candles"}]
["AH","Baltic CDT","U4","04. Non-Edibles","U4.01","01. Home, Food & Free Time","E.04.04","04. DIY","14121","01. Basic tools","14133","04. Hand tools","","","","","","","","","X",null,"E.04.01","Candles and home deco","Artificial flowers","","","","","","18704",{"$f":"_xlfn.TEXTJOIN(\"; \",TRUE,ZCDT_EXPORT_2[[#This Row],[Sub-Category]:[Segment 5]])","v":"Artificial flowers"}]
["AH","Baltic CDT","U4","04. Non-Edibles","U4.01","01. Home, Food & Free Time","E.04.04","04. DIY","14121","01. Basic tools","14134","05. Protective pads","","","","","","","","","X",null,"E.04.01","Candles and home deco","Incenses","Diffusers","","","","","14031",{"$f":"_xlfn.TEXTJOIN(\"; \",TRUE,ZCDT_EXPORT_2[[#This Row],[Sub-Category]:[Segment 5]])","v":"Incenses; Diffusers"}]
["AH","Baltic CDT","U4","04. Non-Edibles","U4.01","01. Home, Food & Free Time","E.04.04","04. DIY","14121","01. Basic tools","14135","06. Tapes","","","","","","","","","X",null,"E.04.01","Candles and home deco","Incenses","Holders","Inscense stick holders","","","","14039",{"$f":"_xlfn.TEXTJOIN(\"; \",TRUE,ZCDT_EXPORT_2[[#This Row],[Sub-Category]:[Segment 5]])","v":"Incenses; Holders; Inscense stick holders"}]
["AH","Baltic CDT","U4","04. Non-Edibles","U4.01","01. Home, Food & Free Time","E.04.04","04. DIY","14121","01. Basic tools","14136","07. Working gloves","","","","","","","","","X",null,"E.04.01","Candles and home deco","Incenses","Holders","Scented Oil and tabs holders","","","","14040",{"$f":"_xlfn.TEXTJOIN(\"; \",TRUE,ZCDT_EXPORT_2[[#This Row],[Sub-Category]:[Segment 5]])","v":"Incenses; Holders; Scented Oil and tabs holders"}]
["AH","Baltic CDT","U4","04. Non-Edibles","U4.01","01. Home, Food & Free Time","E.04.04","04. DIY","14122","02. Extenders and splitters","14138","01. Home extenders","","","","","","","","","X",null,"E.04.01","Candles and home deco","Incenses","Inscense sticks","","","","","14033",{"$f":"_xlfn.TEXTJOIN(\"; \",TRUE,ZCDT_EXPORT_2[[#This Row],[Sub-Category]:[Segment 5]])","v":"Incenses; Inscense sticks"}]
["AH","Baltic CDT","U4","04. Non-Edibles","U4.01","01. Home, Food & Free Time","E.04.04","04. DIY","14122","02. Extenders and splitters","14139","02. Outdor extenders","","","","","","","","","X",null,"E.04.01","Candles and home deco","Incenses","Scented oils","","","","","14035",{"$f":"_xlfn.TEXTJOIN(\"; \",TRUE,ZCDT_EXPORT_2[[#This Row],[Sub-Category]:[Segment 5]])","v":"Incenses; Scented oils"}]
["AH","Baltic CDT","U4","04. Non-Edibles","U4.01","01. Home, Food & Free Time","E.04.04","04. DIY","14122","02. Extenders and splitters","14140","03. Splitters","","","","","","","","","X",null,"E.04.01","Candles and home deco","Incenses","Scented tabs","","","","","14036",{"$f":"_xlfn.TEXTJOIN(\"; \",TRUE,ZCDT_EXPORT_2[[#This Row],[Sub-Category]:[Segment 5]])","v":"Incenses; Scented tabs"}]
["AH","Baltic CDT","U4","04. Non-Edibles","U4.01","01. Home, Food & Free Time","E.04.04","04. DIY","14122","02. Extenders and splitters","14141","04. Timers","","","","","","","","","X",null,"E.04.02","Car accessories and chemicals","Car accessories","Car bulbs","","","","","14043",{"$f":"_xlfn.TEXTJOIN(\"; \",TRUE,ZCDT_EXPORT_2[[#This Row],[Sub-Category]:[Segment 5]])","v":"Car accessories; Car bulbs"}]
["AH","Baltic CDT","U4","04. Non-Edibles","U4.01","01. Home, Food & Free Time","E.04.04","04. DIY","14124","04. medical kits and fire","","","","","","","","","","","X",null,"E.04.02","Car accessories and chemicals","Car accessories","Car fragrances","bags","","","","14050",{"$f":"_xlfn.TEXTJOIN(\"; \",TRUE,ZCDT_EXPORT_2[[#This Row],[Sub-Category]:[Segment 5]])","v":"Car accessories; Car fragrances; bags"}]
["AH","Baltic CDT","U4","04. Non-Edibles","U4.01","01. Home, Food & Free Time","E.04.04","04. DIY","14125","05. Protective window accesories","","","","","","","","","","","X",null,"E.04.02","Car accessories and chemicals","Car accessories","Car fragrances","dry","","","","14051",{"$f":"_xlfn.TEXTJOIN(\"; \",TRUE,ZCDT_EXPORT_2[[#This Row],[Sub-Category]:[Segment 5]])","v":"Car accessories; Car fragrances; dry"}]
["AH","Baltic CDT","U4","04. Non-Edibles","U4.01","01. Home, Food & Free Time","E.04.04","04. DIY","14126","06. Safety accessories","14145","01. Reflectors","","","","","","","","","X",null,"E.04.02","Car accessories and chemicals","Car accessories","Car fragrances","wet","","","","14052",{"$f":"_xlfn.TEXTJOIN(\"; \",TRUE,ZCDT_EXPORT_2[[#This Row],[Sub-Category]:[Segment 5]])","v":"Car accessories; Car fragrances; wet"}]
["AH","Baltic CDT","U4","04. Non-Edibles","U4.01","01. Home, Food & Free Time","E.04.04","04. DIY","14126","06. Safety accessories","14146","02. Smoke detectors","","","","","","","","","X",null,"E.04.02","Car accessories and chemicals","Car accessories","Car interior accesories","Carpets","","","","14054",{"$f":"_xlfn.TEXTJOIN(\"; \",TRUE,ZCDT_EXPORT_2[[#This Row],[Sub-Category]:[Segment 5]])","v":"Car accessories; Car interior accesories; Carpets"}]
["AH","Baltic CDT","U4","04. Non-Edibles","U4.01","01. Home, Food & Free Time","E.04.04","04. DIY","14126","06. Safety accessories","14147","03. Stickers","","","","","","","","","X",null,"E.04.02","Car accessories and chemicals","Car accessories","Car interior accesories","Children Car Seats","","","","14055",{"$f":"_xlfn.TEXTJOIN(\"; \",TRUE,ZCDT_EXPORT_2[[#This Row],[Sub-Category]:[Segment 5]])","v":"Car accessories; Car interior accesories; Children Car Seats"}]
["AH","Baltic CDT","U4","04. Non-Edibles","U4.01","01. Home, Food & Free Time","E.07.04","04. Grilling","14674","01. Charcoals, charcoal briquettes","","","","","","","","","","","X",null,"E.04.02","Car accessories and chemicals","Car accessories","Car interior accesories","Seat Covers","","","","14056",{"$f":"_xlfn.TEXTJOIN(\"; \",TRUE,ZCDT_EXPORT_2[[#This Row],[Sub-Category]:[Segment 5]])","v":"Car accessories; Car interior accesories; Seat Covers"}]
["AH","Baltic CDT","U4","04. Non-Edibles","U4.01","01. Home, Food & Free Time","E.07.04","04. Grilling","14675","02. Grilling accessories","14680","01. BBQ grids","","","","","","","","","X",null,"E.04.02","Car accessories and chemicals","Car accessories","Car interior accesories","Sunscreens","","","","14057",{"$f":"_xlfn.TEXTJOIN(\"; \",TRUE,ZCDT_EXPORT_2[[#This Row],[Sub-Category]:[Segment 5]])","v":"Car accessories; Car interior accesories; Sunscreens"}]
["AH","Baltic CDT","U4","04. Non-Edibles","U4.01","01. Home, Food & Free Time","E.07.04","04. Grilling","14675","02. Grilling accessories","14681","02. BBQ skewers","","","","","","","","","X",null,"E.04.02","Car accessories and chemicals","Car accessories","Car tools and  accesories","","","","","14046",{"$f":"_xlfn.TEXTJOIN(\"; \",TRUE,ZCDT_EXPORT_2[[#This Row],[Sub-Category]:[Segment 5]])","v":"Car accessories; Car tools and  accesories"}]
["AH","Baltic CDT","U4","04. Non-Edibles","U4.01","01. Home, Food & Free Time","E.07.04","04. Grilling","14675","02. Grilling accessories","14682","03. BBQ tools & accessories","","","","","","","","","X",null,"E.04.02","Car accessories and chemicals","Car accessories","Snow brushes and ice scrappers","","","","","14047",{"$f":"_xlfn.TEXTJOIN(\"; \",TRUE,ZCDT_EXPORT_2[[#This Row],[Sub-Category]:[Segment 5]])","v":"Car accessories; Snow brushes and ice scrappers"}]
["AH","Baltic CDT","U4","04. Non-Edibles","U4.01","01. Home, Food & Free Time","E.07.04","04. Grilling","14676","03. Grills","14685","01. Gas grills","","","","","","","","","X",null,"E.04.02","Car accessories and chemicals","Car accessories","Wiper Blades","","","","","14048",{"$f":"_xlfn.TEXTJOIN(\"; \",TRUE,ZCDT_EXPORT_2[[#This Row],[Sub-Category]:[Segment 5]])","v":"Car accessories; Wiper Blades"}]
["AH","Baltic CDT","U4","04. Non-Edibles","U4.01","01. Home, Food & Free Time","E.07.04","04. Grilling","14676","03. Grills","14686","02. Instant grills","","","","","","","","","X",null,"E.04.02","Car accessories and chemicals","Car chemical","Car addatives","","","","","14059",{"$f":"_xlfn.TEXTJOIN(\"; \",TRUE,ZCDT_EXPORT_2[[#This Row],[Sub-Category]:[Segment 5]])","v":"Car chemical; Car addatives"}]
["AH","Baltic CDT","U4","04. Non-Edibles","U4.01","01. Home, Food & Free Time","E.07.04","04. Grilling","14676","03. Grills","14687","03. Regular Grills","","","","","","","","","X",null,"E.04.02","Car accessories and chemicals","Car chemical","Car cleaning assortment","Glass cleaners","","","","14066",{"$f":"_xlfn.TEXTJOIN(\"; \",TRUE,ZCDT_EXPORT_2[[#This Row],[Sub-Category]:[Segment 5]])","v":"Car chemical; Car cleaning assortment; Glass cleaners"}]
["AH","Baltic CDT","U4","04. Non-Edibles","U4.01","01. Home, Food & Free Time","E.07.04","04. Grilling","14677","04. Ignition materials","14689","01. Fire lighters","","","","","","","","","X",null,"E.04.02","Car accessories and chemicals","Car chemical","Car cleaning assortment","Panel cocpits","","","","14067",{"$f":"_xlfn.TEXTJOIN(\"; \",TRUE,ZCDT_EXPORT_2[[#This Row],[Sub-Category]:[Segment 5]])","v":"Car chemical; Car cleaning assortment; Panel cocpits"}]
["AH","Baltic CDT","U4","04. Non-Edibles","U4.01","01. Home, Food & Free Time","E.07.04","04. Grilling","14677","04. Ignition materials","14690","02. Ignition liquids","","","","","","","","","X",null,"E.04.02","Car accessories and chemicals","Car chemical","Car cleaning assortment","Shampoo","","","","14068",{"$f":"_xlfn.TEXTJOIN(\"; \",TRUE,ZCDT_EXPORT_2[[#This Row],[Sub-Category]:[Segment 5]])","v":"Car chemical; Car cleaning assortment; Shampoo"}]
["AH","Baltic CDT","U4","04. Non-Edibles","U4.01","01. Home, Food & Free Time","E.07.04","04. Grilling","14677","04. Ignition materials","14691","03. Lamp oils","","","","","","","","","X",null,"E.04.02","Car accessories and chemicals","Car chemical","Car cleaning assortment","Shampoo with wax","","","","14069",{"$f":"_xlfn.TEXTJOIN(\"; \",TRUE,ZCDT_EXPORT_2[[#This Row],[Sub-Category]:[Segment 5]])","v":"Car chemical; Car cleaning assortment; Shampoo with wax"}]
["AH","Baltic CDT","U4","04. Non-Edibles","U4.01","01. Home, Food & Free Time","E.07.04","04. Grilling","14678","05. Wood, wood briquettes","","","","","","","","","","","X",null,"E.04.02","Car accessories and chemicals","Car chemical","Car cleaning assortment","Tire cleaners","","","","14070",{"$f":"_xlfn.TEXTJOIN(\"; \",TRUE,ZCDT_EXPORT_2[[#This Row],[Sub-Category]:[Segment 5]])","v":"Car chemical; Car cleaning assortment; Tire cleaners"}]
["AH","Baltic CDT","U4","04. Non-Edibles","U4.01","01. Home, Food & Free Time","E.04.05","05. Electric Bulbs","14151","01. Energy saving bulbs","","","","","","","","","","","X",null,"E.04.02","Car accessories and chemicals","Car chemical","Car cleaning assortment","Universal cloth and sponges","","","","14071",{"$f":"_xlfn.TEXTJOIN(\"; \",TRUE,ZCDT_EXPORT_2[[#This Row],[Sub-Category]:[Segment 5]])","v":"Car chemical; Car cleaning assortment; Universal cloth and sponges"}]
["AH","Baltic CDT","U4","04. Non-Edibles","U4.01","01. Home, Food & Free Time","E.04.05","05. Electric Bulbs","14152","02. Halogens","","","","","","","","","","","X",null,"E.04.02","Car accessories and chemicals","Car chemical","Car cleaning assortment","Upholstery and carpet cleaniners","","","","14072",{"$f":"_xlfn.TEXTJOIN(\"; \",TRUE,ZCDT_EXPORT_2[[#This Row],[Sub-Category]:[Segment 5]])","v":"Car chemical; Car cleaning assortment; Upholstery and carpet cleaniners"}]
["AH","Baltic CDT","U4","04. Non-Edibles","U4.01","01. Home, Food & Free Time","E.04.05","05. Electric Bulbs","14153","03. Incandescent bulbs","","","","","","","","","","","X",null,"E.04.02","Car accessories and chemicals","Car chemical","Car cleaning assortment","Wax","","","","14073",{"$f":"_xlfn.TEXTJOIN(\"; \",TRUE,ZCDT_EXPORT_2[[#This Row],[Sub-Category]:[Segment 5]])","v":"Car chemical; Car cleaning assortment; Wax"}]
["AH","Baltic CDT","U4","04. Non-Edibles","U4.01","01. Home, Food & Free Time","E.04.05","05. Electric Bulbs","14154","04. LED bulbs","","","","","","","","","","","X",null,"E.04.02","Car accessories and chemicals","Car chemical","Car exterior accesories","","","","","14061",{"$f":"_xlfn.TEXTJOIN(\"; \",TRUE,ZCDT_EXPORT_2[[#This Row],[Sub-Category]:[Segment 5]])","v":"Car chemical; Car exterior accesories"}]
["AH","Baltic CDT","U4","04. Non-Edibles","U4.01","01. Home, Food & Free Time","E.04.05","05. Electric Bulbs","14155","05. Special LED elements","","","","","","","","","","","X",null,"E.04.02","Car accessories and chemicals","Car chemical","Car interior accesories","","","","","14062",{"$f":"_xlfn.TEXTJOIN(\"; \",TRUE,ZCDT_EXPORT_2[[#This Row],[Sub-Category]:[Segment 5]])","v":"Car chemical; Car interior accesories"}]
["AH","Baltic CDT","U4","04. Non-Edibles","U4.01","01. Home, Food & Free Time","E.04.05","05. Electric Bulbs","19221","06. Torches","","","","","","","","","","","X",null,"E.04.02","Car accessories and chemicals","Car chemical","Car liquids","Antifreeze","","","","14075",{"$f":"_xlfn.TEXTJOIN(\"; \",TRUE,ZCDT_EXPORT_2[[#This Row],[Sub-Category]:[Segment 5]])","v":"Car chemical; Car liquids; Antifreeze"}]
["AH","Baltic CDT","U4","04. Non-Edibles","U4.01","01. Home, Food & Free Time","E.04.05","05. Electric Bulbs","19222","07. Head lamps","","","","","","","","","","","X",null,"E.04.02","Car accessories and chemicals","Car chemical","Car liquids","Break liquid","","","","14076",{"$f":"_xlfn.TEXTJOIN(\"; \",TRUE,ZCDT_EXPORT_2[[#This Row],[Sub-Category]:[Segment 5]])","v":"Car chemical; Car liquids; Break liquid"}]
["AH","Baltic CDT","U4","04. Non-Edibles","U4.01","01. Home, Food & Free Time","E.06.05","05. Kitchen textiles","14409","01. Accessories","14416","01. Aprons","","","","","","","","","X",null,"E.04.02","Car accessories and chemicals","Car chemical","Car liquids","Distillate water and other liquids","","","","14077",{"$f":"_xlfn.TEXTJOIN(\"; \",TRUE,ZCDT_EXPORT_2[[#This Row],[Sub-Category]:[Segment 5]])","v":"Car chemical; Car liquids; Distillate water and other liquids"}]
["AH","Baltic CDT","U4","04. Non-Edibles","U4.01","01. Home, Food & Free Time","E.06.05","05. Kitchen textiles","14409","01. Accessories","14417","02. Gloves","","","","","","","","","X",null,"E.04.02","Car accessories and chemicals","Car chemical","Car liquids","Windscreen liquid","summer","","","14080",{"$f":"_xlfn.TEXTJOIN(\"; \",TRUE,ZCDT_EXPORT_2[[#This Row],[Sub-Category]:[Segment 5]])","v":"Car chemical; Car liquids; Windscreen liquid; summer"}]
["AH","Baltic CDT","U4","04. Non-Edibles","U4.01","01. Home, Food & Free Time","E.06.05","05. Kitchen textiles","14409","01. Accessories","14418","03. Holders","","","","","","","","","X",null,"E.04.02","Car accessories and chemicals","Car chemical","Car liquids","Windscreen liquid","winter","","","14081",{"$f":"_xlfn.TEXTJOIN(\"; \",TRUE,ZCDT_EXPORT_2[[#This Row],[Sub-Category]:[Segment 5]])","v":"Car chemical; Car liquids; Windscreen liquid; winter"}]
["AH","Baltic CDT","U4","04. Non-Edibles","U4.01","01. Home, Food & Free Time","E.06.05","05. Kitchen textiles","14409","01. Accessories","14419","04. Sets","","","","","","","","","X",null,"E.04.02","Car accessories and chemicals","Car chemical","Car oils","Chain oil","","","","14082",{"$f":"_xlfn.TEXTJOIN(\"; \",TRUE,ZCDT_EXPORT_2[[#This Row],[Sub-Category]:[Segment 5]])","v":"Car chemical; Car oils; Chain oil"}]
["AH","Baltic CDT","U4","04. Non-Edibles","U4.01","01. Home, Food & Free Time","E.06.05","05. Kitchen textiles","14410","02. Kitchen towels","","","","","","","","","","","X",null,"E.04.02","Car accessories and chemicals","Car chemical","Car oils","Mineral oil","","","","14083",{"$f":"_xlfn.TEXTJOIN(\"; \",TRUE,ZCDT_EXPORT_2[[#This Row],[Sub-Category]:[Segment 5]])","v":"Car chemical; Car oils; Mineral oil"}]
["AH","Baltic CDT","U4","04. Non-Edibles","U4.01","01. Home, Food & Free Time","E.06.05","05. Kitchen textiles","14411","03. Table cloths","14421","01. Plain colour","","","","","","","","","X",null,"E.04.02","Car accessories and chemicals","Car chemical","Car oils","Power steering oil","","","","14084",{"$f":"_xlfn.TEXTJOIN(\"; \",TRUE,ZCDT_EXPORT_2[[#This Row],[Sub-Category]:[Segment 5]])","v":"Car chemical; Car oils; Power steering oil"}]
["AH","Baltic CDT","U4","04. Non-Edibles","U4.01","01. Home, Food & Free Time","E.06.05","05. Kitchen textiles","14411","03. Table cloths","14422","02. With design","","","","","","","","","X",null,"E.04.02","Car accessories and chemicals","Car chemical","Car oils","Semisintetic","","","","14085",{"$f":"_xlfn.TEXTJOIN(\"; \",TRUE,ZCDT_EXPORT_2[[#This Row],[Sub-Category]:[Segment 5]])","v":"Car chemical; Car oils; Semisintetic"}]
["AH","Baltic CDT","U4","04. Non-Edibles","U4.01","01. Home, Food & Free Time","E.06.05","05. Kitchen textiles","14412","04. Tablemats","14425","08. Different materials","","","","","","","","","X",null,"E.04.02","Car accessories and chemicals","Car chemical","Car oils","Sintetic","","","","14086",{"$f":"_xlfn.TEXTJOIN(\"; \",TRUE,ZCDT_EXPORT_2[[#This Row],[Sub-Category]:[Segment 5]])","v":"Car chemical; Car oils; Sintetic"}]
["AH","Baltic CDT","U4","04. Non-Edibles","U4.01","01. Home, Food & Free Time","E.06.05","05. Kitchen textiles","14412","04. Tablemats","14426","09. Textile","","","","","","","","","X",null,"E.04.03","Cleaning tools and accessories","Floor cleaning","Dry cleaning","Brooms","","","","14111",{"$f":"_xlfn.TEXTJOIN(\"; \",TRUE,ZCDT_EXPORT_2[[#This Row],[Sub-Category]:[Segment 5]])","v":"Floor cleaning; Dry cleaning; Brooms"}]
["AH","Baltic CDT","U4","04. Non-Edibles","U4.01","01. Home, Food & Free Time","E.07.06","06. Furniture and supplies","14697","02. Garden decorations","","","","","","","","","","","X",null,"E.04.03","Cleaning tools and accessories","Floor cleaning","Dry cleaning","Dry cleaning set","","","","14112",{"$f":"_xlfn.TEXTJOIN(\"; \",TRUE,ZCDT_EXPORT_2[[#This Row],[Sub-Category]:[Segment 5]])","v":"Floor cleaning; Dry cleaning; Dry cleaning set"}]
["AH","Baltic CDT","U4","04. Non-Edibles","U4.01","01. Home, Food & Free Time","E.07.06","06. Furniture and supplies","14700","05. Outdoor furniture","14717","01. Chairs","","","","","","","","","X",null,"E.04.03","Cleaning tools and accessories","Floor cleaning","Dry cleaning","Dustpans","","","","14113",{"$f":"_xlfn.TEXTJOIN(\"; \",TRUE,ZCDT_EXPORT_2[[#This Row],[Sub-Category]:[Segment 5]])","v":"Floor cleaning; Dry cleaning; Dustpans"}]
["AH","Baltic CDT","U4","04. Non-Edibles","U4.01","01. Home, Food & Free Time","E.07.06","06. Furniture and supplies","14700","05. Outdoor furniture","14718","02. different garden furniture","","","","","","","","","X",null,"E.04.03","Cleaning tools and accessories","Floor cleaning","Wet cleaning","Buckets","","","","14114",{"$f":"_xlfn.TEXTJOIN(\"; \",TRUE,ZCDT_EXPORT_2[[#This Row],[Sub-Category]:[Segment 5]])","v":"Floor cleaning; Wet cleaning; Buckets"}]
["AH","Baltic CDT","U4","04. Non-Edibles","U4.01","01. Home, Food & Free Time","E.07.06","06. Furniture and supplies","14700","05. Outdoor furniture","14719","03. Kids outdoor furniture","","","","","","","","","X",null,"E.04.03","Cleaning tools and accessories","Floor cleaning","Wet cleaning","Cloth","","","","14115",{"$f":"_xlfn.TEXTJOIN(\"; \",TRUE,ZCDT_EXPORT_2[[#This Row],[Sub-Category]:[Segment 5]])","v":"Floor cleaning; Wet cleaning; Cloth"}]
["AH","Baltic CDT","U4","04. Non-Edibles","U4.01","01. Home, Food & Free Time","E.07.06","06. Furniture and supplies","14700","05. Outdoor furniture","14720","04. Sets","","","","","","","","","X",null,"E.04.03","Cleaning tools and accessories","Floor cleaning","Wet cleaning","Mops","","","","14116",{"$f":"_xlfn.TEXTJOIN(\"; \",TRUE,ZCDT_EXPORT_2[[#This Row],[Sub-Category]:[Segment 5]])","v":"Floor cleaning; Wet cleaning; Mops"}]
["AH","Baltic CDT","U4","04. Non-Edibles","U4.01","01. Home, Food & Free Time","E.07.06","06. Furniture and supplies","14700","05. Outdoor furniture","14721","05. Sun loungers","","","","","","","","","X",null,"E.04.03","Cleaning tools and accessories","Floor cleaning","Wet cleaning","Wet cleaning sets","","","","14117",{"$f":"_xlfn.TEXTJOIN(\"; \",TRUE,ZCDT_EXPORT_2[[#This Row],[Sub-Category]:[Segment 5]])","v":"Floor cleaning; Wet cleaning; Wet cleaning sets"}]
["AH","Baltic CDT","U4","04. Non-Edibles","U4.01","01. Home, Food & Free Time","E.07.06","06. Furniture and supplies","14700","05. Outdoor furniture","14722","06. Sunshades","","","","","","","","","X",null,"E.04.03","Cleaning tools and accessories","Cleaning supplies","Brushes","","","","","14101",{"$f":"_xlfn.TEXTJOIN(\"; \",TRUE,ZCDT_EXPORT_2[[#This Row],[Sub-Category]:[Segment 5]])","v":"Cleaning supplies; Brushes"}]
["AH","Baltic CDT","U4","04. Non-Edibles","U4.01","01. Home, Food & Free Time","E.07.06","06. Furniture and supplies","14700","05. Outdoor furniture","14723","07. Tables","","","","","","","","","X",null,"E.04.03","Cleaning tools and accessories","Cleaning supplies","Clothes","","","","","14102",{"$f":"_xlfn.TEXTJOIN(\"; \",TRUE,ZCDT_EXPORT_2[[#This Row],[Sub-Category]:[Segment 5]])","v":"Cleaning supplies; Clothes"}]
["AH","Baltic CDT","U4","04. Non-Edibles","U4.01","01. Home, Food & Free Time","E.07.06","06. Furniture and supplies","14701","06. Solar lights & Torches","","","","","","","","","","","X",null,"E.04.03","Cleaning tools and accessories","Cleaning supplies","Sponges and scourers","","","","","14103",{"$f":"_xlfn.TEXTJOIN(\"; \",TRUE,ZCDT_EXPORT_2[[#This Row],[Sub-Category]:[Segment 5]])","v":"Cleaning supplies; Sponges and scourers"}]
["AH","Baltic CDT","U4","04. Non-Edibles","U4.01","01. Home, Food & Free Time","E.06.06","06. Party products and napkins","19435","01. Party accessories","19436","01. Balloons","19521","01. Latex","","","","","","","X",null,"E.04.03","Cleaning tools and accessories","Cleaning supplies","Drying mats","","","","","14789",{"$f":"_xlfn.TEXTJOIN(\"; \",TRUE,ZCDT_EXPORT_2[[#This Row],[Sub-Category]:[Segment 5]])","v":"Cleaning supplies; Drying mats"}]
["AH","Baltic CDT","U4","04. Non-Edibles","U4.01","01. Home, Food & Free Time","E.06.06","06. Party products and napkins","19435","01. Party accessories","19436","01. Balloons","19522","02. Foil","","","","","","","X",null,"E.04.03","Cleaning tools and accessories","Overall cleaning accessories","","","","","","14091",{"$f":"_xlfn.TEXTJOIN(\"; \",TRUE,ZCDT_EXPORT_2[[#This Row],[Sub-Category]:[Segment 5]])","v":"Overall cleaning accessories"}]
["AH","Baltic CDT","U4","04. Non-Edibles","U4.01","01. Home, Food & Free Time","E.06.06","06. Party products and napkins","19435","01. Party accessories","19437","02. Decorations","19438","01. Garlands","","","","","","","X",null,"E.04.03","Cleaning tools and accessories","Protective gloves","Disposable rubber gloves","","","","","14105",{"$f":"_xlfn.TEXTJOIN(\"; \",TRUE,ZCDT_EXPORT_2[[#This Row],[Sub-Category]:[Segment 5]])","v":"Protective gloves; Disposable rubber gloves"}]
["AH","Baltic CDT","U4","04. Non-Edibles","U4.01","01. Home, Food & Free Time","E.06.06","06. Party products and napkins","19435","01. Party accessories","19437","02. Decorations","19439","02. Hats","","","","","","","X",null,"E.04.03","Cleaning tools and accessories","Protective gloves","Multiusage rubber gloves","","","","","14106",{"$f":"_xlfn.TEXTJOIN(\"; \",TRUE,ZCDT_EXPORT_2[[#This Row],[Sub-Category]:[Segment 5]])","v":"Protective gloves; Multiusage rubber gloves"}]
["AH","Baltic CDT","U4","04. Non-Edibles","U4.01","01. Home, Food & Free Time","E.06.06","06. Party products and napkins","19435","01. Party accessories","19437","02. Decorations","19440","03. Masks","","","","","","","X",null,"E.04.03","Cleaning tools and accessories","Waste handling","Waste bins","","","","","14108",{"$f":"_xlfn.TEXTJOIN(\"; \",TRUE,ZCDT_EXPORT_2[[#This Row],[Sub-Category]:[Segment 5]])","v":"Waste handling; Waste bins"}]
["AH","Baltic CDT","U4","04. Non-Edibles","U4.01","01. Home, Food & Free Time","E.06.06","06. Party products and napkins","19435","01. Party accessories","19437","02. Decorations","19441","04. Serpentines","","","","","","","X",null,"E.04.03","Cleaning tools and accessories","Waste handling","Wastebags","","","","","14109",{"$f":"_xlfn.TEXTJOIN(\"; \",TRUE,ZCDT_EXPORT_2[[#This Row],[Sub-Category]:[Segment 5]])","v":"Waste handling; Wastebags"}]
["AH","Baltic CDT","U4","04. Non-Edibles","U4.01","01. Home, Food & Free Time","E.06.06","06. Party products and napkins","19435","01. Party accessories","19437","02. Decorations","19495","05. Number candles","","","","","","","X",null,"E.04.03","Cleaning tools and accessories","Window cleaning","","","","","","14095",{"$f":"_xlfn.TEXTJOIN(\"; \",TRUE,ZCDT_EXPORT_2[[#This Row],[Sub-Category]:[Segment 5]])","v":"Window cleaning"}]
["AH","Baltic CDT","U4","04. Non-Edibles","U4.01","01. Home, Food & Free Time","E.06.06","06. Party products and napkins","19435","01. Party accessories","19437","02. Decorations","19496","06. Sticks, skewers and stirrers","","","","","","","X",null,"E.04.03","Cleaning tools and accessories","Laundry care","Basins","","","","","14175",{"$f":"_xlfn.TEXTJOIN(\"; \",TRUE,ZCDT_EXPORT_2[[#This Row],[Sub-Category]:[Segment 5]])","v":"Laundry care; Basins"}]
["AH","Baltic CDT","U4","04. Non-Edibles","U4.01","01. Home, Food & Free Time","E.06.06","06. Party products and napkins","19435","01. Party accessories","19437","02. Decorations","19497","07. Toothpics","","","","","","","X",null,"E.04.03","Cleaning tools and accessories","Laundry care","Clothes dryers","","","","","14176",{"$f":"_xlfn.TEXTJOIN(\"; \",TRUE,ZCDT_EXPORT_2[[#This Row],[Sub-Category]:[Segment 5]])","v":"Laundry care; Clothes dryers"}]
["AH","Baltic CDT","U4","04. Non-Edibles","U4.01","01. Home, Food & Free Time","E.06.06","06. Party products and napkins","19435","01. Party accessories","19504","03. Party disposable tableware","19505","01. Disposable cups & glasses","","","","","","","X",null,"E.04.03","Cleaning tools and accessories","Laundry care","Ironing boards","","","","","14177",{"$f":"_xlfn.TEXTJOIN(\"; \",TRUE,ZCDT_EXPORT_2[[#This Row],[Sub-Category]:[Segment 5]])","v":"Laundry care; Ironing boards"}]
["AH","Baltic CDT","U4","04. Non-Edibles","U4.01","01. Home, Food & Free Time","E.06.06","06. Party products and napkins","19435","01. Party accessories","19504","03. Party disposable tableware","19506","02. Disposable plates","","","","","","","X",null,"E.04.03","Cleaning tools and accessories","Laundry care","Laundry baskets","","","","","14179",{"$f":"_xlfn.TEXTJOIN(\"; \",TRUE,ZCDT_EXPORT_2[[#This Row],[Sub-Category]:[Segment 5]])","v":"Laundry care; Laundry baskets"}]
["AH","Baltic CDT","U4","04. Non-Edibles","U4.01","01. Home, Food & Free Time","E.06.06","06. Party products and napkins","19435","01. Party accessories","19504","03. Party disposable tableware","19507","03. Disposable sets","","","","","","","X",null,"E.04.03","Cleaning tools and accessories","Laundry care","Laundry care accessories","","","","","14180",{"$f":"_xlfn.TEXTJOIN(\"; \",TRUE,ZCDT_EXPORT_2[[#This Row],[Sub-Category]:[Segment 5]])","v":"Laundry care; Laundry care accessories"}]
["AH","Baltic CDT","U4","04. Non-Edibles","U4.01","01. Home, Food & Free Time","E.06.06","06. Party products and napkins","19435","01. Party accessories","19504","03. Party disposable tableware","19508","04. Straws","","","","","","","X",null,"E.04.03","Cleaning tools and accessories","Storage boxes and baskets","Storage boxes other material","","","","","14192",{"$f":"_xlfn.TEXTJOIN(\"; \",TRUE,ZCDT_EXPORT_2[[#This Row],[Sub-Category]:[Segment 5]])","v":"Storage boxes and baskets; Storage boxes other material"}]
["AH","Baltic CDT","U4","04. Non-Edibles","U4.01","01. Home, Food & Free Time","E.06.06","06. Party products and napkins","19492","02. Napkins and table cover","19509","01. Paper napkins","19511","01. Plain colour","19517","01. 1-ply","","","","","X",null,"E.04.03","Cleaning tools and accessories","Storage boxes and baskets","Storage boxes plastic","","","","","14193",{"$f":"_xlfn.TEXTJOIN(\"; \",TRUE,ZCDT_EXPORT_2[[#This Row],[Sub-Category]:[Segment 5]])","v":"Storage boxes and baskets; Storage boxes plastic"}]
["AH","Baltic CDT","U4","04. Non-Edibles","U4.01","01. Home, Food & Free Time","E.06.06","06. Party products and napkins","19492","02. Napkins and table cover","19509","01. Paper napkins","19511","01. Plain colour","19518","02. 2-ply and more","","","","","X",null,"E.04.03","Cleaning tools and accessories","Wardrobe accessories","Clothes bags","","","","","14196",{"$f":"_xlfn.TEXTJOIN(\"; \",TRUE,ZCDT_EXPORT_2[[#This Row],[Sub-Category]:[Segment 5]])","v":"Wardrobe accessories; Clothes bags"}]
["AH","Baltic CDT","U4","04. Non-Edibles","U4.01","01. Home, Food & Free Time","E.06.06","06. Party products and napkins","19492","02. Napkins and table cover","19509","01. Paper napkins","19512","02. With design","19519","01. 1-ply","","","","","X",null,"E.04.03","Cleaning tools and accessories","Wardrobe accessories","Hangers","","","","","14197",{"$f":"_xlfn.TEXTJOIN(\"; \",TRUE,ZCDT_EXPORT_2[[#This Row],[Sub-Category]:[Segment 5]])","v":"Wardrobe accessories; Hangers"}]
["AH","Baltic CDT","U4","04. Non-Edibles","U4.01","01. Home, Food & Free Time","E.06.06","06. Party products and napkins","19492","02. Napkins and table cover","19509","01. Paper napkins","19512","02. With design","19520","02. 2-ply and more","","","","","X",null,"E.04.03","Cleaning tools and accessories","Wardrobe accessories","Lints rollers and cloth brushes","","","","","14198",{"$f":"_xlfn.TEXTJOIN(\"; \",TRUE,ZCDT_EXPORT_2[[#This Row],[Sub-Category]:[Segment 5]])","v":"Wardrobe accessories; Lints rollers and cloth brushes"}]
["AH","Baltic CDT","U4","04. Non-Edibles","U4.01","01. Home, Food & Free Time","E.06.06","06. Party products and napkins","19492","02. Napkins and table cover","19509","01. Paper napkins","19513","03. Christmas napkins","","","","","","","X",null,"E.04.03","Cleaning tools and accessories","Wardrobe accessories","Wardrobe organizers","","","","","14200",{"$f":"_xlfn.TEXTJOIN(\"; \",TRUE,ZCDT_EXPORT_2[[#This Row],[Sub-Category]:[Segment 5]])","v":"Wardrobe accessories; Wardrobe organizers"}]
["AH","Baltic CDT","U4","04. Non-Edibles","U4.01","01. Home, Food & Free Time","E.06.06","06. Party products and napkins","19492","02. Napkins and table cover","19509","01. Paper napkins","19514","04. Other seasonal napkins","","","","","","","X",null,"E.04.03","Cleaning tools and accessories","1 EUR Stand","","","","","","19485",{"$f":"_xlfn.TEXTJOIN(\"; \",TRUE,ZCDT_EXPORT_2[[#This Row],[Sub-Category]:[Segment 5]])","v":"1 EUR Stand"}]
["AH","Baltic CDT","U4","04. Non-Edibles","U4.01","01. Home, Food & Free Time","E.06.06","06. Party products and napkins","19492","02. Napkins and table cover","19510","02. Paper tablecloth","19515","01. Plain colour","","","","","","","X",null,"E.04.04","DIY","Basic tools","Basic home furniture","","","","","14130",{"$f":"_xlfn.TEXTJOIN(\"; \",TRUE,ZCDT_EXPORT_2[[#This Row],[Sub-Category]:[Segment 5]])","v":"Basic tools; Basic home furniture"}]
["AH","Baltic CDT","U4","04. Non-Edibles","U4.01","01. Home, Food & Free Time","E.06.06","06. Party products and napkins","19492","02. Napkins and table cover","19510","02. Paper tablecloth","19516","02. With design","","","","","","","X",null,"E.04.04","DIY","Basic tools","Glue, glue guns","","","","","14131",{"$f":"_xlfn.TEXTJOIN(\"; \",TRUE,ZCDT_EXPORT_2[[#This Row],[Sub-Category]:[Segment 5]])","v":"Basic tools; Glue, glue guns"}]
["AH","Baltic CDT","U4","04. Non-Edibles","U4.01","01. Home, Food & Free Time","E.02.06","06. Stationery and bags","40","01. Art equipment","13659","01. Art materials and accessories","17978","01. Chalk","","","","","","","X",null,"E.04.04","DIY","Basic tools","Hand tool accesories","","","","","14132",{"$f":"_xlfn.TEXTJOIN(\"; \",TRUE,ZCDT_EXPORT_2[[#This Row],[Sub-Category]:[Segment 5]])","v":"Basic tools; Hand tool accesories"}]
["AH","Baltic CDT","U4","04. Non-Edibles","U4.01","01. Home, Food & Free Time","E.02.06","06. Stationery and bags","40","01. Art equipment","13659","01. Art materials and accessories","17979","02. Palettes","","","","","","","X",null,"E.04.04","DIY","Basic tools","Hand tools","","","","","14133",{"$f":"_xlfn.TEXTJOIN(\"; \",TRUE,ZCDT_EXPORT_2[[#This Row],[Sub-Category]:[Segment 5]])","v":"Basic tools; Hand tools"}]
["AH","Baltic CDT","U4","04. Non-Edibles","U4.01","01. Home, Food & Free Time","E.02.06","06. Stationery and bags","40","01. Art equipment","13659","01. Art materials and accessories","17980","03. Water trays","","","","","","","X",null,"E.04.04","DIY","Basic tools","Protective pads","","","","","14134",{"$f":"_xlfn.TEXTJOIN(\"; \",TRUE,ZCDT_EXPORT_2[[#This Row],[Sub-Category]:[Segment 5]])","v":"Basic tools; Protective pads"}]
["AH","Baltic CDT","U4","04. Non-Edibles","U4.01","01. Home, Food & Free Time","E.02.06","06. Stationery and bags","40","01. Art equipment","13659","01. Art materials and accessories","17981","04. Other","","","","","","","X",null,"E.04.04","DIY","Basic tools","Tapes","","","","","14135",{"$f":"_xlfn.TEXTJOIN(\"; \",TRUE,ZCDT_EXPORT_2[[#This Row],[Sub-Category]:[Segment 5]])","v":"Basic tools; Tapes"}]
["AH","Baltic CDT","U4","04. Non-Edibles","U4.01","01. Home, Food & Free Time","E.02.06","06. Stationery and bags","40","01. Art equipment","13660","02. Brushes","","","","","","","","","X",null,"E.04.04","DIY","Basic tools","Working gloves","","","","","14136",{"$f":"_xlfn.TEXTJOIN(\"; \",TRUE,ZCDT_EXPORT_2[[#This Row],[Sub-Category]:[Segment 5]])","v":"Basic tools; Working gloves"}]
["AH","Baltic CDT","U4","04. Non-Edibles","U4.01","01. Home, Food & Free Time","E.02.06","06. Stationery and bags","40","01. Art equipment","13661","03. crayons","","","","","","","","","X",null,"E.04.04","DIY","Extenders and splitters","Home extenders","","","","","14138",{"$f":"_xlfn.TEXTJOIN(\"; \",TRUE,ZCDT_EXPORT_2[[#This Row],[Sub-Category]:[Segment 5]])","v":"Extenders and splitters; Home extenders"}]
["AH","Baltic CDT","U4","04. Non-Edibles","U4.01","01. Home, Food & Free Time","E.02.06","06. Stationery and bags","40","01. Art equipment","13662","04. modeling clay","","","","","","","","","X",null,"E.04.04","DIY","Extenders and splitters","Outdor extenders","","","","","14139",{"$f":"_xlfn.TEXTJOIN(\"; \",TRUE,ZCDT_EXPORT_2[[#This Row],[Sub-Category]:[Segment 5]])","v":"Extenders and splitters; Outdor extenders"}]
["AH","Baltic CDT","U4","04. Non-Edibles","U4.01","01. Home, Food & Free Time","E.02.06","06. Stationery and bags","40","01. Art equipment","13663","05. Paints","17982","01. Aquarel","","","","","","","X",null,"E.04.04","DIY","Extenders and splitters","Splitters","","","","","14140",{"$f":"_xlfn.TEXTJOIN(\"; \",TRUE,ZCDT_EXPORT_2[[#This Row],[Sub-Category]:[Segment 5]])","v":"Extenders and splitters; Splitters"}]
["AH","Baltic CDT","U4","04. Non-Edibles","U4.01","01. Home, Food & Free Time","E.02.06","06. Stationery and bags","40","01. Art equipment","13663","05. Paints","17983","02. Guasche","","","","","","","X",null,"E.04.04","DIY","Extenders and splitters","Timers","","","","","14141",{"$f":"_xlfn.TEXTJOIN(\"; \",TRUE,ZCDT_EXPORT_2[[#This Row],[Sub-Category]:[Segment 5]])","v":"Extenders and splitters; Timers"}]
["AH","Baltic CDT","U4","04. Non-Edibles","U4.01","01. Home, Food & Free Time","E.02.06","06. Stationery and bags","40","01. Art equipment","13663","05. Paints","17984","03. Other paints","","","","","","","X",null,"E.04.04","DIY","medical kits and fire","","","","","","14124",{"$f":"_xlfn.TEXTJOIN(\"; \",TRUE,ZCDT_EXPORT_2[[#This Row],[Sub-Category]:[Segment 5]])","v":"medical kits and fire"}]
["AH","Baltic CDT","U4","04. Non-Edibles","U4.01","01. Home, Food & Free Time","E.02.06","06. Stationery and bags","41","02. Organisers and accessories","13665","01. Different document organisers","","","","","","","","","X",null,"E.04.04","DIY","Protective window accesories","","","","","","14125",{"$f":"_xlfn.TEXTJOIN(\"; \",TRUE,ZCDT_EXPORT_2[[#This Row],[Sub-Category]:[Segment 5]])","v":"Protective window accesories"}]
["AH","Baltic CDT","U4","04. Non-Edibles","U4.01","01. Home, Food & Free Time","E.02.06","06. Stationery and bags","41","02. Organisers and accessories","13666","02. File folders","","","","","","","","","X",null,"E.04.04","DIY","Safety accessories","Reflectors","","","","","14145",{"$f":"_xlfn.TEXTJOIN(\"; \",TRUE,ZCDT_EXPORT_2[[#This Row],[Sub-Category]:[Segment 5]])","v":"Safety accessories; Reflectors"}]
["AH","Baltic CDT","U4","04. Non-Edibles","U4.01","01. Home, Food & Free Time","E.02.06","06. Stationery and bags","41","02. Organisers and accessories","13667","03. Pencil cases","13686","01. Empty pencil cases","","","","","","","X",null,"E.04.04","DIY","Safety accessories","Smoke detectors","","","","","14146",{"$f":"_xlfn.TEXTJOIN(\"; \",TRUE,ZCDT_EXPORT_2[[#This Row],[Sub-Category]:[Segment 5]])","v":"Safety accessories; Smoke detectors"}]
["AH","Baltic CDT","U4","04. Non-Edibles","U4.01","01. Home, Food & Free Time","E.02.06","06. Stationery and bags","41","02. Organisers and accessories","13667","03. Pencil cases","13687","02. Pencil cases with filling","","","","","","","X",null,"E.04.04","DIY","Safety accessories","Stickers","","","","","14147",{"$f":"_xlfn.TEXTJOIN(\"; \",TRUE,ZCDT_EXPORT_2[[#This Row],[Sub-Category]:[Segment 5]])","v":"Safety accessories; Stickers"}]
["AH","Baltic CDT","U4","04. Non-Edibles","U4.01","01. Home, Food & Free Time","E.02.06","06. Stationery and bags","41","02. Organisers and accessories","13668","04. Ring binders","","","","","","","","","X",null,"E.04.05","Electric Bulbs","Energy saving bulbs","","","","","","14151",{"$f":"_xlfn.TEXTJOIN(\"; \",TRUE,ZCDT_EXPORT_2[[#This Row],[Sub-Category]:[Segment 5]])","v":"Energy saving bulbs"}]
["AH","Baltic CDT","U4","04. Non-Edibles","U4.01","01. Home, Food & Free Time","E.02.06","06. Stationery and bags","41","02. Organisers and accessories","13669","05. School accessories sets","","","","","","","","","X",null,"E.04.05","Electric Bulbs","Halogens","","","","","","14152",{"$f":"_xlfn.TEXTJOIN(\"; \",TRUE,ZCDT_EXPORT_2[[#This Row],[Sub-Category]:[Segment 5]])","v":"Halogens"}]
["AH","Baltic CDT","U4","04. Non-Edibles","U4.01","01. Home, Food & Free Time","E.02.06","06. Stationery and bags","13619","03. Paper products","13672","01. Book and notebook covers","","","","","","","","","X",null,"E.04.05","Electric Bulbs","Incandescent bulbs","","","","","","14153",{"$f":"_xlfn.TEXTJOIN(\"; \",TRUE,ZCDT_EXPORT_2[[#This Row],[Sub-Category]:[Segment 5]])","v":"Incandescent bulbs"}]
["AH","Baltic CDT","U4","04. Non-Edibles","U4.01","01. Home, Food & Free Time","E.02.06","06. Stationery and bags","13619","03. Paper products","13673","02. Colored paper","","","","","","","","","X",null,"E.04.05","Electric Bulbs","LED bulbs","","","","","","14154",{"$f":"_xlfn.TEXTJOIN(\"; \",TRUE,ZCDT_EXPORT_2[[#This Row],[Sub-Category]:[Segment 5]])","v":"LED bulbs"}]
["AH","Baltic CDT","U4","04. Non-Edibles","U4.01","01. Home, Food & Free Time","E.02.06","06. Stationery and bags","13619","03. Paper products","13674","03. Copy paper","","","","","","","","","X",null,"E.04.05","Electric Bulbs","Special LED elements","","","","","","14155",{"$f":"_xlfn.TEXTJOIN(\"; \",TRUE,ZCDT_EXPORT_2[[#This Row],[Sub-Category]:[Segment 5]])","v":"Special LED elements"}]
["AH","Baltic CDT","U4","04. Non-Edibles","U4.01","01. Home, Food & Free Time","E.02.06","06. Stationery and bags","13619","03. Paper products","13675","04. Drawing paper","17985","01. Simple","17987","01. A4","","","","","X",null,"E.04.05","Electric Bulbs","Torches","","","","","","19221",{"$f":"_xlfn.TEXTJOIN(\"; \",TRUE,ZCDT_EXPORT_2[[#This Row],[Sub-Category]:[Segment 5]])","v":"Torches"}]
["AH","Baltic CDT","U4","04. Non-Edibles","U4.01","01. Home, Food & Free Time","E.02.06","06. Stationery and bags","13619","03. Paper products","13675","04. Drawing paper","17985","01. Simple","17988","02. A3","","","","","X",null,"E.04.05","Electric Bulbs","Head lamps","","","","","","19222",{"$f":"_xlfn.TEXTJOIN(\"; \",TRUE,ZCDT_EXPORT_2[[#This Row],[Sub-Category]:[Segment 5]])","v":"Head lamps"}]
["AH","Baltic CDT","U4","04. Non-Edibles","U4.01","01. Home, Food & Free Time","E.02.06","06. Stationery and bags","13619","03. Paper products","13675","04. Drawing paper","17986","02. For aquarel","17989","01. A4","","","","","X",null,"E.04.07","Home electric appliances","Dust bags","","","","","","14204",{"$f":"_xlfn.TEXTJOIN(\"; \",TRUE,ZCDT_EXPORT_2[[#This Row],[Sub-Category]:[Segment 5]])","v":"Dust bags"}]
["AH","Baltic CDT","U4","04. Non-Edibles","U4.01","01. Home, Food & Free Time","E.02.06","06. Stationery and bags","13619","03. Paper products","13675","04. Drawing paper","17986","02. For aquarel","17990","02. A3","","","","","X",null,"E.04.07","Home electric appliances","Heaters","","","","","","14205",{"$f":"_xlfn.TEXTJOIN(\"; \",TRUE,ZCDT_EXPORT_2[[#This Row],[Sub-Category]:[Segment 5]])","v":"Heaters"}]
["AH","Baltic CDT","U4","04. Non-Edibles","U4.01","01. Home, Food & Free Time","E.02.06","06. Stationery and bags","13619","03. Paper products","13676","05. Envelopes","","","","","","","","","X",null,"E.04.07","Home electric appliances","Irons","","","","","","14206",{"$f":"_xlfn.TEXTJOIN(\"; \",TRUE,ZCDT_EXPORT_2[[#This Row],[Sub-Category]:[Segment 5]])","v":"Irons"}]
["AH","Baltic CDT","U4","04. Non-Edibles","U4.01","01. Home, Food & Free Time","E.02.06","06. Stationery and bags","13619","03. Paper products","13677","06. Exercise books","17991","01. Lines","17995","01. 12 sheets","","","","","X",null,"E.04.07","Home electric appliances","Vacum cleaners","","","","","","14207",{"$f":"_xlfn.TEXTJOIN(\"; \",TRUE,ZCDT_EXPORT_2[[#This Row],[Sub-Category]:[Segment 5]])","v":"Vacum cleaners"}]
["AH","Baltic CDT","U4","04. Non-Edibles","U4.01","01. Home, Food & Free Time","E.02.06","06. Stationery and bags","13619","03. Paper products","13677","06. Exercise books","17991","01. Lines","17996","02. 18 sheets","","","","","X",null,"E.04.07","Home electric appliances","Ventilators","","","","","","14208",{"$f":"_xlfn.TEXTJOIN(\"; \",TRUE,ZCDT_EXPORT_2[[#This Row],[Sub-Category]:[Segment 5]])","v":"Ventilators"}]
["AH","Baltic CDT","U4","04. Non-Edibles","U4.01","01. Home, Food & Free Time","E.02.06","06. Stationery and bags","13619","03. Paper products","13677","06. Exercise books","17991","01. Lines","17997","03. 24 sheets","","","","","X",null,"E.04.08","Home and bath textiles","Bedding","Bed covers","","","","","14217",{"$f":"_xlfn.TEXTJOIN(\"; \",TRUE,ZCDT_EXPORT_2[[#This Row],[Sub-Category]:[Segment 5]])","v":"Bedding; Bed covers"}]
["AH","Baltic CDT","U4","04. Non-Edibles","U4.01","01. Home, Food & Free Time","E.02.06","06. Stationery and bags","13619","03. Paper products","13677","06. Exercise books","17992","02. Squares","17998","01. 12 sheets","","","","","X",null,"E.04.08","Home and bath textiles","Bedding","Bed linen sets","","","","","14218",{"$f":"_xlfn.TEXTJOIN(\"; \",TRUE,ZCDT_EXPORT_2[[#This Row],[Sub-Category]:[Segment 5]])","v":"Bedding; Bed linen sets"}]
["AH","Baltic CDT","U4","04. Non-Edibles","U4.01","01. Home, Food & Free Time","E.02.06","06. Stationery and bags","13619","03. Paper products","13677","06. Exercise books","17992","02. Squares","17999","02. 18 sheets","","","","","X",null,"E.04.08","Home and bath textiles","Bedding","Bottom sheets","","","","","14219",{"$f":"_xlfn.TEXTJOIN(\"; \",TRUE,ZCDT_EXPORT_2[[#This Row],[Sub-Category]:[Segment 5]])","v":"Bedding; Bottom sheets"}]
["AH","Baltic CDT","U4","04. Non-Edibles","U4.01","01. Home, Food & Free Time","E.02.06","06. Stationery and bags","13619","03. Paper products","13677","06. Exercise books","17992","02. Squares","18000","03. 24 sheets","","","","","X",null,"E.04.08","Home and bath textiles","Bedding","Mattresses","","","","","14220",{"$f":"_xlfn.TEXTJOIN(\"; \",TRUE,ZCDT_EXPORT_2[[#This Row],[Sub-Category]:[Segment 5]])","v":"Bedding; Mattresses"}]
["AH","Baltic CDT","U4","04. Non-Edibles","U4.01","01. Home, Food & Free Time","E.02.06","06. Stationery and bags","13619","03. Paper products","13677","06. Exercise books","17993","03. Music","","","","","","","X",null,"E.04.08","Home and bath textiles","Bedding","Pillow cases","","","","","14221",{"$f":"_xlfn.TEXTJOIN(\"; \",TRUE,ZCDT_EXPORT_2[[#This Row],[Sub-Category]:[Segment 5]])","v":"Bedding; Pillow cases"}]
["AH","Baltic CDT","U4","04. Non-Edibles","U4.01","01. Home, Food & Free Time","E.02.06","06. Stationery and bags","13619","03. Paper products","13677","06. Exercise books","17994","04. Other","","","","","","","X",null,"E.04.08","Home and bath textiles","Bedding","Quilt covers","","","","","14222",{"$f":"_xlfn.TEXTJOIN(\"; \",TRUE,ZCDT_EXPORT_2[[#This Row],[Sub-Category]:[Segment 5]])","v":"Bedding; Quilt covers"}]
["AH","Baltic CDT","U4","04. Non-Edibles","U4.01","01. Home, Food & Free Time","E.02.06","06. Stationery and bags","13619","03. Paper products","13678","07. Notebooks","18001","01. A5","18004","01. Lines","","","","","X",null,"E.04.08","Home and bath textiles","Bedding","Quilts, Pillows and Sets","","","","","14223",{"$f":"_xlfn.TEXTJOIN(\"; \",TRUE,ZCDT_EXPORT_2[[#This Row],[Sub-Category]:[Segment 5]])","v":"Bedding; Quilts, Pillows and Sets"}]
["AH","Baltic CDT","U4","04. Non-Edibles","U4.01","01. Home, Food & Free Time","E.02.06","06. Stationery and bags","13619","03. Paper products","13678","07. Notebooks","18001","01. A5","18005","02. Squares","","","","","X",null,"E.04.08","Home and bath textiles","Decorative cushions","","","","","","14212",{"$f":"_xlfn.TEXTJOIN(\"; \",TRUE,ZCDT_EXPORT_2[[#This Row],[Sub-Category]:[Segment 5]])","v":"Decorative cushions"}]
["AH","Baltic CDT","U4","04. Non-Edibles","U4.01","01. Home, Food & Free Time","E.02.06","06. Stationery and bags","13619","03. Paper products","13678","07. Notebooks","18001","01. A5","18006","03. Other","","","","","X",null,"E.04.08","Home and bath textiles","Rugs and carpets","Indoor carpets","","","","","14184",{"$f":"_xlfn.TEXTJOIN(\"; \",TRUE,ZCDT_EXPORT_2[[#This Row],[Sub-Category]:[Segment 5]])","v":"Rugs and carpets; Indoor carpets"}]
["AH","Baltic CDT","U4","04. Non-Edibles","U4.01","01. Home, Food & Free Time","E.02.06","06. Stationery and bags","13619","03. Paper products","13678","07. Notebooks","18002","02. A4","18007","01. Squares","","","","","X",null,"E.04.08","Home and bath textiles","Rugs and carpets","Outdoor rugs","","","","","14185",{"$f":"_xlfn.TEXTJOIN(\"; \",TRUE,ZCDT_EXPORT_2[[#This Row],[Sub-Category]:[Segment 5]])","v":"Rugs and carpets; Outdoor rugs"}]
["AH","Baltic CDT","U4","04. Non-Edibles","U4.01","01. Home, Food & Free Time","E.02.06","06. Stationery and bags","13619","03. Paper products","13678","07. Notebooks","18002","02. A4","18008","02. Other","","","","","X",null,"E.04.08","Home and bath textiles","Plaids","","","","","","14214",{"$f":"_xlfn.TEXTJOIN(\"; \",TRUE,ZCDT_EXPORT_2[[#This Row],[Sub-Category]:[Segment 5]])","v":"Plaids"}]
["AH","Baltic CDT","U4","04. Non-Edibles","U4.01","01. Home, Food & Free Time","E.02.06","06. Stationery and bags","13619","03. Paper products","13678","07. Notebooks","18003","03. Other","","","","","","","X",null,"E.04.08","Home and bath textiles","Curtains","","","","","","19086",{"$f":"_xlfn.TEXTJOIN(\"; \",TRUE,ZCDT_EXPORT_2[[#This Row],[Sub-Category]:[Segment 5]])","v":"Curtains"}]
["AH","Baltic CDT","U4","04. Non-Edibles","U4.01","01. Home, Food & Free Time","E.02.06","06. Stationery and bags","13619","03. Paper products","13679","08. Notepads","","","","","","","","","X",null,"E.04.08","Home and bath textiles","Bathroom terry towels","Bath towels","","","","","19381",{"$f":"_xlfn.TEXTJOIN(\"; \",TRUE,ZCDT_EXPORT_2[[#This Row],[Sub-Category]:[Segment 5]])","v":"Bathroom terry towels; Bath towels"}]
["AH","Baltic CDT","U4","04. Non-Edibles","U4.01","01. Home, Food & Free Time","E.02.06","06. Stationery and bags","13619","03. Paper products","13680","09. Planners","","","","","","","","","X",null,"E.04.08","Home and bath textiles","Bathroom terry towels","Hand towels","","","","","19382",{"$f":"_xlfn.TEXTJOIN(\"; \",TRUE,ZCDT_EXPORT_2[[#This Row],[Sub-Category]:[Segment 5]])","v":"Bathroom terry towels; Hand towels"}]
["AH","Baltic CDT","U4","04. Non-Edibles","U4.01","01. Home, Food & Free Time","E.02.06","06. Stationery and bags","13619","03. Paper products","13681","10. School diaries","","","","","","","","","X",null,"E.04.08","Home and bath textiles","Bathroom terry towels","Face towels","","","","","19383",{"$f":"_xlfn.TEXTJOIN(\"; \",TRUE,ZCDT_EXPORT_2[[#This Row],[Sub-Category]:[Segment 5]])","v":"Bathroom terry towels; Face towels"}]
["AH","Baltic CDT","U4","04. Non-Edibles","U4.01","01. Home, Food & Free Time","E.02.06","06. Stationery and bags","13619","03. Paper products","18009","11. Notes","","","","","","","","","X",null,"E.04.08","Home and bath textiles","Bathroom terry towels","Sets","","","","","19384",{"$f":"_xlfn.TEXTJOIN(\"; \",TRUE,ZCDT_EXPORT_2[[#This Row],[Sub-Category]:[Segment 5]])","v":"Bathroom terry towels; Sets"}]
["AH","Baltic CDT","U4","04. Non-Edibles","U4.01","01. Home, Food & Free Time","E.02.06","06. Stationery and bags","13619","03. Paper products","18010","12. Other paper products","","","","","","","","","X",null,"E.04.08","Home and bath textiles","Beach towels","","","","","","19380",{"$f":"_xlfn.TEXTJOIN(\"; \",TRUE,ZCDT_EXPORT_2[[#This Row],[Sub-Category]:[Segment 5]])","v":"Beach towels"}]
["AH","Baltic CDT","U4","04. Non-Edibles","U4.01","01. Home, Food & Free Time","E.02.06","06. Stationery and bags","13620","04. Table lamps","","","","","","","","","","","X",null,"E.04.08","Home and bath textiles","1 EUR stand","","","","","","19484",{"$f":"_xlfn.TEXTJOIN(\"; \",TRUE,ZCDT_EXPORT_2[[#This Row],[Sub-Category]:[Segment 5]])","v":"1 EUR stand"}]
["AH","Baltic CDT","U4","04. Non-Edibles","U4.01","01. Home, Food & Free Time","E.02.06","06. Stationery and bags","13621","05. Writing accessories","13682","01. Markers, felt tip pens","18031","01. Felt tip pens","","","","","","","X",null,"E.04.09","Yarns and handicraft","Yarns","Knitting yarns","","","","","18248",{"$f":"_xlfn.TEXTJOIN(\"; \",TRUE,ZCDT_EXPORT_2[[#This Row],[Sub-Category]:[Segment 5]])","v":"Yarns; Knitting yarns"}]
["AH","Baltic CDT","U4","04. Non-Edibles","U4.01","01. Home, Food & Free Time","E.02.06","06. Stationery and bags","13621","05. Writing accessories","13682","01. Markers, felt tip pens","18032","02. Highlighters","","","","","","","X",null,"E.04.09","Yarns and handicraft","Yarns","Sewing threads","","","","","18249",{"$f":"_xlfn.TEXTJOIN(\"; \",TRUE,ZCDT_EXPORT_2[[#This Row],[Sub-Category]:[Segment 5]])","v":"Yarns; Sewing threads"}]
["AH","Baltic CDT","U4","04. Non-Edibles","U4.01","01. Home, Food & Free Time","E.02.06","06. Stationery and bags","13621","05. Writing accessories","13682","01. Markers, felt tip pens","18033","03. Markers","","","","","","","X",null,"E.04.09","Yarns and handicraft","Yarns","Felting yarns","","","","","18250",{"$f":"_xlfn.TEXTJOIN(\"; \",TRUE,ZCDT_EXPORT_2[[#This Row],[Sub-Category]:[Segment 5]])","v":"Yarns; Felting yarns"}]
["AH","Baltic CDT","U4","04. Non-Edibles","U4.01","01. Home, Food & Free Time","E.02.06","06. Stationery and bags","13621","05. Writing accessories","13683","02. Pencils","13699","01. Colour pencils","","","","","","","X",null,"E.04.09","Yarns and handicraft","Handicraft accessories","Felting","","","","","18265",{"$f":"_xlfn.TEXTJOIN(\"; \",TRUE,ZCDT_EXPORT_2[[#This Row],[Sub-Category]:[Segment 5]])","v":"Handicraft accessories; Felting"}]
["AH","Baltic CDT","U4","04. Non-Edibles","U4.01","01. Home, Food & Free Time","E.02.06","06. Stationery and bags","13621","05. Writing accessories","13683","02. Pencils","13700","02. Pencil refills","","","","","","","X",null,"E.04.09","Yarns and handicraft","Handicraft accessories","Knitting","","","","","18266",{"$f":"_xlfn.TEXTJOIN(\"; \",TRUE,ZCDT_EXPORT_2[[#This Row],[Sub-Category]:[Segment 5]])","v":"Handicraft accessories; Knitting"}]
["AH","Baltic CDT","U4","04. Non-Edibles","U4.01","01. Home, Food & Free Time","E.02.06","06. Stationery and bags","13621","05. Writing accessories","13683","02. Pencils","13701","03. Pencils mehanical","","","","","","","X",null,"E.04.09","Yarns and handicraft","Handicraft accessories","Needlework","","","","","18267",{"$f":"_xlfn.TEXTJOIN(\"; \",TRUE,ZCDT_EXPORT_2[[#This Row],[Sub-Category]:[Segment 5]])","v":"Handicraft accessories; Needlework"}]
["AH","Baltic CDT","U4","04. Non-Edibles","U4.01","01. Home, Food & Free Time","E.02.06","06. Stationery and bags","13621","05. Writing accessories","13683","02. Pencils","13702","04. Regular pencils","","","","","","","X",null,"E.04.09","Yarns and handicraft","Handicraft accessories","Sewing","","","","","18268",{"$f":"_xlfn.TEXTJOIN(\"; \",TRUE,ZCDT_EXPORT_2[[#This Row],[Sub-Category]:[Segment 5]])","v":"Handicraft accessories; Sewing"}]
["AH","Baltic CDT","U4","04. Non-Edibles","U4.01","01. Home, Food & Free Time","E.02.06","06. Stationery and bags","13621","05. Writing accessories","13684","03. Pens","18034","01. Ballpoint","","","","","","","X",null,"E.04.10","Bathroom","Bathing accessories","","","","","","19087",{"$f":"_xlfn.TEXTJOIN(\"; \",TRUE,ZCDT_EXPORT_2[[#This Row],[Sub-Category]:[Segment 5]])","v":"Bathing accessories"}]
["AH","Baltic CDT","U4","04. Non-Edibles","U4.01","01. Home, Food & Free Time","E.02.06","06. Stationery and bags","13621","05. Writing accessories","13684","03. Pens","18035","02. Fineliner pens","","","","","","","X",null,"E.04.10","Bathroom","Shelves, Hooks, Holders","","","","","","19088",{"$f":"_xlfn.TEXTJOIN(\"; \",TRUE,ZCDT_EXPORT_2[[#This Row],[Sub-Category]:[Segment 5]])","v":"Shelves, Hooks, Holders"}]
["AH","Baltic CDT","U4","04. Non-Edibles","U4.01","01. Home, Food & Free Time","E.02.06","06. Stationery and bags","13621","05. Writing accessories","13684","03. Pens","18036","03. Fountain pens","","","","","","","X",null,"E.04.10","Bathroom","Showercurtains","","","","","","19089",{"$f":"_xlfn.TEXTJOIN(\"; \",TRUE,ZCDT_EXPORT_2[[#This Row],[Sub-Category]:[Segment 5]])","v":"Showercurtains"}]
["AH","Baltic CDT","U4","04. Non-Edibles","U4.01","01. Home, Food & Free Time","E.02.06","06. Stationery and bags","13621","05. Writing accessories","13684","03. Pens","18037","04. Gel","","","","","","","X",null,"E.04.10","Bathroom","Soap dispensers","","","","","","19090",{"$f":"_xlfn.TEXTJOIN(\"; \",TRUE,ZCDT_EXPORT_2[[#This Row],[Sub-Category]:[Segment 5]])","v":"Soap dispensers"}]
["AH","Baltic CDT","U4","04. Non-Edibles","U4.01","01. Home, Food & Free Time","E.02.06","06. Stationery and bags","13621","05. Writing accessories","13684","03. Pens","18038","05. Ink cartridges","","","","","","","X",null,"E.04.10","Bathroom","Soap holders","","","","","","19091",{"$f":"_xlfn.TEXTJOIN(\"; \",TRUE,ZCDT_EXPORT_2[[#This Row],[Sub-Category]:[Segment 5]])","v":"Soap holders"}]
["AH","Baltic CDT","U4","04. Non-Edibles","U4.01","01. Home, Food & Free Time","E.02.06","06. Stationery and bags","13621","05. Writing accessories","13684","03. Pens","18039","06. Multicolour pens","","","","","","","X",null,"E.04.10","Bathroom","Toothbrush cups/holders","","","","","","19092",{"$f":"_xlfn.TEXTJOIN(\"; \",TRUE,ZCDT_EXPORT_2[[#This Row],[Sub-Category]:[Segment 5]])","v":"Toothbrush cups/holders"}]
["AH","Baltic CDT","U4","04. Non-Edibles","U4.01","01. Home, Food & Free Time","E.02.06","06. Stationery and bags","13621","05. Writing accessories","13684","03. Pens","18040","07. Other pens","","","","","","","X",null,"E.04.10","Bathroom","WC/Bath mats","","","","","","19093",{"$f":"_xlfn.TEXTJOIN(\"; \",TRUE,ZCDT_EXPORT_2[[#This Row],[Sub-Category]:[Segment 5]])","v":"WC/Bath mats"}]
["AH","Baltic CDT","U4","04. Non-Edibles","U4.01","01. Home, Food & Free Time","E.02.06","06. Stationery and bags","13621","05. Writing accessories","13684","03. Pens","18041","08. Roller ball pens","","","","","","","X",null,"E.04.10","Bathroom","Bathmats and covers","","","","","","19094",{"$f":"_xlfn.TEXTJOIN(\"; \",TRUE,ZCDT_EXPORT_2[[#This Row],[Sub-Category]:[Segment 5]])","v":"Bathmats and covers"}]
["AH","Baltic CDT","U4","04. Non-Edibles","U4.01","01. Home, Food & Free Time","E.02.06","06. Stationery and bags","13621","05. Writing accessories","13684","03. Pens","18042","09. Topliner pens","","","","","","","X",null,"E.06.01","Disposable tableware","Disposable cups & glasses","Cups","","","","","14303",{"$f":"_xlfn.TEXTJOIN(\"; \",TRUE,ZCDT_EXPORT_2[[#This Row],[Sub-Category]:[Segment 5]])","v":"Disposable cups & glasses; Cups"}]
["AH","Baltic CDT","U4","04. Non-Edibles","U4.01","01. Home, Food & Free Time","E.02.06","06. Stationery and bags","13621","05. Writing accessories","13685","04. Writing items sets","","","","","","","","","X",null,"E.06.01","Disposable tableware","Disposable cups & glasses","Glasses","","","","","14304",{"$f":"_xlfn.TEXTJOIN(\"; \",TRUE,ZCDT_EXPORT_2[[#This Row],[Sub-Category]:[Segment 5]])","v":"Disposable cups & glasses; Glasses"}]
["AH","Baltic CDT","U4","04. Non-Edibles","U4.01","01. Home, Food & Free Time","E.02.06","06. Stationery and bags","18011","06. Table top accessories","18012","01. Adhesive tapes","","","","","","","","","X",null,"E.06.01","Disposable tableware","Disposable cutlery","Assorted cutlery sets","","","","","14305",{"$f":"_xlfn.TEXTJOIN(\"; \",TRUE,ZCDT_EXPORT_2[[#This Row],[Sub-Category]:[Segment 5]])","v":"Disposable cutlery; Assorted cutlery sets"}]
["AH","Baltic CDT","U4","04. Non-Edibles","U4.01","01. Home, Food & Free Time","E.02.06","06. Stationery and bags","18011","06. Table top accessories","18013","02. Calculators","","","","","","","","","X",null,"E.06.01","Disposable tableware","Disposable cutlery","Forks","","","","","14306",{"$f":"_xlfn.TEXTJOIN(\"; \",TRUE,ZCDT_EXPORT_2[[#This Row],[Sub-Category]:[Segment 5]])","v":"Disposable cutlery; Forks"}]
["AH","Baltic CDT","U4","04. Non-Edibles","U4.01","01. Home, Food & Free Time","E.02.06","06. Stationery and bags","18011","06. Table top accessories","18014","03. Compasses","","","","","","","","","X",null,"E.06.01","Disposable tableware","Disposable cutlery","Knifes","","","","","14845",{"$f":"_xlfn.TEXTJOIN(\"; \",TRUE,ZCDT_EXPORT_2[[#This Row],[Sub-Category]:[Segment 5]])","v":"Disposable cutlery; Knifes"}]
["AH","Baltic CDT","U4","04. Non-Edibles","U4.01","01. Home, Food & Free Time","E.02.06","06. Stationery and bags","18011","06. Table top accessories","18015","04. Correctors","","","","","","","","","X",null,"E.06.01","Disposable tableware","Disposable cutlery","Spoons","","","","","14846",{"$f":"_xlfn.TEXTJOIN(\"; \",TRUE,ZCDT_EXPORT_2[[#This Row],[Sub-Category]:[Segment 5]])","v":"Disposable cutlery; Spoons"}]
["AH","Baltic CDT","U4","04. Non-Edibles","U4.01","01. Home, Food & Free Time","E.02.06","06. Stationery and bags","18011","06. Table top accessories","18016","05. Cutters","","","","","","","","","X",null,"E.06.01","Disposable tableware","Disposable plates","Plate","","","","","14310",{"$f":"_xlfn.TEXTJOIN(\"; \",TRUE,ZCDT_EXPORT_2[[#This Row],[Sub-Category]:[Segment 5]])","v":"Disposable plates; Plate"}]
["AH","Baltic CDT","U4","04. Non-Edibles","U4.01","01. Home, Food & Free Time","E.02.06","06. Stationery and bags","18011","06. Table top accessories","18017","06. Erasers","","","","","","","","","X",null,"E.06.01","Disposable tableware","Disposable plates","Serving plate","","","","","14847",{"$f":"_xlfn.TEXTJOIN(\"; \",TRUE,ZCDT_EXPORT_2[[#This Row],[Sub-Category]:[Segment 5]])","v":"Disposable plates; Serving plate"}]
["AH","Baltic CDT","U4","04. Non-Edibles","U4.01","01. Home, Food & Free Time","E.02.06","06. Stationery and bags","18011","06. Table top accessories","18018","07. Glues","18026","01. Glue sticks","","","","","","","X",null,"E.06.01","Disposable tableware","Disposable plates","Bowl","","","","","14848",{"$f":"_xlfn.TEXTJOIN(\"; \",TRUE,ZCDT_EXPORT_2[[#This Row],[Sub-Category]:[Segment 5]])","v":"Disposable plates; Bowl"}]
["AH","Baltic CDT","U4","04. Non-Edibles","U4.01","01. Home, Food & Free Time","E.02.06","06. Stationery and bags","18011","06. Table top accessories","18018","07. Glues","18027","02. PVA","","","","","","","X",null,"E.06.01","Disposable tableware","Disposable tableware sets","","","","","","14298",{"$f":"_xlfn.TEXTJOIN(\"; \",TRUE,ZCDT_EXPORT_2[[#This Row],[Sub-Category]:[Segment 5]])","v":"Disposable tableware sets"}]
["AH","Baltic CDT","U4","04. Non-Edibles","U4.01","01. Home, Food & Free Time","E.02.06","06. Stationery and bags","18011","06. Table top accessories","18018","07. Glues","18028","03. Others","","","","","","","X",null,"E.06.02","Food preparation","Bakeware & Ovenware","Ceramic","","","","","18901",{"$f":"_xlfn.TEXTJOIN(\"; \",TRUE,ZCDT_EXPORT_2[[#This Row],[Sub-Category]:[Segment 5]])","v":"Bakeware & Ovenware; Ceramic"}]
["AH","Baltic CDT","U4","04. Non-Edibles","U4.01","01. Home, Food & Free Time","E.02.06","06. Stationery and bags","18011","06. Table top accessories","18019","08. Other table top items","","","","","","","","","X",null,"E.06.02","Food preparation","Bakeware & Ovenware","Glass","","","","","18902",{"$f":"_xlfn.TEXTJOIN(\"; \",TRUE,ZCDT_EXPORT_2[[#This Row],[Sub-Category]:[Segment 5]])","v":"Bakeware & Ovenware; Glass"}]
["AH","Baltic CDT","U4","04. Non-Edibles","U4.01","01. Home, Food & Free Time","E.02.06","06. Stationery and bags","18011","06. Table top accessories","18020","09. Pins and clips","","","","","","","","","X",null,"E.06.02","Food preparation","Bakeware & Ovenware","Metal","","","","","18903",{"$f":"_xlfn.TEXTJOIN(\"; \",TRUE,ZCDT_EXPORT_2[[#This Row],[Sub-Category]:[Segment 5]])","v":"Bakeware & Ovenware; Metal"}]
["AH","Baltic CDT","U4","04. Non-Edibles","U4.01","01. Home, Food & Free Time","E.02.06","06. Stationery and bags","18011","06. Table top accessories","18021","10. Rulers","","","","","","","","","X",null,"E.06.02","Food preparation","Bakeware & Ovenware","Silicon","","","","","18904",{"$f":"_xlfn.TEXTJOIN(\"; \",TRUE,ZCDT_EXPORT_2[[#This Row],[Sub-Category]:[Segment 5]])","v":"Bakeware & Ovenware; Silicon"}]
["AH","Baltic CDT","U4","04. Non-Edibles","U4.01","01. Home, Food & Free Time","E.02.06","06. Stationery and bags","18011","06. Table top accessories","18022","11. Scissors","","","","","","","","","X",null,"E.06.02","Food preparation","Cookware","Pans & lids","Frying pans","","","","14874",{"$f":"_xlfn.TEXTJOIN(\"; \",TRUE,ZCDT_EXPORT_2[[#This Row],[Sub-Category]:[Segment 5]])","v":"Cookware; Pans & lids; Frying pans"}]
["AH","Baltic CDT","U4","04. Non-Edibles","U4.01","01. Home, Food & Free Time","E.02.06","06. Stationery and bags","18011","06. Table top accessories","18023","12. Sharpeners","","","","","","","","","X",null,"E.06.02","Food preparation","Cookware","Pans & lids","Grill pans","","","","14875",{"$f":"_xlfn.TEXTJOIN(\"; \",TRUE,ZCDT_EXPORT_2[[#This Row],[Sub-Category]:[Segment 5]])","v":"Cookware; Pans & lids; Grill pans"}]
["AH","Baltic CDT","U4","04. Non-Edibles","U4.01","01. Home, Food & Free Time","E.02.06","06. Stationery and bags","18011","06. Table top accessories","18024","13. Staplers and punchers","18029","01. Punchers","","","","","","","X",null,"E.06.02","Food preparation","Cookware","Pans & lids","Lids","","","","14876",{"$f":"_xlfn.TEXTJOIN(\"; \",TRUE,ZCDT_EXPORT_2[[#This Row],[Sub-Category]:[Segment 5]])","v":"Cookware; Pans & lids; Lids"}]
["AH","Baltic CDT","U4","04. Non-Edibles","U4.01","01. Home, Food & Free Time","E.02.06","06. Stationery and bags","18011","06. Table top accessories","18024","13. Staplers and punchers","18030","02. Staplers","","","","","","","X",null,"E.06.02","Food preparation","Cookware","Pans & lids","Pancake & other pans","","","","14877",{"$f":"_xlfn.TEXTJOIN(\"; \",TRUE,ZCDT_EXPORT_2[[#This Row],[Sub-Category]:[Segment 5]])","v":"Cookware; Pans & lids; Pancake & other pans"}]
["AH","Baltic CDT","U4","04. Non-Edibles","U4.01","01. Home, Food & Free Time","E.02.06","06. Stationery and bags","18011","06. Table top accessories","18025","14. Table accessories sets","","","","","","","","","X",null,"E.06.02","Food preparation","Cookware","Pans & lids","Wok pans","","","","14878",{"$f":"_xlfn.TEXTJOIN(\"; \",TRUE,ZCDT_EXPORT_2[[#This Row],[Sub-Category]:[Segment 5]])","v":"Cookware; Pans & lids; Wok pans"}]
["AH","Baltic CDT","U4","04. Non-Edibles","U4.01","01. Home, Food & Free Time","E.02.06","06. Stationery and bags","22","07. Stickers and hobby accessories","13657","01. Hobby items","18179","01. Beads","","","","","","","X",null,"E.06.02","Food preparation","Cookware","Pots & other cookers","Juicers","","","","14880",{"$f":"_xlfn.TEXTJOIN(\"; \",TRUE,ZCDT_EXPORT_2[[#This Row],[Sub-Category]:[Segment 5]])","v":"Cookware; Pots & other cookers; Juicers"}]
["AH","Baltic CDT","U4","04. Non-Edibles","U4.01","01. Home, Food & Free Time","E.02.06","06. Stationery and bags","22","07. Stickers and hobby accessories","13657","01. Hobby items","18180","02. Craft punchers","","","","","","","X",null,"E.06.02","Food preparation","Cookware","Pots & other cookers","Pots & sautepans","","","","14881",{"$f":"_xlfn.TEXTJOIN(\"; \",TRUE,ZCDT_EXPORT_2[[#This Row],[Sub-Category]:[Segment 5]])","v":"Cookware; Pots & other cookers; Pots & sautepans"}]
["AH","Baltic CDT","U4","04. Non-Edibles","U4.01","01. Home, Food & Free Time","E.02.06","06. Stationery and bags","22","07. Stickers and hobby accessories","13657","01. Hobby items","18181","03. other hobby materials","","","","","","","X",null,"E.06.02","Food preparation","Cookware","Pots & other cookers","Steamers","","","","14882",{"$f":"_xlfn.TEXTJOIN(\"; \",TRUE,ZCDT_EXPORT_2[[#This Row],[Sub-Category]:[Segment 5]])","v":"Cookware; Pots & other cookers; Steamers"}]
["AH","Baltic CDT","U4","04. Non-Edibles","U4.01","01. Home, Food & Free Time","E.02.06","06. Stationery and bags","22","07. Stickers and hobby accessories","13658","02. Stickers","18182","01. Hearts and Valentines day stickers","","","","","","","X",null,"E.06.02","Food preparation","Cookware","Pots & other cookers","Fondues","","","","14885",{"$f":"_xlfn.TEXTJOIN(\"; \",TRUE,ZCDT_EXPORT_2[[#This Row],[Sub-Category]:[Segment 5]])","v":"Cookware; Pots & other cookers; Fondues"}]
["AH","Baltic CDT","U4","04. Non-Edibles","U4.01","01. Home, Food & Free Time","E.02.06","06. Stationery and bags","22","07. Stickers and hobby accessories","13658","02. Stickers","18183","02. Christmas stickers","","","","","","","X",null,"E.06.02","Food preparation","Cookware","Pots & other cookers","Pressure cookers","","","","14886",{"$f":"_xlfn.TEXTJOIN(\"; \",TRUE,ZCDT_EXPORT_2[[#This Row],[Sub-Category]:[Segment 5]])","v":"Cookware; Pots & other cookers; Pressure cookers"}]
["AH","Baltic CDT","U4","04. Non-Edibles","U4.01","01. Home, Food & Free Time","E.02.06","06. Stationery and bags","22","07. Stickers and hobby accessories","13658","02. Stickers","18184","03. Easter stickers","","","","","","","X",null,"E.06.02","Food preparation","Beverage makers","Tea kettles","","","","","18907",{"$f":"_xlfn.TEXTJOIN(\"; \",TRUE,ZCDT_EXPORT_2[[#This Row],[Sub-Category]:[Segment 5]])","v":"Beverage makers; Tea kettles"}]
["AH","Baltic CDT","U4","04. Non-Edibles","U4.01","01. Home, Food & Free Time","E.02.06","06. Stationery and bags","22","07. Stickers and hobby accessories","13658","02. Stickers","18185","04. Non sesonal and other stickers","","","","","","","X",null,"E.06.02","Food preparation","Beverage makers","Coffee pots","","","","","18908",{"$f":"_xlfn.TEXTJOIN(\"; \",TRUE,ZCDT_EXPORT_2[[#This Row],[Sub-Category]:[Segment 5]])","v":"Beverage makers; Coffee pots"}]
["AH","Baltic CDT","U4","04. Non-Edibles","U4.01","01. Home, Food & Free Time","E.02.06","06. Stationery and bags","13884","08. Bags","13886","01. Backpacks/sport bags","","","","","","","","","X",null,"E.06.02","Food preparation","1 EUR stand","","","","","","19561",{"$f":"_xlfn.TEXTJOIN(\"; \",TRUE,ZCDT_EXPORT_2[[#This Row],[Sub-Category]:[Segment 5]])","v":"1 EUR stand"}]
["AH","Baltic CDT","U4","04. Non-Edibles","U4.01","01. Home, Food & Free Time","E.02.06","06. Stationery and bags","13884","08. Bags","13887","02. Handbags","","","","","","","","","X",null,"E.06.03","Kitchen Gadgets","Bar tools and accesories","Openers and closers","","","","","14320",{"$f":"_xlfn.TEXTJOIN(\"; \",TRUE,ZCDT_EXPORT_2[[#This Row],[Sub-Category]:[Segment 5]])","v":"Bar tools and accesories; Openers and closers"}]
["AH","Baltic CDT","U4","04. Non-Edibles","U4.01","01. Home, Food & Free Time","E.02.06","06. Stationery and bags","13884","08. Bags","13888","03. Shoe bags","","","","","","","","","X",null,"E.06.03","Kitchen Gadgets","Bar tools and accesories","Tea strainers","","","","","14321",{"$f":"_xlfn.TEXTJOIN(\"; \",TRUE,ZCDT_EXPORT_2[[#This Row],[Sub-Category]:[Segment 5]])","v":"Bar tools and accesories; Tea strainers"}]
["AH","Baltic CDT","U4","04. Non-Edibles","U4.01","01. Home, Food & Free Time","E.02.06","06. Stationery and bags","13884","08. Bags","13889","04. Suitcases and trolley suitcases","","","","","","","","","X",null,"E.06.03","Kitchen Gadgets","Bar tools and accesories","Tea/coffee accessories","","","","","14322",{"$f":"_xlfn.TEXTJOIN(\"; \",TRUE,ZCDT_EXPORT_2[[#This Row],[Sub-Category]:[Segment 5]])","v":"Bar tools and accesories; Tea/coffee accessories"}]
["AH","Baltic CDT","U4","04. Non-Edibles","U4.01","01. Home, Food & Free Time","E.02.06","06. Stationery and bags","13884","08. Bags","13890","05. Wallets","","","","","","","","","X",null,"E.06.03","Kitchen Gadgets","Bar tools and accesories","Wine accessories","","","","","14323",{"$f":"_xlfn.TEXTJOIN(\"; \",TRUE,ZCDT_EXPORT_2[[#This Row],[Sub-Category]:[Segment 5]])","v":"Bar tools and accesories; Wine accessories"}]
["AH","Baltic CDT","U4","04. Non-Edibles","U4.01","01. Home, Food & Free Time","E.02.06","06. Stationery and bags","13884","08. Bags","18511","06. Beach bags","","","","","","","","","X",null,"E.06.03","Kitchen Gadgets","Cooking and baking utensils","Different cooking utensils","","","","","19385",{"$f":"_xlfn.TEXTJOIN(\"; \",TRUE,ZCDT_EXPORT_2[[#This Row],[Sub-Category]:[Segment 5]])","v":"Cooking and baking utensils; Different cooking utensils"}]
["AH","Baltic CDT","U4","04. Non-Edibles","U4.01","01. Home, Food & Free Time","E.02.06","06. Stationery and bags","18195","09. Magnets","","","","","","","","","","","X",null,"E.06.03","Kitchen Gadgets","Cooking and baking utensils","Ladles Skimmers, spoons, forks etc.","","","","","19386",{"$f":"_xlfn.TEXTJOIN(\"; \",TRUE,ZCDT_EXPORT_2[[#This Row],[Sub-Category]:[Segment 5]])","v":"Cooking and baking utensils; Ladles Skimmers, spoons, forks etc."}]
["AH","Baltic CDT","U4","04. Non-Edibles","U4.01","01. Home, Food & Free Time","E.04.07","07. Home electric appliances","14204","01. Dust bags","","","","","","","","","","","X",null,"E.06.03","Kitchen Gadgets","Cooking and baking utensils","Meat hammers, tenderizers","","","","","19387",{"$f":"_xlfn.TEXTJOIN(\"; \",TRUE,ZCDT_EXPORT_2[[#This Row],[Sub-Category]:[Segment 5]])","v":"Cooking and baking utensils; Meat hammers, tenderizers"}]
["AH","Baltic CDT","U4","04. Non-Edibles","U4.01","01. Home, Food & Free Time","E.04.07","07. Home electric appliances","14205","02. Heaters","","","","","","","","","","","X",null,"E.06.03","Kitchen Gadgets","Cooking and baking utensils","Spatulas, turners","","","","","19388",{"$f":"_xlfn.TEXTJOIN(\"; \",TRUE,ZCDT_EXPORT_2[[#This Row],[Sub-Category]:[Segment 5]])","v":"Cooking and baking utensils; Spatulas, turners"}]
["AH","Baltic CDT","U4","04. Non-Edibles","U4.01","01. Home, Food & Free Time","E.04.07","07. Home electric appliances","14206","03. Irons","","","","","","","","","","","X",null,"E.06.03","Kitchen Gadgets","Cooking and baking utensils","Whisks, brushes","","","","","19389",{"$f":"_xlfn.TEXTJOIN(\"; \",TRUE,ZCDT_EXPORT_2[[#This Row],[Sub-Category]:[Segment 5]])","v":"Cooking and baking utensils; Whisks, brushes"}]
["AH","Baltic CDT","U4","04. Non-Edibles","U4.01","01. Home, Food & Free Time","E.04.07","07. Home electric appliances","14207","04. Vacum cleaners","","","","","","","","","","","X",null,"E.06.03","Kitchen Gadgets","Cooking and baking utensils","Baking tools & accessories","Baking tools","","","","18086",{"$f":"_xlfn.TEXTJOIN(\"; \",TRUE,ZCDT_EXPORT_2[[#This Row],[Sub-Category]:[Segment 5]])","v":"Cooking and baking utensils; Baking tools & accessories; Baking tools"}]
["AH","Baltic CDT","U4","04. Non-Edibles","U4.01","01. Home, Food & Free Time","E.04.07","07. Home electric appliances","14208","05. Ventilators","","","","","","","","","","","X",null,"E.06.03","Kitchen Gadgets","Cooking and baking utensils","Baking tools & accessories","Mixing bowls","","","","18087",{"$f":"_xlfn.TEXTJOIN(\"; \",TRUE,ZCDT_EXPORT_2[[#This Row],[Sub-Category]:[Segment 5]])","v":"Cooking and baking utensils; Baking tools & accessories; Mixing bowls"}]
["AH","Baltic CDT","U4","04. Non-Edibles","U4.01","01. Home, Food & Free Time","E.06.07","07. Small domestic appliances","14485","01. El.kitchen appliances","14486","01. Cooking and baking","14494","01. Cooking appliances","","","","","","","X",null,"E.06.03","Kitchen Gadgets","Cooking and baking utensils","Baking tools & accessories","Scales, timers, threads etc.","","","","18088",{"$f":"_xlfn.TEXTJOIN(\"; \",TRUE,ZCDT_EXPORT_2[[#This Row],[Sub-Category]:[Segment 5]])","v":"Cooking and baking utensils; Baking tools & accessories; Scales, timers, threads etc."}]
["AH","Baltic CDT","U4","04. Non-Edibles","U4.01","01. Home, Food & Free Time","E.06.07","07. Small domestic appliances","14485","01. El.kitchen appliances","14486","01. Cooking and baking","14495","02. Sandwich makers","","","","","","","X",null,"E.06.03","Kitchen Gadgets","Cooking and baking utensils","Baking tools & accessories","Strainers, coolanders, funnels","","","","18089",{"$f":"_xlfn.TEXTJOIN(\"; \",TRUE,ZCDT_EXPORT_2[[#This Row],[Sub-Category]:[Segment 5]])","v":"Cooking and baking utensils; Baking tools & accessories; Strainers, coolanders, funnels"}]
["AH","Baltic CDT","U4","04. Non-Edibles","U4.01","01. Home, Food & Free Time","E.06.07","07. Small domestic appliances","14485","01. El.kitchen appliances","14486","01. Cooking and baking","14496","03. toasters","","","","","","","X",null,"E.06.03","Kitchen Gadgets","Cooking and baking utensils","Baking tools & accessories","Cookie cutters / muffin forms","","","","18257",{"$f":"_xlfn.TEXTJOIN(\"; \",TRUE,ZCDT_EXPORT_2[[#This Row],[Sub-Category]:[Segment 5]])","v":"Cooking and baking utensils; Baking tools & accessories; Cookie cutters / muffin forms"}]
["AH","Baltic CDT","U4","04. Non-Edibles","U4.01","01. Home, Food & Free Time","E.06.07","07. Small domestic appliances","14485","01. El.kitchen appliances","14486","01. Cooking and baking","14497","04. waffle makers","","","","","","","X",null,"E.06.03","Kitchen Gadgets","Cutting, slicing","Cutting boards","Different materials","","","","14361",{"$f":"_xlfn.TEXTJOIN(\"; \",TRUE,ZCDT_EXPORT_2[[#This Row],[Sub-Category]:[Segment 5]])","v":"Cutting, slicing; Cutting boards; Different materials"}]
["AH","Baltic CDT","U4","04. Non-Edibles","U4.01","01. Home, Food & Free Time","E.06.07","07. Small domestic appliances","14485","01. El.kitchen appliances","14487","02. Food preparation appliances","14500","01. blenders bowl","","","","","","","X",null,"E.06.03","Kitchen Gadgets","Cutting, slicing","Cutting boards","Wooden","","","","14362",{"$f":"_xlfn.TEXTJOIN(\"; \",TRUE,ZCDT_EXPORT_2[[#This Row],[Sub-Category]:[Segment 5]])","v":"Cutting, slicing; Cutting boards; Wooden"}]
["AH","Baltic CDT","U4","04. Non-Edibles","U4.01","01. Home, Food & Free Time","E.06.07","07. Small domestic appliances","14485","01. El.kitchen appliances","14487","02. Food preparation appliances","14501","02. blenders hand","","","","","","","X",null,"E.06.03","Kitchen Gadgets","Cutting, slicing","Cutting slicing accesories","","","","","14354",{"$f":"_xlfn.TEXTJOIN(\"; \",TRUE,ZCDT_EXPORT_2[[#This Row],[Sub-Category]:[Segment 5]])","v":"Cutting, slicing; Cutting slicing accesories"}]
["AH","Baltic CDT","U4","04. Non-Edibles","U4.01","01. Home, Food & Free Time","E.06.07","07. Small domestic appliances","14485","01. El.kitchen appliances","14487","02. Food preparation appliances","14502","03. Different food preparation appliance","","","","","","","X",null,"E.06.03","Kitchen Gadgets","Cutting, slicing","Graters, squeezers","","","","","14355",{"$f":"_xlfn.TEXTJOIN(\"; \",TRUE,ZCDT_EXPORT_2[[#This Row],[Sub-Category]:[Segment 5]])","v":"Cutting, slicing; Graters, squeezers"}]
["AH","Baltic CDT","U4","04. Non-Edibles","U4.01","01. Home, Food & Free Time","E.06.07","07. Small domestic appliances","14485","01. El.kitchen appliances","14487","02. Food preparation appliances","14503","04. mixers","","","","","","","X",null,"E.06.03","Kitchen Gadgets","Cutting, slicing","Grinders and mortars","","","","","14356",{"$f":"_xlfn.TEXTJOIN(\"; \",TRUE,ZCDT_EXPORT_2[[#This Row],[Sub-Category]:[Segment 5]])","v":"Cutting, slicing; Grinders and mortars"}]
["AH","Baltic CDT","U4","04. Non-Edibles","U4.01","01. Home, Food & Free Time","E.06.07","07. Small domestic appliances","14485","01. El.kitchen appliances","14488","03. Hot drinks appliances","14506","01. coffee makers","","","","","","","X",null,"E.06.03","Kitchen Gadgets","Cutting, slicing","Knives","","","","","14357",{"$f":"_xlfn.TEXTJOIN(\"; \",TRUE,ZCDT_EXPORT_2[[#This Row],[Sub-Category]:[Segment 5]])","v":"Cutting, slicing; Knives"}]
["AH","Baltic CDT","U4","04. Non-Edibles","U4.01","01. Home, Food & Free Time","E.06.07","07. Small domestic appliances","14485","01. El.kitchen appliances","14488","03. Hot drinks appliances","14507","02. water kettles","","","","","","","X",null,"E.06.03","Kitchen Gadgets","Cutting, slicing","Scissors","","","","","14358",{"$f":"_xlfn.TEXTJOIN(\"; \",TRUE,ZCDT_EXPORT_2[[#This Row],[Sub-Category]:[Segment 5]])","v":"Cutting, slicing; Scissors"}]
["AH","Baltic CDT","U4","04. Non-Edibles","U4.01","01. Home, Food & Free Time","E.06.07","07. Small domestic appliances","14485","01. El.kitchen appliances","14489","04. Juicers","14508","01. Citrus fruit juicers","","","","","","","X",null,"E.06.03","Kitchen Gadgets","Cutting, slicing","Slicers, peelers, corers, cutters","","","","","14359",{"$f":"_xlfn.TEXTJOIN(\"; \",TRUE,ZCDT_EXPORT_2[[#This Row],[Sub-Category]:[Segment 5]])","v":"Cutting, slicing; Slicers, peelers, corers, cutters"}]
["AH","Baltic CDT","U4","04. Non-Edibles","U4.01","01. Home, Food & Free Time","E.06.07","07. Small domestic appliances","14485","01. El.kitchen appliances","14489","04. Juicers","14509","02. Fruit and vegetable juice extractors","","","","","","","X",null,"E.06.03","Kitchen Gadgets","1 EUR stand","","","","","","19562",{"$f":"_xlfn.TEXTJOIN(\"; \",TRUE,ZCDT_EXPORT_2[[#This Row],[Sub-Category]:[Segment 5]])","v":"1 EUR stand"}]
["AH","Baltic CDT","U4","04. Non-Edibles","U4.01","01. Home, Food & Free Time","E.06.07","07. Small domestic appliances","14485","01. El.kitchen appliances","14490","05. Kitchen combains","","","","","","","","","X",null,"E.06.04","Disposable materials","Aluminium foil","","","","","","18372",{"$f":"_xlfn.TEXTJOIN(\"; \",TRUE,ZCDT_EXPORT_2[[#This Row],[Sub-Category]:[Segment 5]])","v":"Aluminium foil"}]
["AH","Baltic CDT","U4","04. Non-Edibles","U4.01","01. Home, Food & Free Time","E.06.07","07. Small domestic appliances","14485","01. El.kitchen appliances","18055","06. Kitchen scales","18056","01. Digital","","","","","","","X",null,"E.06.04","Disposable materials","Baking bags and sleeves","","","","","","18373",{"$f":"_xlfn.TEXTJOIN(\"; \",TRUE,ZCDT_EXPORT_2[[#This Row],[Sub-Category]:[Segment 5]])","v":"Baking bags and sleeves"}]
["AH","Baltic CDT","U4","04. Non-Edibles","U4.01","01. Home, Food & Free Time","E.07.07","07. Sports and camping","14726","01. All-year sport","14731","01. Fitness/ Gym equipment","14736","01. dumbbells/ weight bands","","","","","","","X",null,"E.06.04","Disposable materials","Baking paper","Pre-cut sheets","","","","","18382",{"$f":"_xlfn.TEXTJOIN(\"; \",TRUE,ZCDT_EXPORT_2[[#This Row],[Sub-Category]:[Segment 5]])","v":"Baking paper; Pre-cut sheets"}]
["AH","Baltic CDT","U4","04. Non-Edibles","U4.01","01. Home, Food & Free Time","E.07.07","07. Sports and camping","14726","01. All-year sport","14731","01. Fitness/ Gym equipment","14737","02. exercise machines","","","","","","","X",null,"E.06.04","Disposable materials","Baking paper","Rolls","","","","","18383",{"$f":"_xlfn.TEXTJOIN(\"; \",TRUE,ZCDT_EXPORT_2[[#This Row],[Sub-Category]:[Segment 5]])","v":"Baking paper; Rolls"}]
["AH","Baltic CDT","U4","04. Non-Edibles","U4.01","01. Home, Food & Free Time","E.07.07","07. Sports and camping","14726","01. All-year sport","14731","01. Fitness/ Gym equipment","14738","03. fitness accessories","","","","","","","X",null,"E.06.04","Disposable materials","Coffee, tea filters","","","","","","18375",{"$f":"_xlfn.TEXTJOIN(\"; \",TRUE,ZCDT_EXPORT_2[[#This Row],[Sub-Category]:[Segment 5]])","v":"Coffee, tea filters"}]
["AH","Baltic CDT","U4","04. Non-Edibles","U4.01","01. Home, Food & Free Time","E.07.07","07. Sports and camping","14726","01. All-year sport","14731","01. Fitness/ Gym equipment","14739","04. fitness mats","","","","","","","X",null,"E.06.04","Disposable materials","Food boxes and buckets","","","","","","18376",{"$f":"_xlfn.TEXTJOIN(\"; \",TRUE,ZCDT_EXPORT_2[[#This Row],[Sub-Category]:[Segment 5]])","v":"Food boxes and buckets"}]
["AH","Baltic CDT","U4","04. Non-Edibles","U4.01","01. Home, Food & Free Time","E.07.07","07. Sports and camping","14726","01. All-year sport","14731","01. Fitness/ Gym equipment","14740","05. supports, pads, gloves","","","","","","","X",null,"E.06.04","Disposable materials","Food storage bags","","","","","","18377",{"$f":"_xlfn.TEXTJOIN(\"; \",TRUE,ZCDT_EXPORT_2[[#This Row],[Sub-Category]:[Segment 5]])","v":"Food storage bags"}]
["AH","Baltic CDT","U4","04. Non-Edibles","U4.01","01. Home, Food & Free Time","E.07.07","07. Sports and camping","14726","01. All-year sport","14732","02. Sport games & equipment","14742","01. badminton, tennis and squash","","","","","","","X",null,"E.06.04","Disposable materials","Food wrap films","","","","","","18378",{"$f":"_xlfn.TEXTJOIN(\"; \",TRUE,ZCDT_EXPORT_2[[#This Row],[Sub-Category]:[Segment 5]])","v":"Food wrap films"}]
["AH","Baltic CDT","U4","04. Non-Edibles","U4.01","01. Home, Food & Free Time","E.07.07","07. Sports and camping","14726","01. All-year sport","14732","02. Sport games & equipment","14743","02. other sport equipment","","","","","","","X",null,"E.06.04","Disposable materials","Ice-cube bags and trays","","","","","","18379",{"$f":"_xlfn.TEXTJOIN(\"; \",TRUE,ZCDT_EXPORT_2[[#This Row],[Sub-Category]:[Segment 5]])","v":"Ice-cube bags and trays"}]
["AH","Baltic CDT","U4","04. Non-Edibles","U4.01","01. Home, Food & Free Time","E.07.07","07. Sports and camping","14726","01. All-year sport","14732","02. Sport games & equipment","14744","03. Sport balls & equipment","","","","","","","X",null,"E.06.04","Disposable materials","Baking cups and forms","Paper","","","","","18384",{"$f":"_xlfn.TEXTJOIN(\"; \",TRUE,ZCDT_EXPORT_2[[#This Row],[Sub-Category]:[Segment 5]])","v":"Baking cups and forms; Paper"}]
["AH","Baltic CDT","U4","04. Non-Edibles","U4.01","01. Home, Food & Free Time","E.07.07","07. Sports and camping","14726","01. All-year sport","14733","03. Swimming","14747","01. Caps","","","","","","","X",null,"E.06.04","Disposable materials","Baking cups and forms","Foil","","","","","18385",{"$f":"_xlfn.TEXTJOIN(\"; \",TRUE,ZCDT_EXPORT_2[[#This Row],[Sub-Category]:[Segment 5]])","v":"Baking cups and forms; Foil"}]
["AH","Baltic CDT","U4","04. Non-Edibles","U4.01","01. Home, Food & Free Time","E.07.07","07. Sports and camping","14726","01. All-year sport","14733","03. Swimming","14748","02. Googles","","","","","","","X",null,"E.06.05","Kitchen textiles","Accessories","Aprons","","","","","14416",{"$f":"_xlfn.TEXTJOIN(\"; \",TRUE,ZCDT_EXPORT_2[[#This Row],[Sub-Category]:[Segment 5]])","v":"Accessories; Aprons"}]
["AH","Baltic CDT","U4","04. Non-Edibles","U4.01","01. Home, Food & Free Time","E.07.07","07. Sports and camping","14726","01. All-year sport","14733","03. Swimming","14749","03. Swimming accessories","","","","","","","X",null,"E.06.05","Kitchen textiles","Accessories","Gloves","","","","","14417",{"$f":"_xlfn.TEXTJOIN(\"; \",TRUE,ZCDT_EXPORT_2[[#This Row],[Sub-Category]:[Segment 5]])","v":"Accessories; Gloves"}]
["AH","Baltic CDT","U4","04. Non-Edibles","U4.01","01. Home, Food & Free Time","E.07.07","07. Sports and camping","14696","01. Camping accessories","14704","01. Camping backpacks","","","","","","","","","X",null,"E.06.05","Kitchen textiles","Accessories","Holders","","","","","14418",{"$f":"_xlfn.TEXTJOIN(\"; \",TRUE,ZCDT_EXPORT_2[[#This Row],[Sub-Category]:[Segment 5]])","v":"Accessories; Holders"}]
["AH","Baltic CDT","U4","04. Non-Edibles","U4.01","01. Home, Food & Free Time","E.07.07","07. Sports and camping","14696","01. Camping accessories","14705","02. Camping chairs","","","","","","","","","X",null,"E.06.05","Kitchen textiles","Accessories","Sets","","","","","14419",{"$f":"_xlfn.TEXTJOIN(\"; \",TRUE,ZCDT_EXPORT_2[[#This Row],[Sub-Category]:[Segment 5]])","v":"Accessories; Sets"}]
["AH","Baltic CDT","U4","04. Non-Edibles","U4.01","01. Home, Food & Free Time","E.07.07","07. Sports and camping","14696","01. Camping accessories","14706","03. camping mats & rugs","","","","","","","","","X",null,"E.06.05","Kitchen textiles","Kitchen towels","","","","","","14410",{"$f":"_xlfn.TEXTJOIN(\"; \",TRUE,ZCDT_EXPORT_2[[#This Row],[Sub-Category]:[Segment 5]])","v":"Kitchen towels"}]
["AH","Baltic CDT","U4","04. Non-Edibles","U4.01","01. Home, Food & Free Time","E.07.07","07. Sports and camping","14696","01. Camping accessories","14707","04. Camping storage","14714","01. Cooler boxes & bags","","","","","","","X",null,"E.06.05","Kitchen textiles","Table cloths","Plain colour","","","","","14421",{"$f":"_xlfn.TEXTJOIN(\"; \",TRUE,ZCDT_EXPORT_2[[#This Row],[Sub-Category]:[Segment 5]])","v":"Table cloths; Plain colour"}]
["AH","Baltic CDT","U4","04. Non-Edibles","U4.01","01. Home, Food & Free Time","E.07.07","07. Sports and camping","14696","01. Camping accessories","14707","04. Camping storage","14892","02. Cooling elements","","","","","","","X",null,"E.06.05","Kitchen textiles","Table cloths","With design","","","","","14422",{"$f":"_xlfn.TEXTJOIN(\"; \",TRUE,ZCDT_EXPORT_2[[#This Row],[Sub-Category]:[Segment 5]])","v":"Table cloths; With design"}]
["AH","Baltic CDT","U4","04. Non-Edibles","U4.01","01. Home, Food & Free Time","E.07.07","07. Sports and camping","14696","01. Camping accessories","14708","05. different accessories","","","","","","","","","X",null,"E.06.05","Kitchen textiles","Tablemats","Different materials","","","","","14425",{"$f":"_xlfn.TEXTJOIN(\"; \",TRUE,ZCDT_EXPORT_2[[#This Row],[Sub-Category]:[Segment 5]])","v":"Tablemats; Different materials"}]
["AH","Baltic CDT","U4","04. Non-Edibles","U4.01","01. Home, Food & Free Time","E.07.07","07. Sports and camping","14696","01. Camping accessories","14709","06. Inflatable mattresses","","","","","","","","","X",null,"E.06.05","Kitchen textiles","Tablemats","Textile","","","","","14426",{"$f":"_xlfn.TEXTJOIN(\"; \",TRUE,ZCDT_EXPORT_2[[#This Row],[Sub-Category]:[Segment 5]])","v":"Tablemats; Textile"}]
["AH","Baltic CDT","U4","04. Non-Edibles","U4.01","01. Home, Food & Free Time","E.07.07","07. Sports and camping","14696","01. Camping accessories","14710","07. Raincoats","","","","","","","","","X",null,"E.06.06","Party products and napkins","Party accessories","Balloons","Latex","","","","19521",{"$f":"_xlfn.TEXTJOIN(\"; \",TRUE,ZCDT_EXPORT_2[[#This Row],[Sub-Category]:[Segment 5]])","v":"Party accessories; Balloons; Latex"}]
["AH","Baltic CDT","U4","04. Non-Edibles","U4.01","01. Home, Food & Free Time","E.07.07","07. Sports and camping","14696","01. Camping accessories","14711","08. Sleeping bags","","","","","","","","","X",null,"E.06.06","Party products and napkins","Party accessories","Balloons","Foil","","","","19522",{"$f":"_xlfn.TEXTJOIN(\"; \",TRUE,ZCDT_EXPORT_2[[#This Row],[Sub-Category]:[Segment 5]])","v":"Party accessories; Balloons; Foil"}]
["AH","Baltic CDT","U4","04. Non-Edibles","U4.01","01. Home, Food & Free Time","E.07.07","07. Sports and camping","14696","01. Camping accessories","14712","09. Tents","","","","","","","","","X",null,"E.06.06","Party products and napkins","Party accessories","Decorations","Garlands","","","","19438",{"$f":"_xlfn.TEXTJOIN(\"; \",TRUE,ZCDT_EXPORT_2[[#This Row],[Sub-Category]:[Segment 5]])","v":"Party accessories; Decorations; Garlands"}]
["AH","Baltic CDT","U4","04. Non-Edibles","U4.01","01. Home, Food & Free Time","E.07.07","07. Sports and camping","14727","02. Summer sport","14751","01. Biking","14755","01. Adults' bicycles","","","","","","","X",null,"E.06.06","Party products and napkins","Party accessories","Decorations","Hats","","","","19439",{"$f":"_xlfn.TEXTJOIN(\"; \",TRUE,ZCDT_EXPORT_2[[#This Row],[Sub-Category]:[Segment 5]])","v":"Party accessories; Decorations; Hats"}]
["AH","Baltic CDT","U4","04. Non-Edibles","U4.01","01. Home, Food & Free Time","E.07.07","07. Sports and camping","14727","02. Summer sport","14751","01. Biking","14756","02. Children's bicycles (up to 20\")","","","","","","","X",null,"E.06.06","Party products and napkins","Party accessories","Decorations","Masks","","","","19440",{"$f":"_xlfn.TEXTJOIN(\"; \",TRUE,ZCDT_EXPORT_2[[#This Row],[Sub-Category]:[Segment 5]])","v":"Party accessories; Decorations; Masks"}]
["AH","Baltic CDT","U4","04. Non-Edibles","U4.01","01. Home, Food & Free Time","E.07.07","07. Sports and camping","14727","02. Summer sport","14752","02. Rollers & riding sports","14758","01. roller skates","","","","","","","X",null,"E.06.06","Party products and napkins","Party accessories","Decorations","Serpentines","","","","19441",{"$f":"_xlfn.TEXTJOIN(\"; \",TRUE,ZCDT_EXPORT_2[[#This Row],[Sub-Category]:[Segment 5]])","v":"Party accessories; Decorations; Serpentines"}]
["AH","Baltic CDT","U4","04. Non-Edibles","U4.01","01. Home, Food & Free Time","E.07.07","07. Sports and camping","14727","02. Summer sport","14752","02. Rollers & riding sports","14759","02. scooters","","","","","","","X",null,"E.06.06","Party products and napkins","Party accessories","Decorations","Number candles","","","","19495",{"$f":"_xlfn.TEXTJOIN(\"; \",TRUE,ZCDT_EXPORT_2[[#This Row],[Sub-Category]:[Segment 5]])","v":"Party accessories; Decorations; Number candles"}]
["AH","Baltic CDT","U4","04. Non-Edibles","U4.01","01. Home, Food & Free Time","E.07.07","07. Sports and camping","14727","02. Summer sport","14752","02. Rollers & riding sports","14760","03. skateboards","","","","","","","X",null,"E.06.06","Party products and napkins","Party accessories","Decorations","Sticks, skewers and stirrers","","","","19496",{"$f":"_xlfn.TEXTJOIN(\"; \",TRUE,ZCDT_EXPORT_2[[#This Row],[Sub-Category]:[Segment 5]])","v":"Party accessories; Decorations; Sticks, skewers and stirrers"}]
["AH","Baltic CDT","U4","04. Non-Edibles","U4.01","01. Home, Food & Free Time","E.07.07","07. Sports and camping","14727","02. Summer sport","14753","03. Summer helmets & accessories","","","","","","","","","X",null,"E.06.06","Party products and napkins","Party accessories","Decorations","Toothpics","","","","19497",{"$f":"_xlfn.TEXTJOIN(\"; \",TRUE,ZCDT_EXPORT_2[[#This Row],[Sub-Category]:[Segment 5]])","v":"Party accessories; Decorations; Toothpics"}]
["AH","Baltic CDT","U4","04. Non-Edibles","U4.01","01. Home, Food & Free Time","E.07.07","07. Sports and camping","14728","03. Winter sport","14762","01. Skies and snowboards","14767","01. skies","","","","","","","X",null,"E.06.06","Party products and napkins","Party accessories","Party disposable tableware","Disposable cups & glasses","","","","19505",{"$f":"_xlfn.TEXTJOIN(\"; \",TRUE,ZCDT_EXPORT_2[[#This Row],[Sub-Category]:[Segment 5]])","v":"Party accessories; Party disposable tableware; Disposable cups & glasses"}]
["AH","Baltic CDT","U4","04. Non-Edibles","U4.01","01. Home, Food & Free Time","E.07.07","07. Sports and camping","14728","03. Winter sport","14762","01. Skies and snowboards","14768","02. skiing & snowboard accessories","","","","","","","X",null,"E.06.06","Party products and napkins","Party accessories","Party disposable tableware","Disposable plates","","","","19506",{"$f":"_xlfn.TEXTJOIN(\"; \",TRUE,ZCDT_EXPORT_2[[#This Row],[Sub-Category]:[Segment 5]])","v":"Party accessories; Party disposable tableware; Disposable plates"}]
["AH","Baltic CDT","U4","04. Non-Edibles","U4.01","01. Home, Food & Free Time","E.07.07","07. Sports and camping","14728","03. Winter sport","14762","01. Skies and snowboards","14769","03. snowboards","","","","","","","X",null,"E.06.06","Party products and napkins","Party accessories","Party disposable tableware","Disposable sets","","","","19507",{"$f":"_xlfn.TEXTJOIN(\"; \",TRUE,ZCDT_EXPORT_2[[#This Row],[Sub-Category]:[Segment 5]])","v":"Party accessories; Party disposable tableware; Disposable sets"}]
["AH","Baltic CDT","U4","04. Non-Edibles","U4.01","01. Home, Food & Free Time","E.07.07","07. Sports and camping","14728","03. Winter sport","14763","02. Sledges","14772","01. inflatable sledges","","","","","","","X",null,"E.06.06","Party products and napkins","Party accessories","Party disposable tableware","Straws","","","","19508",{"$f":"_xlfn.TEXTJOIN(\"; \",TRUE,ZCDT_EXPORT_2[[#This Row],[Sub-Category]:[Segment 5]])","v":"Party accessories; Party disposable tableware; Straws"}]
["AH","Baltic CDT","U4","04. Non-Edibles","U4.01","01. Home, Food & Free Time","E.07.07","07. Sports and camping","14728","03. Winter sport","14763","02. Sledges","14773","02. other sledges & accessories","","","","","","","X",null,"E.06.06","Party products and napkins","Napkins and table cover","Paper napkins","Plain colour","1-ply","","","19517",{"$f":"_xlfn.TEXTJOIN(\"; \",TRUE,ZCDT_EXPORT_2[[#This Row],[Sub-Category]:[Segment 5]])","v":"Napkins and table cover; Paper napkins; Plain colour; 1-ply"}]
["AH","Baltic CDT","U4","04. Non-Edibles","U4.01","01. Home, Food & Free Time","E.07.07","07. Sports and camping","14728","03. Winter sport","14763","02. Sledges","14774","03. plastic sledges","","","","","","","X",null,"E.06.06","Party products and napkins","Napkins and table cover","Paper napkins","Plain colour","2-ply and more","","","19518",{"$f":"_xlfn.TEXTJOIN(\"; \",TRUE,ZCDT_EXPORT_2[[#This Row],[Sub-Category]:[Segment 5]])","v":"Napkins and table cover; Paper napkins; Plain colour; 2-ply and more"}]
["AH","Baltic CDT","U4","04. Non-Edibles","U4.01","01. Home, Food & Free Time","E.07.07","07. Sports and camping","14728","03. Winter sport","14763","02. Sledges","14775","04. wooden sledges","","","","","","","X",null,"E.06.06","Party products and napkins","Napkins and table cover","Paper napkins","With design","1-ply","","","19519",{"$f":"_xlfn.TEXTJOIN(\"; \",TRUE,ZCDT_EXPORT_2[[#This Row],[Sub-Category]:[Segment 5]])","v":"Napkins and table cover; Paper napkins; With design; 1-ply"}]
["AH","Baltic CDT","U4","04. Non-Edibles","U4.01","01. Home, Food & Free Time","E.07.07","07. Sports and camping","14728","03. Winter sport","14764","03. Winter helmets","","","","","","","","","X",null,"E.06.06","Party products and napkins","Napkins and table cover","Paper napkins","With design","2-ply and more","","","19520",{"$f":"_xlfn.TEXTJOIN(\"; \",TRUE,ZCDT_EXPORT_2[[#This Row],[Sub-Category]:[Segment 5]])","v":"Napkins and table cover; Paper napkins; With design; 2-ply and more"}]
["AH","Baltic CDT","U4","04. Non-Edibles","U4.01","01. Home, Food & Free Time","E.07.07","07. Sports and camping","14728","03. Winter sport","14765","04. Winter skates","14778","01. figure skates","","","","","","","X",null,"E.06.06","Party products and napkins","Napkins and table cover","Paper napkins","Christmas napkins","","","","19513",{"$f":"_xlfn.TEXTJOIN(\"; \",TRUE,ZCDT_EXPORT_2[[#This Row],[Sub-Category]:[Segment 5]])","v":"Napkins and table cover; Paper napkins; Christmas napkins"}]
["AH","Baltic CDT","U4","04. Non-Edibles","U4.01","01. Home, Food & Free Time","E.07.07","07. Sports and camping","14728","03. Winter sport","14765","04. Winter skates","14779","02. hockey skates","","","","","","","X",null,"E.06.06","Party products and napkins","Napkins and table cover","Paper napkins","Other seasonal napkins","","","","19514",{"$f":"_xlfn.TEXTJOIN(\"; \",TRUE,ZCDT_EXPORT_2[[#This Row],[Sub-Category]:[Segment 5]])","v":"Napkins and table cover; Paper napkins; Other seasonal napkins"}]
["AH","Baltic CDT","U4","04. Non-Edibles","U4.01","01. Home, Food & Free Time","E.07.07","07. Sports and camping","14728","03. Winter sport","14765","04. Winter skates","14780","03. universal skates and sets","","","","","","","X",null,"E.06.06","Party products and napkins","Napkins and table cover","Paper tablecloth","Plain colour","","","","19515",{"$f":"_xlfn.TEXTJOIN(\"; \",TRUE,ZCDT_EXPORT_2[[#This Row],[Sub-Category]:[Segment 5]])","v":"Napkins and table cover; Paper tablecloth; Plain colour"}]
["AH","Baltic CDT","U4","04. Non-Edibles","U4.01","01. Home, Food & Free Time","E.04.08","08. Home and bath textiles","14211","01. Bedding","14217","01. Bed covers","","","","","","","","","X",null,"E.06.06","Party products and napkins","Napkins and table cover","Paper tablecloth","With design","","","","19516",{"$f":"_xlfn.TEXTJOIN(\"; \",TRUE,ZCDT_EXPORT_2[[#This Row],[Sub-Category]:[Segment 5]])","v":"Napkins and table cover; Paper tablecloth; With design"}]
["AH","Baltic CDT","U4","04. Non-Edibles","U4.01","01. Home, Food & Free Time","E.04.08","08. Home and bath textiles","14211","01. Bedding","14218","02. Bed linen sets","","","","","","","","","X",null,"E.06.07","Small domestic appliances","El.kitchen appliances","Cooking and baking","Cooking appliances","","","","14494",{"$f":"_xlfn.TEXTJOIN(\"; \",TRUE,ZCDT_EXPORT_2[[#This Row],[Sub-Category]:[Segment 5]])","v":"El.kitchen appliances; Cooking and baking; Cooking appliances"}]
["AH","Baltic CDT","U4","04. Non-Edibles","U4.01","01. Home, Food & Free Time","E.04.08","08. Home and bath textiles","14211","01. Bedding","14219","03. Bottom sheets","","","","","","","","","X",null,"E.06.07","Small domestic appliances","El.kitchen appliances","Cooking and baking","Sandwich makers","","","","14495",{"$f":"_xlfn.TEXTJOIN(\"; \",TRUE,ZCDT_EXPORT_2[[#This Row],[Sub-Category]:[Segment 5]])","v":"El.kitchen appliances; Cooking and baking; Sandwich makers"}]
["AH","Baltic CDT","U4","04. Non-Edibles","U4.01","01. Home, Food & Free Time","E.04.08","08. Home and bath textiles","14211","01. Bedding","14220","04. Mattresses","","","","","","","","","X",null,"E.06.07","Small domestic appliances","El.kitchen appliances","Cooking and baking","toasters","","","","14496",{"$f":"_xlfn.TEXTJOIN(\"; \",TRUE,ZCDT_EXPORT_2[[#This Row],[Sub-Category]:[Segment 5]])","v":"El.kitchen appliances; Cooking and baking; toasters"}]
["AH","Baltic CDT","U4","04. Non-Edibles","U4.01","01. Home, Food & Free Time","E.04.08","08. Home and bath textiles","14211","01. Bedding","14221","05. Pillow cases","","","","","","","","","X",null,"E.06.07","Small domestic appliances","El.kitchen appliances","Cooking and baking","waffle makers","","","","14497",{"$f":"_xlfn.TEXTJOIN(\"; \",TRUE,ZCDT_EXPORT_2[[#This Row],[Sub-Category]:[Segment 5]])","v":"El.kitchen appliances; Cooking and baking; waffle makers"}]
["AH","Baltic CDT","U4","04. Non-Edibles","U4.01","01. Home, Food & Free Time","E.04.08","08. Home and bath textiles","14211","01. Bedding","14222","06. Quilt covers","","","","","","","","","X",null,"E.06.07","Small domestic appliances","El.kitchen appliances","Food preparation appliances","blenders bowl","","","","14500",{"$f":"_xlfn.TEXTJOIN(\"; \",TRUE,ZCDT_EXPORT_2[[#This Row],[Sub-Category]:[Segment 5]])","v":"El.kitchen appliances; Food preparation appliances; blenders bowl"}]
["AH","Baltic CDT","U4","04. Non-Edibles","U4.01","01. Home, Food & Free Time","E.04.08","08. Home and bath textiles","14211","01. Bedding","14223","07. Quilts, Pillows and Sets","","","","","","","","","X",null,"E.06.07","Small domestic appliances","El.kitchen appliances","Food preparation appliances","blenders hand","","","","14501",{"$f":"_xlfn.TEXTJOIN(\"; \",TRUE,ZCDT_EXPORT_2[[#This Row],[Sub-Category]:[Segment 5]])","v":"El.kitchen appliances; Food preparation appliances; blenders hand"}]
["AH","Baltic CDT","U4","04. Non-Edibles","U4.01","01. Home, Food & Free Time","E.04.08","08. Home and bath textiles","14212","02. Decorative cushions","","","","","","","","","","","X",null,"E.06.07","Small domestic appliances","El.kitchen appliances","Food preparation appliances","Different food preparation appliance","","","","14502",{"$f":"_xlfn.TEXTJOIN(\"; \",TRUE,ZCDT_EXPORT_2[[#This Row],[Sub-Category]:[Segment 5]])","v":"El.kitchen appliances; Food preparation appliances; Different food preparation appliance"}]
["AH","Baltic CDT","U4","04. Non-Edibles","U4.01","01. Home, Food & Free Time","E.04.08","08. Home and bath textiles","14161","03. Rugs and carpets","14184","01. Indoor carpets","","","","","","","","","X",null,"E.06.07","Small domestic appliances","El.kitchen appliances","Food preparation appliances","mixers","","","","14503",{"$f":"_xlfn.TEXTJOIN(\"; \",TRUE,ZCDT_EXPORT_2[[#This Row],[Sub-Category]:[Segment 5]])","v":"El.kitchen appliances; Food preparation appliances; mixers"}]
["AH","Baltic CDT","U4","04. Non-Edibles","U4.01","01. Home, Food & Free Time","E.04.08","08. Home and bath textiles","14161","03. Rugs and carpets","14185","02. Outdoor rugs","","","","","","","","","X",null,"E.06.07","Small domestic appliances","El.kitchen appliances","Hot drinks appliances","coffee makers","","","","14506",{"$f":"_xlfn.TEXTJOIN(\"; \",TRUE,ZCDT_EXPORT_2[[#This Row],[Sub-Category]:[Segment 5]])","v":"El.kitchen appliances; Hot drinks appliances; coffee makers"}]
["AH","Baltic CDT","U4","04. Non-Edibles","U4.01","01. Home, Food & Free Time","E.04.08","08. Home and bath textiles","14214","04. Plaids","","","","","","","","","","","X",null,"E.06.07","Small domestic appliances","El.kitchen appliances","Hot drinks appliances","water kettles","","","","14507",{"$f":"_xlfn.TEXTJOIN(\"; \",TRUE,ZCDT_EXPORT_2[[#This Row],[Sub-Category]:[Segment 5]])","v":"El.kitchen appliances; Hot drinks appliances; water kettles"}]
["AH","Baltic CDT","U4","04. Non-Edibles","U4.01","01. Home, Food & Free Time","E.04.08","08. Home and bath textiles","19086","05. Curtains","","","","","","","","","","","X",null,"E.06.07","Small domestic appliances","El.kitchen appliances","Juicers","Citrus fruit juicers","","","","14508",{"$f":"_xlfn.TEXTJOIN(\"; \",TRUE,ZCDT_EXPORT_2[[#This Row],[Sub-Category]:[Segment 5]])","v":"El.kitchen appliances; Juicers; Citrus fruit juicers"}]
["AH","Baltic CDT","U4","04. Non-Edibles","U4.01","01. Home, Food & Free Time","E.04.08","08. Home and bath textiles","19379","06. Bathroom terry towels","19381","01. Bath towels","","","","","","","","","X",null,"E.06.07","Small domestic appliances","El.kitchen appliances","Juicers","Fruit and vegetable juice extractors","","","","14509",{"$f":"_xlfn.TEXTJOIN(\"; \",TRUE,ZCDT_EXPORT_2[[#This Row],[Sub-Category]:[Segment 5]])","v":"El.kitchen appliances; Juicers; Fruit and vegetable juice extractors"}]
["AH","Baltic CDT","U4","04. Non-Edibles","U4.01","01. Home, Food & Free Time","E.04.08","08. Home and bath textiles","19379","06. Bathroom terry towels","19382","02. Hand towels","","","","","","","","","X",null,"E.06.07","Small domestic appliances","El.kitchen appliances","Kitchen combains","","","","","14490",{"$f":"_xlfn.TEXTJOIN(\"; \",TRUE,ZCDT_EXPORT_2[[#This Row],[Sub-Category]:[Segment 5]])","v":"El.kitchen appliances; Kitchen combains"}]
["AH","Baltic CDT","U4","04. Non-Edibles","U4.01","01. Home, Food & Free Time","E.04.08","08. Home and bath textiles","19379","06. Bathroom terry towels","19383","03. Face towels","","","","","","","","","X",null,"E.06.07","Small domestic appliances","El.kitchen appliances","Kitchen scales","Digital","","","","18056",{"$f":"_xlfn.TEXTJOIN(\"; \",TRUE,ZCDT_EXPORT_2[[#This Row],[Sub-Category]:[Segment 5]])","v":"El.kitchen appliances; Kitchen scales; Digital"}]
["AH","Baltic CDT","U4","04. Non-Edibles","U4.01","01. Home, Food & Free Time","E.04.08","08. Home and bath textiles","19379","06. Bathroom terry towels","19384","04. Sets","","","","","","","","","X",null,"E.06.08","Table serving","Glassware","Drinking glasses","Beer glasses","","","","14526",{"$f":"_xlfn.TEXTJOIN(\"; \",TRUE,ZCDT_EXPORT_2[[#This Row],[Sub-Category]:[Segment 5]])","v":"Glassware; Drinking glasses; Beer glasses"}]
["AH","Baltic CDT","U4","04. Non-Edibles","U4.01","01. Home, Food & Free Time","E.04.08","08. Home and bath textiles","19380","07. Beach towels","","","","","","","","","","","X",null,"E.06.08","Table serving","Glassware","Drinking glasses","Champagne glasses","","","","14527",{"$f":"_xlfn.TEXTJOIN(\"; \",TRUE,ZCDT_EXPORT_2[[#This Row],[Sub-Category]:[Segment 5]])","v":"Glassware; Drinking glasses; Champagne glasses"}]
["AH","Baltic CDT","U4","04. Non-Edibles","U4.01","01. Home, Food & Free Time","E.04.08","08. Home and bath textiles","19484","08. 1 EUR stand","","","","","","","","","","","X",null,"E.06.08","Table serving","Glassware","Drinking glasses","Coctail glasses","","","","14528",{"$f":"_xlfn.TEXTJOIN(\"; \",TRUE,ZCDT_EXPORT_2[[#This Row],[Sub-Category]:[Segment 5]])","v":"Glassware; Drinking glasses; Coctail glasses"}]
["AH","Baltic CDT","U4","04. Non-Edibles","U4.01","01. Home, Food & Free Time","E.06.08","08. Table serving","14513","01. Glassware","14520","01. Drinking glasses","14526","01. Beer glasses","","","","","","","X",null,"E.06.08","Table serving","Glassware","Drinking glasses","Cognac/brandy glasses","","","","14529",{"$f":"_xlfn.TEXTJOIN(\"; \",TRUE,ZCDT_EXPORT_2[[#This Row],[Sub-Category]:[Segment 5]])","v":"Glassware; Drinking glasses; Cognac/brandy glasses"}]
["AH","Baltic CDT","U4","04. Non-Edibles","U4.01","01. Home, Food & Free Time","E.06.08","08. Table serving","14513","01. Glassware","14520","01. Drinking glasses","14527","02. Champagne glasses","","","","","","","X",null,"E.06.08","Table serving","Glassware","Drinking glasses","Spirit glasses","","","","14530",{"$f":"_xlfn.TEXTJOIN(\"; \",TRUE,ZCDT_EXPORT_2[[#This Row],[Sub-Category]:[Segment 5]])","v":"Glassware; Drinking glasses; Spirit glasses"}]
["AH","Baltic CDT","U4","04. Non-Edibles","U4.01","01. Home, Food & Free Time","E.06.08","08. Table serving","14513","01. Glassware","14520","01. Drinking glasses","14528","03. Coctail glasses","","","","","","","X",null,"E.06.08","Table serving","Glassware","Drinking glasses","Tumbler & whisky glasses","","","","14531",{"$f":"_xlfn.TEXTJOIN(\"; \",TRUE,ZCDT_EXPORT_2[[#This Row],[Sub-Category]:[Segment 5]])","v":"Glassware; Drinking glasses; Tumbler & whisky glasses"}]
["AH","Baltic CDT","U4","04. Non-Edibles","U4.01","01. Home, Food & Free Time","E.06.08","08. Table serving","14513","01. Glassware","14520","01. Drinking glasses","14529","04. Cognac/brandy glasses","","","","","","","X",null,"E.06.08","Table serving","Glassware","Drinking glasses","Wine glasses","","","","14533",{"$f":"_xlfn.TEXTJOIN(\"; \",TRUE,ZCDT_EXPORT_2[[#This Row],[Sub-Category]:[Segment 5]])","v":"Glassware; Drinking glasses; Wine glasses"}]
["AH","Baltic CDT","U4","04. Non-Edibles","U4.01","01. Home, Food & Free Time","E.06.08","08. Table serving","14513","01. Glassware","14520","01. Drinking glasses","14530","05. Spirit glasses","","","","","","","X",null,"E.06.08","Table serving","Glassware","Jugs, decanters","","","","","14521",{"$f":"_xlfn.TEXTJOIN(\"; \",TRUE,ZCDT_EXPORT_2[[#This Row],[Sub-Category]:[Segment 5]])","v":"Glassware; Jugs, decanters"}]
["AH","Baltic CDT","U4","04. Non-Edibles","U4.01","01. Home, Food & Free Time","E.06.08","08. Table serving","14513","01. Glassware","14520","01. Drinking glasses","14531","06. Tumbler & whisky glasses","","","","","","","X",null,"E.06.08","Table serving","Glassware","Shakers, coolers","","","","","14522",{"$f":"_xlfn.TEXTJOIN(\"; \",TRUE,ZCDT_EXPORT_2[[#This Row],[Sub-Category]:[Segment 5]])","v":"Glassware; Shakers, coolers"}]
["AH","Baltic CDT","U4","04. Non-Edibles","U4.01","01. Home, Food & Free Time","E.06.08","08. Table serving","14513","01. Glassware","14520","01. Drinking glasses","14533","07. Wine glasses","","","","","","","X",null,"E.06.08","Table serving","Tableware","Children tableware","","","","","14537",{"$f":"_xlfn.TEXTJOIN(\"; \",TRUE,ZCDT_EXPORT_2[[#This Row],[Sub-Category]:[Segment 5]])","v":"Tableware; Children tableware"}]
["AH","Baltic CDT","U4","04. Non-Edibles","U4.01","01. Home, Food & Free Time","E.06.08","08. Table serving","14513","01. Glassware","14521","02. Jugs, decanters","","","","","","","","","X",null,"E.06.08","Table serving","Tableware","Cutlery and serving utensils","Cutlery by pcs","","","","14550",{"$f":"_xlfn.TEXTJOIN(\"; \",TRUE,ZCDT_EXPORT_2[[#This Row],[Sub-Category]:[Segment 5]])","v":"Tableware; Cutlery and serving utensils; Cutlery by pcs"}]
["AH","Baltic CDT","U4","04. Non-Edibles","U4.01","01. Home, Food & Free Time","E.06.08","08. Table serving","14513","01. Glassware","14522","03. Shakers, coolers","","","","","","","","","X",null,"E.06.08","Table serving","Tableware","Cutlery and serving utensils","Cutlery sets","","","","14551",{"$f":"_xlfn.TEXTJOIN(\"; \",TRUE,ZCDT_EXPORT_2[[#This Row],[Sub-Category]:[Segment 5]])","v":"Tableware; Cutlery and serving utensils; Cutlery sets"}]
["AH","Baltic CDT","U4","04. Non-Edibles","U4.01","01. Home, Food & Free Time","E.06.08","08. Table serving","14514","02. Tableware","14537","01. Children tableware","","","","","","","","","X",null,"E.06.08","Table serving","Tableware","Cutlery and serving utensils","Serving utensils","","","","14552",{"$f":"_xlfn.TEXTJOIN(\"; \",TRUE,ZCDT_EXPORT_2[[#This Row],[Sub-Category]:[Segment 5]])","v":"Tableware; Cutlery and serving utensils; Serving utensils"}]
["AH","Baltic CDT","U4","04. Non-Edibles","U4.01","01. Home, Food & Free Time","E.06.08","08. Table serving","14514","02. Tableware","14539","02. Cutlery and serving utensils","14550","01. Cutlery by pcs","","","","","","","X",null,"E.06.08","Table serving","Tableware","For cream, sugar, butter, sauce etc","","","","","14540",{"$f":"_xlfn.TEXTJOIN(\"; \",TRUE,ZCDT_EXPORT_2[[#This Row],[Sub-Category]:[Segment 5]])","v":"Tableware; For cream, sugar, butter, sauce etc"}]
["AH","Baltic CDT","U4","04. Non-Edibles","U4.01","01. Home, Food & Free Time","E.06.08","08. Table serving","14514","02. Tableware","14539","02. Cutlery and serving utensils","14551","02. Cutlery sets","","","","","","","X",null,"E.06.08","Table serving","Tableware","Plates","","","","","14541",{"$f":"_xlfn.TEXTJOIN(\"; \",TRUE,ZCDT_EXPORT_2[[#This Row],[Sub-Category]:[Segment 5]])","v":"Tableware; Plates"}]
["AH","Baltic CDT","U4","04. Non-Edibles","U4.01","01. Home, Food & Free Time","E.06.08","08. Table serving","14514","02. Tableware","14539","02. Cutlery and serving utensils","14552","03. Serving utensils","","","","","","","X",null,"E.06.08","Table serving","Tableware","Tableware Sets","","","","","14543",{"$f":"_xlfn.TEXTJOIN(\"; \",TRUE,ZCDT_EXPORT_2[[#This Row],[Sub-Category]:[Segment 5]])","v":"Tableware; Tableware Sets"}]
["AH","Baltic CDT","U4","04. Non-Edibles","U4.01","01. Home, Food & Free Time","E.06.08","08. Table serving","14514","02. Tableware","14540","03. For cream, sugar, butter, sauce etc","","","","","","","","","X",null,"E.06.08","Table serving","Tableware","Bowls & soup plates","","","","","18321",{"$f":"_xlfn.TEXTJOIN(\"; \",TRUE,ZCDT_EXPORT_2[[#This Row],[Sub-Category]:[Segment 5]])","v":"Tableware; Bowls & soup plates"}]
["AH","Baltic CDT","U4","04. Non-Edibles","U4.01","01. Home, Food & Free Time","E.06.08","08. Table serving","14514","02. Tableware","14541","04. Plates","","","","","","","","","X",null,"E.06.08","Table serving","Tea/coffee","Hot drink servers","coffee makers","","","","14558",{"$f":"_xlfn.TEXTJOIN(\"; \",TRUE,ZCDT_EXPORT_2[[#This Row],[Sub-Category]:[Segment 5]])","v":"Tea/coffee; Hot drink servers; coffee makers"}]
["AH","Baltic CDT","U4","04. Non-Edibles","U4.01","01. Home, Food & Free Time","E.06.08","08. Table serving","14514","02. Tableware","14543","05. Tableware Sets","","","","","","","","","X",null,"E.06.08","Table serving","Tea/coffee","Hot drink servers","Tea makers","","","","14559",{"$f":"_xlfn.TEXTJOIN(\"; \",TRUE,ZCDT_EXPORT_2[[#This Row],[Sub-Category]:[Segment 5]])","v":"Tea/coffee; Hot drink servers; Tea makers"}]
["AH","Baltic CDT","U4","04. Non-Edibles","U4.01","01. Home, Food & Free Time","E.06.08","08. Table serving","14514","02. Tableware","18321","06. Bowls & soup plates","","","","","","","","","X",null,"E.06.08","Table serving","Tea/coffee","Mugs","Jumbo mugs","","","","14562",{"$f":"_xlfn.TEXTJOIN(\"; \",TRUE,ZCDT_EXPORT_2[[#This Row],[Sub-Category]:[Segment 5]])","v":"Tea/coffee; Mugs; Jumbo mugs"}]
["AH","Baltic CDT","U4","04. Non-Edibles","U4.01","01. Home, Food & Free Time","E.06.08","08. Table serving","14515","03. Tea/coffee","14556","01. Hot drink servers","14558","01. coffee makers","","","","","","","X",null,"E.06.08","Table serving","Tea/coffee","Mugs","Mug sets","","","","14564",{"$f":"_xlfn.TEXTJOIN(\"; \",TRUE,ZCDT_EXPORT_2[[#This Row],[Sub-Category]:[Segment 5]])","v":"Tea/coffee; Mugs; Mug sets"}]
["AH","Baltic CDT","U4","04. Non-Edibles","U4.01","01. Home, Food & Free Time","E.06.08","08. Table serving","14515","03. Tea/coffee","14556","01. Hot drink servers","14559","02. Tea makers","","","","","","","X",null,"E.06.08","Table serving","Tea/coffee","Mugs","Regular mugs","","","","14565",{"$f":"_xlfn.TEXTJOIN(\"; \",TRUE,ZCDT_EXPORT_2[[#This Row],[Sub-Category]:[Segment 5]])","v":"Tea/coffee; Mugs; Regular mugs"}]
["AH","Baltic CDT","U4","04. Non-Edibles","U4.01","01. Home, Food & Free Time","E.06.08","08. Table serving","14515","03. Tea/coffee","14557","02. Mugs","14562","01. Jumbo mugs","","","","","","","X",null,"E.06.08","Table serving","Tea/coffee","Mugs","Cups & Saucers","","","","18325",{"$f":"_xlfn.TEXTJOIN(\"; \",TRUE,ZCDT_EXPORT_2[[#This Row],[Sub-Category]:[Segment 5]])","v":"Tea/coffee; Mugs; Cups & Saucers"}]
["AH","Baltic CDT","U4","04. Non-Edibles","U4.01","01. Home, Food & Free Time","E.06.08","08. Table serving","14515","03. Tea/coffee","14557","02. Mugs","14564","02. Mug sets","","","","","","","X",null,"E.06.08","Table serving","Vases","","","","","","14517",{"$f":"_xlfn.TEXTJOIN(\"; \",TRUE,ZCDT_EXPORT_2[[#This Row],[Sub-Category]:[Segment 5]])","v":"Vases"}]
["AH","Baltic CDT","U4","04. Non-Edibles","U4.01","01. Home, Food & Free Time","E.06.08","08. Table serving","14515","03. Tea/coffee","14557","02. Mugs","14565","03. Regular mugs","","","","","","","X",null,"E.06.08","Table serving","Serving items","Trays, platters & baskets","","","","","18327",{"$f":"_xlfn.TEXTJOIN(\"; \",TRUE,ZCDT_EXPORT_2[[#This Row],[Sub-Category]:[Segment 5]])","v":"Serving items; Trays, platters & baskets"}]
["AH","Baltic CDT","U4","04. Non-Edibles","U4.01","01. Home, Food & Free Time","E.06.08","08. Table serving","14515","03. Tea/coffee","14557","02. Mugs","18325","04. Cups & Saucers","","","","","","","X",null,"E.06.08","Table serving","Serving items","Cups, bowls for ice cream/candies","","","","","18329",{"$f":"_xlfn.TEXTJOIN(\"; \",TRUE,ZCDT_EXPORT_2[[#This Row],[Sub-Category]:[Segment 5]])","v":"Serving items; Cups, bowls for ice cream/candies"}]
["AH","Baltic CDT","U4","04. Non-Edibles","U4.01","01. Home, Food & Free Time","E.06.08","08. Table serving","14517","04. Vases","","","","","","","","","","","X",null,"E.06.08","Table serving","1 EUR stand","","","","","","19563",{"$f":"_xlfn.TEXTJOIN(\"; \",TRUE,ZCDT_EXPORT_2[[#This Row],[Sub-Category]:[Segment 5]])","v":"1 EUR stand"}]
["AH","Baltic CDT","U4","04. Non-Edibles","U4.01","01. Home, Food & Free Time","E.06.08","08. Table serving","18326","05. Serving items","18327","01. Trays, platters & baskets","","","","","","","","","X",null,"E.06.09","Kitchen storage","Food preservation","Bottles  (seasonal)","","","","","18066",{"$f":"_xlfn.TEXTJOIN(\"; \",TRUE,ZCDT_EXPORT_2[[#This Row],[Sub-Category]:[Segment 5]])","v":"Food preservation; Bottles  (seasonal)"}]
["AH","Baltic CDT","U4","04. Non-Edibles","U4.01","01. Home, Food & Free Time","E.06.08","08. Table serving","18326","05. Serving items","18329","02. Cups, bowls for ice cream/candies","","","","","","","","","X",null,"E.06.09","Kitchen storage","Food preservation","Caps (seasonal)","","","","","18067",{"$f":"_xlfn.TEXTJOIN(\"; \",TRUE,ZCDT_EXPORT_2[[#This Row],[Sub-Category]:[Segment 5]])","v":"Food preservation; Caps (seasonal)"}]
["AH","Baltic CDT","U4","04. Non-Edibles","U4.01","01. Home, Food & Free Time","E.06.08","08. Table serving","19563","06. 1 EUR stand","","","","","","","","","","","X",null,"E.06.09","Kitchen storage","Food preservation","Preservation jars (seasonal)","","","","","18068",{"$f":"_xlfn.TEXTJOIN(\"; \",TRUE,ZCDT_EXPORT_2[[#This Row],[Sub-Category]:[Segment 5]])","v":"Food preservation; Preservation jars (seasonal)"}]
["AH","Baltic CDT","U4","04. Non-Edibles","U4.01","01. Home, Food & Free Time","E.07.09","09. Festivity","18102","01. Christmas","18119","01. Advent wreaths and decorations","18128","01. Advent wreats","","","","","","","X",null,"E.06.09","Kitchen storage","Food storage","Bread and cake storage","","","","","18069",{"$f":"_xlfn.TEXTJOIN(\"; \",TRUE,ZCDT_EXPORT_2[[#This Row],[Sub-Category]:[Segment 5]])","v":"Food storage; Bread and cake storage"}]
["AH","Baltic CDT","U4","04. Non-Edibles","U4.01","01. Home, Food & Free Time","E.07.09","09. Festivity","18102","01. Christmas","18119","01. Advent wreaths and decorations","18129","02. Decoration materials","","","","","","","X",null,"E.06.09","Kitchen storage","Food storage","Canisters and jars","","","","","18070",{"$f":"_xlfn.TEXTJOIN(\"; \",TRUE,ZCDT_EXPORT_2[[#This Row],[Sub-Category]:[Segment 5]])","v":"Food storage; Canisters and jars"}]
["AH","Baltic CDT","U4","04. Non-Edibles","U4.01","01. Home, Food & Free Time","E.07.09","09. Festivity","18102","01. Christmas","18120","02. Carnival accessories","18130","01. Costumes","","","","","","","X",null,"E.06.09","Kitchen storage","Food storage","Food storage boxes","","","","","18071",{"$f":"_xlfn.TEXTJOIN(\"; \",TRUE,ZCDT_EXPORT_2[[#This Row],[Sub-Category]:[Segment 5]])","v":"Food storage; Food storage boxes"}]
["AH","Baltic CDT","U4","04. Non-Edibles","U4.01","01. Home, Food & Free Time","E.07.09","09. Festivity","18102","01. Christmas","18120","02. Carnival accessories","18131","02. Different","","","","","","","X",null,"E.06.09","Kitchen storage","Food storage","Spice jars","","","","","18072",{"$f":"_xlfn.TEXTJOIN(\"; \",TRUE,ZCDT_EXPORT_2[[#This Row],[Sub-Category]:[Segment 5]])","v":"Food storage; Spice jars"}]
["AH","Baltic CDT","U4","04. Non-Edibles","U4.01","01. Home, Food & Free Time","E.07.09","09. Festivity","18102","01. Christmas","18120","02. Carnival accessories","18132","03. Hats","","","","","","","X",null,"E.06.09","Kitchen storage","Racks and holders","","","","","","18063",{"$f":"_xlfn.TEXTJOIN(\"; \",TRUE,ZCDT_EXPORT_2[[#This Row],[Sub-Category]:[Segment 5]])","v":"Racks and holders"}]
["AH","Baltic CDT","U4","04. Non-Edibles","U4.01","01. Home, Food & Free Time","E.07.09","09. Festivity","18102","01. Christmas","18120","02. Carnival accessories","18133","04. Masks","","","","","","","X",null,"E.06.09","Kitchen storage","Travel & takaway","Drink bottles","","","","","18073",{"$f":"_xlfn.TEXTJOIN(\"; \",TRUE,ZCDT_EXPORT_2[[#This Row],[Sub-Category]:[Segment 5]])","v":"Travel & takaway; Drink bottles"}]
["AH","Baltic CDT","U4","04. Non-Edibles","U4.01","01. Home, Food & Free Time","E.07.09","09. Festivity","18102","01. Christmas","18122","03. Christmas decorations","18136","01. Different figures","","","","","","","X",null,"E.06.09","Kitchen storage","Travel & takaway","Lunch boxes","","","","","18074",{"$f":"_xlfn.TEXTJOIN(\"; \",TRUE,ZCDT_EXPORT_2[[#This Row],[Sub-Category]:[Segment 5]])","v":"Travel & takaway; Lunch boxes"}]
["AH","Baltic CDT","U4","04. Non-Edibles","U4.01","01. Home, Food & Free Time","E.07.09","09. Festivity","18102","01. Christmas","18122","03. Christmas decorations","18137","02. Snow globes","","","","","","","X",null,"E.06.09","Kitchen storage","Travel & takaway","Thermo","Thermomugs","","","","18079",{"$f":"_xlfn.TEXTJOIN(\"; \",TRUE,ZCDT_EXPORT_2[[#This Row],[Sub-Category]:[Segment 5]])","v":"Travel & takaway; Thermo; Thermomugs"}]
["AH","Baltic CDT","U4","04. Non-Edibles","U4.01","01. Home, Food & Free Time","E.07.09","09. Festivity","18102","01. Christmas","18122","03. Christmas decorations","18138","03. Window stickers","","","","","","","X",null,"E.06.09","Kitchen storage","Travel & takaway","Thermo","Thermopots","","","","18080",{"$f":"_xlfn.TEXTJOIN(\"; \",TRUE,ZCDT_EXPORT_2[[#This Row],[Sub-Category]:[Segment 5]])","v":"Travel & takaway; Thermo; Thermopots"}]
["AH","Baltic CDT","U4","04. Non-Edibles","U4.01","01. Home, Food & Free Time","E.07.09","09. Festivity","18102","01. Christmas","18124","04. Christmas lights","18141","01. Indoor lights","18161","01. Candlebridges","","","","","X",null,"E.06.09","Kitchen storage","Travel & takaway","Thermo","Thermosses","","","","18081",{"$f":"_xlfn.TEXTJOIN(\"; \",TRUE,ZCDT_EXPORT_2[[#This Row],[Sub-Category]:[Segment 5]])","v":"Travel & takaway; Thermo; Thermosses"}]
["AH","Baltic CDT","U4","04. Non-Edibles","U4.01","01. Home, Food & Free Time","E.07.09","09. Festivity","18102","01. Christmas","18124","04. Christmas lights","18141","01. Indoor lights","18162","02. Electric garlands","","","","","X",null,"E.06.09","Kitchen storage","Travel & takaway","Travel & takaway sets","","","","","18076",{"$f":"_xlfn.TEXTJOIN(\"; \",TRUE,ZCDT_EXPORT_2[[#This Row],[Sub-Category]:[Segment 5]])","v":"Travel & takaway; Travel & takaway sets"}]
["AH","Baltic CDT","U4","04. Non-Edibles","U4.01","01. Home, Food & Free Time","E.07.09","09. Festivity","18102","01. Christmas","18124","04. Christmas lights","18141","01. Indoor lights","18163","03. LED decorations","","","","","X",null,"E.06.09","Kitchen storage","Water filters","Filter jugs","","","","","18077",{"$f":"_xlfn.TEXTJOIN(\"; \",TRUE,ZCDT_EXPORT_2[[#This Row],[Sub-Category]:[Segment 5]])","v":"Water filters; Filter jugs"}]
["AH","Baltic CDT","U4","04. Non-Edibles","U4.01","01. Home, Food & Free Time","E.07.09","09. Festivity","18102","01. Christmas","18124","04. Christmas lights","18142","02. outdoor lights","","","","","","","X",null,"E.06.09","Kitchen storage","Water filters","Water filters","","","","","18078",{"$f":"_xlfn.TEXTJOIN(\"; \",TRUE,ZCDT_EXPORT_2[[#This Row],[Sub-Category]:[Segment 5]])","v":"Water filters; Water filters"}]
["AH","Baltic CDT","U4","04. Non-Edibles","U4.01","01. Home, Food & Free Time","E.07.09","09. Festivity","18102","01. Christmas","18126","05. Christmas tree decorations","18149","01. Balls","18164","01. ball sets","","","","","X",null,"E.06.09","Kitchen storage","1 EUR stand","","","","","","19564",{"$f":"_xlfn.TEXTJOIN(\"; \",TRUE,ZCDT_EXPORT_2[[#This Row],[Sub-Category]:[Segment 5]])","v":"1 EUR stand"}]
["AH","Baltic CDT","U4","04. Non-Edibles","U4.01","01. Home, Food & Free Time","E.07.09","09. Festivity","18102","01. Christmas","18126","05. Christmas tree decorations","18149","01. Balls","18165","02. single balls","","","","","X",null,"E.06.10","Napkins and table cover","Paper napkins","Plain colour","1-ply","","","","14439",{"$f":"_xlfn.TEXTJOIN(\"; \",TRUE,ZCDT_EXPORT_2[[#This Row],[Sub-Category]:[Segment 5]])","v":"Paper napkins; Plain colour; 1-ply"}]
["AH","Baltic CDT","U4","04. Non-Edibles","U4.01","01. Home, Food & Free Time","E.07.09","09. Festivity","18102","01. Christmas","18126","05. Christmas tree decorations","18150","02. Christmas garlands","","","","","","","X",null,"E.06.10","Napkins and table cover","Paper napkins","Plain colour","2-ply and more","","","","14440",{"$f":"_xlfn.TEXTJOIN(\"; \",TRUE,ZCDT_EXPORT_2[[#This Row],[Sub-Category]:[Segment 5]])","v":"Paper napkins; Plain colour; 2-ply and more"}]
["AH","Baltic CDT","U4","04. Non-Edibles","U4.01","01. Home, Food & Free Time","E.07.09","09. Festivity","18102","01. Christmas","18126","05. Christmas tree decorations","18151","03. Christmas tree figurines","","","","","","","X",null,"E.06.10","Napkins and table cover","Paper napkins","With design","1-ply","","","","14441",{"$f":"_xlfn.TEXTJOIN(\"; \",TRUE,ZCDT_EXPORT_2[[#This Row],[Sub-Category]:[Segment 5]])","v":"Paper napkins; With design; 1-ply"}]
["AH","Baltic CDT","U4","04. Non-Edibles","U4.01","01. Home, Food & Free Time","E.07.09","09. Festivity","18102","01. Christmas","18126","05. Christmas tree decorations","18152","04. Christmas tree tops","","","","","","","X",null,"E.06.10","Napkins and table cover","Paper napkins","With design","2-ply and more","","","","14442",{"$f":"_xlfn.TEXTJOIN(\"; \",TRUE,ZCDT_EXPORT_2[[#This Row],[Sub-Category]:[Segment 5]])","v":"Paper napkins; With design; 2-ply and more"}]
["AH","Baltic CDT","U4","04. Non-Edibles","U4.01","01. Home, Food & Free Time","E.07.09","09. Festivity","18102","01. Christmas","18126","05. Christmas tree decorations","18153","05. Snow flakes","","","","","","","X",null,"E.06.10","Napkins and table cover","Paper napkins","Christmas napkins","","","","","19358",{"$f":"_xlfn.TEXTJOIN(\"; \",TRUE,ZCDT_EXPORT_2[[#This Row],[Sub-Category]:[Segment 5]])","v":"Paper napkins; Christmas napkins"}]
["AH","Baltic CDT","U4","04. Non-Edibles","U4.01","01. Home, Food & Free Time","E.07.09","09. Festivity","18102","01. Christmas","18146","06. Christmas trees and stands","18154","01. Christmas trees","18166","01. Trees with decorations","","","","","X",null,"E.06.10","Napkins and table cover","Paper napkins","Other seasonal napkins","","","","","19364",{"$f":"_xlfn.TEXTJOIN(\"; \",TRUE,ZCDT_EXPORT_2[[#This Row],[Sub-Category]:[Segment 5]])","v":"Paper napkins; Other seasonal napkins"}]
["AH","Baltic CDT","U4","04. Non-Edibles","U4.01","01. Home, Food & Free Time","E.07.09","09. Festivity","18102","01. Christmas","18146","06. Christmas trees and stands","18154","01. Christmas trees","18167","02. Trees without decorations","","","","","X",null,"E.06.10","Napkins and table cover","Paper tablecloth","Plain colour","","","","","14443",{"$f":"_xlfn.TEXTJOIN(\"; \",TRUE,ZCDT_EXPORT_2[[#This Row],[Sub-Category]:[Segment 5]])","v":"Paper tablecloth; Plain colour"}]
["AH","Baltic CDT","U4","04. Non-Edibles","U4.01","01. Home, Food & Free Time","E.07.09","09. Festivity","18102","01. Christmas","18146","06. Christmas trees and stands","18155","02. Christmas trees stands","","","","","","","X",null,"E.06.10","Napkins and table cover","Paper tablecloth","With design","","","","","14444",{"$f":"_xlfn.TEXTJOIN(\"; \",TRUE,ZCDT_EXPORT_2[[#This Row],[Sub-Category]:[Segment 5]])","v":"Paper tablecloth; With design"}]
["AH","Baltic CDT","U4","04. Non-Edibles","U4.01","01. Home, Food & Free Time","E.07.09","09. Festivity","18102","01. Christmas","18147","07. Christmas textile","18157","02. Santa's bags","","","","","","","X",null,"E.07.03","Gardening supplies","Garden care products","Garden gloves","","","","","14633",{"$f":"_xlfn.TEXTJOIN(\"; \",TRUE,ZCDT_EXPORT_2[[#This Row],[Sub-Category]:[Segment 5]])","v":"Garden care products; Garden gloves"}]
["AH","Baltic CDT","U4","04. Non-Edibles","U4.01","01. Home, Food & Free Time","E.07.09","09. Festivity","18102","01. Christmas","18147","07. Christmas textile","18158","03. Santa's socks","","","","","","","X",null,"E.07.03","Gardening supplies","Garden care products","Garden tools","Cutting tools","","","","14640",{"$f":"_xlfn.TEXTJOIN(\"; \",TRUE,ZCDT_EXPORT_2[[#This Row],[Sub-Category]:[Segment 5]])","v":"Garden care products; Garden tools; Cutting tools"}]
["AH","Baltic CDT","U4","04. Non-Edibles","U4.01","01. Home, Food & Free Time","E.07.09","09. Festivity","18102","01. Christmas","18147","07. Christmas textile","18160","04. Tree skirts","","","","","","","X",null,"E.07.03","Gardening supplies","Garden care products","Garden tools","Gardening tools","","","","14641",{"$f":"_xlfn.TEXTJOIN(\"; \",TRUE,ZCDT_EXPORT_2[[#This Row],[Sub-Category]:[Segment 5]])","v":"Garden care products; Garden tools; Gardening tools"}]
["AH","Baltic CDT","U4","04. Non-Edibles","U4.01","01. Home, Food & Free Time","E.07.09","09. Festivity","18102","01. Christmas","18148","08. Sparklers, firecracker","","","","","","","","","X",null,"E.07.03","Gardening supplies","Garden care products","Gardening acessories","","","","","14635",{"$f":"_xlfn.TEXTJOIN(\"; \",TRUE,ZCDT_EXPORT_2[[#This Row],[Sub-Category]:[Segment 5]])","v":"Garden care products; Gardening acessories"}]
["AH","Baltic CDT","U4","04. Non-Edibles","U4.01","01. Home, Food & Free Time","E.07.09","09. Festivity","18103","02. Easter","18115","01. Easter decorations","","","","","","","","","X",null,"E.07.03","Gardening supplies","Garden care products","Irrigation accessories","Irrigation accessories","","","","14642",{"$f":"_xlfn.TEXTJOIN(\"; \",TRUE,ZCDT_EXPORT_2[[#This Row],[Sub-Category]:[Segment 5]])","v":"Garden care products; Irrigation accessories; Irrigation accessories"}]
["AH","Baltic CDT","U4","04. Non-Edibles","U4.01","01. Home, Food & Free Time","E.07.09","09. Festivity","18103","02. Easter","18118","02. Egg color","","","","","","","","","X",null,"E.07.03","Gardening supplies","Garden care products","Irrigation accessories","Tubes","","","","14643",{"$f":"_xlfn.TEXTJOIN(\"; \",TRUE,ZCDT_EXPORT_2[[#This Row],[Sub-Category]:[Segment 5]])","v":"Garden care products; Irrigation accessories; Tubes"}]
["AH","Baltic CDT","U4","04. Non-Edibles","U4.01","01. Home, Food & Free Time","E.07.09","09. Festivity","18104","03. Halloween","18110","01. Halloween decorations","","","","","","","","","X",null,"E.07.03","Gardening supplies","Garden care products","Irrigation accessories","Watering cans","","","","14644",{"$f":"_xlfn.TEXTJOIN(\"; \",TRUE,ZCDT_EXPORT_2[[#This Row],[Sub-Category]:[Segment 5]])","v":"Garden care products; Irrigation accessories; Watering cans"}]
["AH","Baltic CDT","U4","04. Non-Edibles","U4.01","01. Home, Food & Free Time","E.07.09","09. Festivity","18104","03. Halloween","18111","02. Halloween costumes & masks","","","","","","","","","X",null,"E.07.03","Gardening supplies","Seeding/planting","Fertilisers","Liquid fertilisers","","","","14657",{"$f":"_xlfn.TEXTJOIN(\"; \",TRUE,ZCDT_EXPORT_2[[#This Row],[Sub-Category]:[Segment 5]])","v":"Seeding/planting; Fertilisers; Liquid fertilisers"}]
["AH","Baltic CDT","U4","04. Non-Edibles","U4.01","01. Home, Food & Free Time","E.07.09","09. Festivity","18105","04. St Valentine","18107","01. St Valentine Decorations","","","","","","","","","X",null,"E.07.03","Gardening supplies","Seeding/planting","Fertilisers","Nonliquid fertilisers","","","","14658",{"$f":"_xlfn.TEXTJOIN(\"; \",TRUE,ZCDT_EXPORT_2[[#This Row],[Sub-Category]:[Segment 5]])","v":"Seeding/planting; Fertilisers; Nonliquid fertilisers"}]
["AH","Baltic CDT","U4","04. Non-Edibles","U4.01","01. Home, Food & Free Time","E.07.09","09. Festivity","19482","05. 1 EUR Stand","","","","","","","","","","","X",null,"E.07.03","Gardening supplies","Seeding/planting","Flower bulbs","","","","","14648",{"$f":"_xlfn.TEXTJOIN(\"; \",TRUE,ZCDT_EXPORT_2[[#This Row],[Sub-Category]:[Segment 5]])","v":"Seeding/planting; Flower bulbs"}]
["AH","Baltic CDT","U4","04. Non-Edibles","U4.01","01. Home, Food & Free Time","E.06.09","09. Kitchen storage","18061","01. Food preservation","18066","01. Bottles  (seasonal)","","","","","","","","","X",null,"E.07.03","Gardening supplies","Seeding/planting","Flower pots","Ceramic pots","","","","14659",{"$f":"_xlfn.TEXTJOIN(\"; \",TRUE,ZCDT_EXPORT_2[[#This Row],[Sub-Category]:[Segment 5]])","v":"Seeding/planting; Flower pots; Ceramic pots"}]
["AH","Baltic CDT","U4","04. Non-Edibles","U4.01","01. Home, Food & Free Time","E.06.09","09. Kitchen storage","18061","01. Food preservation","18067","02. Caps (seasonal)","","","","","","","","","X",null,"E.07.03","Gardening supplies","Seeding/planting","Flower pots","Metalic and other pots","","","","14660",{"$f":"_xlfn.TEXTJOIN(\"; \",TRUE,ZCDT_EXPORT_2[[#This Row],[Sub-Category]:[Segment 5]])","v":"Seeding/planting; Flower pots; Metalic and other pots"}]
["AH","Baltic CDT","U4","04. Non-Edibles","U4.01","01. Home, Food & Free Time","E.06.09","09. Kitchen storage","18061","01. Food preservation","18068","03. Preservation jars (seasonal)","","","","","","","","","X",null,"E.07.03","Gardening supplies","Seeding/planting","Flower pots","Plastic pots","","","","14661",{"$f":"_xlfn.TEXTJOIN(\"; \",TRUE,ZCDT_EXPORT_2[[#This Row],[Sub-Category]:[Segment 5]])","v":"Seeding/planting; Flower pots; Plastic pots"}]
["AH","Baltic CDT","U4","04. Non-Edibles","U4.01","01. Home, Food & Free Time","E.06.09","09. Kitchen storage","18062","02. Food storage","18069","01. Bread and cake storage","","","","","","","","","X",null,"E.07.03","Gardening supplies","Seeding/planting","Planting acessories","","","","","14650",{"$f":"_xlfn.TEXTJOIN(\"; \",TRUE,ZCDT_EXPORT_2[[#This Row],[Sub-Category]:[Segment 5]])","v":"Seeding/planting; Planting acessories"}]
["AH","Baltic CDT","U4","04. Non-Edibles","U4.01","01. Home, Food & Free Time","E.06.09","09. Kitchen storage","18062","02. Food storage","18070","02. Canisters and jars","","","","","","","","","X",null,"E.07.03","Gardening supplies","Seeding/planting","Seeding pots and trays","Seeding pots","","","","14663",{"$f":"_xlfn.TEXTJOIN(\"; \",TRUE,ZCDT_EXPORT_2[[#This Row],[Sub-Category]:[Segment 5]])","v":"Seeding/planting; Seeding pots and trays; Seeding pots"}]
["AH","Baltic CDT","U4","04. Non-Edibles","U4.01","01. Home, Food & Free Time","E.06.09","09. Kitchen storage","18062","02. Food storage","18071","03. Food storage boxes","","","","","","","","","X",null,"E.07.03","Gardening supplies","Seeding/planting","Seeding pots and trays","Seeding trays","","","","14664",{"$f":"_xlfn.TEXTJOIN(\"; \",TRUE,ZCDT_EXPORT_2[[#This Row],[Sub-Category]:[Segment 5]])","v":"Seeding/planting; Seeding pots and trays; Seeding trays"}]
["AH","Baltic CDT","U4","04. Non-Edibles","U4.01","01. Home, Food & Free Time","E.06.09","09. Kitchen storage","18062","02. Food storage","18072","04. Spice jars","","","","","","","","","X",null,"E.07.03","Gardening supplies","Seeding/planting","Seedling onions","","","","","14652",{"$f":"_xlfn.TEXTJOIN(\"; \",TRUE,ZCDT_EXPORT_2[[#This Row],[Sub-Category]:[Segment 5]])","v":"Seeding/planting; Seedling onions"}]
["AH","Baltic CDT","U4","04. Non-Edibles","U4.01","01. Home, Food & Free Time","E.06.09","09. Kitchen storage","18063","03. Racks and holders","","","","","","","","","","","X",null,"E.07.03","Gardening supplies","Seeding/planting","Seeds","","","","","14653",{"$f":"_xlfn.TEXTJOIN(\"; \",TRUE,ZCDT_EXPORT_2[[#This Row],[Sub-Category]:[Segment 5]])","v":"Seeding/planting; Seeds"}]
["AH","Baltic CDT","U4","04. Non-Edibles","U4.01","01. Home, Food & Free Time","E.06.09","09. Kitchen storage","18064","04. Travel & takaway","18073","01. Drink bottles","","","","","","","","","X",null,"E.07.03","Gardening supplies","Seeding/planting","Soils","10 ltr and more","","","","14667",{"$f":"_xlfn.TEXTJOIN(\"; \",TRUE,ZCDT_EXPORT_2[[#This Row],[Sub-Category]:[Segment 5]])","v":"Seeding/planting; Soils; 10 ltr and more"}]
["AH","Baltic CDT","U4","04. Non-Edibles","U4.01","01. Home, Food & Free Time","E.06.09","09. Kitchen storage","18064","04. Travel & takaway","18074","02. Lunch boxes","","","","","","","","","X",null,"E.07.03","Gardening supplies","Seeding/planting","Soils","till 10 ltr","","","","14668",{"$f":"_xlfn.TEXTJOIN(\"; \",TRUE,ZCDT_EXPORT_2[[#This Row],[Sub-Category]:[Segment 5]])","v":"Seeding/planting; Soils; till 10 ltr"}]
["AH","Baltic CDT","U4","04. Non-Edibles","U4.01","01. Home, Food & Free Time","E.06.09","09. Kitchen storage","18064","04. Travel & takaway","18075","03. Thermo","18079","01. Thermomugs","","","","","","","X",null,"E.07.03","Gardening supplies","Winter garden","Different winter garden items","","","","","14670",{"$f":"_xlfn.TEXTJOIN(\"; \",TRUE,ZCDT_EXPORT_2[[#This Row],[Sub-Category]:[Segment 5]])","v":"Winter garden; Different winter garden items"}]
["AH","Baltic CDT","U4","04. Non-Edibles","U4.01","01. Home, Food & Free Time","E.06.09","09. Kitchen storage","18064","04. Travel & takaway","18075","03. Thermo","18080","02. Thermopots","","","","","","","X",null,"E.07.03","Gardening supplies","Winter garden","Snow shovels","","","","","14671",{"$f":"_xlfn.TEXTJOIN(\"; \",TRUE,ZCDT_EXPORT_2[[#This Row],[Sub-Category]:[Segment 5]])","v":"Winter garden; Snow shovels"}]
["AH","Baltic CDT","U4","04. Non-Edibles","U4.01","01. Home, Food & Free Time","E.06.09","09. Kitchen storage","18064","04. Travel & takaway","18075","03. Thermo","18081","03. Thermosses","","","","","","","X",null,"E.07.04","Grilling","Charcoals, charcoal briquettes","","","","","","14674",{"$f":"_xlfn.TEXTJOIN(\"; \",TRUE,ZCDT_EXPORT_2[[#This Row],[Sub-Category]:[Segment 5]])","v":"Charcoals, charcoal briquettes"}]
["AH","Baltic CDT","U4","04. Non-Edibles","U4.01","01. Home, Food & Free Time","E.06.09","09. Kitchen storage","18064","04. Travel & takaway","18076","04. Travel & takaway sets","","","","","","","","","X",null,"E.07.04","Grilling","Grilling accessories","BBQ grids","","","","","14680",{"$f":"_xlfn.TEXTJOIN(\"; \",TRUE,ZCDT_EXPORT_2[[#This Row],[Sub-Category]:[Segment 5]])","v":"Grilling accessories; BBQ grids"}]
["AH","Baltic CDT","U4","04. Non-Edibles","U4.01","01. Home, Food & Free Time","E.06.09","09. Kitchen storage","18065","05. Water filters","18077","01. Filter jugs","","","","","","","","","X",null,"E.07.04","Grilling","Grilling accessories","BBQ skewers","","","","","14681",{"$f":"_xlfn.TEXTJOIN(\"; \",TRUE,ZCDT_EXPORT_2[[#This Row],[Sub-Category]:[Segment 5]])","v":"Grilling accessories; BBQ skewers"}]
["AH","Baltic CDT","U4","04. Non-Edibles","U4.01","01. Home, Food & Free Time","E.06.09","09. Kitchen storage","18065","05. Water filters","18078","02. Water filters","","","","","","","","","X",null,"E.07.04","Grilling","Grilling accessories","BBQ tools & accessories","","","","","14682",{"$f":"_xlfn.TEXTJOIN(\"; \",TRUE,ZCDT_EXPORT_2[[#This Row],[Sub-Category]:[Segment 5]])","v":"Grilling accessories; BBQ tools & accessories"}]
["AH","Baltic CDT","U4","04. Non-Edibles","U4.01","01. Home, Food & Free Time","E.06.09","09. Kitchen storage","19564","06. 1 EUR stand","","","","","","","","","","","X",null,"E.07.04","Grilling","Grills","Gas grills","","","","","14685",{"$f":"_xlfn.TEXTJOIN(\"; \",TRUE,ZCDT_EXPORT_2[[#This Row],[Sub-Category]:[Segment 5]])","v":"Grills; Gas grills"}]
["AH","Baltic CDT","U4","04. Non-Edibles","U4.01","01. Home, Food & Free Time","E.04.09","09. Yarns and handicraft","18246","01. Yarns","18248","01. Knitting yarns","","","","","","","","","X",null,"E.07.04","Grilling","Grills","Instant grills","","","","","14686",{"$f":"_xlfn.TEXTJOIN(\"; \",TRUE,ZCDT_EXPORT_2[[#This Row],[Sub-Category]:[Segment 5]])","v":"Grills; Instant grills"}]
["AH","Baltic CDT","U4","04. Non-Edibles","U4.01","01. Home, Food & Free Time","E.04.09","09. Yarns and handicraft","18246","01. Yarns","18249","02. Sewing threads","","","","","","","","","X",null,"E.07.04","Grilling","Grills","Regular Grills","","","","","14687",{"$f":"_xlfn.TEXTJOIN(\"; \",TRUE,ZCDT_EXPORT_2[[#This Row],[Sub-Category]:[Segment 5]])","v":"Grills; Regular Grills"}]
["AH","Baltic CDT","U4","04. Non-Edibles","U4.01","01. Home, Food & Free Time","E.04.09","09. Yarns and handicraft","18246","01. Yarns","18250","03. Felting yarns","","","","","","","","","X",null,"E.07.04","Grilling","Ignition materials","Fire lighters","","","","","14689",{"$f":"_xlfn.TEXTJOIN(\"; \",TRUE,ZCDT_EXPORT_2[[#This Row],[Sub-Category]:[Segment 5]])","v":"Ignition materials; Fire lighters"}]
["AH","Baltic CDT","U4","04. Non-Edibles","U4.01","01. Home, Food & Free Time","E.04.09","09. Yarns and handicraft","18247","02. Handicraft accessories","18265","01. Felting","","","","","","","","","X",null,"E.07.04","Grilling","Ignition materials","Ignition liquids","","","","","14690",{"$f":"_xlfn.TEXTJOIN(\"; \",TRUE,ZCDT_EXPORT_2[[#This Row],[Sub-Category]:[Segment 5]])","v":"Ignition materials; Ignition liquids"}]
["AH","Baltic CDT","U4","04. Non-Edibles","U4.01","01. Home, Food & Free Time","E.04.09","09. Yarns and handicraft","18247","02. Handicraft accessories","18266","02. Knitting","","","","","","","","","X",null,"E.07.04","Grilling","Ignition materials","Lamp oils","","","","","14691",{"$f":"_xlfn.TEXTJOIN(\"; \",TRUE,ZCDT_EXPORT_2[[#This Row],[Sub-Category]:[Segment 5]])","v":"Ignition materials; Lamp oils"}]
["AH","Baltic CDT","U4","04. Non-Edibles","U4.01","01. Home, Food & Free Time","E.04.09","09. Yarns and handicraft","18247","02. Handicraft accessories","18267","03. Needlework","","","","","","","","","X",null,"E.07.04","Grilling","Wood, wood briquettes","","","","","","14678",{"$f":"_xlfn.TEXTJOIN(\"; \",TRUE,ZCDT_EXPORT_2[[#This Row],[Sub-Category]:[Segment 5]])","v":"Wood, wood briquettes"}]
["AH","Baltic CDT","U4","04. Non-Edibles","U4.01","01. Home, Food & Free Time","E.04.09","09. Yarns and handicraft","18247","02. Handicraft accessories","18268","04. Sewing","","","","","","","","","X",null,"E.07.06","Furniture and supplies","Garden decorations","","","","","","14697",{"$f":"_xlfn.TEXTJOIN(\"; \",TRUE,ZCDT_EXPORT_2[[#This Row],[Sub-Category]:[Segment 5]])","v":"Garden decorations"}]
["AH","Baltic CDT","U4","04. Non-Edibles","U4.01","01. Home, Food & Free Time","E.04.10","10. Bathroom","19087","01. Bathing accessories","","","","","","","","","","","X",null,"E.07.06","Furniture and supplies","Outdoor furniture","Chairs","","","","","14717",{"$f":"_xlfn.TEXTJOIN(\"; \",TRUE,ZCDT_EXPORT_2[[#This Row],[Sub-Category]:[Segment 5]])","v":"Outdoor furniture; Chairs"}]
["AH","Baltic CDT","U4","04. Non-Edibles","U4.01","01. Home, Food & Free Time","E.04.10","10. Bathroom","19088","02. Shelves, Hooks, Holders","","","","","","","","","","","X",null,"E.07.06","Furniture and supplies","Outdoor furniture","different garden furniture","","","","","14718",{"$f":"_xlfn.TEXTJOIN(\"; \",TRUE,ZCDT_EXPORT_2[[#This Row],[Sub-Category]:[Segment 5]])","v":"Outdoor furniture; different garden furniture"}]
["AH","Baltic CDT","U4","04. Non-Edibles","U4.01","01. Home, Food & Free Time","E.04.10","10. Bathroom","19089","03. Showercurtains","","","","","","","","","","","X",null,"E.07.06","Furniture and supplies","Outdoor furniture","Kids outdoor furniture","","","","","14719",{"$f":"_xlfn.TEXTJOIN(\"; \",TRUE,ZCDT_EXPORT_2[[#This Row],[Sub-Category]:[Segment 5]])","v":"Outdoor furniture; Kids outdoor furniture"}]
["AH","Baltic CDT","U4","04. Non-Edibles","U4.01","01. Home, Food & Free Time","E.04.10","10. Bathroom","19090","04. Soap dispensers","","","","","","","","","","","X",null,"E.07.06","Furniture and supplies","Outdoor furniture","Sets","","","","","14720",{"$f":"_xlfn.TEXTJOIN(\"; \",TRUE,ZCDT_EXPORT_2[[#This Row],[Sub-Category]:[Segment 5]])","v":"Outdoor furniture; Sets"}]
["AH","Baltic CDT","U4","04. Non-Edibles","U4.01","01. Home, Food & Free Time","E.04.10","10. Bathroom","19091","05. Soap holders","","","","","","","","","","","X",null,"E.07.06","Furniture and supplies","Outdoor furniture","Sun loungers","","","","","14721",{"$f":"_xlfn.TEXTJOIN(\"; \",TRUE,ZCDT_EXPORT_2[[#This Row],[Sub-Category]:[Segment 5]])","v":"Outdoor furniture; Sun loungers"}]
["AH","Baltic CDT","U4","04. Non-Edibles","U4.01","01. Home, Food & Free Time","E.04.10","10. Bathroom","19092","06. Toothbrush cups/holders","","","","","","","","","","","X",null,"E.07.06","Furniture and supplies","Outdoor furniture","Sunshades","","","","","14722",{"$f":"_xlfn.TEXTJOIN(\"; \",TRUE,ZCDT_EXPORT_2[[#This Row],[Sub-Category]:[Segment 5]])","v":"Outdoor furniture; Sunshades"}]
["AH","Baltic CDT","U4","04. Non-Edibles","U4.01","01. Home, Food & Free Time","E.04.10","10. Bathroom","19093","07. WC/Bath mats","","","","","","","","","","","X",null,"E.07.06","Furniture and supplies","Outdoor furniture","Tables","","","","","14723",{"$f":"_xlfn.TEXTJOIN(\"; \",TRUE,ZCDT_EXPORT_2[[#This Row],[Sub-Category]:[Segment 5]])","v":"Outdoor furniture; Tables"}]
["AH","Baltic CDT","U4","04. Non-Edibles","U4.01","01. Home, Food & Free Time","E.04.10","10. Bathroom","19094","08. Bathmats and covers","","","","","","","","","","","X",null,"E.07.06","Furniture and supplies","Solar lights & Torches","","","","","","14701",{"$f":"_xlfn.TEXTJOIN(\"; \",TRUE,ZCDT_EXPORT_2[[#This Row],[Sub-Category]:[Segment 5]])","v":"Solar lights & Torches"}]
["AH","Baltic CDT","U4","04. Non-Edibles","U4.01","01. Home, Food & Free Time","E.06.10","10. Napkins and table cover","14430","01. Paper napkins","14435","01. Plain colour","14439","01. 1-ply","","","","","","","X",null,"E.07.07","Sports and camping","All-year sport","Fitness/ Gym equipment","dumbbells/ weight bands","","","","14736",{"$f":"_xlfn.TEXTJOIN(\"; \",TRUE,ZCDT_EXPORT_2[[#This Row],[Sub-Category]:[Segment 5]])","v":"All-year sport; Fitness/ Gym equipment; dumbbells/ weight bands"}]
["AH","Baltic CDT","U4","04. Non-Edibles","U4.01","01. Home, Food & Free Time","E.06.10","10. Napkins and table cover","14430","01. Paper napkins","14435","01. Plain colour","14440","02. 2-ply and more","","","","","","","X",null,"E.07.07","Sports and camping","All-year sport","Fitness/ Gym equipment","exercise machines","","","","14737",{"$f":"_xlfn.TEXTJOIN(\"; \",TRUE,ZCDT_EXPORT_2[[#This Row],[Sub-Category]:[Segment 5]])","v":"All-year sport; Fitness/ Gym equipment; exercise machines"}]
["AH","Baltic CDT","U4","04. Non-Edibles","U4.01","01. Home, Food & Free Time","E.06.10","10. Napkins and table cover","14430","01. Paper napkins","14436","02. With design","14441","01. 1-ply","","","","","","","X",null,"E.07.07","Sports and camping","All-year sport","Fitness/ Gym equipment","fitness accessories","","","","14738",{"$f":"_xlfn.TEXTJOIN(\"; \",TRUE,ZCDT_EXPORT_2[[#This Row],[Sub-Category]:[Segment 5]])","v":"All-year sport; Fitness/ Gym equipment; fitness accessories"}]
["AH","Baltic CDT","U4","04. Non-Edibles","U4.01","01. Home, Food & Free Time","E.06.10","10. Napkins and table cover","14430","01. Paper napkins","14436","02. With design","14442","02. 2-ply and more","","","","","","","X",null,"E.07.07","Sports and camping","All-year sport","Fitness/ Gym equipment","fitness mats","","","","14739",{"$f":"_xlfn.TEXTJOIN(\"; \",TRUE,ZCDT_EXPORT_2[[#This Row],[Sub-Category]:[Segment 5]])","v":"All-year sport; Fitness/ Gym equipment; fitness mats"}]
["AH","Baltic CDT","U4","04. Non-Edibles","U4.01","01. Home, Food & Free Time","E.06.10","10. Napkins and table cover","14430","01. Paper napkins","19358","03. Christmas napkins","","","","","","","","","X",null,"E.07.07","Sports and camping","All-year sport","Fitness/ Gym equipment","supports, pads, gloves","","","","14740",{"$f":"_xlfn.TEXTJOIN(\"; \",TRUE,ZCDT_EXPORT_2[[#This Row],[Sub-Category]:[Segment 5]])","v":"All-year sport; Fitness/ Gym equipment; supports, pads, gloves"}]
["AH","Baltic CDT","U4","04. Non-Edibles","U4.01","01. Home, Food & Free Time","E.06.10","10. Napkins and table cover","14430","01. Paper napkins","19364","04. Other seasonal napkins","","","","","","","","","X",null,"E.07.07","Sports and camping","All-year sport","Sport games & equipment","badminton, tennis and squash","","","","14742",{"$f":"_xlfn.TEXTJOIN(\"; \",TRUE,ZCDT_EXPORT_2[[#This Row],[Sub-Category]:[Segment 5]])","v":"All-year sport; Sport games & equipment; badminton, tennis and squash"}]
["AH","Baltic CDT","U4","04. Non-Edibles","U4.01","01. Home, Food & Free Time","E.06.10","10. Napkins and table cover","14431","02. Paper tablecloth","14443","01. Plain colour","","","","","","","","","X",null,"E.07.07","Sports and camping","All-year sport","Sport games & equipment","other sport equipment","","","","14743",{"$f":"_xlfn.TEXTJOIN(\"; \",TRUE,ZCDT_EXPORT_2[[#This Row],[Sub-Category]:[Segment 5]])","v":"All-year sport; Sport games & equipment; other sport equipment"}]
["AH","Baltic CDT","U4","04. Non-Edibles","U4.01","01. Home, Food & Free Time","E.06.10","10. Napkins and table cover","14431","02. Paper tablecloth","14444","02. With design","","","","","","","","","X",null,"E.07.07","Sports and camping","All-year sport","Sport games & equipment","Sport balls & equipment","","","","14744",{"$f":"_xlfn.TEXTJOIN(\"; \",TRUE,ZCDT_EXPORT_2[[#This Row],[Sub-Category]:[Segment 5]])","v":"All-year sport; Sport games & equipment; Sport balls & equipment"}]
["AH","Baltic CDT","U4","04. Non-Edibles","U4.01","01. Home, Food & Free Time","D.05.01","18. Home laundry","16851","01. Pre-treatment","16954","01. Eco / natural","","","","","","","","","X",null,"E.07.07","Sports and camping","All-year sport","Swimming","Caps","","","","14747",{"$f":"_xlfn.TEXTJOIN(\"; \",TRUE,ZCDT_EXPORT_2[[#This Row],[Sub-Category]:[Segment 5]])","v":"All-year sport; Swimming; Caps"}]
["AH","Baltic CDT","U4","04. Non-Edibles","U4.01","01. Home, Food & Free Time","D.05.01","18. Home laundry","16851","01. Pre-treatment","16955","02. Bleaches","","","","","","","","","X",null,"E.07.07","Sports and camping","All-year sport","Swimming","Googles","","","","14748",{"$f":"_xlfn.TEXTJOIN(\"; \",TRUE,ZCDT_EXPORT_2[[#This Row],[Sub-Category]:[Segment 5]])","v":"All-year sport; Swimming; Googles"}]
["AH","Baltic CDT","U4","04. Non-Edibles","U4.01","01. Home, Food & Free Time","D.05.01","18. Home laundry","16851","01. Pre-treatment","16956","03. Stain removers","","","","","","","","","X",null,"E.07.07","Sports and camping","All-year sport","Swimming","Swimming accessories","","","","14749",{"$f":"_xlfn.TEXTJOIN(\"; \",TRUE,ZCDT_EXPORT_2[[#This Row],[Sub-Category]:[Segment 5]])","v":"All-year sport; Swimming; Swimming accessories"}]
["AH","Baltic CDT","U4","04. Non-Edibles","U4.01","01. Home, Food & Free Time","D.05.01","18. Home laundry","16851","01. Pre-treatment","16957","04. Watersoftners / anti-calc","","","","","","","","","X",null,"E.07.07","Sports and camping","Camping accessories","Camping backpacks","","","","","14704",{"$f":"_xlfn.TEXTJOIN(\"; \",TRUE,ZCDT_EXPORT_2[[#This Row],[Sub-Category]:[Segment 5]])","v":"Camping accessories; Camping backpacks"}]
["AH","Baltic CDT","U4","04. Non-Edibles","U4.01","01. Home, Food & Free Time","D.05.01","18. Home laundry","16851","01. Pre-treatment","16958","05. Color catchers","","","","","","","","","X",null,"E.07.07","Sports and camping","Camping accessories","Camping chairs","","","","","14705",{"$f":"_xlfn.TEXTJOIN(\"; \",TRUE,ZCDT_EXPORT_2[[#This Row],[Sub-Category]:[Segment 5]])","v":"Camping accessories; Camping chairs"}]
["AH","Baltic CDT","U4","04. Non-Edibles","U4.01","01. Home, Food & Free Time","D.05.01","18. Home laundry","16853","02. Wash","16959","01. Eco label / natural / alergic skin","16969","01. Liquid","16972","01. Perfume","","","","","X",null,"E.07.07","Sports and camping","Camping accessories","camping mats & rugs","","","","","14706",{"$f":"_xlfn.TEXTJOIN(\"; \",TRUE,ZCDT_EXPORT_2[[#This Row],[Sub-Category]:[Segment 5]])","v":"Camping accessories; camping mats & rugs"}]
["AH","Baltic CDT","U4","04. Non-Edibles","U4.01","01. Home, Food & Free Time","D.05.01","18. Home laundry","16853","02. Wash","16959","01. Eco label / natural / alergic skin","16969","01. Liquid","16973","02. Perfume free","","","","","X",null,"E.07.07","Sports and camping","Camping accessories","Camping storage","Cooler boxes & bags","","","","14714",{"$f":"_xlfn.TEXTJOIN(\"; \",TRUE,ZCDT_EXPORT_2[[#This Row],[Sub-Category]:[Segment 5]])","v":"Camping accessories; Camping storage; Cooler boxes & bags"}]
["AH","Baltic CDT","U4","04. Non-Edibles","U4.01","01. Home, Food & Free Time","D.05.01","18. Home laundry","16853","02. Wash","16959","01. Eco label / natural / alergic skin","16970","02. Powder","16974","01. Perfume","","","","","X",null,"E.07.07","Sports and camping","Camping accessories","Camping storage","Cooling elements","","","","14892",{"$f":"_xlfn.TEXTJOIN(\"; \",TRUE,ZCDT_EXPORT_2[[#This Row],[Sub-Category]:[Segment 5]])","v":"Camping accessories; Camping storage; Cooling elements"}]
["AH","Baltic CDT","U4","04. Non-Edibles","U4.01","01. Home, Food & Free Time","D.05.01","18. Home laundry","16853","02. Wash","16959","01. Eco label / natural / alergic skin","16970","02. Powder","16975","02. Perfume free","","","","","X",null,"E.07.07","Sports and camping","Camping accessories","different accessories","","","","","14708",{"$f":"_xlfn.TEXTJOIN(\"; \",TRUE,ZCDT_EXPORT_2[[#This Row],[Sub-Category]:[Segment 5]])","v":"Camping accessories; different accessories"}]
["AH","Baltic CDT","U4","04. Non-Edibles","U4.01","01. Home, Food & Free Time","D.05.01","18. Home laundry","16853","02. Wash","16959","01. Eco label / natural / alergic skin","16971","03. Capsules","16976","01. Perfume","","","","","X",null,"E.07.07","Sports and camping","Camping accessories","Inflatable mattresses","","","","","14709",{"$f":"_xlfn.TEXTJOIN(\"; \",TRUE,ZCDT_EXPORT_2[[#This Row],[Sub-Category]:[Segment 5]])","v":"Camping accessories; Inflatable mattresses"}]
["AH","Baltic CDT","U4","04. Non-Edibles","U4.01","01. Home, Food & Free Time","D.05.01","18. Home laundry","16853","02. Wash","16959","01. Eco label / natural / alergic skin","16971","03. Capsules","16977","02. Perfume free","","","","","X",null,"E.07.07","Sports and camping","Camping accessories","Raincoats","","","","","14710",{"$f":"_xlfn.TEXTJOIN(\"; \",TRUE,ZCDT_EXPORT_2[[#This Row],[Sub-Category]:[Segment 5]])","v":"Camping accessories; Raincoats"}]
["AH","Baltic CDT","U4","04. Non-Edibles","U4.01","01. Home, Food & Free Time","D.05.01","18. Home laundry","16853","02. Wash","16960","02. For babies","","","","","","","","","X",null,"E.07.07","Sports and camping","Camping accessories","Sleeping bags","","","","","14711",{"$f":"_xlfn.TEXTJOIN(\"; \",TRUE,ZCDT_EXPORT_2[[#This Row],[Sub-Category]:[Segment 5]])","v":"Camping accessories; Sleeping bags"}]
["AH","Baltic CDT","U4","04. Non-Edibles","U4.01","01. Home, Food & Free Time","D.05.01","18. Home laundry","16853","02. Wash","16961","03. Wash liquid","16978","01. Colored","","","","","","","X",null,"E.07.07","Sports and camping","Camping accessories","Tents","","","","","14712",{"$f":"_xlfn.TEXTJOIN(\"; \",TRUE,ZCDT_EXPORT_2[[#This Row],[Sub-Category]:[Segment 5]])","v":"Camping accessories; Tents"}]
["AH","Baltic CDT","U4","04. Non-Edibles","U4.01","01. Home, Food & Free Time","D.05.01","18. Home laundry","16853","02. Wash","16961","03. Wash liquid","16979","02. White","","","","","","","X",null,"E.07.07","Sports and camping","Summer sport","Biking","Adults' bicycles","","","","14755",{"$f":"_xlfn.TEXTJOIN(\"; \",TRUE,ZCDT_EXPORT_2[[#This Row],[Sub-Category]:[Segment 5]])","v":"Summer sport; Biking; Adults' bicycles"}]
["AH","Baltic CDT","U4","04. Non-Edibles","U4.01","01. Home, Food & Free Time","D.05.01","18. Home laundry","16853","02. Wash","16961","03. Wash liquid","18957","03. Zero waste","","","","","","","X",null,"E.07.07","Sports and camping","Summer sport","Biking","Children's bicycles (up to 20\")","","","","14756",{"$f":"_xlfn.TEXTJOIN(\"; \",TRUE,ZCDT_EXPORT_2[[#This Row],[Sub-Category]:[Segment 5]])","v":"Summer sport; Biking; Children's bicycles (up to 20\")"}]
["AH","Baltic CDT","U4","04. Non-Edibles","U4.01","01. Home, Food & Free Time","D.05.01","18. Home laundry","16853","02. Wash","16962","04. Liquid capsules","16980","01. Colored","","","","","","","X",null,"E.07.07","Sports and camping","Summer sport","Rollers & riding sports","roller skates","","","","14758",{"$f":"_xlfn.TEXTJOIN(\"; \",TRUE,ZCDT_EXPORT_2[[#This Row],[Sub-Category]:[Segment 5]])","v":"Summer sport; Rollers & riding sports; roller skates"}]
["AH","Baltic CDT","U4","04. Non-Edibles","U4.01","01. Home, Food & Free Time","D.05.01","18. Home laundry","16853","02. Wash","16962","04. Liquid capsules","16981","02. White","","","","","","","X",null,"E.07.07","Sports and camping","Summer sport","Rollers & riding sports","scooters","","","","14759",{"$f":"_xlfn.TEXTJOIN(\"; \",TRUE,ZCDT_EXPORT_2[[#This Row],[Sub-Category]:[Segment 5]])","v":"Summer sport; Rollers & riding sports; scooters"}]
["AH","Baltic CDT","U4","04. Non-Edibles","U4.01","01. Home, Food & Free Time","D.05.01","18. Home laundry","16853","02. Wash","16963","05. Powder","16982","01. Colored","","","","","","","X",null,"E.07.07","Sports and camping","Summer sport","Rollers & riding sports","skateboards","","","","14760",{"$f":"_xlfn.TEXTJOIN(\"; \",TRUE,ZCDT_EXPORT_2[[#This Row],[Sub-Category]:[Segment 5]])","v":"Summer sport; Rollers & riding sports; skateboards"}]
["AH","Baltic CDT","U4","04. Non-Edibles","U4.01","01. Home, Food & Free Time","D.05.01","18. Home laundry","16853","02. Wash","16963","05. Powder","16983","02. White","","","","","","","X",null,"E.07.07","Sports and camping","Summer sport","Summer helmets & accessories","","","","","14753",{"$f":"_xlfn.TEXTJOIN(\"; \",TRUE,ZCDT_EXPORT_2[[#This Row],[Sub-Category]:[Segment 5]])","v":"Summer sport; Summer helmets & accessories"}]
["AH","Baltic CDT","U4","04. Non-Edibles","U4.01","01. Home, Food & Free Time","D.05.01","18. Home laundry","16853","02. Wash","16964","06. Soap bars","","","","","","","","","X",null,"E.07.07","Sports and camping","Winter sport","Skies and snowboards","skies","","","","14767",{"$f":"_xlfn.TEXTJOIN(\"; \",TRUE,ZCDT_EXPORT_2[[#This Row],[Sub-Category]:[Segment 5]])","v":"Winter sport; Skies and snowboards; skies"}]
["AH","Baltic CDT","U4","04. Non-Edibles","U4.01","01. Home, Food & Free Time","D.05.01","18. Home laundry","16853","02. Wash","16965","07. Special functionality (Down; silk)","","","","","","","","","X",null,"E.07.07","Sports and camping","Winter sport","Skies and snowboards","skiing & snowboard accessories","","","","14768",{"$f":"_xlfn.TEXTJOIN(\"; \",TRUE,ZCDT_EXPORT_2[[#This Row],[Sub-Category]:[Segment 5]])","v":"Winter sport; Skies and snowboards; skiing & snowboard accessories"}]
["AH","Baltic CDT","U4","04. Non-Edibles","U4.01","01. Home, Food & Free Time","D.05.01","18. Home laundry","16854","03. After-wash","16966","01. Regular rinses","16984","01. Perfume","","","","","","","X",null,"E.07.07","Sports and camping","Winter sport","Skies and snowboards","snowboards","","","","14769",{"$f":"_xlfn.TEXTJOIN(\"; \",TRUE,ZCDT_EXPORT_2[[#This Row],[Sub-Category]:[Segment 5]])","v":"Winter sport; Skies and snowboards; snowboards"}]
["AH","Baltic CDT","U4","04. Non-Edibles","U4.01","01. Home, Food & Free Time","D.05.01","18. Home laundry","16854","03. After-wash","16966","01. Regular rinses","16985","02. Perfume free","","","","","","","X",null,"E.07.07","Sports and camping","Winter sport","Sledges","inflatable sledges","","","","14772",{"$f":"_xlfn.TEXTJOIN(\"; \",TRUE,ZCDT_EXPORT_2[[#This Row],[Sub-Category]:[Segment 5]])","v":"Winter sport; Sledges; inflatable sledges"}]
["AH","Baltic CDT","U4","04. Non-Edibles","U4.01","01. Home, Food & Free Time","D.05.01","18. Home laundry","16854","03. After-wash","16967","02. Drying, ironing assistants","","","","","","","","","X",null,"E.07.07","Sports and camping","Winter sport","Sledges","other sledges & accessories","","","","14773",{"$f":"_xlfn.TEXTJOIN(\"; \",TRUE,ZCDT_EXPORT_2[[#This Row],[Sub-Category]:[Segment 5]])","v":"Winter sport; Sledges; other sledges & accessories"}]
["AH","Baltic CDT","U4","04. Non-Edibles","U4.01","01. Home, Food & Free Time","D.05.01","18. Home laundry","16854","03. After-wash","16968","03. Eco / natural / rinses","","","","","","","","","X",null,"E.07.07","Sports and camping","Winter sport","Sledges","plastic sledges","","","","14774",{"$f":"_xlfn.TEXTJOIN(\"; \",TRUE,ZCDT_EXPORT_2[[#This Row],[Sub-Category]:[Segment 5]])","v":"Winter sport; Sledges; plastic sledges"}]
["AH","Baltic CDT","U4","04. Non-Edibles","U4.01","01. Home, Food & Free Time","D.05.02","19. Household cleaning and dishwashing","16387","01. Dishwashing","16396","01. Automatic dishwashing detergents","16398","01. Regular","","","","","","","X",null,"E.07.07","Sports and camping","Winter sport","Sledges","wooden sledges","","","","14775",{"$f":"_xlfn.TEXTJOIN(\"; \",TRUE,ZCDT_EXPORT_2[[#This Row],[Sub-Category]:[Segment 5]])","v":"Winter sport; Sledges; wooden sledges"}]
["AH","Baltic CDT","U4","04. Non-Edibles","U4.01","01. Home, Food & Free Time","D.05.02","19. Household cleaning and dishwashing","16387","01. Dishwashing","16396","01. Automatic dishwashing detergents","16399","02. Eco","","","","","","","X",null,"E.07.07","Sports and camping","Winter sport","Winter helmets","","","","","14764",{"$f":"_xlfn.TEXTJOIN(\"; \",TRUE,ZCDT_EXPORT_2[[#This Row],[Sub-Category]:[Segment 5]])","v":"Winter sport; Winter helmets"}]
["AH","Baltic CDT","U4","04. Non-Edibles","U4.01","01. Home, Food & Free Time","D.05.02","19. Household cleaning and dishwashing","16387","01. Dishwashing","16397","02. Hand dishwashing deteregents","16400","01. Regular","","","","","","","X",null,"E.07.07","Sports and camping","Winter sport","Winter skates","figure skates","","","","14778",{"$f":"_xlfn.TEXTJOIN(\"; \",TRUE,ZCDT_EXPORT_2[[#This Row],[Sub-Category]:[Segment 5]])","v":"Winter sport; Winter skates; figure skates"}]
["AH","Baltic CDT","U4","04. Non-Edibles","U4.01","01. Home, Food & Free Time","D.05.02","19. Household cleaning and dishwashing","16387","01. Dishwashing","16397","02. Hand dishwashing deteregents","16401","02. Eco","","","","","","","X",null,"E.07.07","Sports and camping","Winter sport","Winter skates","hockey skates","","","","14779",{"$f":"_xlfn.TEXTJOIN(\"; \",TRUE,ZCDT_EXPORT_2[[#This Row],[Sub-Category]:[Segment 5]])","v":"Winter sport; Winter skates; hockey skates"}]
["AH","Baltic CDT","U4","04. Non-Edibles","U4.01","01. Home, Food & Free Time","D.05.02","19. Household cleaning and dishwashing","16387","01. Dishwashing","16397","02. Hand dishwashing deteregents","18958","03. Zero waste","","","","","","","X",null,"E.07.07","Sports and camping","Winter sport","Winter skates","universal skates and sets","","","","14780",{"$f":"_xlfn.TEXTJOIN(\"; \",TRUE,ZCDT_EXPORT_2[[#This Row],[Sub-Category]:[Segment 5]])","v":"Winter sport; Winter skates; universal skates and sets"}]
["AH","Baltic CDT","U4","04. Non-Edibles","U4.01","01. Home, Food & Free Time","D.05.02","19. Household cleaning and dishwashing","16388","02. Floor cleaning","16402","01. Regular","","","","","","","","","X",null,"E.07.09","Festivity","Christmas","Advent wreaths and decorations","Advent wreats","","","","18128",{"$f":"_xlfn.TEXTJOIN(\"; \",TRUE,ZCDT_EXPORT_2[[#This Row],[Sub-Category]:[Segment 5]])","v":"Christmas; Advent wreaths and decorations; Advent wreats"}]
["AH","Baltic CDT","U4","04. Non-Edibles","U4.01","01. Home, Food & Free Time","D.05.02","19. Household cleaning and dishwashing","16388","02. Floor cleaning","16403","02. Eco","","","","","","","","","X",null,"E.07.09","Festivity","Christmas","Advent wreaths and decorations","Decoration materials","","","","18129",{"$f":"_xlfn.TEXTJOIN(\"; \",TRUE,ZCDT_EXPORT_2[[#This Row],[Sub-Category]:[Segment 5]])","v":"Christmas; Advent wreaths and decorations; Decoration materials"}]
["AH","Baltic CDT","U4","04. Non-Edibles","U4.01","01. Home, Food & Free Time","D.05.02","19. Household cleaning and dishwashing","16389","03. Window cleaning","16404","01. Regular","","","","","","","","","X",null,"E.07.09","Festivity","Christmas","Carnival accessories","Costumes","","","","18130",{"$f":"_xlfn.TEXTJOIN(\"; \",TRUE,ZCDT_EXPORT_2[[#This Row],[Sub-Category]:[Segment 5]])","v":"Christmas; Carnival accessories; Costumes"}]
["AH","Baltic CDT","U4","04. Non-Edibles","U4.01","01. Home, Food & Free Time","D.05.02","19. Household cleaning and dishwashing","16389","03. Window cleaning","16405","02. Eco","","","","","","","","","X",null,"E.07.09","Festivity","Christmas","Carnival accessories","Different","","","","18131",{"$f":"_xlfn.TEXTJOIN(\"; \",TRUE,ZCDT_EXPORT_2[[#This Row],[Sub-Category]:[Segment 5]])","v":"Christmas; Carnival accessories; Different"}]
["AH","Baltic CDT","U4","04. Non-Edibles","U4.01","01. Home, Food & Free Time","D.05.02","19. Household cleaning and dishwashing","16390","04. Kitchen, bathroom, universal cleaner","16406","01. Regular","","","","","","","","","X",null,"E.07.09","Festivity","Christmas","Carnival accessories","Hats","","","","18132",{"$f":"_xlfn.TEXTJOIN(\"; \",TRUE,ZCDT_EXPORT_2[[#This Row],[Sub-Category]:[Segment 5]])","v":"Christmas; Carnival accessories; Hats"}]
["AH","Baltic CDT","U4","04. Non-Edibles","U4.01","01. Home, Food & Free Time","D.05.02","19. Household cleaning and dishwashing","16390","04. Kitchen, bathroom, universal cleaner","16407","02. Eco","","","","","","","","","X",null,"E.07.09","Festivity","Christmas","Carnival accessories","Masks","","","","18133",{"$f":"_xlfn.TEXTJOIN(\"; \",TRUE,ZCDT_EXPORT_2[[#This Row],[Sub-Category]:[Segment 5]])","v":"Christmas; Carnival accessories; Masks"}]
["AH","Baltic CDT","U4","04. Non-Edibles","U4.01","01. Home, Food & Free Time","D.05.02","19. Household cleaning and dishwashing","16391","05. Other cleaners","16408","01. Regular","","","","","","","","","X",null,"E.07.09","Festivity","Christmas","Christmas decorations","Different figures","","","","18136",{"$f":"_xlfn.TEXTJOIN(\"; \",TRUE,ZCDT_EXPORT_2[[#This Row],[Sub-Category]:[Segment 5]])","v":"Christmas; Christmas decorations; Different figures"}]
["AH","Baltic CDT","U4","04. Non-Edibles","U4.01","01. Home, Food & Free Time","D.05.02","19. Household cleaning and dishwashing","16391","05. Other cleaners","16409","02. Eco","","","","","","","","","X",null,"E.07.09","Festivity","Christmas","Christmas decorations","Snow globes","","","","18137",{"$f":"_xlfn.TEXTJOIN(\"; \",TRUE,ZCDT_EXPORT_2[[#This Row],[Sub-Category]:[Segment 5]])","v":"Christmas; Christmas decorations; Snow globes"}]
["AH","Baltic CDT","U4","04. Non-Edibles","U4.01","01. Home, Food & Free Time","D.05.02","19. Household cleaning and dishwashing","16392","06. Toilet cleaning","16410","01. Toilet blocks","","","","","","","","","X",null,"E.07.09","Festivity","Christmas","Christmas decorations","Window stickers","","","","18138",{"$f":"_xlfn.TEXTJOIN(\"; \",TRUE,ZCDT_EXPORT_2[[#This Row],[Sub-Category]:[Segment 5]])","v":"Christmas; Christmas decorations; Window stickers"}]
["AH","Baltic CDT","U4","04. Non-Edibles","U4.01","01. Home, Food & Free Time","D.05.02","19. Household cleaning and dishwashing","16392","06. Toilet cleaning","16411","02. Toilet cleaners","16412","01. Regular","","","","","","","X",null,"E.07.09","Festivity","Christmas","Christmas lights","Indoor lights","Candlebridges","","","18161",{"$f":"_xlfn.TEXTJOIN(\"; \",TRUE,ZCDT_EXPORT_2[[#This Row],[Sub-Category]:[Segment 5]])","v":"Christmas; Christmas lights; Indoor lights; Candlebridges"}]
["AH","Baltic CDT","U4","04. Non-Edibles","U4.01","01. Home, Food & Free Time","D.05.02","19. Household cleaning and dishwashing","16392","06. Toilet cleaning","16411","02. Toilet cleaners","16413","02. Eco","","","","","","","X",null,"E.07.09","Festivity","Christmas","Christmas lights","Indoor lights","Electric garlands","","","18162",{"$f":"_xlfn.TEXTJOIN(\"; \",TRUE,ZCDT_EXPORT_2[[#This Row],[Sub-Category]:[Segment 5]])","v":"Christmas; Christmas lights; Indoor lights; Electric garlands"}]
["AH","Baltic CDT","U4","04. Non-Edibles","U4.01","01. Home, Food & Free Time","D.05.02","19. Household cleaning and dishwashing","16393","07. Air refresheners","16394","01. Electrical","","","","","","","","","X",null,"E.07.09","Festivity","Christmas","Christmas lights","Indoor lights","LED decorations","","","18163",{"$f":"_xlfn.TEXTJOIN(\"; \",TRUE,ZCDT_EXPORT_2[[#This Row],[Sub-Category]:[Segment 5]])","v":"Christmas; Christmas lights; Indoor lights; LED decorations"}]
["AH","Baltic CDT","U4","04. Non-Edibles","U4.01","01. Home, Food & Free Time","D.05.02","19. Household cleaning and dishwashing","16393","07. Air refresheners","16395","02. Regular","","","","","","","","","X",null,"E.07.09","Festivity","Christmas","Christmas lights","outdoor lights","","","","18142",{"$f":"_xlfn.TEXTJOIN(\"; \",TRUE,ZCDT_EXPORT_2[[#This Row],[Sub-Category]:[Segment 5]])","v":"Christmas; Christmas lights; outdoor lights"}]
["AH","Baltic CDT","U4","04. Non-Edibles","U4.01","01. Home, Food & Free Time","D.05.03","20. Seasonal homecare","16414","01. Dehumidifiers and accessories","","","","","","","","","","","X",null,"E.07.09","Festivity","Christmas","Christmas tree decorations","Balls","ball sets","","","18164",{"$f":"_xlfn.TEXTJOIN(\"; \",TRUE,ZCDT_EXPORT_2[[#This Row],[Sub-Category]:[Segment 5]])","v":"Christmas; Christmas tree decorations; Balls; ball sets"}]
["AH","Baltic CDT","U4","04. Non-Edibles","U4.01","01. Home, Food & Free Time","D.05.03","20. Seasonal homecare","16415","02. Glues","","","","","","","","","","","X",null,"E.07.09","Festivity","Christmas","Christmas tree decorations","Balls","single balls","","","18165",{"$f":"_xlfn.TEXTJOIN(\"; \",TRUE,ZCDT_EXPORT_2[[#This Row],[Sub-Category]:[Segment 5]])","v":"Christmas; Christmas tree decorations; Balls; single balls"}]
["AH","Baltic CDT","U4","04. Non-Edibles","U4.01","01. Home, Food & Free Time","D.05.03","20. Seasonal homecare","16416","03. Repellents","16418","01. Mosquito repellents","","","","","","","","","X",null,"E.07.09","Festivity","Christmas","Christmas tree decorations","Christmas garlands","","","","18150",{"$f":"_xlfn.TEXTJOIN(\"; \",TRUE,ZCDT_EXPORT_2[[#This Row],[Sub-Category]:[Segment 5]])","v":"Christmas; Christmas tree decorations; Christmas garlands"}]
["AH","Baltic CDT","U4","04. Non-Edibles","U4.01","01. Home, Food & Free Time","D.05.03","20. Seasonal homecare","16416","03. Repellents","16419","02. Insecticides","","","","","","","","","X",null,"E.07.09","Festivity","Christmas","Christmas tree decorations","Christmas tree figurines","","","","18151",{"$f":"_xlfn.TEXTJOIN(\"; \",TRUE,ZCDT_EXPORT_2[[#This Row],[Sub-Category]:[Segment 5]])","v":"Christmas; Christmas tree decorations; Christmas tree figurines"}]
["AH","Baltic CDT","U4","04. Non-Edibles","U4.01","01. Home, Food & Free Time","D.05.03","20. Seasonal homecare","16417","04. Shoe care","16420","01. Accessories","16422","01. Shoe insoles","","","","","","","X",null,"E.07.09","Festivity","Christmas","Christmas tree decorations","Christmas tree tops","","","","18152",{"$f":"_xlfn.TEXTJOIN(\"; \",TRUE,ZCDT_EXPORT_2[[#This Row],[Sub-Category]:[Segment 5]])","v":"Christmas; Christmas tree decorations; Christmas tree tops"}]
["AH","Baltic CDT","U4","04. Non-Edibles","U4.01","01. Home, Food & Free Time","D.05.03","20. Seasonal homecare","16417","04. Shoe care","16420","01. Accessories","16423","02. Shoe laces / accessories","","","","","","","X",null,"E.07.09","Festivity","Christmas","Christmas tree decorations","Snow flakes","","","","18153",{"$f":"_xlfn.TEXTJOIN(\"; \",TRUE,ZCDT_EXPORT_2[[#This Row],[Sub-Category]:[Segment 5]])","v":"Christmas; Christmas tree decorations; Snow flakes"}]
["AH","Baltic CDT","U4","04. Non-Edibles","U4.01","01. Home, Food & Free Time","D.05.03","20. Seasonal homecare","16417","04. Shoe care","16421","02. Protective products","16424","01. Shoe sponge","","","","","","","X",null,"E.07.09","Festivity","Christmas","Christmas trees and stands","Christmas trees","Trees with decorations","","","18166",{"$f":"_xlfn.TEXTJOIN(\"; \",TRUE,ZCDT_EXPORT_2[[#This Row],[Sub-Category]:[Segment 5]])","v":"Christmas; Christmas trees and stands; Christmas trees; Trees with decorations"}]
["AH","Baltic CDT","U4","04. Non-Edibles","U4.01","01. Home, Food & Free Time","D.05.03","20. Seasonal homecare","16417","04. Shoe care","16421","02. Protective products","19106","02. Creams","","","","","","","X",null,"E.07.09","Festivity","Christmas","Christmas trees and stands","Christmas trees","Trees without decorations","","","18167",{"$f":"_xlfn.TEXTJOIN(\"; \",TRUE,ZCDT_EXPORT_2[[#This Row],[Sub-Category]:[Segment 5]])","v":"Christmas; Christmas trees and stands; Christmas trees; Trees without decorations"}]
["AH","Baltic CDT","U4","04. Non-Edibles","U4.01","01. Home, Food & Free Time","D.05.03","20. Seasonal homecare","16417","04. Shoe care","16421","02. Protective products","19107","03. Deodorants","","","","","","","X",null,"E.07.09","Festivity","Christmas","Christmas trees and stands","Christmas trees stands","","","","18155",{"$f":"_xlfn.TEXTJOIN(\"; \",TRUE,ZCDT_EXPORT_2[[#This Row],[Sub-Category]:[Segment 5]])","v":"Christmas; Christmas trees and stands; Christmas trees stands"}]
["AH","Baltic CDT","U4","04. Non-Edibles","U4.01","01. Home, Food & Free Time","D.05.03","20. Seasonal homecare","16417","04. Shoe care","16421","02. Protective products","19108","04. Special protective products","","","","","","","X",null,"E.07.09","Festivity","Christmas","Christmas textile","Santa's bags","","","","18157",{"$f":"_xlfn.TEXTJOIN(\"; \",TRUE,ZCDT_EXPORT_2[[#This Row],[Sub-Category]:[Segment 5]])","v":"Christmas; Christmas textile; Santa's bags"}]
["AH","Baltic CDT","U4","04. Non-Edibles","U4.01","01. Home, Food & Free Time","D.08.02","24. Partner services","16384","01. Gift cards","","","","","","","","","","","X",null,"E.07.09","Festivity","Christmas","Christmas textile","Santa's socks","","","","18158",{"$f":"_xlfn.TEXTJOIN(\"; \",TRUE,ZCDT_EXPORT_2[[#This Row],[Sub-Category]:[Segment 5]])","v":"Christmas; Christmas textile; Santa's socks"}]
["AH","Baltic CDT","U4","04. Non-Edibles","U4.01","01. Home, Food & Free Time","D.08.02","24. Partner services","18917","02. Lottery tickets","18918","01. Instant","","","","","","","","","X",null,"E.07.09","Festivity","Christmas","Christmas textile","Tree skirts","","","","18160",{"$f":"_xlfn.TEXTJOIN(\"; \",TRUE,ZCDT_EXPORT_2[[#This Row],[Sub-Category]:[Segment 5]])","v":"Christmas; Christmas textile; Tree skirts"}]
["AH","Baltic CDT","U4","04. Non-Edibles","U4.01","01. Home, Food & Free Time","D.08.02","24. Partner services","18917","02. Lottery tickets","18919","02. Terminal","","","","","","","","","X",null,"E.07.09","Festivity","Christmas","Sparklers, firecracker","","","","","18148",{"$f":"_xlfn.TEXTJOIN(\"; \",TRUE,ZCDT_EXPORT_2[[#This Row],[Sub-Category]:[Segment 5]])","v":"Christmas; Sparklers, firecracker"}]
["AH","Baltic CDT","U4","04. Non-Edibles","U4.01","01. Home, Food & Free Time","D.08.02","24. Partner services","18920","03. GSM","18921","01. GSM prepaid","","","","","","","","","X",null,"E.07.09","Festivity","Easter","Easter decorations","","","","","18115",{"$f":"_xlfn.TEXTJOIN(\"; \",TRUE,ZCDT_EXPORT_2[[#This Row],[Sub-Category]:[Segment 5]])","v":"Easter; Easter decorations"}]
["AH","Baltic CDT","U4","04. Non-Edibles","U4.01","01. Home, Food & Free Time","D.08.02","24. Partner services","18920","03. GSM","18922","02. GSM refill","","","","","","","","","X",null,"E.07.09","Festivity","Easter","Egg color","","","","","18118",{"$f":"_xlfn.TEXTJOIN(\"; \",TRUE,ZCDT_EXPORT_2[[#This Row],[Sub-Category]:[Segment 5]])","v":"Easter; Egg color"}]
["AH","Baltic CDT","U4","04. Non-Edibles","U4.01","01. Home, Food & Free Time","D.08.02","24. Partner services","18923","04. Transport tickets","18924","01. Cards","","","","","","","","","X",null,"E.07.09","Festivity","Halloween","Halloween decorations","","","","","18110",{"$f":"_xlfn.TEXTJOIN(\"; \",TRUE,ZCDT_EXPORT_2[[#This Row],[Sub-Category]:[Segment 5]])","v":"Halloween; Halloween decorations"}]
["AH","Baltic CDT","U4","04. Non-Edibles","U4.01","01. Home, Food & Free Time","D.08.02","24. Partner services","18923","04. Transport tickets","18926","02. Tickets refill, day","","","","","","","","","X",null,"E.07.09","Festivity","Halloween","Halloween costumes & masks","","","","","18111",{"$f":"_xlfn.TEXTJOIN(\"; \",TRUE,ZCDT_EXPORT_2[[#This Row],[Sub-Category]:[Segment 5]])","v":"Halloween; Halloween costumes & masks"}]
["AH","Baltic CDT","U4","04. Non-Edibles","U4.01","01. Home, Food & Free Time","D.08.02","24. Partner services","18923","04. Transport tickets","18925","03. Tickets refill, minutes","","","","","","","","","X",null,"E.07.09","Festivity","St Valentine","St Valentine Decorations","","","","","18107",{"$f":"_xlfn.TEXTJOIN(\"; \",TRUE,ZCDT_EXPORT_2[[#This Row],[Sub-Category]:[Segment 5]])","v":"St Valentine; St Valentine Decorations"}]
["AH","Baltic CDT","U4","04. Non-Edibles","U4.01","01. Home, Food & Free Time","D.08.02","24. Partner services","18923","04. Transport tickets","18927","04. Tickets refill, month","","","","","","","","","X",null,"E.07.09","Festivity","1 EUR Stand","","","","","","19482",{"$f":"_xlfn.TEXTJOIN(\"; \",TRUE,ZCDT_EXPORT_2[[#This Row],[Sub-Category]:[Segment 5]])","v":"1 EUR Stand"}]
["AH","Baltic CDT","U4","04. Non-Edibles","U4.02","02. Family","E.05.01","01. Activity toys","187","01. Balls","14244","01. Balls for children","","","","","","","","","X",null,"D.01.01","Baby food","Baby drink","Juices / water","","","","","16357",{"$f":"_xlfn.TEXTJOIN(\"; \",TRUE,ZCDT_EXPORT_2[[#This Row],[Sub-Category]:[Segment 5]])","v":"Baby drink; Juices / water"}]
["AH","Baltic CDT","U4","04. Non-Edibles","U4.02","02. Family","E.05.01","01. Activity toys","189","02. Seasonal Toys","654","01. Inflatable mattraces","","","","","","","","","X",null,"D.01.01","Baby food","Baby drink","Tea","","","","","16358",{"$f":"_xlfn.TEXTJOIN(\"; \",TRUE,ZCDT_EXPORT_2[[#This Row],[Sub-Category]:[Segment 5]])","v":"Baby drink; Tea"}]
["AH","Baltic CDT","U4","04. Non-Edibles","U4.02","02. Family","E.05.01","01. Activity toys","189","02. Seasonal Toys","655","02. Inflatable pool","","","","","","","","","X",null,"D.01.01","Baby food","Porridge and soup powder","Dairy","","","","","16360",{"$f":"_xlfn.TEXTJOIN(\"; \",TRUE,ZCDT_EXPORT_2[[#This Row],[Sub-Category]:[Segment 5]])","v":"Porridge and soup powder; Dairy"}]
["AH","Baltic CDT","U4","04. Non-Edibles","U4.02","02. Family","E.05.01","01. Activity toys","189","02. Seasonal Toys","656","03. Inflatable ring/balls","","","","","","","","","X",null,"D.01.01","Baby food","Porridge and soup powder","Non-dairy","","","","","16361",{"$f":"_xlfn.TEXTJOIN(\"; \",TRUE,ZCDT_EXPORT_2[[#This Row],[Sub-Category]:[Segment 5]])","v":"Porridge and soup powder; Non-dairy"}]
["AH","Baltic CDT","U4","04. Non-Edibles","U4.02","02. Family","E.05.01","01. Activity toys","189","02. Seasonal Toys","14245","04. Outdoor games","","","","","","","","","X",null,"D.01.01","Baby food","Baby snacks","","","","","","16353",{"$f":"_xlfn.TEXTJOIN(\"; \",TRUE,ZCDT_EXPORT_2[[#This Row],[Sub-Category]:[Segment 5]])","v":"Baby snacks"}]
["AH","Baltic CDT","U4","04. Non-Edibles","U4.02","02. Family","E.05.01","01. Activity toys","189","02. Seasonal Toys","14246","05. Sand Toys","","","","","","","","","X",null,"D.01.01","Baby food","Infant formula","Liquid","","","","","16362",{"$f":"_xlfn.TEXTJOIN(\"; \",TRUE,ZCDT_EXPORT_2[[#This Row],[Sub-Category]:[Segment 5]])","v":"Infant formula; Liquid"}]
["AH","Baltic CDT","U4","04. Non-Edibles","U4.02","02. Family","E.05.01","01. Activity toys","189","02. Seasonal Toys","14247","06. Water saftety sets","","","","","","","","","X",null,"D.01.01","Baby food","Infant formula","Powder","Generic","","","","16364",{"$f":"_xlfn.TEXTJOIN(\"; \",TRUE,ZCDT_EXPORT_2[[#This Row],[Sub-Category]:[Segment 5]])","v":"Infant formula; Powder; Generic"}]
["AH","Baltic CDT","U4","04. Non-Edibles","U4.02","02. Family","E.05.01","01. Activity toys","189","02. Seasonal Toys","14248","07. Water toys","","","","","","","","","X",null,"D.01.01","Baby food","Infant formula","Powder","Special needs","","","","16365",{"$f":"_xlfn.TEXTJOIN(\"; \",TRUE,ZCDT_EXPORT_2[[#This Row],[Sub-Category]:[Segment 5]])","v":"Infant formula; Powder; Special needs"}]
["AH","Baltic CDT","U4","04. Non-Edibles","U4.02","02. Family","E.05.01","01. Activity toys","17977","03. Bubbles","","","","","","","","","","","X",null,"D.01.01","Baby food","Ready to eat baby food","Jarred","Desserts / smoothies","","","","19193",{"$f":"_xlfn.TEXTJOIN(\"; \",TRUE,ZCDT_EXPORT_2[[#This Row],[Sub-Category]:[Segment 5]])","v":"Ready to eat baby food; Jarred; Desserts / smoothies"}]
["AH","Baltic CDT","U4","04. Non-Edibles","U4.02","02. Family","E.03.01","01. Adult's clothing","13840","01. Men`s accessories","13845","01. Men's belts","","","","","","","","","X",null,"D.01.01","Baby food","Ready to eat baby food","Jarred","Main course","","","","19194",{"$f":"_xlfn.TEXTJOIN(\"; \",TRUE,ZCDT_EXPORT_2[[#This Row],[Sub-Category]:[Segment 5]])","v":"Ready to eat baby food; Jarred; Main course"}]
["AH","Baltic CDT","U4","04. Non-Edibles","U4.02","02. Family","E.03.01","01. Adult's clothing","13840","01. Men`s accessories","13846","02. Men's handwear","","","","","","","","","X",null,"D.01.01","Baby food","Ready to eat baby food","Jarred","Porridges","","","","19195",{"$f":"_xlfn.TEXTJOIN(\"; \",TRUE,ZCDT_EXPORT_2[[#This Row],[Sub-Category]:[Segment 5]])","v":"Ready to eat baby food; Jarred; Porridges"}]
["AH","Baltic CDT","U4","04. Non-Edibles","U4.02","02. Family","E.03.01","01. Adult's clothing","13840","01. Men`s accessories","13847","03. Men's headwear","","","","","","","","","X",null,"D.01.01","Baby food","Ready to eat baby food","Pouches","Desserts / smoothies","","","","19196",{"$f":"_xlfn.TEXTJOIN(\"; \",TRUE,ZCDT_EXPORT_2[[#This Row],[Sub-Category]:[Segment 5]])","v":"Ready to eat baby food; Pouches; Desserts / smoothies"}]
["AH","Baltic CDT","U4","04. Non-Edibles","U4.02","02. Family","E.03.01","01. Adult's clothing","13840","01. Men`s accessories","13848","04. Men's leather handwear","","","","","","","","","X",null,"D.01.01","Baby food","Ready to eat baby food","Pouches","Main course","","","","19197",{"$f":"_xlfn.TEXTJOIN(\"; \",TRUE,ZCDT_EXPORT_2[[#This Row],[Sub-Category]:[Segment 5]])","v":"Ready to eat baby food; Pouches; Main course"}]
["AH","Baltic CDT","U4","04. Non-Edibles","U4.02","02. Family","E.03.01","01. Adult's clothing","13840","01. Men`s accessories","13849","05. Men's scarves","","","","","","","","","X",null,"D.01.01","Baby food","Ready to eat baby food","Pouches","Porridges","","","","19198",{"$f":"_xlfn.TEXTJOIN(\"; \",TRUE,ZCDT_EXPORT_2[[#This Row],[Sub-Category]:[Segment 5]])","v":"Ready to eat baby food; Pouches; Porridges"}]
["AH","Baltic CDT","U4","04. Non-Edibles","U4.02","02. Family","E.03.01","01. Adult's clothing","13840","01. Men`s accessories","13850","06. Men's ties","","","","","","","","","X",null,"D.07.01","Diapers and baby care","Baby Wash & Skin Care","Skin Care","ECO/ Natural","","","","17007",{"$f":"_xlfn.TEXTJOIN(\"; \",TRUE,ZCDT_EXPORT_2[[#This Row],[Sub-Category]:[Segment 5]])","v":"Baby Wash & Skin Care; Skin Care; ECO/ Natural"}]
["AH","Baltic CDT","U4","04. Non-Edibles","U4.02","02. Family","E.03.01","01. Adult's clothing","13841","02. Men's clothing","13852","01. Men`s jeans","","","","","","","","","X",null,"D.07.01","Diapers and baby care","Baby Wash & Skin Care","Skin Care","Regular","","","","17008",{"$f":"_xlfn.TEXTJOIN(\"; \",TRUE,ZCDT_EXPORT_2[[#This Row],[Sub-Category]:[Segment 5]])","v":"Baby Wash & Skin Care; Skin Care; Regular"}]
["AH","Baltic CDT","U4","04. Non-Edibles","U4.02","02. Family","E.03.01","01. Adult's clothing","13841","02. Men's clothing","13853","02. Men`s knitwear","","","","","","","","","X",null,"D.07.01","Diapers and baby care","Baby Wash & Skin Care","Wash","ECO/Natural","","","","17009",{"$f":"_xlfn.TEXTJOIN(\"; \",TRUE,ZCDT_EXPORT_2[[#This Row],[Sub-Category]:[Segment 5]])","v":"Baby Wash & Skin Care; Wash; ECO/Natural"}]
["AH","Baltic CDT","U4","04. Non-Edibles","U4.02","02. Family","E.03.01","01. Adult's clothing","13841","02. Men's clothing","13854","03. Men`s long sleeve t-shirts","","","","","","","","","X",null,"D.07.01","Diapers and baby care","Baby Wash & Skin Care","Wash","Regular","","","","17010",{"$f":"_xlfn.TEXTJOIN(\"; \",TRUE,ZCDT_EXPORT_2[[#This Row],[Sub-Category]:[Segment 5]])","v":"Baby Wash & Skin Care; Wash; Regular"}]
["AH","Baltic CDT","U4","04. Non-Edibles","U4.02","02. Family","E.03.01","01. Adult's clothing","13841","02. Men's clothing","13855","04. Men`s outdoor clothing","","","","","","","","","X",null,"D.07.01","Diapers and baby care","Baby Wash & Skin Care","Other Care Products","","","","","17005",{"$f":"_xlfn.TEXTJOIN(\"; \",TRUE,ZCDT_EXPORT_2[[#This Row],[Sub-Category]:[Segment 5]])","v":"Baby Wash & Skin Care; Other Care Products"}]
["AH","Baltic CDT","U4","04. Non-Edibles","U4.02","02. Family","E.03.01","01. Adult's clothing","13841","02. Men's clothing","13856","05. Men`s shirts","","","","","","","","","X",null,"D.07.01","Diapers and baby care","Baby Wash & Skin Care","Wipes","1 Pack (<80 pcs)","","","","17011",{"$f":"_xlfn.TEXTJOIN(\"; \",TRUE,ZCDT_EXPORT_2[[#This Row],[Sub-Category]:[Segment 5]])","v":"Baby Wash & Skin Care; Wipes; 1 Pack (<80 pcs)"}]
["AH","Baltic CDT","U4","04. Non-Edibles","U4.02","02. Family","E.03.01","01. Adult's clothing","13841","02. Men's clothing","13857","06. Men`s short sleeve t-shirts","","","","","","","","","X",null,"D.07.01","Diapers and baby care","Baby Wash & Skin Care","Wipes","2 or more packs","","","","17013",{"$f":"_xlfn.TEXTJOIN(\"; \",TRUE,ZCDT_EXPORT_2[[#This Row],[Sub-Category]:[Segment 5]])","v":"Baby Wash & Skin Care; Wipes; 2 or more packs"}]
["AH","Baltic CDT","U4","04. Non-Edibles","U4.02","02. Family","E.03.01","01. Adult's clothing","13841","02. Men's clothing","13858","07. Men`s shorts","","","","","","","","","X",null,"D.07.01","Diapers and baby care","Nappies","Clips","Size 1","","","","19202",{"$f":"_xlfn.TEXTJOIN(\"; \",TRUE,ZCDT_EXPORT_2[[#This Row],[Sub-Category]:[Segment 5]])","v":"Nappies; Clips; Size 1"}]
["AH","Baltic CDT","U4","04. Non-Edibles","U4.02","02. Family","E.03.01","01. Adult's clothing","13841","02. Men's clothing","13859","08. Men`s sweatshirts","","","","","","","","","X",null,"D.07.01","Diapers and baby care","Nappies","Clips","Size 2","","","","19203",{"$f":"_xlfn.TEXTJOIN(\"; \",TRUE,ZCDT_EXPORT_2[[#This Row],[Sub-Category]:[Segment 5]])","v":"Nappies; Clips; Size 2"}]
["AH","Baltic CDT","U4","04. Non-Edibles","U4.02","02. Family","E.03.01","01. Adult's clothing","13841","02. Men's clothing","13860","09. Men`s trousers","","","","","","","","","X",null,"D.07.01","Diapers and baby care","Nappies","Clips","Size 3","","","","19204",{"$f":"_xlfn.TEXTJOIN(\"; \",TRUE,ZCDT_EXPORT_2[[#This Row],[Sub-Category]:[Segment 5]])","v":"Nappies; Clips; Size 3"}]
["AH","Baltic CDT","U4","04. Non-Edibles","U4.02","02. Family","E.03.01","01. Adult's clothing","13841","02. Men's clothing","15149","10. Men`s blazer","","","","","","","","","X",null,"D.07.01","Diapers and baby care","Nappies","Clips","Size 4","","","","19205",{"$f":"_xlfn.TEXTJOIN(\"; \",TRUE,ZCDT_EXPORT_2[[#This Row],[Sub-Category]:[Segment 5]])","v":"Nappies; Clips; Size 4"}]
["AH","Baltic CDT","U4","04. Non-Edibles","U4.02","02. Family","E.03.01","01. Adult's clothing","13842","03. Women`s accessories","13862","01. Women's belts","","","","","","","","","X",null,"D.07.01","Diapers and baby care","Nappies","Clips","Size 5","","","","19206",{"$f":"_xlfn.TEXTJOIN(\"; \",TRUE,ZCDT_EXPORT_2[[#This Row],[Sub-Category]:[Segment 5]])","v":"Nappies; Clips; Size 5"}]
["AH","Baltic CDT","U4","04. Non-Edibles","U4.02","02. Family","E.03.01","01. Adult's clothing","13842","03. Women`s accessories","13863","02. Women's handwear","","","","","","","","","X",null,"D.07.01","Diapers and baby care","Nappies","Clips","Size 6","","","","19207",{"$f":"_xlfn.TEXTJOIN(\"; \",TRUE,ZCDT_EXPORT_2[[#This Row],[Sub-Category]:[Segment 5]])","v":"Nappies; Clips; Size 6"}]
["AH","Baltic CDT","U4","04. Non-Edibles","U4.02","02. Family","E.03.01","01. Adult's clothing","13842","03. Women`s accessories","13864","03. Women's headwear","","","","","","","","","X",null,"D.07.01","Diapers and baby care","Nappies","Clips","Size 7","","","","19208",{"$f":"_xlfn.TEXTJOIN(\"; \",TRUE,ZCDT_EXPORT_2[[#This Row],[Sub-Category]:[Segment 5]])","v":"Nappies; Clips; Size 7"}]
["AH","Baltic CDT","U4","04. Non-Edibles","U4.02","02. Family","E.03.01","01. Adult's clothing","13842","03. Women`s accessories","13865","04. Women's leather handwear","","","","","","","","","X",null,"D.07.01","Diapers and baby care","Nappies","Pull Ups","Size 1","","","","19209",{"$f":"_xlfn.TEXTJOIN(\"; \",TRUE,ZCDT_EXPORT_2[[#This Row],[Sub-Category]:[Segment 5]])","v":"Nappies; Pull Ups; Size 1"}]
["AH","Baltic CDT","U4","04. Non-Edibles","U4.02","02. Family","E.03.01","01. Adult's clothing","13842","03. Women`s accessories","13866","05. Women's scarves","","","","","","","","","X",null,"D.07.01","Diapers and baby care","Nappies","Pull Ups","Size 2","","","","19210",{"$f":"_xlfn.TEXTJOIN(\"; \",TRUE,ZCDT_EXPORT_2[[#This Row],[Sub-Category]:[Segment 5]])","v":"Nappies; Pull Ups; Size 2"}]
["AH","Baltic CDT","U4","04. Non-Edibles","U4.02","02. Family","E.03.01","01. Adult's clothing","13843","04. Women's clothing","13869","01. Women`s blouses","","","","","","","","","X",null,"D.07.01","Diapers and baby care","Nappies","Pull Ups","Size 3","","","","19211",{"$f":"_xlfn.TEXTJOIN(\"; \",TRUE,ZCDT_EXPORT_2[[#This Row],[Sub-Category]:[Segment 5]])","v":"Nappies; Pull Ups; Size 3"}]
["AH","Baltic CDT","U4","04. Non-Edibles","U4.02","02. Family","E.03.01","01. Adult's clothing","13843","04. Women's clothing","13870","02. Women`s dresses/tunics","","","","","","","","","X",null,"D.07.01","Diapers and baby care","Nappies","Pull Ups","Size 4","","","","19212",{"$f":"_xlfn.TEXTJOIN(\"; \",TRUE,ZCDT_EXPORT_2[[#This Row],[Sub-Category]:[Segment 5]])","v":"Nappies; Pull Ups; Size 4"}]
["AH","Baltic CDT","U4","04. Non-Edibles","U4.02","02. Family","E.03.01","01. Adult's clothing","13843","04. Women's clothing","13871","03. Women`s jeans","","","","","","","","","X",null,"D.07.01","Diapers and baby care","Nappies","Pull Ups","Size 5","","","","19213",{"$f":"_xlfn.TEXTJOIN(\"; \",TRUE,ZCDT_EXPORT_2[[#This Row],[Sub-Category]:[Segment 5]])","v":"Nappies; Pull Ups; Size 5"}]
["AH","Baltic CDT","U4","04. Non-Edibles","U4.02","02. Family","E.03.01","01. Adult's clothing","13843","04. Women's clothing","13872","04. Women`s knitwear","","","","","","","","","X",null,"D.07.01","Diapers and baby care","Nappies","Pull Ups","Size 6","","","","19214",{"$f":"_xlfn.TEXTJOIN(\"; \",TRUE,ZCDT_EXPORT_2[[#This Row],[Sub-Category]:[Segment 5]])","v":"Nappies; Pull Ups; Size 6"}]
["AH","Baltic CDT","U4","04. Non-Edibles","U4.02","02. Family","E.03.01","01. Adult's clothing","13843","04. Women's clothing","13873","05. Women`s long sleeve t-shirts","","","","","","","","","X",null,"D.07.01","Diapers and baby care","Nappies","Pull Ups","Size 7","","","","19215",{"$f":"_xlfn.TEXTJOIN(\"; \",TRUE,ZCDT_EXPORT_2[[#This Row],[Sub-Category]:[Segment 5]])","v":"Nappies; Pull Ups; Size 7"}]
["AH","Baltic CDT","U4","04. Non-Edibles","U4.02","02. Family","E.03.01","01. Adult's clothing","13843","04. Women's clothing","13874","06. Women`s outdoor clothing","","","","","","","","","X",null,"D.07.01","Diapers and baby care","Nappies","ECO / Japanese","","","","","19201",{"$f":"_xlfn.TEXTJOIN(\"; \",TRUE,ZCDT_EXPORT_2[[#This Row],[Sub-Category]:[Segment 5]])","v":"Nappies; ECO / Japanese"}]
["AH","Baltic CDT","U4","04. Non-Edibles","U4.02","02. Family","E.03.01","01. Adult's clothing","13843","04. Women's clothing","13875","07. Women`s short sleeve t-shirts","","","","","","","","","X",null,"D.07.01","Diapers and baby care","Nappies","Special Needs","","","","","17016",{"$f":"_xlfn.TEXTJOIN(\"; \",TRUE,ZCDT_EXPORT_2[[#This Row],[Sub-Category]:[Segment 5]])","v":"Nappies; Special Needs"}]
["AH","Baltic CDT","U4","04. Non-Edibles","U4.02","02. Family","E.03.01","01. Adult's clothing","13843","04. Women's clothing","13878","08. Women`s shorts","","","","","","","","","X",null,"D.08.01","Media,books,cards,calendars","Journalism","Magazines","Adults","General magazines","","","18994",{"$f":"_xlfn.TEXTJOIN(\"; \",TRUE,ZCDT_EXPORT_2[[#This Row],[Sub-Category]:[Segment 5]])","v":"Journalism; Magazines; Adults; General magazines"}]
["AH","Baltic CDT","U4","04. Non-Edibles","U4.02","02. Family","E.03.01","01. Adult's clothing","13843","04. Women's clothing","13876","09. Women`s skirts","","","","","","","","","X",null,"D.08.01","Media,books,cards,calendars","Journalism","Magazines","Adults","Women's magazines","","","18995",{"$f":"_xlfn.TEXTJOIN(\"; \",TRUE,ZCDT_EXPORT_2[[#This Row],[Sub-Category]:[Segment 5]])","v":"Journalism; Magazines; Adults; Women's magazines"}]
["AH","Baltic CDT","U4","04. Non-Edibles","U4.02","02. Family","E.03.01","01. Adult's clothing","13843","04. Women's clothing","13879","10. Women`s sweatpants","","","","","","","","","X",null,"D.08.01","Media,books,cards,calendars","Journalism","Magazines","Adults","Men's magazines","","","18996",{"$f":"_xlfn.TEXTJOIN(\"; \",TRUE,ZCDT_EXPORT_2[[#This Row],[Sub-Category]:[Segment 5]])","v":"Journalism; Magazines; Adults; Men's magazines"}]
["AH","Baltic CDT","U4","04. Non-Edibles","U4.02","02. Family","E.03.01","01. Adult's clothing","13843","04. Women's clothing","13877","11. Women`s sweatshirts","","","","","","","","","X",null,"D.08.01","Media,books,cards,calendars","Journalism","Magazines","Adults","Entertainment magazines","","","18997",{"$f":"_xlfn.TEXTJOIN(\"; \",TRUE,ZCDT_EXPORT_2[[#This Row],[Sub-Category]:[Segment 5]])","v":"Journalism; Magazines; Adults; Entertainment magazines"}]
["AH","Baltic CDT","U4","04. Non-Edibles","U4.02","02. Family","E.03.01","01. Adult's clothing","13843","04. Women's clothing","13880","12. Women`s trousers","","","","","","","","","X",null,"D.08.01","Media,books,cards,calendars","Journalism","Magazines","Adults","Hobby magazines","","","18998",{"$f":"_xlfn.TEXTJOIN(\"; \",TRUE,ZCDT_EXPORT_2[[#This Row],[Sub-Category]:[Segment 5]])","v":"Journalism; Magazines; Adults; Hobby magazines"}]
["AH","Baltic CDT","U4","04. Non-Edibles","U4.02","02. Family","E.03.01","01. Adult's clothing","13843","04. Women's clothing","13881","13. Women's sets","","","","","","","","","X",null,"D.08.01","Media,books,cards,calendars","Journalism","Magazines","Children / youngsters","","","","18608",{"$f":"_xlfn.TEXTJOIN(\"; \",TRUE,ZCDT_EXPORT_2[[#This Row],[Sub-Category]:[Segment 5]])","v":"Journalism; Magazines; Children / youngsters"}]
["AH","Baltic CDT","U4","04. Non-Edibles","U4.02","02. Family","E.03.01","01. Adult's clothing","13843","04. Women's clothing","15150","14. Women's blazer","","","","","","","","","X",null,"D.08.01","Media,books,cards,calendars","Journalism","Newspapers","","","","","18606",{"$f":"_xlfn.TEXTJOIN(\"; \",TRUE,ZCDT_EXPORT_2[[#This Row],[Sub-Category]:[Segment 5]])","v":"Journalism; Newspapers"}]
["AH","Baltic CDT","U4","04. Non-Edibles","U4.02","02. Family","D.01.01","01. Baby food","16351","01. Baby drink","16357","01. Juices / water","","","","","","","","","X",null,"D.08.01","Media,books,cards,calendars","Books","Adult books","Dictionaries and grammars","","","","18611",{"$f":"_xlfn.TEXTJOIN(\"; \",TRUE,ZCDT_EXPORT_2[[#This Row],[Sub-Category]:[Segment 5]])","v":"Books; Adult books; Dictionaries and grammars"}]
["AH","Baltic CDT","U4","04. Non-Edibles","U4.02","02. Family","D.01.01","01. Baby food","16351","01. Baby drink","16358","02. Tea","","","","","","","","","X",null,"D.08.01","Media,books,cards,calendars","Books","Adult books","Hobby books","","","","18612",{"$f":"_xlfn.TEXTJOIN(\"; \",TRUE,ZCDT_EXPORT_2[[#This Row],[Sub-Category]:[Segment 5]])","v":"Books; Adult books; Hobby books"}]
["AH","Baltic CDT","U4","04. Non-Edibles","U4.02","02. Family","D.01.01","01. Baby food","16352","02. Porridge and soup powder","16360","01. Dairy","","","","","","","","","X",null,"D.08.01","Media,books,cards,calendars","Books","Adult books","Novels","","","","18614",{"$f":"_xlfn.TEXTJOIN(\"; \",TRUE,ZCDT_EXPORT_2[[#This Row],[Sub-Category]:[Segment 5]])","v":"Books; Adult books; Novels"}]
["AH","Baltic CDT","U4","04. Non-Edibles","U4.02","02. Family","D.01.01","01. Baby food","16352","02. Porridge and soup powder","16361","02. Non-dairy","","","","","","","","","X",null,"D.08.01","Media,books,cards,calendars","Books","Adult books","Historic/ Biography books","","","","18616",{"$f":"_xlfn.TEXTJOIN(\"; \",TRUE,ZCDT_EXPORT_2[[#This Row],[Sub-Category]:[Segment 5]])","v":"Books; Adult books; Historic/ Biography books"}]
["AH","Baltic CDT","U4","04. Non-Edibles","U4.02","02. Family","D.01.01","01. Baby food","16353","03. Baby snacks","","","","","","","","","","","X",null,"D.08.01","Media,books,cards,calendars","Books","Adult books","Popular science books","","","","18615",{"$f":"_xlfn.TEXTJOIN(\"; \",TRUE,ZCDT_EXPORT_2[[#This Row],[Sub-Category]:[Segment 5]])","v":"Books; Adult books; Popular science books"}]
["AH","Baltic CDT","U4","04. Non-Edibles","U4.02","02. Family","D.01.01","01. Baby food","16354","04. Infant formula","16362","01. Liquid","","","","","","","","","X",null,"D.08.01","Media,books,cards,calendars","Books","Adult books","Psychology books","","","","19104",{"$f":"_xlfn.TEXTJOIN(\"; \",TRUE,ZCDT_EXPORT_2[[#This Row],[Sub-Category]:[Segment 5]])","v":"Books; Adult books; Psychology books"}]
["AH","Baltic CDT","U4","04. Non-Edibles","U4.02","02. Family","D.01.01","01. Baby food","16354","04. Infant formula","16363","02. Powder","16364","01. Generic","","","","","","","X",null,"D.08.01","Media,books,cards,calendars","Books","Children books","Fairy tales and children stories","","","","18617",{"$f":"_xlfn.TEXTJOIN(\"; \",TRUE,ZCDT_EXPORT_2[[#This Row],[Sub-Category]:[Segment 5]])","v":"Books; Children books; Fairy tales and children stories"}]
["AH","Baltic CDT","U4","04. Non-Edibles","U4.02","02. Family","D.01.01","01. Baby food","16354","04. Infant formula","16363","02. Powder","16365","02. Special needs","","","","","","","X",null,"D.08.01","Media,books,cards,calendars","Books","Children books","School books","","","","18618",{"$f":"_xlfn.TEXTJOIN(\"; \",TRUE,ZCDT_EXPORT_2[[#This Row],[Sub-Category]:[Segment 5]])","v":"Books; Children books; School books"}]
["AH","Baltic CDT","U4","04. Non-Edibles","U4.02","02. Family","D.01.01","01. Baby food","16355","05. Ready to eat baby food","19191","01. Jarred","19193","01. Desserts / smoothies","","","","","","","X",null,"D.08.01","Media,books,cards,calendars","Books","Children books","Activity/ Stickers books","","","","18619",{"$f":"_xlfn.TEXTJOIN(\"; \",TRUE,ZCDT_EXPORT_2[[#This Row],[Sub-Category]:[Segment 5]])","v":"Books; Children books; Activity/ Stickers books"}]
["AH","Baltic CDT","U4","04. Non-Edibles","U4.02","02. Family","D.01.01","01. Baby food","16355","05. Ready to eat baby food","19191","01. Jarred","19194","02. Main course","","","","","","","X",null,"D.08.01","Media,books,cards,calendars","Books","Children books","Coloring books","","","","18620",{"$f":"_xlfn.TEXTJOIN(\"; \",TRUE,ZCDT_EXPORT_2[[#This Row],[Sub-Category]:[Segment 5]])","v":"Books; Children books; Coloring books"}]
["AH","Baltic CDT","U4","04. Non-Edibles","U4.02","02. Family","D.01.01","01. Baby food","16355","05. Ready to eat baby food","19191","01. Jarred","19195","03. Porridges","","","","","","","X",null,"D.08.01","Media,books,cards,calendars","Greeting Cards and Postcards","Greeting cards","Regular","","","","18626",{"$f":"_xlfn.TEXTJOIN(\"; \",TRUE,ZCDT_EXPORT_2[[#This Row],[Sub-Category]:[Segment 5]])","v":"Greeting Cards and Postcards; Greeting cards; Regular"}]
["AH","Baltic CDT","U4","04. Non-Edibles","U4.02","02. Family","D.01.01","01. Baby food","16355","05. Ready to eat baby food","19192","02. Pouches","19196","01. Desserts / smoothies","","","","","","","X",null,"D.08.01","Media,books,cards,calendars","Greeting Cards and Postcards","Greeting cards","Seasonal","","","","18627",{"$f":"_xlfn.TEXTJOIN(\"; \",TRUE,ZCDT_EXPORT_2[[#This Row],[Sub-Category]:[Segment 5]])","v":"Greeting Cards and Postcards; Greeting cards; Seasonal"}]
["AH","Baltic CDT","U4","04. Non-Edibles","U4.02","02. Family","D.01.01","01. Baby food","16355","05. Ready to eat baby food","19192","02. Pouches","19197","02. Main course","","","","","","","X",null,"D.08.01","Media,books,cards,calendars","Greeting Cards and Postcards","Cards for money","","","","","18622",{"$f":"_xlfn.TEXTJOIN(\"; \",TRUE,ZCDT_EXPORT_2[[#This Row],[Sub-Category]:[Segment 5]])","v":"Greeting Cards and Postcards; Cards for money"}]
["AH","Baltic CDT","U4","04. Non-Edibles","U4.02","02. Family","D.01.01","01. Baby food","16355","05. Ready to eat baby food","19192","02. Pouches","19198","03. Porridges","","","","","","","X",null,"D.08.01","Media,books,cards,calendars","Greeting Cards and Postcards","Decorative envelopes","","","","","18624",{"$f":"_xlfn.TEXTJOIN(\"; \",TRUE,ZCDT_EXPORT_2[[#This Row],[Sub-Category]:[Segment 5]])","v":"Greeting Cards and Postcards; Decorative envelopes"}]
["AH","Baltic CDT","U4","04. Non-Edibles","U4.02","02. Family","D.08.01","01. Media,books,cards,calendars","18601","01. Journalism","18605","01. Magazines","18607","01. Adults","18994","01. General magazines","","","","","X",null,"D.08.01","Media,books,cards,calendars","Greeting Cards and Postcards","Decorative cards","","","","","18625",{"$f":"_xlfn.TEXTJOIN(\"; \",TRUE,ZCDT_EXPORT_2[[#This Row],[Sub-Category]:[Segment 5]])","v":"Greeting Cards and Postcards; Decorative cards"}]
["AH","Baltic CDT","U4","04. Non-Edibles","U4.02","02. Family","D.08.01","01. Media,books,cards,calendars","18601","01. Journalism","18605","01. Magazines","18607","01. Adults","18995","02. Women's magazines","","","","","X",null,"D.08.01","Media,books,cards,calendars","Calendars,diaries","Diaries,planners","","","","","18629",{"$f":"_xlfn.TEXTJOIN(\"; \",TRUE,ZCDT_EXPORT_2[[#This Row],[Sub-Category]:[Segment 5]])","v":"Calendars,diaries; Diaries,planners"}]
["AH","Baltic CDT","U4","04. Non-Edibles","U4.02","02. Family","D.08.01","01. Media,books,cards,calendars","18601","01. Journalism","18605","01. Magazines","18607","01. Adults","18996","03. Men's magazines","","","","","X",null,"D.08.01","Media,books,cards,calendars","Calendars,diaries","Calendars","","","","","18630",{"$f":"_xlfn.TEXTJOIN(\"; \",TRUE,ZCDT_EXPORT_2[[#This Row],[Sub-Category]:[Segment 5]])","v":"Calendars,diaries; Calendars"}]
["AH","Baltic CDT","U4","04. Non-Edibles","U4.02","02. Family","D.08.01","01. Media,books,cards,calendars","18601","01. Journalism","18605","01. Magazines","18607","01. Adults","18997","04. Entertainment magazines","","","","","X",null,"D.09.01","Pet food and accessories","Food","Dog food","Canned food","Puppies","Single portions","Single pack single use portion","11575",{"$f":"_xlfn.TEXTJOIN(\"; \",TRUE,ZCDT_EXPORT_2[[#This Row],[Sub-Category]:[Segment 5]])","v":"Food; Dog food; Canned food; Puppies; Single portions; Single pack single use portion"}]
["AH","Baltic CDT","U4","04. Non-Edibles","U4.02","02. Family","D.08.01","01. Media,books,cards,calendars","18601","01. Journalism","18605","01. Magazines","18607","01. Adults","18998","05. Hobby magazines","","","","","X",null,"D.09.01","Pet food and accessories","Food","Dog food","Canned food","Puppies","Single portions","Multi pack single use portion","11576",{"$f":"_xlfn.TEXTJOIN(\"; \",TRUE,ZCDT_EXPORT_2[[#This Row],[Sub-Category]:[Segment 5]])","v":"Food; Dog food; Canned food; Puppies; Single portions; Multi pack single use portion"}]
["AH","Baltic CDT","U4","04. Non-Edibles","U4.02","02. Family","D.08.01","01. Media,books,cards,calendars","18601","01. Journalism","18605","01. Magazines","18608","02. Children / youngsters","","","","","","","X",null,"D.09.01","Pet food and accessories","Food","Dog food","Canned food","Puppies","Multi portions","0.1 – 0.7kg","11517",{"$f":"_xlfn.TEXTJOIN(\"; \",TRUE,ZCDT_EXPORT_2[[#This Row],[Sub-Category]:[Segment 5]])","v":"Food; Dog food; Canned food; Puppies; Multi portions; 0.1 – 0.7kg"}]
["AH","Baltic CDT","U4","04. Non-Edibles","U4.02","02. Family","D.08.01","01. Media,books,cards,calendars","18601","01. Journalism","18606","02. Newspapers","","","","","","","","","X",null,"D.09.01","Pet food and accessories","Food","Dog food","Canned food","Puppies","Multi portions","> 0.7kg","11518",{"$f":"_xlfn.TEXTJOIN(\"; \",TRUE,ZCDT_EXPORT_2[[#This Row],[Sub-Category]:[Segment 5]])","v":"Food; Dog food; Canned food; Puppies; Multi portions; > 0.7kg"}]
["AH","Baltic CDT","U4","04. Non-Edibles","U4.02","02. Family","D.08.01","01. Media,books,cards,calendars","18602","02. Books","18609","01. Adult books","18611","01. Dictionaries and grammars","","","","","","","X",null,"D.09.01","Pet food and accessories","Food","Dog food","Canned food","Adult","Single portions","Single pack single use portion","11581",{"$f":"_xlfn.TEXTJOIN(\"; \",TRUE,ZCDT_EXPORT_2[[#This Row],[Sub-Category]:[Segment 5]])","v":"Food; Dog food; Canned food; Adult; Single portions; Single pack single use portion"}]
["AH","Baltic CDT","U4","04. Non-Edibles","U4.02","02. Family","D.08.01","01. Media,books,cards,calendars","18602","02. Books","18609","01. Adult books","18612","02. Hobby books","","","","","","","X",null,"D.09.01","Pet food and accessories","Food","Dog food","Canned food","Adult","Single portions","Multi pack single use portion","11582",{"$f":"_xlfn.TEXTJOIN(\"; \",TRUE,ZCDT_EXPORT_2[[#This Row],[Sub-Category]:[Segment 5]])","v":"Food; Dog food; Canned food; Adult; Single portions; Multi pack single use portion"}]
["AH","Baltic CDT","U4","04. Non-Edibles","U4.02","02. Family","D.08.01","01. Media,books,cards,calendars","18602","02. Books","18609","01. Adult books","18614","03. Novels","","","","","","","X",null,"D.09.01","Pet food and accessories","Food","Dog food","Canned food","Adult","Multi portion","0.4 – 0.8kg","11583",{"$f":"_xlfn.TEXTJOIN(\"; \",TRUE,ZCDT_EXPORT_2[[#This Row],[Sub-Category]:[Segment 5]])","v":"Food; Dog food; Canned food; Adult; Multi portion; 0.4 – 0.8kg"}]
["AH","Baltic CDT","U4","04. Non-Edibles","U4.02","02. Family","D.08.01","01. Media,books,cards,calendars","18602","02. Books","18609","01. Adult books","18616","04. Historic/ Biography books","","","","","","","X",null,"D.09.01","Pet food and accessories","Food","Dog food","Canned food","Adult","Multi portion","> 0.8kg","11584",{"$f":"_xlfn.TEXTJOIN(\"; \",TRUE,ZCDT_EXPORT_2[[#This Row],[Sub-Category]:[Segment 5]])","v":"Food; Dog food; Canned food; Adult; Multi portion; > 0.8kg"}]
["AH","Baltic CDT","U4","04. Non-Edibles","U4.02","02. Family","D.08.01","01. Media,books,cards,calendars","18602","02. Books","18609","01. Adult books","18615","05. Popular science books","","","","","","","X",null,"D.09.01","Pet food and accessories","Food","Dog food","Canned food","Special needs","Single portions","Single pack single use portion","11589",{"$f":"_xlfn.TEXTJOIN(\"; \",TRUE,ZCDT_EXPORT_2[[#This Row],[Sub-Category]:[Segment 5]])","v":"Food; Dog food; Canned food; Special needs; Single portions; Single pack single use portion"}]
["AH","Baltic CDT","U4","04. Non-Edibles","U4.02","02. Family","D.08.01","01. Media,books,cards,calendars","18602","02. Books","18609","01. Adult books","19104","06. Psychology books","","","","","","","X",null,"D.09.01","Pet food and accessories","Food","Dog food","Canned food","Special needs","Single portions","Multi pack single use portion","11590",{"$f":"_xlfn.TEXTJOIN(\"; \",TRUE,ZCDT_EXPORT_2[[#This Row],[Sub-Category]:[Segment 5]])","v":"Food; Dog food; Canned food; Special needs; Single portions; Multi pack single use portion"}]
["AH","Baltic CDT","U4","04. Non-Edibles","U4.02","02. Family","D.08.01","01. Media,books,cards,calendars","18602","02. Books","18610","02. Children books","18617","01. Fairy tales and children stories","","","","","","","X",null,"D.09.01","Pet food and accessories","Food","Dog food","Canned food","Special needs","Multi portion","0.4 – 0.8kg","11591",{"$f":"_xlfn.TEXTJOIN(\"; \",TRUE,ZCDT_EXPORT_2[[#This Row],[Sub-Category]:[Segment 5]])","v":"Food; Dog food; Canned food; Special needs; Multi portion; 0.4 – 0.8kg"}]
["AH","Baltic CDT","U4","04. Non-Edibles","U4.02","02. Family","D.08.01","01. Media,books,cards,calendars","18602","02. Books","18610","02. Children books","18618","02. School books","","","","","","","X",null,"D.09.01","Pet food and accessories","Food","Dog food","Canned food","Special needs","Multi portion","> 0.8kg","11592",{"$f":"_xlfn.TEXTJOIN(\"; \",TRUE,ZCDT_EXPORT_2[[#This Row],[Sub-Category]:[Segment 5]])","v":"Food; Dog food; Canned food; Special needs; Multi portion; > 0.8kg"}]
["AH","Baltic CDT","U4","04. Non-Edibles","U4.02","02. Family","D.08.01","01. Media,books,cards,calendars","18602","02. Books","18610","02. Children books","18619","03. Activity/ Stickers books","","","","","","","X",null,"D.09.01","Pet food and accessories","Food","Dog food","Dry food","Puppies","≤2.7 kg","","11596",{"$f":"_xlfn.TEXTJOIN(\"; \",TRUE,ZCDT_EXPORT_2[[#This Row],[Sub-Category]:[Segment 5]])","v":"Food; Dog food; Dry food; Puppies; ≤2.7 kg"}]
["AH","Baltic CDT","U4","04. Non-Edibles","U4.02","02. Family","D.08.01","01. Media,books,cards,calendars","18602","02. Books","18610","02. Children books","18620","04. Coloring books","","","","","","","X",null,"D.09.01","Pet food and accessories","Food","Dog food","Dry food","Puppies",">2.7-10 kg","","11597",{"$f":"_xlfn.TEXTJOIN(\"; \",TRUE,ZCDT_EXPORT_2[[#This Row],[Sub-Category]:[Segment 5]])","v":"Food; Dog food; Dry food; Puppies; >2.7-10 kg"}]
["AH","Baltic CDT","U4","04. Non-Edibles","U4.02","02. Family","D.08.01","01. Media,books,cards,calendars","18603","03. Greeting Cards and Postcards","18621","01. Greeting cards","18626","01. Regular","","","","","","","X",null,"D.09.01","Pet food and accessories","Food","Dog food","Dry food","Adult","≤2.7 kg","","11598",{"$f":"_xlfn.TEXTJOIN(\"; \",TRUE,ZCDT_EXPORT_2[[#This Row],[Sub-Category]:[Segment 5]])","v":"Food; Dog food; Dry food; Adult; ≤2.7 kg"}]
["AH","Baltic CDT","U4","04. Non-Edibles","U4.02","02. Family","D.08.01","01. Media,books,cards,calendars","18603","03. Greeting Cards and Postcards","18621","01. Greeting cards","18627","02. Seasonal","","","","","","","X",null,"D.09.01","Pet food and accessories","Food","Dog food","Dry food","Adult",">2.7-10 kg","","11599",{"$f":"_xlfn.TEXTJOIN(\"; \",TRUE,ZCDT_EXPORT_2[[#This Row],[Sub-Category]:[Segment 5]])","v":"Food; Dog food; Dry food; Adult; >2.7-10 kg"}]
["AH","Baltic CDT","U4","04. Non-Edibles","U4.02","02. Family","D.08.01","01. Media,books,cards,calendars","18603","03. Greeting Cards and Postcards","18622","02. Cards for money","","","","","","","","","X",null,"D.09.01","Pet food and accessories","Food","Dog food","Dry food","Adult",">10 kg","","11600",{"$f":"_xlfn.TEXTJOIN(\"; \",TRUE,ZCDT_EXPORT_2[[#This Row],[Sub-Category]:[Segment 5]])","v":"Food; Dog food; Dry food; Adult; >10 kg"}]
["AH","Baltic CDT","U4","04. Non-Edibles","U4.02","02. Family","D.08.01","01. Media,books,cards,calendars","18603","03. Greeting Cards and Postcards","18624","03. Decorative envelopes","","","","","","","","","X",null,"D.09.01","Pet food and accessories","Food","Dog food","Dry food","Special needs","","","11595",{"$f":"_xlfn.TEXTJOIN(\"; \",TRUE,ZCDT_EXPORT_2[[#This Row],[Sub-Category]:[Segment 5]])","v":"Food; Dog food; Dry food; Special needs"}]
["AH","Baltic CDT","U4","04. Non-Edibles","U4.02","02. Family","D.08.01","01. Media,books,cards,calendars","18603","03. Greeting Cards and Postcards","18625","04. Decorative cards","","","","","","","","","X",null,"D.09.01","Pet food and accessories","Food","Dog food","Treats and snacks","","","","11569",{"$f":"_xlfn.TEXTJOIN(\"; \",TRUE,ZCDT_EXPORT_2[[#This Row],[Sub-Category]:[Segment 5]])","v":"Food; Dog food; Treats and snacks"}]
["AH","Baltic CDT","U4","04. Non-Edibles","U4.02","02. Family","D.08.01","01. Media,books,cards,calendars","18604","04. Calendars,diaries","18629","01. Diaries,planners","","","","","","","","","X",null,"D.09.01","Pet food and accessories","Food","Dog food","Frozen food","","","","19354",{"$f":"_xlfn.TEXTJOIN(\"; \",TRUE,ZCDT_EXPORT_2[[#This Row],[Sub-Category]:[Segment 5]])","v":"Food; Dog food; Frozen food"}]
["AH","Baltic CDT","U4","04. Non-Edibles","U4.02","02. Family","D.08.01","01. Media,books,cards,calendars","18604","04. Calendars,diaries","18630","02. Calendars","","","","","","","","","X",null,"D.09.01","Pet food and accessories","Food","Cat food","Canned food","Kittens","Single portions","Single pack single use portion","11612",{"$f":"_xlfn.TEXTJOIN(\"; \",TRUE,ZCDT_EXPORT_2[[#This Row],[Sub-Category]:[Segment 5]])","v":"Food; Cat food; Canned food; Kittens; Single portions; Single pack single use portion"}]
["AH","Baltic CDT","U4","04. Non-Edibles","U4.02","02. Family","E.05.02","02. Baby Toys","191","01. Bath toys","","","","","","","","","","","X",null,"D.09.01","Pet food and accessories","Food","Cat food","Canned food","Kittens","Single portions","Multi pack single use portion","11613",{"$f":"_xlfn.TEXTJOIN(\"; \",TRUE,ZCDT_EXPORT_2[[#This Row],[Sub-Category]:[Segment 5]])","v":"Food; Cat food; Canned food; Kittens; Single portions; Multi pack single use portion"}]
["AH","Baltic CDT","U4","04. Non-Edibles","U4.02","02. Family","E.05.02","02. Baby Toys","192","02. Educational toys","","","","","","","","","","","X",null,"D.09.01","Pet food and accessories","Food","Cat food","Canned food","Kittens","Multi portion","0.1 – 0.7kg","11614",{"$f":"_xlfn.TEXTJOIN(\"; \",TRUE,ZCDT_EXPORT_2[[#This Row],[Sub-Category]:[Segment 5]])","v":"Food; Cat food; Canned food; Kittens; Multi portion; 0.1 – 0.7kg"}]
["AH","Baltic CDT","U4","04. Non-Edibles","U4.02","02. Family","E.05.02","02. Baby Toys","193","03. Rattles","","","","","","","","","","","X",null,"D.09.01","Pet food and accessories","Food","Cat food","Canned food","Kittens","Multi portion","> 0.7kg","11615",{"$f":"_xlfn.TEXTJOIN(\"; \",TRUE,ZCDT_EXPORT_2[[#This Row],[Sub-Category]:[Segment 5]])","v":"Food; Cat food; Canned food; Kittens; Multi portion; > 0.7kg"}]
["AH","Baltic CDT","U4","04. Non-Edibles","U4.02","02. Family","E.05.02","02. Baby Toys","14251","04. Play matts","","","","","","","","","","","X",null,"D.09.01","Pet food and accessories","Food","Cat food","Canned food","Adult","Single portions","Single pack single use portion","11618",{"$f":"_xlfn.TEXTJOIN(\"; \",TRUE,ZCDT_EXPORT_2[[#This Row],[Sub-Category]:[Segment 5]])","v":"Food; Cat food; Canned food; Adult; Single portions; Single pack single use portion"}]
["AH","Baltic CDT","U4","04. Non-Edibles","U4.02","02. Family","E.05.02","02. Baby Toys","14252","05. Wooden Toys","","","","","","","","","","","X",null,"D.09.01","Pet food and accessories","Food","Cat food","Canned food","Adult","Single portions","Multi pack single use portion","11619",{"$f":"_xlfn.TEXTJOIN(\"; \",TRUE,ZCDT_EXPORT_2[[#This Row],[Sub-Category]:[Segment 5]])","v":"Food; Cat food; Canned food; Adult; Single portions; Multi pack single use portion"}]
["AH","Baltic CDT","U4","04. Non-Edibles","U4.02","02. Family","E.03.03","03. Children underwear","13897","01. Boy`s underwear","13899","01. Boy's bathrobes","","","","","","","","","X",null,"D.09.01","Pet food and accessories","Food","Cat food","Canned food","Adult","Multi portion","0.1 – 0.7kg","11620",{"$f":"_xlfn.TEXTJOIN(\"; \",TRUE,ZCDT_EXPORT_2[[#This Row],[Sub-Category]:[Segment 5]])","v":"Food; Cat food; Canned food; Adult; Multi portion; 0.1 – 0.7kg"}]
["AH","Baltic CDT","U4","04. Non-Edibles","U4.02","02. Family","E.03.03","03. Children underwear","13897","01. Boy`s underwear","13900","02. Boy's nightwear","","","","","","","","","X",null,"D.09.01","Pet food and accessories","Food","Cat food","Canned food","Adult","Multi portion","> 0.7kg","11621",{"$f":"_xlfn.TEXTJOIN(\"; \",TRUE,ZCDT_EXPORT_2[[#This Row],[Sub-Category]:[Segment 5]])","v":"Food; Cat food; Canned food; Adult; Multi portion; > 0.7kg"}]
["AH","Baltic CDT","U4","04. Non-Edibles","U4.02","02. Family","E.03.03","03. Children underwear","13897","01. Boy`s underwear","13901","03. Boy's underpants","","","","","","","","","X",null,"D.09.01","Pet food and accessories","Food","Cat food","Canned food","Special needs","","","11609",{"$f":"_xlfn.TEXTJOIN(\"; \",TRUE,ZCDT_EXPORT_2[[#This Row],[Sub-Category]:[Segment 5]])","v":"Food; Cat food; Canned food; Special needs"}]
["AH","Baltic CDT","U4","04. Non-Edibles","U4.02","02. Family","E.03.03","03. Children underwear","13897","01. Boy`s underwear","13902","04. Boy's undershirts","","","","","","","","","X",null,"D.09.01","Pet food and accessories","Food","Cat food","Dry food","Kittens","≤0.3 kg","","11625",{"$f":"_xlfn.TEXTJOIN(\"; \",TRUE,ZCDT_EXPORT_2[[#This Row],[Sub-Category]:[Segment 5]])","v":"Food; Cat food; Dry food; Kittens; ≤0.3 kg"}]
["AH","Baltic CDT","U4","04. Non-Edibles","U4.02","02. Family","E.03.03","03. Children underwear","13897","01. Boy`s underwear","13903","05. Boy's underwear sets","","","","","","","","","X",null,"D.09.01","Pet food and accessories","Food","Cat food","Dry food","Kittens",">0.3-1.0 kg","","11626",{"$f":"_xlfn.TEXTJOIN(\"; \",TRUE,ZCDT_EXPORT_2[[#This Row],[Sub-Category]:[Segment 5]])","v":"Food; Cat food; Dry food; Kittens; >0.3-1.0 kg"}]
["AH","Baltic CDT","U4","04. Non-Edibles","U4.02","02. Family","E.03.03","03. Children underwear","13897","01. Boy`s underwear","13904","06. Boys's warm underwear","","","","","","","","","X",null,"D.09.01","Pet food and accessories","Food","Cat food","Dry food","Adult","≤0.3 kg","","11627",{"$f":"_xlfn.TEXTJOIN(\"; \",TRUE,ZCDT_EXPORT_2[[#This Row],[Sub-Category]:[Segment 5]])","v":"Food; Cat food; Dry food; Adult; ≤0.3 kg"}]
["AH","Baltic CDT","U4","04. Non-Edibles","U4.02","02. Family","E.03.03","03. Children underwear","13898","02. Girls`s underwear","13906","01. Girl's bathrobes","","","","","","","","","X",null,"D.09.01","Pet food and accessories","Food","Cat food","Dry food","Adult",">0.3-1.0 kg","","11628",{"$f":"_xlfn.TEXTJOIN(\"; \",TRUE,ZCDT_EXPORT_2[[#This Row],[Sub-Category]:[Segment 5]])","v":"Food; Cat food; Dry food; Adult; >0.3-1.0 kg"}]
["AH","Baltic CDT","U4","04. Non-Edibles","U4.02","02. Family","E.03.03","03. Children underwear","13898","02. Girls`s underwear","13907","02. Girl's bras","","","","","","","","","X",null,"D.09.01","Pet food and accessories","Food","Cat food","Dry food","Adult",">1.0 kg","","11629",{"$f":"_xlfn.TEXTJOIN(\"; \",TRUE,ZCDT_EXPORT_2[[#This Row],[Sub-Category]:[Segment 5]])","v":"Food; Cat food; Dry food; Adult; >1.0 kg"}]
["AH","Baltic CDT","U4","04. Non-Edibles","U4.02","02. Family","E.03.03","03. Children underwear","13898","02. Girls`s underwear","13908","03. Girl's nightwear","","","","","","","","","X",null,"D.09.01","Pet food and accessories","Food","Cat food","Dry food","Special needs","","","11624",{"$f":"_xlfn.TEXTJOIN(\"; \",TRUE,ZCDT_EXPORT_2[[#This Row],[Sub-Category]:[Segment 5]])","v":"Food; Cat food; Dry food; Special needs"}]
["AH","Baltic CDT","U4","04. Non-Edibles","U4.02","02. Family","E.03.03","03. Children underwear","13898","02. Girls`s underwear","13909","04. Girl's underpants","","","","","","","","","X",null,"D.09.01","Pet food and accessories","Food","Cat food","Treats and snacks","","","","11606",{"$f":"_xlfn.TEXTJOIN(\"; \",TRUE,ZCDT_EXPORT_2[[#This Row],[Sub-Category]:[Segment 5]])","v":"Food; Cat food; Treats and snacks"}]
["AH","Baltic CDT","U4","04. Non-Edibles","U4.02","02. Family","E.03.03","03. Children underwear","13898","02. Girls`s underwear","13910","05. Girl's undershirts","","","","","","","","","X",null,"D.09.01","Pet food and accessories","Food","Cat food","Frozen food","","","","19355",{"$f":"_xlfn.TEXTJOIN(\"; \",TRUE,ZCDT_EXPORT_2[[#This Row],[Sub-Category]:[Segment 5]])","v":"Food; Cat food; Frozen food"}]
["AH","Baltic CDT","U4","04. Non-Edibles","U4.02","02. Family","E.03.03","03. Children underwear","13898","02. Girls`s underwear","13911","06. Girls's underwear sets","","","","","","","","","X",null,"D.09.01","Pet food and accessories","Food","Rodent food","","","","","11565",{"$f":"_xlfn.TEXTJOIN(\"; \",TRUE,ZCDT_EXPORT_2[[#This Row],[Sub-Category]:[Segment 5]])","v":"Food; Rodent food"}]
["AH","Baltic CDT","U4","04. Non-Edibles","U4.02","02. Family","E.03.03","03. Children underwear","13898","02. Girls`s underwear","18371","07. Girl’s warm underwear","","","","","","","","","X",null,"D.09.01","Pet food and accessories","Food","Bird, fish, and other food","","","","","11566",{"$f":"_xlfn.TEXTJOIN(\"; \",TRUE,ZCDT_EXPORT_2[[#This Row],[Sub-Category]:[Segment 5]])","v":"Food; Bird, fish, and other food"}]
["AH","Baltic CDT","U4","04. Non-Edibles","U4.02","02. Family","E.05.03","03. Construction sets","18287","01. Branded preschool sets","","","","","","","","","","","X",null,"D.09.01","Pet food and accessories","Accessories","Dogs","Dog care accessories","","","","11635",{"$f":"_xlfn.TEXTJOIN(\"; \",TRUE,ZCDT_EXPORT_2[[#This Row],[Sub-Category]:[Segment 5]])","v":"Accessories; Dogs; Dog care accessories"}]
["AH","Baltic CDT","U4","04. Non-Edibles","U4.02","02. Family","E.05.03","03. Construction sets","18288","02. Branded sets for boys","","","","","","","","","","","X",null,"D.09.01","Pet food and accessories","Accessories","Dogs","Dog toys","","","","11638",{"$f":"_xlfn.TEXTJOIN(\"; \",TRUE,ZCDT_EXPORT_2[[#This Row],[Sub-Category]:[Segment 5]])","v":"Accessories; Dogs; Dog toys"}]
["AH","Baltic CDT","U4","04. Non-Edibles","U4.02","02. Family","E.05.03","03. Construction sets","18289","03. Branded sets for girls","","","","","","","","","","","X",null,"D.09.01","Pet food and accessories","Accessories","Cat","Cat care accessories","","","","11641",{"$f":"_xlfn.TEXTJOIN(\"; \",TRUE,ZCDT_EXPORT_2[[#This Row],[Sub-Category]:[Segment 5]])","v":"Accessories; Cat; Cat care accessories"}]
["AH","Baltic CDT","U4","04. Non-Edibles","U4.02","02. Family","E.05.03","03. Construction sets","18290","04. Bricks on weight","","","","","","","","","","","X",null,"D.09.01","Pet food and accessories","Accessories","Cat","Cat toys","","","","11643",{"$f":"_xlfn.TEXTJOIN(\"; \",TRUE,ZCDT_EXPORT_2[[#This Row],[Sub-Category]:[Segment 5]])","v":"Accessories; Cat; Cat toys"}]
["AH","Baltic CDT","U4","04. Non-Edibles","U4.02","02. Family","E.05.03","03. Construction sets","18291","05. Plastic bricks","","","","","","","","","","","X",null,"D.09.01","Pet food and accessories","Accessories","Cat","Cat Litter","Clumbing Cat Litter","","","18330",{"$f":"_xlfn.TEXTJOIN(\"; \",TRUE,ZCDT_EXPORT_2[[#This Row],[Sub-Category]:[Segment 5]])","v":"Accessories; Cat; Cat Litter; Clumbing Cat Litter"}]
["AH","Baltic CDT","U4","04. Non-Edibles","U4.02","02. Family","E.01.03","03. Optical products and umbrellas","13547","01. Reading glasses","","","","","","","","","","","X",null,"D.09.01","Pet food and accessories","Accessories","Cat","Cat Litter","Silica Cat Litter","","","18333",{"$f":"_xlfn.TEXTJOIN(\"; \",TRUE,ZCDT_EXPORT_2[[#This Row],[Sub-Category]:[Segment 5]])","v":"Accessories; Cat; Cat Litter; Silica Cat Litter"}]
["AH","Baltic CDT","U4","04. Non-Edibles","U4.02","02. Family","E.01.03","03. Optical products and umbrellas","13548","02. Spectacles accessories","","","","","","","","","","","X",null,"D.09.01","Pet food and accessories","Accessories","Cat","Cat Litter","Non Clumbing Cat Litter","","","18334",{"$f":"_xlfn.TEXTJOIN(\"; \",TRUE,ZCDT_EXPORT_2[[#This Row],[Sub-Category]:[Segment 5]])","v":"Accessories; Cat; Cat Litter; Non Clumbing Cat Litter"}]
["AH","Baltic CDT","U4","04. Non-Edibles","U4.02","02. Family","E.01.03","03. Optical products and umbrellas","13550","03. Sunglasses","","","","","","","","","","","X",null,"D.09.01","Pet food and accessories","Accessories","Other","Rodent, Bird and other accessories","","","","11648",{"$f":"_xlfn.TEXTJOIN(\"; \",TRUE,ZCDT_EXPORT_2[[#This Row],[Sub-Category]:[Segment 5]])","v":"Accessories; Other; Rodent, Bird and other accessories"}]
["AH","Baltic CDT","U4","04. Non-Edibles","U4.02","02. Family","E.01.03","03. Optical products and umbrellas","13885","04. Umbrellas","13892","01. Children umbrellas","","","","","","","","","X",null,"D.09.01","Pet food and accessories","Accessories","Other","Rodent, Bird and other litter","","","","11652",{"$f":"_xlfn.TEXTJOIN(\"; \",TRUE,ZCDT_EXPORT_2[[#This Row],[Sub-Category]:[Segment 5]])","v":"Accessories; Other; Rodent, Bird and other litter"}]
["AH","Baltic CDT","U4","04. Non-Edibles","U4.02","02. Family","E.01.03","03. Optical products and umbrellas","13885","04. Umbrellas","13893","02. Men's umbrellas","","","","","","","","","X",null,"E.01.03","Optical products and umbrellas","Reading glasses","","","","","","13547",{"$f":"_xlfn.TEXTJOIN(\"; \",TRUE,ZCDT_EXPORT_2[[#This Row],[Sub-Category]:[Segment 5]])","v":"Reading glasses"}]
["AH","Baltic CDT","U4","04. Non-Edibles","U4.02","02. Family","E.01.03","03. Optical products and umbrellas","13885","04. Umbrellas","13894","03. Women's umbrellas","","","","","","","","","X",null,"E.01.03","Optical products and umbrellas","Spectacles accessories","","","","","","13548",{"$f":"_xlfn.TEXTJOIN(\"; \",TRUE,ZCDT_EXPORT_2[[#This Row],[Sub-Category]:[Segment 5]])","v":"Spectacles accessories"}]
["AH","Baltic CDT","U4","04. Non-Edibles","U4.02","02. Family","E.03.04","04. Children`s clothing","13917","0.1. Baby clothing","13505","01. Babies' bodies","","","","","","","","","X",null,"E.01.03","Optical products and umbrellas","Sunglasses","","","","","","13550",{"$f":"_xlfn.TEXTJOIN(\"; \",TRUE,ZCDT_EXPORT_2[[#This Row],[Sub-Category]:[Segment 5]])","v":"Sunglasses"}]
["AH","Baltic CDT","U4","04. Non-Edibles","U4.02","02. Family","E.03.04","04. Children`s clothing","13917","0.1. Baby clothing","13506","02. Babies' dress","","","","","","","","","X",null,"E.01.03","Optical products and umbrellas","Umbrellas","Children umbrellas","","","","","13892",{"$f":"_xlfn.TEXTJOIN(\"; \",TRUE,ZCDT_EXPORT_2[[#This Row],[Sub-Category]:[Segment 5]])","v":"Umbrellas; Children umbrellas"}]
["AH","Baltic CDT","U4","04. Non-Edibles","U4.02","02. Family","E.03.04","04. Children`s clothing","13917","0.1. Baby clothing","13507","03. Babies' knitwear","","","","","","","","","X",null,"E.01.03","Optical products and umbrellas","Umbrellas","Men's umbrellas","","","","","13893",{"$f":"_xlfn.TEXTJOIN(\"; \",TRUE,ZCDT_EXPORT_2[[#This Row],[Sub-Category]:[Segment 5]])","v":"Umbrellas; Men's umbrellas"}]
["AH","Baltic CDT","U4","04. Non-Edibles","U4.02","02. Family","E.03.04","04. Children`s clothing","13917","0.1. Baby clothing","13508","04. Babies' outdoor clothing","","","","","","","","","X",null,"E.01.03","Optical products and umbrellas","Umbrellas","Women's umbrellas","","","","","13894",{"$f":"_xlfn.TEXTJOIN(\"; \",TRUE,ZCDT_EXPORT_2[[#This Row],[Sub-Category]:[Segment 5]])","v":"Umbrellas; Women's umbrellas"}]
["AH","Baltic CDT","U4","04. Non-Edibles","U4.02","02. Family","E.03.04","04. Children`s clothing","13917","0.1. Baby clothing","13509","05. Babies' overalls","","","","","","","","","X",null,"E.03.01","Adult's clothing","Men`s accessories","Men's belts","","","","","13845",{"$f":"_xlfn.TEXTJOIN(\"; \",TRUE,ZCDT_EXPORT_2[[#This Row],[Sub-Category]:[Segment 5]])","v":"Men`s accessories; Men's belts"}]
["AH","Baltic CDT","U4","04. Non-Edibles","U4.02","02. Family","E.03.04","04. Children`s clothing","13917","0.1. Baby clothing","13510","06. Babies' pants","","","","","","","","","X",null,"E.03.01","Adult's clothing","Men`s accessories","Men's handwear","","","","","13846",{"$f":"_xlfn.TEXTJOIN(\"; \",TRUE,ZCDT_EXPORT_2[[#This Row],[Sub-Category]:[Segment 5]])","v":"Men`s accessories; Men's handwear"}]
["AH","Baltic CDT","U4","04. Non-Edibles","U4.02","02. Family","E.03.04","04. Children`s clothing","13917","0.1. Baby clothing","14791","07. Babies' rompers","","","","","","","","","X",null,"E.03.01","Adult's clothing","Men`s accessories","Men's headwear","","","","","13847",{"$f":"_xlfn.TEXTJOIN(\"; \",TRUE,ZCDT_EXPORT_2[[#This Row],[Sub-Category]:[Segment 5]])","v":"Men`s accessories; Men's headwear"}]
["AH","Baltic CDT","U4","04. Non-Edibles","U4.02","02. Family","E.03.04","04. Children`s clothing","13917","0.1. Baby clothing","14793","07. Babies' tops","","","","","","","","","X",null,"E.03.01","Adult's clothing","Men`s accessories","Men's leather handwear","","","","","13848",{"$f":"_xlfn.TEXTJOIN(\"; \",TRUE,ZCDT_EXPORT_2[[#This Row],[Sub-Category]:[Segment 5]])","v":"Men`s accessories; Men's leather handwear"}]
["AH","Baltic CDT","U4","04. Non-Edibles","U4.02","02. Family","E.03.04","04. Children`s clothing","13917","0.1. Baby clothing","14794","08. Babies' sets","","","","","","","","","X",null,"E.03.01","Adult's clothing","Men`s accessories","Men's scarves","","","","","13849",{"$f":"_xlfn.TEXTJOIN(\"; \",TRUE,ZCDT_EXPORT_2[[#This Row],[Sub-Category]:[Segment 5]])","v":"Men`s accessories; Men's scarves"}]
["AH","Baltic CDT","U4","04. Non-Edibles","U4.02","02. Family","E.03.04","04. Children`s clothing","13917","0.1. Baby clothing","14792","09. Babies' sweatshirts","","","","","","","","","X",null,"E.03.01","Adult's clothing","Men`s accessories","Men's ties","","","","","13850",{"$f":"_xlfn.TEXTJOIN(\"; \",TRUE,ZCDT_EXPORT_2[[#This Row],[Sub-Category]:[Segment 5]])","v":"Men`s accessories; Men's ties"}]
["AH","Baltic CDT","U4","04. Non-Edibles","U4.02","02. Family","E.03.04","04. Children`s clothing","13918","0.2. Children`s accessories","14799","01. Children's belts","","","","","","","","","X",null,"E.03.01","Adult's clothing","Men's clothing","Men`s jeans","","","","","13852",{"$f":"_xlfn.TEXTJOIN(\"; \",TRUE,ZCDT_EXPORT_2[[#This Row],[Sub-Category]:[Segment 5]])","v":"Men's clothing; Men`s jeans"}]
["AH","Baltic CDT","U4","04. Non-Edibles","U4.02","02. Family","E.03.04","04. Children`s clothing","13918","0.2. Children`s accessories","14800","02. Children's handwear","","","","","","","","","X",null,"E.03.01","Adult's clothing","Men's clothing","Men`s knitwear","","","","","13853",{"$f":"_xlfn.TEXTJOIN(\"; \",TRUE,ZCDT_EXPORT_2[[#This Row],[Sub-Category]:[Segment 5]])","v":"Men's clothing; Men`s knitwear"}]
["AH","Baltic CDT","U4","04. Non-Edibles","U4.02","02. Family","E.03.04","04. Children`s clothing","13918","0.2. Children`s accessories","14801","03. Children's headwear","18515","01. Summer","","","","","","","X",null,"E.03.01","Adult's clothing","Men's clothing","Men`s long sleeve t-shirts","","","","","13854",{"$f":"_xlfn.TEXTJOIN(\"; \",TRUE,ZCDT_EXPORT_2[[#This Row],[Sub-Category]:[Segment 5]])","v":"Men's clothing; Men`s long sleeve t-shirts"}]
["AH","Baltic CDT","U4","04. Non-Edibles","U4.02","02. Family","E.03.04","04. Children`s clothing","13918","0.2. Children`s accessories","14801","03. Children's headwear","18516","02. Autumn / spring","","","","","","","X",null,"E.03.01","Adult's clothing","Men's clothing","Men`s outdoor clothing","","","","","13855",{"$f":"_xlfn.TEXTJOIN(\"; \",TRUE,ZCDT_EXPORT_2[[#This Row],[Sub-Category]:[Segment 5]])","v":"Men's clothing; Men`s outdoor clothing"}]
["AH","Baltic CDT","U4","04. Non-Edibles","U4.02","02. Family","E.03.04","04. Children`s clothing","13918","0.2. Children`s accessories","14801","03. Children's headwear","18517","03. Winter","","","","","","","X",null,"E.03.01","Adult's clothing","Men's clothing","Men`s shirts","","","","","13856",{"$f":"_xlfn.TEXTJOIN(\"; \",TRUE,ZCDT_EXPORT_2[[#This Row],[Sub-Category]:[Segment 5]])","v":"Men's clothing; Men`s shirts"}]
["AH","Baltic CDT","U4","04. Non-Edibles","U4.02","02. Family","E.03.04","04. Children`s clothing","13918","0.2. Children`s accessories","14802","04. Children's scarves","","","","","","","","","X",null,"E.03.01","Adult's clothing","Men's clothing","Men`s short sleeve t-shirts","","","","","13857",{"$f":"_xlfn.TEXTJOIN(\"; \",TRUE,ZCDT_EXPORT_2[[#This Row],[Sub-Category]:[Segment 5]])","v":"Men's clothing; Men`s short sleeve t-shirts"}]
["AH","Baltic CDT","U4","04. Non-Edibles","U4.02","02. Family","E.03.04","04. Children`s clothing","13919","0.3. Boy`s clothing","14805","01. Boys' festivity clothing","","","","","","","","","X",null,"E.03.01","Adult's clothing","Men's clothing","Men`s shorts","","","","","13858",{"$f":"_xlfn.TEXTJOIN(\"; \",TRUE,ZCDT_EXPORT_2[[#This Row],[Sub-Category]:[Segment 5]])","v":"Men's clothing; Men`s shorts"}]
["AH","Baltic CDT","U4","04. Non-Edibles","U4.02","02. Family","E.03.04","04. Children`s clothing","13919","0.3. Boy`s clothing","14806","02. Boys' jeans","","","","","","","","","X",null,"E.03.01","Adult's clothing","Men's clothing","Men`s sweatshirts","","","","","13859",{"$f":"_xlfn.TEXTJOIN(\"; \",TRUE,ZCDT_EXPORT_2[[#This Row],[Sub-Category]:[Segment 5]])","v":"Men's clothing; Men`s sweatshirts"}]
["AH","Baltic CDT","U4","04. Non-Edibles","U4.02","02. Family","E.03.04","04. Children`s clothing","13919","0.3. Boy`s clothing","14807","03. Boys' knitwear","","","","","","","","","X",null,"E.03.01","Adult's clothing","Men's clothing","Men`s trousers","","","","","13860",{"$f":"_xlfn.TEXTJOIN(\"; \",TRUE,ZCDT_EXPORT_2[[#This Row],[Sub-Category]:[Segment 5]])","v":"Men's clothing; Men`s trousers"}]
["AH","Baltic CDT","U4","04. Non-Edibles","U4.02","02. Family","E.03.04","04. Children`s clothing","13919","0.3. Boy`s clothing","14808","04. Boys' long sleeve t-shirts","","","","","","","","","X",null,"E.03.01","Adult's clothing","Men's clothing","Men`s blazer","","","","","15149",{"$f":"_xlfn.TEXTJOIN(\"; \",TRUE,ZCDT_EXPORT_2[[#This Row],[Sub-Category]:[Segment 5]])","v":"Men's clothing; Men`s blazer"}]
["AH","Baltic CDT","U4","04. Non-Edibles","U4.02","02. Family","E.03.04","04. Children`s clothing","13919","0.3. Boy`s clothing","14809","05. Boys' sets","","","","","","","","","X",null,"E.03.01","Adult's clothing","Women`s accessories","Women's belts","","","","","13862",{"$f":"_xlfn.TEXTJOIN(\"; \",TRUE,ZCDT_EXPORT_2[[#This Row],[Sub-Category]:[Segment 5]])","v":"Women`s accessories; Women's belts"}]
["AH","Baltic CDT","U4","04. Non-Edibles","U4.02","02. Family","E.03.04","04. Children`s clothing","13919","0.3. Boy`s clothing","14810","06. Boys' shirts","","","","","","","","","X",null,"E.03.01","Adult's clothing","Women`s accessories","Women's handwear","","","","","13863",{"$f":"_xlfn.TEXTJOIN(\"; \",TRUE,ZCDT_EXPORT_2[[#This Row],[Sub-Category]:[Segment 5]])","v":"Women`s accessories; Women's handwear"}]
["AH","Baltic CDT","U4","04. Non-Edibles","U4.02","02. Family","E.03.04","04. Children`s clothing","13919","0.3. Boy`s clothing","14811","07. Boys' short sleeve t-shirts","","","","","","","","","X",null,"E.03.01","Adult's clothing","Women`s accessories","Women's headwear","","","","","13864",{"$f":"_xlfn.TEXTJOIN(\"; \",TRUE,ZCDT_EXPORT_2[[#This Row],[Sub-Category]:[Segment 5]])","v":"Women`s accessories; Women's headwear"}]
["AH","Baltic CDT","U4","04. Non-Edibles","U4.02","02. Family","E.03.04","04. Children`s clothing","13919","0.3. Boy`s clothing","14812","08. Boys' shorts","","","","","","","","","X",null,"E.03.01","Adult's clothing","Women`s accessories","Women's leather handwear","","","","","13865",{"$f":"_xlfn.TEXTJOIN(\"; \",TRUE,ZCDT_EXPORT_2[[#This Row],[Sub-Category]:[Segment 5]])","v":"Women`s accessories; Women's leather handwear"}]
["AH","Baltic CDT","U4","04. Non-Edibles","U4.02","02. Family","E.03.04","04. Children`s clothing","13919","0.3. Boy`s clothing","14813","09. Boys' sweatpants","","","","","","","","","X",null,"E.03.01","Adult's clothing","Women`s accessories","Women's scarves","","","","","13866",{"$f":"_xlfn.TEXTJOIN(\"; \",TRUE,ZCDT_EXPORT_2[[#This Row],[Sub-Category]:[Segment 5]])","v":"Women`s accessories; Women's scarves"}]
["AH","Baltic CDT","U4","04. Non-Edibles","U4.02","02. Family","E.03.04","04. Children`s clothing","13919","0.3. Boy`s clothing","14814","10. Boys' sweatshirts","","","","","","","","","X",null,"E.03.01","Adult's clothing","Women's clothing","Women`s blouses","","","","","13869",{"$f":"_xlfn.TEXTJOIN(\"; \",TRUE,ZCDT_EXPORT_2[[#This Row],[Sub-Category]:[Segment 5]])","v":"Women's clothing; Women`s blouses"}]
["AH","Baltic CDT","U4","04. Non-Edibles","U4.02","02. Family","E.03.04","04. Children`s clothing","13919","0.3. Boy`s clothing","14815","11. Boys' trousers","","","","","","","","","X",null,"E.03.01","Adult's clothing","Women's clothing","Women`s dresses/tunics","","","","","13870",{"$f":"_xlfn.TEXTJOIN(\"; \",TRUE,ZCDT_EXPORT_2[[#This Row],[Sub-Category]:[Segment 5]])","v":"Women's clothing; Women`s dresses/tunics"}]
["AH","Baltic CDT","U4","04. Non-Edibles","U4.02","02. Family","E.03.04","04. Children`s clothing","13919","0.3. Boy`s clothing","14816","12. Boys's outdoor clothing","","","","","","","","","X",null,"E.03.01","Adult's clothing","Women's clothing","Women`s jeans","","","","","13871",{"$f":"_xlfn.TEXTJOIN(\"; \",TRUE,ZCDT_EXPORT_2[[#This Row],[Sub-Category]:[Segment 5]])","v":"Women's clothing; Women`s jeans"}]
["AH","Baltic CDT","U4","04. Non-Edibles","U4.02","02. Family","E.03.04","04. Children`s clothing","13919","0.3. Boy`s clothing","15241","13. Boys's blazer","","","","","","","","","X",null,"E.03.01","Adult's clothing","Women's clothing","Women`s knitwear","","","","","13872",{"$f":"_xlfn.TEXTJOIN(\"; \",TRUE,ZCDT_EXPORT_2[[#This Row],[Sub-Category]:[Segment 5]])","v":"Women's clothing; Women`s knitwear"}]
["AH","Baltic CDT","U4","04. Non-Edibles","U4.02","02. Family","E.03.04","04. Children`s clothing","13920","0.4. Girl`s clothing","14818","01. Girls' blouses","","","","","","","","","X",null,"E.03.01","Adult's clothing","Women's clothing","Women`s long sleeve t-shirts","","","","","13873",{"$f":"_xlfn.TEXTJOIN(\"; \",TRUE,ZCDT_EXPORT_2[[#This Row],[Sub-Category]:[Segment 5]])","v":"Women's clothing; Women`s long sleeve t-shirts"}]
["AH","Baltic CDT","U4","04. Non-Edibles","U4.02","02. Family","E.03.04","04. Children`s clothing","13920","0.4. Girl`s clothing","14819","02. Girls' dresses","","","","","","","","","X",null,"E.03.01","Adult's clothing","Women's clothing","Women`s outdoor clothing","","","","","13874",{"$f":"_xlfn.TEXTJOIN(\"; \",TRUE,ZCDT_EXPORT_2[[#This Row],[Sub-Category]:[Segment 5]])","v":"Women's clothing; Women`s outdoor clothing"}]
["AH","Baltic CDT","U4","04. Non-Edibles","U4.02","02. Family","E.03.04","04. Children`s clothing","13920","0.4. Girl`s clothing","14820","03. Girls' jeans","","","","","","","","","X",null,"E.03.01","Adult's clothing","Women's clothing","Women`s short sleeve t-shirts","","","","","13875",{"$f":"_xlfn.TEXTJOIN(\"; \",TRUE,ZCDT_EXPORT_2[[#This Row],[Sub-Category]:[Segment 5]])","v":"Women's clothing; Women`s short sleeve t-shirts"}]
["AH","Baltic CDT","U4","04. Non-Edibles","U4.02","02. Family","E.03.04","04. Children`s clothing","13920","0.4. Girl`s clothing","14821","04. Girls' knitwear","","","","","","","","","X",null,"E.03.01","Adult's clothing","Women's clothing","Women`s shorts","","","","","13878",{"$f":"_xlfn.TEXTJOIN(\"; \",TRUE,ZCDT_EXPORT_2[[#This Row],[Sub-Category]:[Segment 5]])","v":"Women's clothing; Women`s shorts"}]
["AH","Baltic CDT","U4","04. Non-Edibles","U4.02","02. Family","E.03.04","04. Children`s clothing","13920","0.4. Girl`s clothing","14822","05. Girls' long sleeve t-shirts","","","","","","","","","X",null,"E.03.01","Adult's clothing","Women's clothing","Women`s skirts","","","","","13876",{"$f":"_xlfn.TEXTJOIN(\"; \",TRUE,ZCDT_EXPORT_2[[#This Row],[Sub-Category]:[Segment 5]])","v":"Women's clothing; Women`s skirts"}]
["AH","Baltic CDT","U4","04. Non-Edibles","U4.02","02. Family","E.03.04","04. Children`s clothing","13920","0.4. Girl`s clothing","14823","06. Girls' sets","","","","","","","","","X",null,"E.03.01","Adult's clothing","Women's clothing","Women`s sweatpants","","","","","13879",{"$f":"_xlfn.TEXTJOIN(\"; \",TRUE,ZCDT_EXPORT_2[[#This Row],[Sub-Category]:[Segment 5]])","v":"Women's clothing; Women`s sweatpants"}]
["AH","Baltic CDT","U4","04. Non-Edibles","U4.02","02. Family","E.03.04","04. Children`s clothing","13920","0.4. Girl`s clothing","14824","07. Girls' short sleeve t-shirts","","","","","","","","","X",null,"E.03.01","Adult's clothing","Women's clothing","Women`s sweatshirts","","","","","13877",{"$f":"_xlfn.TEXTJOIN(\"; \",TRUE,ZCDT_EXPORT_2[[#This Row],[Sub-Category]:[Segment 5]])","v":"Women's clothing; Women`s sweatshirts"}]
["AH","Baltic CDT","U4","04. Non-Edibles","U4.02","02. Family","E.03.04","04. Children`s clothing","13920","0.4. Girl`s clothing","14825","08. Girls' shorts","","","","","","","","","X",null,"E.03.01","Adult's clothing","Women's clothing","Women`s trousers","","","","","13880",{"$f":"_xlfn.TEXTJOIN(\"; \",TRUE,ZCDT_EXPORT_2[[#This Row],[Sub-Category]:[Segment 5]])","v":"Women's clothing; Women`s trousers"}]
["AH","Baltic CDT","U4","04. Non-Edibles","U4.02","02. Family","E.03.04","04. Children`s clothing","13920","0.4. Girl`s clothing","14826","09. Girls' skirts","","","","","","","","","X",null,"E.03.01","Adult's clothing","Women's clothing","Women's sets","","","","","13881",{"$f":"_xlfn.TEXTJOIN(\"; \",TRUE,ZCDT_EXPORT_2[[#This Row],[Sub-Category]:[Segment 5]])","v":"Women's clothing; Women's sets"}]
["AH","Baltic CDT","U4","04. Non-Edibles","U4.02","02. Family","E.03.04","04. Children`s clothing","13920","0.4. Girl`s clothing","14827","10. Girls' sweatpants","","","","","","","","","X",null,"E.03.01","Adult's clothing","Women's clothing","Women's blazer","","","","","15150",{"$f":"_xlfn.TEXTJOIN(\"; \",TRUE,ZCDT_EXPORT_2[[#This Row],[Sub-Category]:[Segment 5]])","v":"Women's clothing; Women's blazer"}]
["AH","Baltic CDT","U4","04. Non-Edibles","U4.02","02. Family","E.03.04","04. Children`s clothing","13920","0.4. Girl`s clothing","14828","11. Girls' sweatshirts","","","","","","","","","X",null,"E.03.03","Children underwear","Boy`s underwear","Boy's bathrobes","","","","","13899",{"$f":"_xlfn.TEXTJOIN(\"; \",TRUE,ZCDT_EXPORT_2[[#This Row],[Sub-Category]:[Segment 5]])","v":"Boy`s underwear; Boy's bathrobes"}]
["AH","Baltic CDT","U4","04. Non-Edibles","U4.02","02. Family","E.03.04","04. Children`s clothing","13920","0.4. Girl`s clothing","14829","12. Girls' trousers","","","","","","","","","X",null,"E.03.03","Children underwear","Boy`s underwear","Boy's nightwear","","","","","13900",{"$f":"_xlfn.TEXTJOIN(\"; \",TRUE,ZCDT_EXPORT_2[[#This Row],[Sub-Category]:[Segment 5]])","v":"Boy`s underwear; Boy's nightwear"}]
["AH","Baltic CDT","U4","04. Non-Edibles","U4.02","02. Family","E.03.04","04. Children`s clothing","13920","0.4. Girl`s clothing","14830","13. Girls's outdoor clothing","","","","","","","","","X",null,"E.03.03","Children underwear","Boy`s underwear","Boy's underpants","","","","","13901",{"$f":"_xlfn.TEXTJOIN(\"; \",TRUE,ZCDT_EXPORT_2[[#This Row],[Sub-Category]:[Segment 5]])","v":"Boy`s underwear; Boy's underpants"}]
["AH","Baltic CDT","U4","04. Non-Edibles","U4.02","02. Family","E.03.04","04. Children`s clothing","13920","0.4. Girl`s clothing","15242","14. Girls's blazer","","","","","","","","","X",null,"E.03.03","Children underwear","Boy`s underwear","Boy's undershirts","","","","","13902",{"$f":"_xlfn.TEXTJOIN(\"; \",TRUE,ZCDT_EXPORT_2[[#This Row],[Sub-Category]:[Segment 5]])","v":"Boy`s underwear; Boy's undershirts"}]
["AH","Baltic CDT","U4","04. Non-Edibles","U4.02","02. Family","E.03.04","04. Children`s clothing","13920","0.4. Girl`s clothing","18518","15. Girls's leggings","","","","","","","","","X",null,"E.03.03","Children underwear","Boy`s underwear","Boy's underwear sets","","","","","13903",{"$f":"_xlfn.TEXTJOIN(\"; \",TRUE,ZCDT_EXPORT_2[[#This Row],[Sub-Category]:[Segment 5]])","v":"Boy`s underwear; Boy's underwear sets"}]
["AH","Baltic CDT","U4","04. Non-Edibles","U4.02","02. Family","E.05.04","04. Soft Toys","200","01. Big Sized soft Toys (more than 50cm)","","","","","","","","","","","X",null,"E.03.03","Children underwear","Boy`s underwear","Boys's warm underwear","","","","","13904",{"$f":"_xlfn.TEXTJOIN(\"; \",TRUE,ZCDT_EXPORT_2[[#This Row],[Sub-Category]:[Segment 5]])","v":"Boy`s underwear; Boys's warm underwear"}]
["AH","Baltic CDT","U4","04. Non-Edibles","U4.02","02. Family","E.05.04","04. Soft Toys","201","02. Interactive soft toys","","","","","","","","","","","X",null,"E.03.03","Children underwear","Girls`s underwear","Girl's bathrobes","","","","","13906",{"$f":"_xlfn.TEXTJOIN(\"; \",TRUE,ZCDT_EXPORT_2[[#This Row],[Sub-Category]:[Segment 5]])","v":"Girls`s underwear; Girl's bathrobes"}]
["AH","Baltic CDT","U4","04. Non-Edibles","U4.02","02. Family","E.05.04","04. Soft Toys","202","03. Middle sized soft toys (12-50cm)","","","","","","","","","","","X",null,"E.03.03","Children underwear","Girls`s underwear","Girl's bras","","","","","13907",{"$f":"_xlfn.TEXTJOIN(\"; \",TRUE,ZCDT_EXPORT_2[[#This Row],[Sub-Category]:[Segment 5]])","v":"Girls`s underwear; Girl's bras"}]
["AH","Baltic CDT","U4","04. Non-Edibles","U4.02","02. Family","E.05.04","04. Soft Toys","203","04. Small sized soft toys ( to 12cm)","","","","","","","","","","","X",null,"E.03.03","Children underwear","Girls`s underwear","Girl's nightwear","","","","","13908",{"$f":"_xlfn.TEXTJOIN(\"; \",TRUE,ZCDT_EXPORT_2[[#This Row],[Sub-Category]:[Segment 5]])","v":"Girls`s underwear; Girl's nightwear"}]
["AH","Baltic CDT","U4","04. Non-Edibles","U4.02","02. Family","E.03.05","05. Children's socks & tights","13921","01. Baby socks","","","","","","","","","","","X",null,"E.03.03","Children underwear","Girls`s underwear","Girl's underpants","","","","","13909",{"$f":"_xlfn.TEXTJOIN(\"; \",TRUE,ZCDT_EXPORT_2[[#This Row],[Sub-Category]:[Segment 5]])","v":"Girls`s underwear; Girl's underpants"}]
["AH","Baltic CDT","U4","04. Non-Edibles","U4.02","02. Family","E.03.05","05. Children's socks & tights","13922","02. Children's  ankle socks","","","","","","","","","","","X",null,"E.03.03","Children underwear","Girls`s underwear","Girl's undershirts","","","","","13910",{"$f":"_xlfn.TEXTJOIN(\"; \",TRUE,ZCDT_EXPORT_2[[#This Row],[Sub-Category]:[Segment 5]])","v":"Girls`s underwear; Girl's undershirts"}]
["AH","Baltic CDT","U4","04. Non-Edibles","U4.02","02. Family","E.03.05","05. Children's socks & tights","13923","03. Children's  knee-lenght socks","","","","","","","","","","","X",null,"E.03.03","Children underwear","Girls`s underwear","Girls's underwear sets","","","","","13911",{"$f":"_xlfn.TEXTJOIN(\"; \",TRUE,ZCDT_EXPORT_2[[#This Row],[Sub-Category]:[Segment 5]])","v":"Girls`s underwear; Girls's underwear sets"}]
["AH","Baltic CDT","U4","04. Non-Edibles","U4.02","02. Family","E.03.05","05. Children's socks & tights","13924","04. Children's  warm socks","","","","","","","","","","","X",null,"E.03.03","Children underwear","Girls`s underwear","Girl’s warm underwear","","","","","18371",{"$f":"_xlfn.TEXTJOIN(\"; \",TRUE,ZCDT_EXPORT_2[[#This Row],[Sub-Category]:[Segment 5]])","v":"Girls`s underwear; Girl’s warm underwear"}]
["AH","Baltic CDT","U4","04. Non-Edibles","U4.02","02. Family","E.03.05","05. Children's socks & tights","13925","05. Children's cotton socks","","","","","","","","","","","X",null,"E.03.04","Children`s clothing","1. Baby clothing","Babies' bodies","","","","","13505",{"$f":"_xlfn.TEXTJOIN(\"; \",TRUE,ZCDT_EXPORT_2[[#This Row],[Sub-Category]:[Segment 5]])","v":"1. Baby clothing; Babies' bodies"}]
["AH","Baltic CDT","U4","04. Non-Edibles","U4.02","02. Family","E.03.05","05. Children's socks & tights","13926","06. Children's cotton tights","","","","","","","","","","","X",null,"E.03.04","Children`s clothing","1. Baby clothing","Babies' dress","","","","","13506",{"$f":"_xlfn.TEXTJOIN(\"; \",TRUE,ZCDT_EXPORT_2[[#This Row],[Sub-Category]:[Segment 5]])","v":"1. Baby clothing; Babies' dress"}]
["AH","Baltic CDT","U4","04. Non-Edibles","U4.02","02. Family","E.03.05","05. Children's socks & tights","13927","07. Children's denier tights","","","","","","","","","","","X",null,"E.03.04","Children`s clothing","1. Baby clothing","Babies' knitwear","","","","","13507",{"$f":"_xlfn.TEXTJOIN(\"; \",TRUE,ZCDT_EXPORT_2[[#This Row],[Sub-Category]:[Segment 5]])","v":"1. Baby clothing; Babies' knitwear"}]
["AH","Baltic CDT","U4","04. Non-Edibles","U4.02","02. Family","E.03.05","05. Children's socks & tights","13928","08. Children's footless tights","","","","","","","","","","","X",null,"E.03.04","Children`s clothing","1. Baby clothing","Babies' outdoor clothing","","","","","13508",{"$f":"_xlfn.TEXTJOIN(\"; \",TRUE,ZCDT_EXPORT_2[[#This Row],[Sub-Category]:[Segment 5]])","v":"1. Baby clothing; Babies' outdoor clothing"}]
["AH","Baltic CDT","U4","04. Non-Edibles","U4.02","02. Family","E.03.05","05. Children's socks & tights","13929","09. Children's hidden socks","","","","","","","","","","","X",null,"E.03.04","Children`s clothing","1. Baby clothing","Babies' overalls","","","","","13509",{"$f":"_xlfn.TEXTJOIN(\"; \",TRUE,ZCDT_EXPORT_2[[#This Row],[Sub-Category]:[Segment 5]])","v":"1. Baby clothing; Babies' overalls"}]
["AH","Baltic CDT","U4","04. Non-Edibles","U4.02","02. Family","E.05.05","05. Toys for boys","204","01. Cars/vehicles and sets","","","","","","","","","","","X",null,"E.03.04","Children`s clothing","1. Baby clothing","Babies' pants","","","","","13510",{"$f":"_xlfn.TEXTJOIN(\"; \",TRUE,ZCDT_EXPORT_2[[#This Row],[Sub-Category]:[Segment 5]])","v":"1. Baby clothing; Babies' pants"}]
["AH","Baltic CDT","U4","04. Non-Edibles","U4.02","02. Family","E.05.05","05. Toys for boys","205","02. Figures and accessories","","","","","","","","","","","X",null,"E.03.04","Children`s clothing","1. Baby clothing","Babies' rompers","","","","","14791",{"$f":"_xlfn.TEXTJOIN(\"; \",TRUE,ZCDT_EXPORT_2[[#This Row],[Sub-Category]:[Segment 5]])","v":"1. Baby clothing; Babies' rompers"}]
["AH","Baltic CDT","U4","04. Non-Edibles","U4.02","02. Family","E.05.05","05. Toys for boys","206","03. Guns, sets and accessories","","","","","","","","","","","X",null,"E.03.04","Children`s clothing","1. Baby clothing","Babies' tops","","","","","14793",{"$f":"_xlfn.TEXTJOIN(\"; \",TRUE,ZCDT_EXPORT_2[[#This Row],[Sub-Category]:[Segment 5]])","v":"1. Baby clothing; Babies' tops"}]
["AH","Baltic CDT","U4","04. Non-Edibles","U4.02","02. Family","E.05.05","05. Toys for boys","14274","04. R/C Cars","","","","","","","","","","","X",null,"E.03.04","Children`s clothing","1. Baby clothing","Babies' sets","","","","","14794",{"$f":"_xlfn.TEXTJOIN(\"; \",TRUE,ZCDT_EXPORT_2[[#This Row],[Sub-Category]:[Segment 5]])","v":"1. Baby clothing; Babies' sets"}]
["AH","Baltic CDT","U4","04. Non-Edibles","U4.02","02. Family","E.05.05","05. Toys for boys","14275","05. R/C Helicopters and planes","","","","","","","","","","","X",null,"E.03.04","Children`s clothing","1. Baby clothing","Babies' sweatshirts","","","","","14792",{"$f":"_xlfn.TEXTJOIN(\"; \",TRUE,ZCDT_EXPORT_2[[#This Row],[Sub-Category]:[Segment 5]])","v":"1. Baby clothing; Babies' sweatshirts"}]
["AH","Baltic CDT","U4","04. Non-Edibles","U4.02","02. Family","E.05.05","05. Toys for boys","14276","06. R/C robots and others","","","","","","","","","","","X",null,"E.03.04","Children`s clothing","2. Children`s accessories","Children's belts","","","","","14799",{"$f":"_xlfn.TEXTJOIN(\"; \",TRUE,ZCDT_EXPORT_2[[#This Row],[Sub-Category]:[Segment 5]])","v":"2. Children`s accessories; Children's belts"}]
["AH","Baltic CDT","U4","04. Non-Edibles","U4.02","02. Family","E.05.05","05. Toys for boys","14277","07. Tracks/garages and sets","","","","","","","","","","","X",null,"E.03.04","Children`s clothing","2. Children`s accessories","Children's handwear","","","","","14800",{"$f":"_xlfn.TEXTJOIN(\"; \",TRUE,ZCDT_EXPORT_2[[#This Row],[Sub-Category]:[Segment 5]])","v":"2. Children`s accessories; Children's handwear"}]
["AH","Baltic CDT","U4","04. Non-Edibles","U4.02","02. Family","E.03.06","06. Footwear","13932","01. Children`s footwear","13936","01. Children Rubber slippers","","","","","","","","","X",null,"E.03.04","Children`s clothing","2. Children`s accessories","Children's headwear","Summer","","","","18515",{"$f":"_xlfn.TEXTJOIN(\"; \",TRUE,ZCDT_EXPORT_2[[#This Row],[Sub-Category]:[Segment 5]])","v":"2. Children`s accessories; Children's headwear; Summer"}]
["AH","Baltic CDT","U4","04. Non-Edibles","U4.02","02. Family","E.03.06","06. Footwear","13932","01. Children`s footwear","13937","02. Children`s home slippers","","","","","","","","","X",null,"E.03.04","Children`s clothing","2. Children`s accessories","Children's headwear","Autumn / spring","","","","18516",{"$f":"_xlfn.TEXTJOIN(\"; \",TRUE,ZCDT_EXPORT_2[[#This Row],[Sub-Category]:[Segment 5]])","v":"2. Children`s accessories; Children's headwear; Autumn / spring"}]
["AH","Baltic CDT","U4","04. Non-Edibles","U4.02","02. Family","E.03.06","06. Footwear","13932","01. Children`s footwear","13938","03. Children`s rubber boots","","","","","","","","","X",null,"E.03.04","Children`s clothing","2. Children`s accessories","Children's headwear","Winter","","","","18517",{"$f":"_xlfn.TEXTJOIN(\"; \",TRUE,ZCDT_EXPORT_2[[#This Row],[Sub-Category]:[Segment 5]])","v":"2. Children`s accessories; Children's headwear; Winter"}]
["AH","Baltic CDT","U4","04. Non-Edibles","U4.02","02. Family","E.03.06","06. Footwear","13932","01. Children`s footwear","13939","04. Children's boots","","","","","","","","","X",null,"E.03.04","Children`s clothing","2. Children`s accessories","Children's scarves","","","","","14802",{"$f":"_xlfn.TEXTJOIN(\"; \",TRUE,ZCDT_EXPORT_2[[#This Row],[Sub-Category]:[Segment 5]])","v":"2. Children`s accessories; Children's scarves"}]
["AH","Baltic CDT","U4","04. Non-Edibles","U4.02","02. Family","E.03.06","06. Footwear","13932","01. Children`s footwear","13940","05. Children's classical shoes","","","","","","","","","X",null,"E.03.04","Children`s clothing","3. Boy`s clothing","Boys' festivity clothing","","","","","14805",{"$f":"_xlfn.TEXTJOIN(\"; \",TRUE,ZCDT_EXPORT_2[[#This Row],[Sub-Category]:[Segment 5]])","v":"3. Boy`s clothing; Boys' festivity clothing"}]
["AH","Baltic CDT","U4","04. Non-Edibles","U4.02","02. Family","E.03.06","06. Footwear","13932","01. Children`s footwear","13941","06. Children's dancing shoes","","","","","","","","","X",null,"E.03.04","Children`s clothing","3. Boy`s clothing","Boys' jeans","","","","","14806",{"$f":"_xlfn.TEXTJOIN(\"; \",TRUE,ZCDT_EXPORT_2[[#This Row],[Sub-Category]:[Segment 5]])","v":"3. Boy`s clothing; Boys' jeans"}]
["AH","Baltic CDT","U4","04. Non-Edibles","U4.02","02. Family","E.03.06","06. Footwear","13932","01. Children`s footwear","13942","07. Children's leisure shoes","","","","","","","","","X",null,"E.03.04","Children`s clothing","3. Boy`s clothing","Boys' knitwear","","","","","14807",{"$f":"_xlfn.TEXTJOIN(\"; \",TRUE,ZCDT_EXPORT_2[[#This Row],[Sub-Category]:[Segment 5]])","v":"3. Boy`s clothing; Boys' knitwear"}]
["AH","Baltic CDT","U4","04. Non-Edibles","U4.02","02. Family","E.03.06","06. Footwear","13932","01. Children`s footwear","13943","08. Children's sandals","","","","","","","","","X",null,"E.03.04","Children`s clothing","3. Boy`s clothing","Boys' long sleeve t-shirts","","","","","14808",{"$f":"_xlfn.TEXTJOIN(\"; \",TRUE,ZCDT_EXPORT_2[[#This Row],[Sub-Category]:[Segment 5]])","v":"3. Boy`s clothing; Boys' long sleeve t-shirts"}]
["AH","Baltic CDT","U4","04. Non-Edibles","U4.02","02. Family","E.03.06","06. Footwear","13932","01. Children`s footwear","13944","09. Children's sports shoes","","","","","","","","","X",null,"E.03.04","Children`s clothing","3. Boy`s clothing","Boys' sets","","","","","14809",{"$f":"_xlfn.TEXTJOIN(\"; \",TRUE,ZCDT_EXPORT_2[[#This Row],[Sub-Category]:[Segment 5]])","v":"3. Boy`s clothing; Boys' sets"}]
["AH","Baltic CDT","U4","04. Non-Edibles","U4.02","02. Family","E.03.06","06. Footwear","13933","02. Men`s footwear","13946","01. Men  Rubber slippers","","","","","","","","","X",null,"E.03.04","Children`s clothing","3. Boy`s clothing","Boys' shirts","","","","","14810",{"$f":"_xlfn.TEXTJOIN(\"; \",TRUE,ZCDT_EXPORT_2[[#This Row],[Sub-Category]:[Segment 5]])","v":"3. Boy`s clothing; Boys' shirts"}]
["AH","Baltic CDT","U4","04. Non-Edibles","U4.02","02. Family","E.03.06","06. Footwear","13933","02. Men`s footwear","13947","02. Men`s home slippers","","","","","","","","","X",null,"E.03.04","Children`s clothing","3. Boy`s clothing","Boys' short sleeve t-shirts","","","","","14811",{"$f":"_xlfn.TEXTJOIN(\"; \",TRUE,ZCDT_EXPORT_2[[#This Row],[Sub-Category]:[Segment 5]])","v":"3. Boy`s clothing; Boys' short sleeve t-shirts"}]
["AH","Baltic CDT","U4","04. Non-Edibles","U4.02","02. Family","E.03.06","06. Footwear","13933","02. Men`s footwear","13948","03. Men`s rubber boots","","","","","","","","","X",null,"E.03.04","Children`s clothing","3. Boy`s clothing","Boys' shorts","","","","","14812",{"$f":"_xlfn.TEXTJOIN(\"; \",TRUE,ZCDT_EXPORT_2[[#This Row],[Sub-Category]:[Segment 5]])","v":"3. Boy`s clothing; Boys' shorts"}]
["AH","Baltic CDT","U4","04. Non-Edibles","U4.02","02. Family","E.03.06","06. Footwear","13933","02. Men`s footwear","13949","04. Men's  boots","","","","","","","","","X",null,"E.03.04","Children`s clothing","3. Boy`s clothing","Boys' sweatpants","","","","","14813",{"$f":"_xlfn.TEXTJOIN(\"; \",TRUE,ZCDT_EXPORT_2[[#This Row],[Sub-Category]:[Segment 5]])","v":"3. Boy`s clothing; Boys' sweatpants"}]
["AH","Baltic CDT","U4","04. Non-Edibles","U4.02","02. Family","E.03.06","06. Footwear","13933","02. Men`s footwear","13950","05. Men's leisure shoes","","","","","","","","","X",null,"E.03.04","Children`s clothing","3. Boy`s clothing","Boys' sweatshirts","","","","","14814",{"$f":"_xlfn.TEXTJOIN(\"; \",TRUE,ZCDT_EXPORT_2[[#This Row],[Sub-Category]:[Segment 5]])","v":"3. Boy`s clothing; Boys' sweatshirts"}]
["AH","Baltic CDT","U4","04. Non-Edibles","U4.02","02. Family","E.03.06","06. Footwear","13933","02. Men`s footwear","13951","06. Men's sandals","","","","","","","","","X",null,"E.03.04","Children`s clothing","3. Boy`s clothing","Boys' trousers","","","","","14815",{"$f":"_xlfn.TEXTJOIN(\"; \",TRUE,ZCDT_EXPORT_2[[#This Row],[Sub-Category]:[Segment 5]])","v":"3. Boy`s clothing; Boys' trousers"}]
["AH","Baltic CDT","U4","04. Non-Edibles","U4.02","02. Family","E.03.06","06. Footwear","13934","03. Women`s footwear","13953","01. Women`s home slippers","","","","","","","","","X",null,"E.03.04","Children`s clothing","3. Boy`s clothing","Boys's outdoor clothing","","","","","14816",{"$f":"_xlfn.TEXTJOIN(\"; \",TRUE,ZCDT_EXPORT_2[[#This Row],[Sub-Category]:[Segment 5]])","v":"3. Boy`s clothing; Boys's outdoor clothing"}]
["AH","Baltic CDT","U4","04. Non-Edibles","U4.02","02. Family","E.03.06","06. Footwear","13934","03. Women`s footwear","13954","02. Women`s rubber boots","","","","","","","","","X",null,"E.03.04","Children`s clothing","3. Boy`s clothing","Boys's blazer","","","","","15241",{"$f":"_xlfn.TEXTJOIN(\"; \",TRUE,ZCDT_EXPORT_2[[#This Row],[Sub-Category]:[Segment 5]])","v":"3. Boy`s clothing; Boys's blazer"}]
["AH","Baltic CDT","U4","04. Non-Edibles","U4.02","02. Family","E.03.06","06. Footwear","13934","03. Women`s footwear","13955","03. Women's boots","","","","","","","","","X",null,"E.03.04","Children`s clothing","4. Girl`s clothing","Girls' blouses","","","","","14818",{"$f":"_xlfn.TEXTJOIN(\"; \",TRUE,ZCDT_EXPORT_2[[#This Row],[Sub-Category]:[Segment 5]])","v":"4. Girl`s clothing; Girls' blouses"}]
["AH","Baltic CDT","U4","04. Non-Edibles","U4.02","02. Family","E.03.06","06. Footwear","13934","03. Women`s footwear","13956","04. Women's classical shoes","","","","","","","","","X",null,"E.03.04","Children`s clothing","4. Girl`s clothing","Girls' dresses","","","","","14819",{"$f":"_xlfn.TEXTJOIN(\"; \",TRUE,ZCDT_EXPORT_2[[#This Row],[Sub-Category]:[Segment 5]])","v":"4. Girl`s clothing; Girls' dresses"}]
["AH","Baltic CDT","U4","04. Non-Edibles","U4.02","02. Family","E.03.06","06. Footwear","13934","03. Women`s footwear","13957","05. Women's leisure shoes","","","","","","","","","X",null,"E.03.04","Children`s clothing","4. Girl`s clothing","Girls' jeans","","","","","14820",{"$f":"_xlfn.TEXTJOIN(\"; \",TRUE,ZCDT_EXPORT_2[[#This Row],[Sub-Category]:[Segment 5]])","v":"4. Girl`s clothing; Girls' jeans"}]
["AH","Baltic CDT","U4","04. Non-Edibles","U4.02","02. Family","E.03.06","06. Footwear","13934","03. Women`s footwear","13958","06. Women's rubber slippers","","","","","","","","","X",null,"E.03.04","Children`s clothing","4. Girl`s clothing","Girls' knitwear","","","","","14821",{"$f":"_xlfn.TEXTJOIN(\"; \",TRUE,ZCDT_EXPORT_2[[#This Row],[Sub-Category]:[Segment 5]])","v":"4. Girl`s clothing; Girls' knitwear"}]
["AH","Baltic CDT","U4","04. Non-Edibles","U4.02","02. Family","E.03.06","06. Footwear","13934","03. Women`s footwear","13959","07. Women's sandals","","","","","","","","","X",null,"E.03.04","Children`s clothing","4. Girl`s clothing","Girls' long sleeve t-shirts","","","","","14822",{"$f":"_xlfn.TEXTJOIN(\"; \",TRUE,ZCDT_EXPORT_2[[#This Row],[Sub-Category]:[Segment 5]])","v":"4. Girl`s clothing; Girls' long sleeve t-shirts"}]
["AH","Baltic CDT","U4","04. Non-Edibles","U4.02","02. Family","E.05.06","06. Toys for girls","681","01. Baby Dolls","","","","","","","","","","","X",null,"E.03.04","Children`s clothing","4. Girl`s clothing","Girls' sets","","","","","14823",{"$f":"_xlfn.TEXTJOIN(\"; \",TRUE,ZCDT_EXPORT_2[[#This Row],[Sub-Category]:[Segment 5]])","v":"4. Girl`s clothing; Girls' sets"}]
["AH","Baltic CDT","U4","04. Non-Edibles","U4.02","02. Family","E.05.06","06. Toys for girls","682","02. Baby Dolls accessories/equipment","","","","","","","","","","","X",null,"E.03.04","Children`s clothing","4. Girl`s clothing","Girls' short sleeve t-shirts","","","","","14824",{"$f":"_xlfn.TEXTJOIN(\"; \",TRUE,ZCDT_EXPORT_2[[#This Row],[Sub-Category]:[Segment 5]])","v":"4. Girl`s clothing; Girls' short sleeve t-shirts"}]
["AH","Baltic CDT","U4","04. Non-Edibles","U4.02","02. Family","E.05.06","06. Toys for girls","683","03. Beauty accessories and cosmetic sets","","","","","","","","","","","X",null,"E.03.04","Children`s clothing","4. Girl`s clothing","Girls' shorts","","","","","14825",{"$f":"_xlfn.TEXTJOIN(\"; \",TRUE,ZCDT_EXPORT_2[[#This Row],[Sub-Category]:[Segment 5]])","v":"4. Girl`s clothing; Girls' shorts"}]
["AH","Baltic CDT","U4","04. Non-Edibles","U4.02","02. Family","E.05.06","06. Toys for girls","684","04. Branded dolls","","","","","","","","","","","X",null,"E.03.04","Children`s clothing","4. Girl`s clothing","Girls' skirts","","","","","14826",{"$f":"_xlfn.TEXTJOIN(\"; \",TRUE,ZCDT_EXPORT_2[[#This Row],[Sub-Category]:[Segment 5]])","v":"4. Girl`s clothing; Girls' skirts"}]
["AH","Baltic CDT","U4","04. Non-Edibles","U4.02","02. Family","E.05.06","06. Toys for girls","14280","05. Branded dolls accessories/equipment","","","","","","","","","","","X",null,"E.03.04","Children`s clothing","4. Girl`s clothing","Girls' sweatpants","","","","","14827",{"$f":"_xlfn.TEXTJOIN(\"; \",TRUE,ZCDT_EXPORT_2[[#This Row],[Sub-Category]:[Segment 5]])","v":"4. Girl`s clothing; Girls' sweatpants"}]
["AH","Baltic CDT","U4","04. Non-Edibles","U4.02","02. Family","E.05.06","06. Toys for girls","14281","06. Role play","","","","","","","","","","","X",null,"E.03.04","Children`s clothing","4. Girl`s clothing","Girls' sweatshirts","","","","","14828",{"$f":"_xlfn.TEXTJOIN(\"; \",TRUE,ZCDT_EXPORT_2[[#This Row],[Sub-Category]:[Segment 5]])","v":"4. Girl`s clothing; Girls' sweatshirts"}]
["AH","Baltic CDT","U4","04. Non-Edibles","U4.02","02. Family","E.05.06","06. Toys for girls","14285","07. Figures and accessories","","","","","","","","","","","X",null,"E.03.04","Children`s clothing","4. Girl`s clothing","Girls' trousers","","","","","14829",{"$f":"_xlfn.TEXTJOIN(\"; \",TRUE,ZCDT_EXPORT_2[[#This Row],[Sub-Category]:[Segment 5]])","v":"4. Girl`s clothing; Girls' trousers"}]
["AH","Baltic CDT","U4","04. Non-Edibles","U4.02","02. Family","E.05.06","06. Toys for girls","14283","08. Dolls","","","","","","","","","","","X",null,"E.03.04","Children`s clothing","4. Girl`s clothing","Girls's outdoor clothing","","","","","14830",{"$f":"_xlfn.TEXTJOIN(\"; \",TRUE,ZCDT_EXPORT_2[[#This Row],[Sub-Category]:[Segment 5]])","v":"4. Girl`s clothing; Girls's outdoor clothing"}]
["AH","Baltic CDT","U4","04. Non-Edibles","U4.02","02. Family","E.05.06","06. Toys for girls","14284","09. Dolls accessories/equipment","","","","","","","","","","","X",null,"E.03.04","Children`s clothing","4. Girl`s clothing","Girls's blazer","","","","","15242",{"$f":"_xlfn.TEXTJOIN(\"; \",TRUE,ZCDT_EXPORT_2[[#This Row],[Sub-Category]:[Segment 5]])","v":"4. Girl`s clothing; Girls's blazer"}]
["AH","Baltic CDT","U4","04. Non-Edibles","U4.02","02. Family","E.05.07","07. Baby accesories","17954","01. Soothers","","","","","","","","","","","X",null,"E.03.04","Children`s clothing","4. Girl`s clothing","Girls's leggings","","","","","18518",{"$f":"_xlfn.TEXTJOIN(\"; \",TRUE,ZCDT_EXPORT_2[[#This Row],[Sub-Category]:[Segment 5]])","v":"4. Girl`s clothing; Girls's leggings"}]
["AH","Baltic CDT","U4","04. Non-Edibles","U4.02","02. Family","E.05.07","07. Baby accesories","17955","02. Bottles and teats","","","","","","","","","","","X",null,"E.03.05","Children's socks & tights","Baby socks","","","","","","13921",{"$f":"_xlfn.TEXTJOIN(\"; \",TRUE,ZCDT_EXPORT_2[[#This Row],[Sub-Category]:[Segment 5]])","v":"Baby socks"}]
["AH","Baltic CDT","U4","04. Non-Edibles","U4.02","02. Family","E.05.07","07. Baby accesories","17956","03. Baby tableware","","","","","","","","","","","X",null,"E.03.05","Children's socks & tights","Children's  ankle socks","","","","","","13922",{"$f":"_xlfn.TEXTJOIN(\"; \",TRUE,ZCDT_EXPORT_2[[#This Row],[Sub-Category]:[Segment 5]])","v":"Children's  ankle socks"}]
["AH","Baltic CDT","U4","04. Non-Edibles","U4.02","02. Family","E.05.07","07. Baby accesories","17957","04. Baby entertainment","","","","","","","","","","","X",null,"E.03.05","Children's socks & tights","Children's  knee-lenght socks","","","","","","13923",{"$f":"_xlfn.TEXTJOIN(\"; \",TRUE,ZCDT_EXPORT_2[[#This Row],[Sub-Category]:[Segment 5]])","v":"Children's  knee-lenght socks"}]
["AH","Baltic CDT","U4","04. Non-Edibles","U4.02","02. Family","E.05.07","07. Baby accesories","17958","05. Baby safety supplies","","","","","","","","","","","X",null,"E.03.05","Children's socks & tights","Children's  warm socks","","","","","","13924",{"$f":"_xlfn.TEXTJOIN(\"; \",TRUE,ZCDT_EXPORT_2[[#This Row],[Sub-Category]:[Segment 5]])","v":"Children's  warm socks"}]
["AH","Baltic CDT","U4","04. Non-Edibles","U4.02","02. Family","E.05.07","07. Baby accesories","17959","06. Toilet equipment","","","","","","","","","","","X",null,"E.03.05","Children's socks & tights","Children's cotton socks","","","","","","13925",{"$f":"_xlfn.TEXTJOIN(\"; \",TRUE,ZCDT_EXPORT_2[[#This Row],[Sub-Category]:[Segment 5]])","v":"Children's cotton socks"}]
["AH","Baltic CDT","U4","04. Non-Edibles","U4.02","02. Family","E.05.07","07. Baby accesories","17960","07. Skincare accessories","","","","","","","","","","","X",null,"E.03.05","Children's socks & tights","Children's cotton tights","","","","","","13926",{"$f":"_xlfn.TEXTJOIN(\"; \",TRUE,ZCDT_EXPORT_2[[#This Row],[Sub-Category]:[Segment 5]])","v":"Children's cotton tights"}]
["AH","Baltic CDT","U4","04. Non-Edibles","U4.02","02. Family","E.05.07","07. Baby accesories","17961","08. Breastfeeding acces.","","","","","","","","","","","X",null,"E.03.05","Children's socks & tights","Children's denier tights","","","","","","13927",{"$f":"_xlfn.TEXTJOIN(\"; \",TRUE,ZCDT_EXPORT_2[[#This Row],[Sub-Category]:[Segment 5]])","v":"Children's denier tights"}]
["AH","Baltic CDT","U4","04. Non-Edibles","U4.02","02. Family","E.05.07","07. Baby accesories","17962","09. Other baby products","","","","","","","","","","","X",null,"E.03.05","Children's socks & tights","Children's footless tights","","","","","","13928",{"$f":"_xlfn.TEXTJOIN(\"; \",TRUE,ZCDT_EXPORT_2[[#This Row],[Sub-Category]:[Segment 5]])","v":"Children's footless tights"}]
["AH","Baltic CDT","U4","04. Non-Edibles","U4.02","02. Family","E.05.07","07. Baby accesories","17963","10. Prams, pushchairs","","","","","","","","","","","X",null,"E.03.05","Children's socks & tights","Children's hidden socks","","","","","","13929",{"$f":"_xlfn.TEXTJOIN(\"; \",TRUE,ZCDT_EXPORT_2[[#This Row],[Sub-Category]:[Segment 5]])","v":"Children's hidden socks"}]
["AH","Baltic CDT","U4","04. Non-Edibles","U4.02","02. Family","E.03.07","07. Men's socks","13963","01. Men's  knee-lenght socks","","","","","","","","","","","X",null,"E.03.06","Footwear","Children`s footwear","Children Rubber slippers","","","","","13936",{"$f":"_xlfn.TEXTJOIN(\"; \",TRUE,ZCDT_EXPORT_2[[#This Row],[Sub-Category]:[Segment 5]])","v":"Children`s footwear; Children Rubber slippers"}]
["AH","Baltic CDT","U4","04. Non-Edibles","U4.02","02. Family","E.03.07","07. Men's socks","13964","02. Men's hidden/footsteps socks","","","","","","","","","","","X",null,"E.03.06","Footwear","Children`s footwear","Children`s home slippers","","","","","13937",{"$f":"_xlfn.TEXTJOIN(\"; \",TRUE,ZCDT_EXPORT_2[[#This Row],[Sub-Category]:[Segment 5]])","v":"Children`s footwear; Children`s home slippers"}]
["AH","Baltic CDT","U4","04. Non-Edibles","U4.02","02. Family","E.03.07","07. Men's socks","13965","03. Men's socks","","","","","","","","","","","X",null,"E.03.06","Footwear","Children`s footwear","Children`s rubber boots","","","","","13938",{"$f":"_xlfn.TEXTJOIN(\"; \",TRUE,ZCDT_EXPORT_2[[#This Row],[Sub-Category]:[Segment 5]])","v":"Children`s footwear; Children`s rubber boots"}]
["AH","Baltic CDT","U4","04. Non-Edibles","U4.02","02. Family","E.03.07","07. Men's socks","13966","04. Men's sport socks","","","","","","","","","","","X",null,"E.03.06","Footwear","Children`s footwear","Children's boots","","","","","13939",{"$f":"_xlfn.TEXTJOIN(\"; \",TRUE,ZCDT_EXPORT_2[[#This Row],[Sub-Category]:[Segment 5]])","v":"Children`s footwear; Children's boots"}]
["AH","Baltic CDT","U4","04. Non-Edibles","U4.02","02. Family","E.03.07","07. Men's socks","13967","05. Men's warm socks","","","","","","","","","","","X",null,"E.03.06","Footwear","Children`s footwear","Children's classical shoes","","","","","13940",{"$f":"_xlfn.TEXTJOIN(\"; \",TRUE,ZCDT_EXPORT_2[[#This Row],[Sub-Category]:[Segment 5]])","v":"Children`s footwear; Children's classical shoes"}]
["AH","Baltic CDT","U4","04. Non-Edibles","U4.02","02. Family","E.05.08","08. Creative Toys","18280","01. Creative DIY kits","","","","","","","","","","","X",null,"E.03.06","Footwear","Children`s footwear","Children's dancing shoes","","","","","13941",{"$f":"_xlfn.TEXTJOIN(\"; \",TRUE,ZCDT_EXPORT_2[[#This Row],[Sub-Category]:[Segment 5]])","v":"Children`s footwear; Children's dancing shoes"}]
["AH","Baltic CDT","U4","04. Non-Edibles","U4.02","02. Family","E.05.08","08. Creative Toys","18283","02. Musical instruments","","","","","","","","","","","X",null,"E.03.06","Footwear","Children`s footwear","Children's leisure shoes","","","","","13942",{"$f":"_xlfn.TEXTJOIN(\"; \",TRUE,ZCDT_EXPORT_2[[#This Row],[Sub-Category]:[Segment 5]])","v":"Children`s footwear; Children's leisure shoes"}]
["AH","Baltic CDT","U4","04. Non-Edibles","U4.02","02. Family","E.05.08","08. Creative Toys","18284","03. Moulding kits","","","","","","","","","","","X",null,"E.03.06","Footwear","Children`s footwear","Children's sandals","","","","","13943",{"$f":"_xlfn.TEXTJOIN(\"; \",TRUE,ZCDT_EXPORT_2[[#This Row],[Sub-Category]:[Segment 5]])","v":"Children`s footwear; Children's sandals"}]
["AH","Baltic CDT","U4","04. Non-Edibles","U4.02","02. Family","E.05.08","08. Creative Toys","18279","04. Scientific sets","","","","","","","","","","","X",null,"E.03.06","Footwear","Children`s footwear","Children's sports shoes","","","","","13944",{"$f":"_xlfn.TEXTJOIN(\"; \",TRUE,ZCDT_EXPORT_2[[#This Row],[Sub-Category]:[Segment 5]])","v":"Children`s footwear; Children's sports shoes"}]
["AH","Baltic CDT","U4","04. Non-Edibles","U4.02","02. Family","E.03.08","08. Men's underwear","13969","01. Men's bathrobes","","","","","","","","","","","X",null,"E.03.06","Footwear","Men`s footwear","Men  Rubber slippers","","","","","13946",{"$f":"_xlfn.TEXTJOIN(\"; \",TRUE,ZCDT_EXPORT_2[[#This Row],[Sub-Category]:[Segment 5]])","v":"Men`s footwear; Men  Rubber slippers"}]
["AH","Baltic CDT","U4","04. Non-Edibles","U4.02","02. Family","E.03.08","08. Men's underwear","13970","02. Men's nightwear","","","","","","","","","","","X",null,"E.03.06","Footwear","Men`s footwear","Men`s home slippers","","","","","13947",{"$f":"_xlfn.TEXTJOIN(\"; \",TRUE,ZCDT_EXPORT_2[[#This Row],[Sub-Category]:[Segment 5]])","v":"Men`s footwear; Men`s home slippers"}]
["AH","Baltic CDT","U4","04. Non-Edibles","U4.02","02. Family","E.03.08","08. Men's underwear","13971","03. Men's underpants","","","","","","","","","","","X",null,"E.03.06","Footwear","Men`s footwear","Men`s rubber boots","","","","","13948",{"$f":"_xlfn.TEXTJOIN(\"; \",TRUE,ZCDT_EXPORT_2[[#This Row],[Sub-Category]:[Segment 5]])","v":"Men`s footwear; Men`s rubber boots"}]
["AH","Baltic CDT","U4","04. Non-Edibles","U4.02","02. Family","E.03.08","08. Men's underwear","13972","04. Men's undershirts","","","","","","","","","","","X",null,"E.03.06","Footwear","Men`s footwear","Men's  boots","","","","","13949",{"$f":"_xlfn.TEXTJOIN(\"; \",TRUE,ZCDT_EXPORT_2[[#This Row],[Sub-Category]:[Segment 5]])","v":"Men`s footwear; Men's  boots"}]
["AH","Baltic CDT","U4","04. Non-Edibles","U4.02","02. Family","E.03.08","08. Men's underwear","13973","05. Men's underwear sets","","","","","","","","","","","X",null,"E.03.06","Footwear","Men`s footwear","Men's leisure shoes","","","","","13950",{"$f":"_xlfn.TEXTJOIN(\"; \",TRUE,ZCDT_EXPORT_2[[#This Row],[Sub-Category]:[Segment 5]])","v":"Men`s footwear; Men's leisure shoes"}]
["AH","Baltic CDT","U4","04. Non-Edibles","U4.02","02. Family","E.03.08","08. Men's underwear","13974","06. Men's warm underwear","","","","","","","","","","","X",null,"E.03.06","Footwear","Men`s footwear","Men's sandals","","","","","13951",{"$f":"_xlfn.TEXTJOIN(\"; \",TRUE,ZCDT_EXPORT_2[[#This Row],[Sub-Category]:[Segment 5]])","v":"Men`s footwear; Men's sandals"}]
["AH","Baltic CDT","U4","04. Non-Edibles","U4.02","02. Family","E.05.09","09. Games","18285","01. Puzzles","","","","","","","","","","","X",null,"E.03.06","Footwear","Women`s footwear","Women`s home slippers","","","","","13953",{"$f":"_xlfn.TEXTJOIN(\"; \",TRUE,ZCDT_EXPORT_2[[#This Row],[Sub-Category]:[Segment 5]])","v":"Women`s footwear; Women`s home slippers"}]
["AH","Baltic CDT","U4","04. Non-Edibles","U4.02","02. Family","E.05.09","09. Games","18286","02. Board games","","","","","","","","","","","X",null,"E.03.06","Footwear","Women`s footwear","Women`s rubber boots","","","","","13954",{"$f":"_xlfn.TEXTJOIN(\"; \",TRUE,ZCDT_EXPORT_2[[#This Row],[Sub-Category]:[Segment 5]])","v":"Women`s footwear; Women`s rubber boots"}]
["AH","Baltic CDT","U4","04. Non-Edibles","U4.02","02. Family","E.05.09","09. Games","18315","03. Brain teasers","","","","","","","","","","","X",null,"E.03.06","Footwear","Women`s footwear","Women's boots","","","","","13955",{"$f":"_xlfn.TEXTJOIN(\"; \",TRUE,ZCDT_EXPORT_2[[#This Row],[Sub-Category]:[Segment 5]])","v":"Women`s footwear; Women's boots"}]
["AH","Baltic CDT","U4","04. Non-Edibles","U4.02","02. Family","E.03.09","09. Swimwear","13977","01. Boy`s swimwear","","","","","","","","","","","X",null,"E.03.06","Footwear","Women`s footwear","Women's classical shoes","","","","","13956",{"$f":"_xlfn.TEXTJOIN(\"; \",TRUE,ZCDT_EXPORT_2[[#This Row],[Sub-Category]:[Segment 5]])","v":"Women`s footwear; Women's classical shoes"}]
["AH","Baltic CDT","U4","04. Non-Edibles","U4.02","02. Family","E.03.09","09. Swimwear","13978","02. Girls`s swimwear","","","","","","","","","","","X",null,"E.03.06","Footwear","Women`s footwear","Women's leisure shoes","","","","","13957",{"$f":"_xlfn.TEXTJOIN(\"; \",TRUE,ZCDT_EXPORT_2[[#This Row],[Sub-Category]:[Segment 5]])","v":"Women`s footwear; Women's leisure shoes"}]
["AH","Baltic CDT","U4","04. Non-Edibles","U4.02","02. Family","E.03.09","09. Swimwear","13979","03. Men's swimwear","","","","","","","","","","","X",null,"E.03.06","Footwear","Women`s footwear","Women's rubber slippers","","","","","13958",{"$f":"_xlfn.TEXTJOIN(\"; \",TRUE,ZCDT_EXPORT_2[[#This Row],[Sub-Category]:[Segment 5]])","v":"Women`s footwear; Women's rubber slippers"}]
["AH","Baltic CDT","U4","04. Non-Edibles","U4.02","02. Family","E.03.09","09. Swimwear","13980","04. Women's swimwear","","","","","","","","","","","X",null,"E.03.06","Footwear","Women`s footwear","Women's sandals","","","","","13959",{"$f":"_xlfn.TEXTJOIN(\"; \",TRUE,ZCDT_EXPORT_2[[#This Row],[Sub-Category]:[Segment 5]])","v":"Women`s footwear; Women's sandals"}]
["AH","Baltic CDT","U4","04. Non-Edibles","U4.02","02. Family","E.03.10","10. Women's socks & tights","13985","03. Women's denier footsteps","","","","","","","","","","","X",null,"E.03.07","Men's socks","Men's  knee-lenght socks","","","","","","13963",{"$f":"_xlfn.TEXTJOIN(\"; \",TRUE,ZCDT_EXPORT_2[[#This Row],[Sub-Category]:[Segment 5]])","v":"Men's  knee-lenght socks"}]
["AH","Baltic CDT","U4","04. Non-Edibles","U4.02","02. Family","E.03.10","10. Women's socks & tights","13986","04. Women's denier knee-lenght socks","","","","","","","","","","","X",null,"E.03.07","Men's socks","Men's hidden/footsteps socks","","","","","","13964",{"$f":"_xlfn.TEXTJOIN(\"; \",TRUE,ZCDT_EXPORT_2[[#This Row],[Sub-Category]:[Segment 5]])","v":"Men's hidden/footsteps socks"}]
["AH","Baltic CDT","U4","04. Non-Edibles","U4.02","02. Family","E.03.10","10. Women's socks & tights","13987","05. Women's denier socks","","","","","","","","","","","X",null,"E.03.07","Men's socks","Men's socks","","","","","","13965",{"$f":"_xlfn.TEXTJOIN(\"; \",TRUE,ZCDT_EXPORT_2[[#This Row],[Sub-Category]:[Segment 5]])","v":"Men's socks"}]
["AH","Baltic CDT","U4","04. Non-Edibles","U4.02","02. Family","E.03.10","10. Women's socks & tights","13988","06. Women's denier tights","","","","","","","","","","","X",null,"E.03.07","Men's socks","Men's sport socks","","","","","","13966",{"$f":"_xlfn.TEXTJOIN(\"; \",TRUE,ZCDT_EXPORT_2[[#This Row],[Sub-Category]:[Segment 5]])","v":"Men's sport socks"}]
["AH","Baltic CDT","U4","04. Non-Edibles","U4.02","02. Family","E.03.10","10. Women's socks & tights","13991","09. Women's stockings","","","","","","","","","","","X",null,"E.03.07","Men's socks","Men's warm socks","","","","","","13967",{"$f":"_xlfn.TEXTJOIN(\"; \",TRUE,ZCDT_EXPORT_2[[#This Row],[Sub-Category]:[Segment 5]])","v":"Men's warm socks"}]
["AH","Baltic CDT","U4","04. Non-Edibles","U4.02","02. Family","E.03.11","11. Women's underwear","13998","01. Women's bathrobes","","","","","","","","","","","X",null,"E.03.08","Men's underwear","Men's bathrobes","","","","","","13969",{"$f":"_xlfn.TEXTJOIN(\"; \",TRUE,ZCDT_EXPORT_2[[#This Row],[Sub-Category]:[Segment 5]])","v":"Men's bathrobes"}]
["AH","Baltic CDT","U4","04. Non-Edibles","U4.02","02. Family","E.03.11","11. Women's underwear","13999","02. Women's bras/tops","","","","","","","","","","","X",null,"E.03.08","Men's underwear","Men's nightwear","","","","","","13970",{"$f":"_xlfn.TEXTJOIN(\"; \",TRUE,ZCDT_EXPORT_2[[#This Row],[Sub-Category]:[Segment 5]])","v":"Men's nightwear"}]
["AH","Baltic CDT","U4","04. Non-Edibles","U4.02","02. Family","E.03.11","11. Women's underwear","14000","03. Women's nightwear","","","","","","","","","","","X",null,"E.03.08","Men's underwear","Men's underpants","","","","","","13971",{"$f":"_xlfn.TEXTJOIN(\"; \",TRUE,ZCDT_EXPORT_2[[#This Row],[Sub-Category]:[Segment 5]])","v":"Men's underpants"}]
["AH","Baltic CDT","U4","04. Non-Edibles","U4.02","02. Family","E.03.11","11. Women's underwear","14001","04. Women's underpants","","","","","","","","","","","X",null,"E.03.08","Men's underwear","Men's undershirts","","","","","","13972",{"$f":"_xlfn.TEXTJOIN(\"; \",TRUE,ZCDT_EXPORT_2[[#This Row],[Sub-Category]:[Segment 5]])","v":"Men's undershirts"}]
["AH","Baltic CDT","U4","04. Non-Edibles","U4.02","02. Family","E.03.11","11. Women's underwear","14002","05. Women's undershirts","","","","","","","","","","","X",null,"E.03.08","Men's underwear","Men's underwear sets","","","","","","13973",{"$f":"_xlfn.TEXTJOIN(\"; \",TRUE,ZCDT_EXPORT_2[[#This Row],[Sub-Category]:[Segment 5]])","v":"Men's underwear sets"}]
["AH","Baltic CDT","U4","04. Non-Edibles","U4.02","02. Family","E.03.11","11. Women's underwear","14004","06. Women's warm underwear","","","","","","","","","","","X",null,"E.03.08","Men's underwear","Men's warm underwear","","","","","","13974",{"$f":"_xlfn.TEXTJOIN(\"; \",TRUE,ZCDT_EXPORT_2[[#This Row],[Sub-Category]:[Segment 5]])","v":"Men's warm underwear"}]
["AH","Baltic CDT","U4","04. Non-Edibles","U4.02","02. Family","E.03.11","11. Women's underwear","19101","07. Mom's underwear","","","","","","","","","","","X",null,"E.03.09","Swimwear","Boy`s swimwear","","","","","","13977",{"$f":"_xlfn.TEXTJOIN(\"; \",TRUE,ZCDT_EXPORT_2[[#This Row],[Sub-Category]:[Segment 5]])","v":"Boy`s swimwear"}]
["AH","Baltic CDT","U4","04. Non-Edibles","U4.02","02. Family","E.03.11","11. Women's underwear","19102","08. Women's sportswear","","","","","","","","","","","X",null,"E.03.09","Swimwear","Girls`s swimwear","","","","","","13978",{"$f":"_xlfn.TEXTJOIN(\"; \",TRUE,ZCDT_EXPORT_2[[#This Row],[Sub-Category]:[Segment 5]])","v":"Girls`s swimwear"}]
["AH","Baltic CDT","U4","04. Non-Edibles","U4.02","02. Family","E.03.11","11. Women's underwear","19103","09. Women's homewear","","","","","","","","","","","X",null,"E.03.09","Swimwear","Men's swimwear","","","","","","13979",{"$f":"_xlfn.TEXTJOIN(\"; \",TRUE,ZCDT_EXPORT_2[[#This Row],[Sub-Category]:[Segment 5]])","v":"Men's swimwear"}]
["AH","Baltic CDT","U4","04. Non-Edibles","U4.02","02. Family","E.03.12","12. Women's socks","18051","01. Women's ankle socks","","","","","","","","","","","X",null,"E.03.09","Swimwear","Women's swimwear","","","","","","13980",{"$f":"_xlfn.TEXTJOIN(\"; \",TRUE,ZCDT_EXPORT_2[[#This Row],[Sub-Category]:[Segment 5]])","v":"Women's swimwear"}]
["AH","Baltic CDT","U4","04. Non-Edibles","U4.02","02. Family","E.03.12","12. Women's socks","18052","02. Women's cotton socks","","","","","","","","","","","X",null,"E.03.10","Women's socks & tights","Women's denier footsteps","","","","","","13985",{"$f":"_xlfn.TEXTJOIN(\"; \",TRUE,ZCDT_EXPORT_2[[#This Row],[Sub-Category]:[Segment 5]])","v":"Women's denier footsteps"}]
["AH","Baltic CDT","U4","04. Non-Edibles","U4.02","02. Family","E.03.12","12. Women's socks","18053","03. Women's hidden/footsteps socks","","","","","","","","","","","X",null,"E.03.10","Women's socks & tights","Women's denier knee-lenght socks","","","","","","13986",{"$f":"_xlfn.TEXTJOIN(\"; \",TRUE,ZCDT_EXPORT_2[[#This Row],[Sub-Category]:[Segment 5]])","v":"Women's denier knee-lenght socks"}]
["AH","Baltic CDT","U4","04. Non-Edibles","U4.02","02. Family","E.03.12","12. Women's socks","18054","04. Women's sport socks","","","","","","","","","","","X",null,"E.03.10","Women's socks & tights","Women's denier socks","","","","","","13987",{"$f":"_xlfn.TEXTJOIN(\"; \",TRUE,ZCDT_EXPORT_2[[#This Row],[Sub-Category]:[Segment 5]])","v":"Women's denier socks"}]
["AH","Baltic CDT","U4","04. Non-Edibles","U4.02","02. Family","E.03.12","12. Women's socks","18097","05. Women's warm socks","","","","","","","","","","","X",null,"E.03.10","Women's socks & tights","Women's denier tights","","","","","","13988",{"$f":"_xlfn.TEXTJOIN(\"; \",TRUE,ZCDT_EXPORT_2[[#This Row],[Sub-Category]:[Segment 5]])","v":"Women's denier tights"}]
["AH","Baltic CDT","U4","04. Non-Edibles","U4.02","02. Family","D.07.01","22. Diapers and baby care","16820","01. Baby Wash & Skin Care","17003","01. Skin Care","17007","01. ECO/ Natural","","","","","","","X",null,"E.03.10","Women's socks & tights","Women's stockings","","","","","","13991",{"$f":"_xlfn.TEXTJOIN(\"; \",TRUE,ZCDT_EXPORT_2[[#This Row],[Sub-Category]:[Segment 5]])","v":"Women's stockings"}]
["AH","Baltic CDT","U4","04. Non-Edibles","U4.02","02. Family","D.07.01","22. Diapers and baby care","16820","01. Baby Wash & Skin Care","17003","01. Skin Care","17008","02. Regular","","","","","","","X",null,"E.03.11","Women's underwear","Women's bathrobes","","","","","","13998",{"$f":"_xlfn.TEXTJOIN(\"; \",TRUE,ZCDT_EXPORT_2[[#This Row],[Sub-Category]:[Segment 5]])","v":"Women's bathrobes"}]
["AH","Baltic CDT","U4","04. Non-Edibles","U4.02","02. Family","D.07.01","22. Diapers and baby care","16820","01. Baby Wash & Skin Care","17004","02. Wash","17009","01. ECO/Natural","","","","","","","X",null,"E.03.11","Women's underwear","Women's bras/tops","","","","","","13999",{"$f":"_xlfn.TEXTJOIN(\"; \",TRUE,ZCDT_EXPORT_2[[#This Row],[Sub-Category]:[Segment 5]])","v":"Women's bras/tops"}]
["AH","Baltic CDT","U4","04. Non-Edibles","U4.02","02. Family","D.07.01","22. Diapers and baby care","16820","01. Baby Wash & Skin Care","17004","02. Wash","17010","02. Regular","","","","","","","X",null,"E.03.11","Women's underwear","Women's nightwear","","","","","","14000",{"$f":"_xlfn.TEXTJOIN(\"; \",TRUE,ZCDT_EXPORT_2[[#This Row],[Sub-Category]:[Segment 5]])","v":"Women's nightwear"}]
["AH","Baltic CDT","U4","04. Non-Edibles","U4.02","02. Family","D.07.01","22. Diapers and baby care","16820","01. Baby Wash & Skin Care","17005","03. Other Care Products","","","","","","","","","X",null,"E.03.11","Women's underwear","Women's underpants","","","","","","14001",{"$f":"_xlfn.TEXTJOIN(\"; \",TRUE,ZCDT_EXPORT_2[[#This Row],[Sub-Category]:[Segment 5]])","v":"Women's underpants"}]
["AH","Baltic CDT","U4","04. Non-Edibles","U4.02","02. Family","D.07.01","22. Diapers and baby care","16820","01. Baby Wash & Skin Care","17006","04. Wipes","17011","01. 1 Pack (<80 pcs)","","","","","","","X",null,"E.03.11","Women's underwear","Women's undershirts","","","","","","14002",{"$f":"_xlfn.TEXTJOIN(\"; \",TRUE,ZCDT_EXPORT_2[[#This Row],[Sub-Category]:[Segment 5]])","v":"Women's undershirts"}]
["AH","Baltic CDT","U4","04. Non-Edibles","U4.02","02. Family","D.07.01","22. Diapers and baby care","16820","01. Baby Wash & Skin Care","17006","04. Wipes","17013","02. 2 or more packs","","","","","","","X",null,"E.03.11","Women's underwear","Women's warm underwear","","","","","","14004",{"$f":"_xlfn.TEXTJOIN(\"; \",TRUE,ZCDT_EXPORT_2[[#This Row],[Sub-Category]:[Segment 5]])","v":"Women's warm underwear"}]
["AH","Baltic CDT","U4","04. Non-Edibles","U4.02","02. Family","D.07.01","22. Diapers and baby care","17002","02. Nappies","17014","01. Clips","19202","01. Size 1","","","","","","","X",null,"E.03.11","Women's underwear","Mom's underwear","","","","","","19101",{"$f":"_xlfn.TEXTJOIN(\"; \",TRUE,ZCDT_EXPORT_2[[#This Row],[Sub-Category]:[Segment 5]])","v":"Mom's underwear"}]
["AH","Baltic CDT","U4","04. Non-Edibles","U4.02","02. Family","D.07.01","22. Diapers and baby care","17002","02. Nappies","17014","01. Clips","19203","02. Size 2","","","","","","","X",null,"E.03.11","Women's underwear","Women's sportswear","","","","","","19102",{"$f":"_xlfn.TEXTJOIN(\"; \",TRUE,ZCDT_EXPORT_2[[#This Row],[Sub-Category]:[Segment 5]])","v":"Women's sportswear"}]
["AH","Baltic CDT","U4","04. Non-Edibles","U4.02","02. Family","D.07.01","22. Diapers and baby care","17002","02. Nappies","17014","01. Clips","19204","03. Size 3","","","","","","","X",null,"E.03.11","Women's underwear","Women's homewear","","","","","","19103",{"$f":"_xlfn.TEXTJOIN(\"; \",TRUE,ZCDT_EXPORT_2[[#This Row],[Sub-Category]:[Segment 5]])","v":"Women's homewear"}]
["AH","Baltic CDT","U4","04. Non-Edibles","U4.02","02. Family","D.07.01","22. Diapers and baby care","17002","02. Nappies","17014","01. Clips","19205","04. Size 4","","","","","","","X",null,"E.03.12","Women's socks","Women's ankle socks","","","","","","18051",{"$f":"_xlfn.TEXTJOIN(\"; \",TRUE,ZCDT_EXPORT_2[[#This Row],[Sub-Category]:[Segment 5]])","v":"Women's ankle socks"}]
["AH","Baltic CDT","U4","04. Non-Edibles","U4.02","02. Family","D.07.01","22. Diapers and baby care","17002","02. Nappies","17014","01. Clips","19206","05. Size 5","","","","","","","X",null,"E.03.12","Women's socks","Women's cotton socks","","","","","","18052",{"$f":"_xlfn.TEXTJOIN(\"; \",TRUE,ZCDT_EXPORT_2[[#This Row],[Sub-Category]:[Segment 5]])","v":"Women's cotton socks"}]
["AH","Baltic CDT","U4","04. Non-Edibles","U4.02","02. Family","D.07.01","22. Diapers and baby care","17002","02. Nappies","17014","01. Clips","19207","06. Size 6","","","","","","","X",null,"E.03.12","Women's socks","Women's hidden/footsteps socks","","","","","","18053",{"$f":"_xlfn.TEXTJOIN(\"; \",TRUE,ZCDT_EXPORT_2[[#This Row],[Sub-Category]:[Segment 5]])","v":"Women's hidden/footsteps socks"}]
["AH","Baltic CDT","U4","04. Non-Edibles","U4.02","02. Family","D.07.01","22. Diapers and baby care","17002","02. Nappies","17014","01. Clips","19208","07. Size 7","","","","","","","X",null,"E.03.12","Women's socks","Women's sport socks","","","","","","18054",{"$f":"_xlfn.TEXTJOIN(\"; \",TRUE,ZCDT_EXPORT_2[[#This Row],[Sub-Category]:[Segment 5]])","v":"Women's sport socks"}]
["AH","Baltic CDT","U4","04. Non-Edibles","U4.02","02. Family","D.07.01","22. Diapers and baby care","17002","02. Nappies","17015","02. Pull Ups","19209","01. Size 1","","","","","","","X",null,"E.03.12","Women's socks","Women's warm socks","","","","","","18097",{"$f":"_xlfn.TEXTJOIN(\"; \",TRUE,ZCDT_EXPORT_2[[#This Row],[Sub-Category]:[Segment 5]])","v":"Women's warm socks"}]
["AH","Baltic CDT","U4","04. Non-Edibles","U4.02","02. Family","D.07.01","22. Diapers and baby care","17002","02. Nappies","17015","02. Pull Ups","19210","02. Size 2","","","","","","","X",null,"E.05.01","Activity toys","Balls","Balls for children","","","","","14244",{"$f":"_xlfn.TEXTJOIN(\"; \",TRUE,ZCDT_EXPORT_2[[#This Row],[Sub-Category]:[Segment 5]])","v":"Balls; Balls for children"}]
["AH","Baltic CDT","U4","04. Non-Edibles","U4.02","02. Family","D.07.01","22. Diapers and baby care","17002","02. Nappies","17015","02. Pull Ups","19211","03. Size 3","","","","","","","X",null,"E.05.01","Activity toys","Seasonal Toys","Inflatable mattraces","","","","","654",{"$f":"_xlfn.TEXTJOIN(\"; \",TRUE,ZCDT_EXPORT_2[[#This Row],[Sub-Category]:[Segment 5]])","v":"Seasonal Toys; Inflatable mattraces"}]
["AH","Baltic CDT","U4","04. Non-Edibles","U4.02","02. Family","D.07.01","22. Diapers and baby care","17002","02. Nappies","17015","02. Pull Ups","19212","04. Size 4","","","","","","","X",null,"E.05.01","Activity toys","Seasonal Toys","Inflatable pool","","","","","655",{"$f":"_xlfn.TEXTJOIN(\"; \",TRUE,ZCDT_EXPORT_2[[#This Row],[Sub-Category]:[Segment 5]])","v":"Seasonal Toys; Inflatable pool"}]
["AH","Baltic CDT","U4","04. Non-Edibles","U4.02","02. Family","D.07.01","22. Diapers and baby care","17002","02. Nappies","17015","02. Pull Ups","19213","05. Size 5","","","","","","","X",null,"E.05.01","Activity toys","Seasonal Toys","Inflatable ring/balls","","","","","656",{"$f":"_xlfn.TEXTJOIN(\"; \",TRUE,ZCDT_EXPORT_2[[#This Row],[Sub-Category]:[Segment 5]])","v":"Seasonal Toys; Inflatable ring/balls"}]
["AH","Baltic CDT","U4","04. Non-Edibles","U4.02","02. Family","D.07.01","22. Diapers and baby care","17002","02. Nappies","17015","02. Pull Ups","19214","06. Size 6","","","","","","","X",null,"E.05.01","Activity toys","Seasonal Toys","Outdoor games","","","","","14245",{"$f":"_xlfn.TEXTJOIN(\"; \",TRUE,ZCDT_EXPORT_2[[#This Row],[Sub-Category]:[Segment 5]])","v":"Seasonal Toys; Outdoor games"}]
["AH","Baltic CDT","U4","04. Non-Edibles","U4.02","02. Family","D.07.01","22. Diapers and baby care","17002","02. Nappies","17015","02. Pull Ups","19215","07. Size 7","","","","","","","X",null,"E.05.01","Activity toys","Seasonal Toys","Sand Toys","","","","","14246",{"$f":"_xlfn.TEXTJOIN(\"; \",TRUE,ZCDT_EXPORT_2[[#This Row],[Sub-Category]:[Segment 5]])","v":"Seasonal Toys; Sand Toys"}]
["AH","Baltic CDT","U4","04. Non-Edibles","U4.02","02. Family","D.07.01","22. Diapers and baby care","17002","02. Nappies","19201","03. ECO / Japanese","","","","","","","","","X",null,"E.05.01","Activity toys","Seasonal Toys","Water saftety sets","","","","","14247",{"$f":"_xlfn.TEXTJOIN(\"; \",TRUE,ZCDT_EXPORT_2[[#This Row],[Sub-Category]:[Segment 5]])","v":"Seasonal Toys; Water saftety sets"}]
["AH","Baltic CDT","U4","04. Non-Edibles","U4.02","02. Family","D.07.01","22. Diapers and baby care","17002","02. Nappies","17016","04. Special Needs","","","","","","","","","X",null,"E.05.01","Activity toys","Seasonal Toys","Water toys","","","","","14248",{"$f":"_xlfn.TEXTJOIN(\"; \",TRUE,ZCDT_EXPORT_2[[#This Row],[Sub-Category]:[Segment 5]])","v":"Seasonal Toys; Water toys"}]
["AH","Baltic CDT","U4","04. Non-Edibles","U4.02","02. Family","D.09.01","25. Pet food and accessories","11561","01. Food","11563","01. Dog food","11567","01. Canned food","11570","01. Puppies","11573","01. Single portions","11575","01. Single pack single use portion","X",null,"E.05.01","Activity toys","Bubbles","","","","","","17977",{"$f":"_xlfn.TEXTJOIN(\"; \",TRUE,ZCDT_EXPORT_2[[#This Row],[Sub-Category]:[Segment 5]])","v":"Bubbles"}]
["AH","Baltic CDT","U4","04. Non-Edibles","U4.02","02. Family","D.09.01","25. Pet food and accessories","11561","01. Food","11563","01. Dog food","11567","01. Canned food","11570","01. Puppies","11573","01. Single portions","11576","02. Multi pack single use portion","X",null,"E.05.02","Baby Toys","Bath toys","","","","","","191",{"$f":"_xlfn.TEXTJOIN(\"; \",TRUE,ZCDT_EXPORT_2[[#This Row],[Sub-Category]:[Segment 5]])","v":"Bath toys"}]
["AH","Baltic CDT","U4","04. Non-Edibles","U4.02","02. Family","D.09.01","25. Pet food and accessories","11561","01. Food","11563","01. Dog food","11567","01. Canned food","11570","01. Puppies","11574","02. Multi portions","11517","01. 0.1 – 0.7kg","X",null,"E.05.02","Baby Toys","Educational toys","","","","","","192",{"$f":"_xlfn.TEXTJOIN(\"; \",TRUE,ZCDT_EXPORT_2[[#This Row],[Sub-Category]:[Segment 5]])","v":"Educational toys"}]
["AH","Baltic CDT","U4","04. Non-Edibles","U4.02","02. Family","D.09.01","25. Pet food and accessories","11561","01. Food","11563","01. Dog food","11567","01. Canned food","11570","01. Puppies","11574","02. Multi portions","11518","02. > 0.7kg","X",null,"E.05.02","Baby Toys","Rattles","","","","","","193",{"$f":"_xlfn.TEXTJOIN(\"; \",TRUE,ZCDT_EXPORT_2[[#This Row],[Sub-Category]:[Segment 5]])","v":"Rattles"}]
["AH","Baltic CDT","U4","04. Non-Edibles","U4.02","02. Family","D.09.01","25. Pet food and accessories","11561","01. Food","11563","01. Dog food","11567","01. Canned food","11571","02. Adult","11519","01. Single portions","11581","01. Single pack single use portion","X",null,"E.05.02","Baby Toys","Play matts","","","","","","14251",{"$f":"_xlfn.TEXTJOIN(\"; \",TRUE,ZCDT_EXPORT_2[[#This Row],[Sub-Category]:[Segment 5]])","v":"Play matts"}]
["AH","Baltic CDT","U4","04. Non-Edibles","U4.02","02. Family","D.09.01","25. Pet food and accessories","11561","01. Food","11563","01. Dog food","11567","01. Canned food","11571","02. Adult","11519","01. Single portions","11582","02. Multi pack single use portion","X",null,"E.05.02","Baby Toys","Wooden Toys","","","","","","14252",{"$f":"_xlfn.TEXTJOIN(\"; \",TRUE,ZCDT_EXPORT_2[[#This Row],[Sub-Category]:[Segment 5]])","v":"Wooden Toys"}]
["AH","Baltic CDT","U4","04. Non-Edibles","U4.02","02. Family","D.09.01","25. Pet food and accessories","11561","01. Food","11563","01. Dog food","11567","01. Canned food","11571","02. Adult","11520","02. Multi portion","11583","01. 0.4 – 0.8kg","X",null,"E.05.03","Construction sets","Branded preschool sets","","","","","","18287",{"$f":"_xlfn.TEXTJOIN(\"; \",TRUE,ZCDT_EXPORT_2[[#This Row],[Sub-Category]:[Segment 5]])","v":"Branded preschool sets"}]
["AH","Baltic CDT","U4","04. Non-Edibles","U4.02","02. Family","D.09.01","25. Pet food and accessories","11561","01. Food","11563","01. Dog food","11567","01. Canned food","11571","02. Adult","11520","02. Multi portion","11584","02. > 0.8kg","X",null,"E.05.03","Construction sets","Branded sets for boys","","","","","","18288",{"$f":"_xlfn.TEXTJOIN(\"; \",TRUE,ZCDT_EXPORT_2[[#This Row],[Sub-Category]:[Segment 5]])","v":"Branded sets for boys"}]
["AH","Baltic CDT","U4","04. Non-Edibles","U4.02","02. Family","D.09.01","25. Pet food and accessories","11561","01. Food","11563","01. Dog food","11567","01. Canned food","11572","03. Special needs","11587","01. Single portions","11589","01. Single pack single use portion","X",null,"E.05.03","Construction sets","Branded sets for girls","","","","","","18289",{"$f":"_xlfn.TEXTJOIN(\"; \",TRUE,ZCDT_EXPORT_2[[#This Row],[Sub-Category]:[Segment 5]])","v":"Branded sets for girls"}]
["AH","Baltic CDT","U4","04. Non-Edibles","U4.02","02. Family","D.09.01","25. Pet food and accessories","11561","01. Food","11563","01. Dog food","11567","01. Canned food","11572","03. Special needs","11587","01. Single portions","11590","02. Multi pack single use portion","X",null,"E.05.03","Construction sets","Bricks on weight","","","","","","18290",{"$f":"_xlfn.TEXTJOIN(\"; \",TRUE,ZCDT_EXPORT_2[[#This Row],[Sub-Category]:[Segment 5]])","v":"Bricks on weight"}]
["AH","Baltic CDT","U4","04. Non-Edibles","U4.02","02. Family","D.09.01","25. Pet food and accessories","11561","01. Food","11563","01. Dog food","11567","01. Canned food","11572","03. Special needs","11588","02. Multi portion","11591","01. 0.4 – 0.8kg","X",null,"E.05.03","Construction sets","Plastic bricks","","","","","","18291",{"$f":"_xlfn.TEXTJOIN(\"; \",TRUE,ZCDT_EXPORT_2[[#This Row],[Sub-Category]:[Segment 5]])","v":"Plastic bricks"}]
["AH","Baltic CDT","U4","04. Non-Edibles","U4.02","02. Family","D.09.01","25. Pet food and accessories","11561","01. Food","11563","01. Dog food","11567","01. Canned food","11572","03. Special needs","11588","02. Multi portion","11592","02. > 0.8kg","X",null,"E.05.04","Soft Toys","Big Sized soft Toys (more than 50cm)","","","","","","200",{"$f":"_xlfn.TEXTJOIN(\"; \",TRUE,ZCDT_EXPORT_2[[#This Row],[Sub-Category]:[Segment 5]])","v":"Big Sized soft Toys (more than 50cm)"}]
["AH","Baltic CDT","U4","04. Non-Edibles","U4.02","02. Family","D.09.01","25. Pet food and accessories","11561","01. Food","11563","01. Dog food","11568","02. Dry food","11593","01. Puppies","11596","01. ≤2.7 kg","","","X",null,"E.05.04","Soft Toys","Interactive soft toys","","","","","","201",{"$f":"_xlfn.TEXTJOIN(\"; \",TRUE,ZCDT_EXPORT_2[[#This Row],[Sub-Category]:[Segment 5]])","v":"Interactive soft toys"}]
["AH","Baltic CDT","U4","04. Non-Edibles","U4.02","02. Family","D.09.01","25. Pet food and accessories","11561","01. Food","11563","01. Dog food","11568","02. Dry food","11593","01. Puppies","11597","02. >2.7-10 kg","","","X",null,"E.05.04","Soft Toys","Middle sized soft toys (12-50cm)","","","","","","202",{"$f":"_xlfn.TEXTJOIN(\"; \",TRUE,ZCDT_EXPORT_2[[#This Row],[Sub-Category]:[Segment 5]])","v":"Middle sized soft toys (12-50cm)"}]
["AH","Baltic CDT","U4","04. Non-Edibles","U4.02","02. Family","D.09.01","25. Pet food and accessories","11561","01. Food","11563","01. Dog food","11568","02. Dry food","11594","02. Adult","11598","01. ≤2.7 kg","","","X",null,"E.05.04","Soft Toys","Small sized soft toys ( to 12cm)","","","","","","203",{"$f":"_xlfn.TEXTJOIN(\"; \",TRUE,ZCDT_EXPORT_2[[#This Row],[Sub-Category]:[Segment 5]])","v":"Small sized soft toys ( to 12cm)"}]
["AH","Baltic CDT","U4","04. Non-Edibles","U4.02","02. Family","D.09.01","25. Pet food and accessories","11561","01. Food","11563","01. Dog food","11568","02. Dry food","11594","02. Adult","11599","02. >2.7-10 kg","","","X",null,"E.05.05","Toys for boys","Cars/vehicles and sets","","","","","","204",{"$f":"_xlfn.TEXTJOIN(\"; \",TRUE,ZCDT_EXPORT_2[[#This Row],[Sub-Category]:[Segment 5]])","v":"Cars/vehicles and sets"}]
["AH","Baltic CDT","U4","04. Non-Edibles","U4.02","02. Family","D.09.01","25. Pet food and accessories","11561","01. Food","11563","01. Dog food","11568","02. Dry food","11594","02. Adult","11600","03. >10 kg","","","X",null,"E.05.05","Toys for boys","Figures and accessories","","","","","","205",{"$f":"_xlfn.TEXTJOIN(\"; \",TRUE,ZCDT_EXPORT_2[[#This Row],[Sub-Category]:[Segment 5]])","v":"Figures and accessories"}]
["AH","Baltic CDT","U4","04. Non-Edibles","U4.02","02. Family","D.09.01","25. Pet food and accessories","11561","01. Food","11563","01. Dog food","11568","02. Dry food","11595","03. Special needs","","","","","X",null,"E.05.05","Toys for boys","Guns, sets and accessories","","","","","","206",{"$f":"_xlfn.TEXTJOIN(\"; \",TRUE,ZCDT_EXPORT_2[[#This Row],[Sub-Category]:[Segment 5]])","v":"Guns, sets and accessories"}]
["AH","Baltic CDT","U4","04. Non-Edibles","U4.02","02. Family","D.09.01","25. Pet food and accessories","11561","01. Food","11563","01. Dog food","11569","03. Treats and snacks","","","","","","","X",null,"E.05.05","Toys for boys","R/C Cars","","","","","","14274",{"$f":"_xlfn.TEXTJOIN(\"; \",TRUE,ZCDT_EXPORT_2[[#This Row],[Sub-Category]:[Segment 5]])","v":"R/C Cars"}]
["AH","Baltic CDT","U4","04. Non-Edibles","U4.02","02. Family","D.09.01","25. Pet food and accessories","11561","01. Food","11563","01. Dog food","19354","04. Frozen food","","","","","","","X",null,"E.05.05","Toys for boys","R/C Helicopters and planes","","","","","","14275",{"$f":"_xlfn.TEXTJOIN(\"; \",TRUE,ZCDT_EXPORT_2[[#This Row],[Sub-Category]:[Segment 5]])","v":"R/C Helicopters and planes"}]
["AH","Baltic CDT","U4","04. Non-Edibles","U4.02","02. Family","D.09.01","25. Pet food and accessories","11561","01. Food","11564","02. Cat food","11604","01. Canned food","11607","01. Kittens","11610","01. Single portions","11612","01. Single pack single use portion","X",null,"E.05.05","Toys for boys","R/C robots and others","","","","","","14276",{"$f":"_xlfn.TEXTJOIN(\"; \",TRUE,ZCDT_EXPORT_2[[#This Row],[Sub-Category]:[Segment 5]])","v":"R/C robots and others"}]
["AH","Baltic CDT","U4","04. Non-Edibles","U4.02","02. Family","D.09.01","25. Pet food and accessories","11561","01. Food","11564","02. Cat food","11604","01. Canned food","11607","01. Kittens","11610","01. Single portions","11613","02. Multi pack single use portion","X",null,"E.05.05","Toys for boys","Tracks/garages and sets","","","","","","14277",{"$f":"_xlfn.TEXTJOIN(\"; \",TRUE,ZCDT_EXPORT_2[[#This Row],[Sub-Category]:[Segment 5]])","v":"Tracks/garages and sets"}]
["AH","Baltic CDT","U4","04. Non-Edibles","U4.02","02. Family","D.09.01","25. Pet food and accessories","11561","01. Food","11564","02. Cat food","11604","01. Canned food","11607","01. Kittens","11611","02. Multi portion","11614","01. 0.1 – 0.7kg","X",null,"E.05.06","Toys for girls","Baby Dolls","","","","","","681",{"$f":"_xlfn.TEXTJOIN(\"; \",TRUE,ZCDT_EXPORT_2[[#This Row],[Sub-Category]:[Segment 5]])","v":"Baby Dolls"}]
["AH","Baltic CDT","U4","04. Non-Edibles","U4.02","02. Family","D.09.01","25. Pet food and accessories","11561","01. Food","11564","02. Cat food","11604","01. Canned food","11607","01. Kittens","11611","02. Multi portion","11615","02. > 0.7kg","X",null,"E.05.06","Toys for girls","Baby Dolls accessories/equipment","","","","","","682",{"$f":"_xlfn.TEXTJOIN(\"; \",TRUE,ZCDT_EXPORT_2[[#This Row],[Sub-Category]:[Segment 5]])","v":"Baby Dolls accessories/equipment"}]
["AH","Baltic CDT","U4","04. Non-Edibles","U4.02","02. Family","D.09.01","25. Pet food and accessories","11561","01. Food","11564","02. Cat food","11604","01. Canned food","11608","02. Adult","11616","01. Single portions","11618","01. Single pack single use portion","X",null,"E.05.06","Toys for girls","Beauty accessories and cosmetic sets","","","","","","683",{"$f":"_xlfn.TEXTJOIN(\"; \",TRUE,ZCDT_EXPORT_2[[#This Row],[Sub-Category]:[Segment 5]])","v":"Beauty accessories and cosmetic sets"}]
["AH","Baltic CDT","U4","04. Non-Edibles","U4.02","02. Family","D.09.01","25. Pet food and accessories","11561","01. Food","11564","02. Cat food","11604","01. Canned food","11608","02. Adult","11616","01. Single portions","11619","02. Multi pack single use portion","X",null,"E.05.06","Toys for girls","Branded dolls","","","","","","684",{"$f":"_xlfn.TEXTJOIN(\"; \",TRUE,ZCDT_EXPORT_2[[#This Row],[Sub-Category]:[Segment 5]])","v":"Branded dolls"}]
["AH","Baltic CDT","U4","04. Non-Edibles","U4.02","02. Family","D.09.01","25. Pet food and accessories","11561","01. Food","11564","02. Cat food","11604","01. Canned food","11608","02. Adult","11617","02. Multi portion","11620","01. 0.1 – 0.7kg","X",null,"E.05.06","Toys for girls","Branded dolls accessories/equipment","","","","","","14280",{"$f":"_xlfn.TEXTJOIN(\"; \",TRUE,ZCDT_EXPORT_2[[#This Row],[Sub-Category]:[Segment 5]])","v":"Branded dolls accessories/equipment"}]
["AH","Baltic CDT","U4","04. Non-Edibles","U4.02","02. Family","D.09.01","25. Pet food and accessories","11561","01. Food","11564","02. Cat food","11604","01. Canned food","11608","02. Adult","11617","02. Multi portion","11621","02. > 0.7kg","X",null,"E.05.06","Toys for girls","Role play","","","","","","14281",{"$f":"_xlfn.TEXTJOIN(\"; \",TRUE,ZCDT_EXPORT_2[[#This Row],[Sub-Category]:[Segment 5]])","v":"Role play"}]
["AH","Baltic CDT","U4","04. Non-Edibles","U4.02","02. Family","D.09.01","25. Pet food and accessories","11561","01. Food","11564","02. Cat food","11604","01. Canned food","11609","03. Special needs","","","","","X",null,"E.05.06","Toys for girls","Figures and accessories","","","","","","14285",{"$f":"_xlfn.TEXTJOIN(\"; \",TRUE,ZCDT_EXPORT_2[[#This Row],[Sub-Category]:[Segment 5]])","v":"Figures and accessories"}]
["AH","Baltic CDT","U4","04. Non-Edibles","U4.02","02. Family","D.09.01","25. Pet food and accessories","11561","01. Food","11564","02. Cat food","11605","02. Dry food","11622","01. Kittens","11625","01. ≤0.3 kg","","","X",null,"E.05.06","Toys for girls","Dolls","","","","","","14283",{"$f":"_xlfn.TEXTJOIN(\"; \",TRUE,ZCDT_EXPORT_2[[#This Row],[Sub-Category]:[Segment 5]])","v":"Dolls"}]
["AH","Baltic CDT","U4","04. Non-Edibles","U4.02","02. Family","D.09.01","25. Pet food and accessories","11561","01. Food","11564","02. Cat food","11605","02. Dry food","11622","01. Kittens","11626","02. >0.3-1.0 kg","","","X",null,"E.05.06","Toys for girls","Dolls accessories/equipment","","","","","","14284",{"$f":"_xlfn.TEXTJOIN(\"; \",TRUE,ZCDT_EXPORT_2[[#This Row],[Sub-Category]:[Segment 5]])","v":"Dolls accessories/equipment"}]
["AH","Baltic CDT","U4","04. Non-Edibles","U4.02","02. Family","D.09.01","25. Pet food and accessories","11561","01. Food","11564","02. Cat food","11605","02. Dry food","11623","02. Adult","11627","01. ≤0.3 kg","","","X",null,"E.05.07","Baby accesories","Soothers","","","","","","17954",{"$f":"_xlfn.TEXTJOIN(\"; \",TRUE,ZCDT_EXPORT_2[[#This Row],[Sub-Category]:[Segment 5]])","v":"Soothers"}]
["AH","Baltic CDT","U4","04. Non-Edibles","U4.02","02. Family","D.09.01","25. Pet food and accessories","11561","01. Food","11564","02. Cat food","11605","02. Dry food","11623","02. Adult","11628","02. >0.3-1.0 kg","","","X",null,"E.05.07","Baby accesories","Bottles and teats","","","","","","17955",{"$f":"_xlfn.TEXTJOIN(\"; \",TRUE,ZCDT_EXPORT_2[[#This Row],[Sub-Category]:[Segment 5]])","v":"Bottles and teats"}]
["AH","Baltic CDT","U4","04. Non-Edibles","U4.02","02. Family","D.09.01","25. Pet food and accessories","11561","01. Food","11564","02. Cat food","11605","02. Dry food","11623","02. Adult","11629","03. >1.0 kg","","","X",null,"E.05.07","Baby accesories","Baby tableware","","","","","","17956",{"$f":"_xlfn.TEXTJOIN(\"; \",TRUE,ZCDT_EXPORT_2[[#This Row],[Sub-Category]:[Segment 5]])","v":"Baby tableware"}]
["AH","Baltic CDT","U4","04. Non-Edibles","U4.02","02. Family","D.09.01","25. Pet food and accessories","11561","01. Food","11564","02. Cat food","11605","02. Dry food","11624","03. Special needs","","","","","X",null,"E.05.07","Baby accesories","Baby entertainment","","","","","","17957",{"$f":"_xlfn.TEXTJOIN(\"; \",TRUE,ZCDT_EXPORT_2[[#This Row],[Sub-Category]:[Segment 5]])","v":"Baby entertainment"}]
["AH","Baltic CDT","U4","04. Non-Edibles","U4.02","02. Family","D.09.01","25. Pet food and accessories","11561","01. Food","11564","02. Cat food","11606","03. Treats and snacks","","","","","","","X",null,"E.05.07","Baby accesories","Baby safety supplies","","","","","","17958",{"$f":"_xlfn.TEXTJOIN(\"; \",TRUE,ZCDT_EXPORT_2[[#This Row],[Sub-Category]:[Segment 5]])","v":"Baby safety supplies"}]
["AH","Baltic CDT","U4","04. Non-Edibles","U4.02","02. Family","D.09.01","25. Pet food and accessories","11561","01. Food","11564","02. Cat food","19355","04. Frozen food","","","","","","","X",null,"E.05.07","Baby accesories","Toilet equipment","","","","","","17959",{"$f":"_xlfn.TEXTJOIN(\"; \",TRUE,ZCDT_EXPORT_2[[#This Row],[Sub-Category]:[Segment 5]])","v":"Toilet equipment"}]
["AH","Baltic CDT","U4","04. Non-Edibles","U4.02","02. Family","D.09.01","25. Pet food and accessories","11561","01. Food","11565","03. Rodent food","","","","","","","","","X",null,"E.05.07","Baby accesories","Skincare accessories","","","","","","17960",{"$f":"_xlfn.TEXTJOIN(\"; \",TRUE,ZCDT_EXPORT_2[[#This Row],[Sub-Category]:[Segment 5]])","v":"Skincare accessories"}]
["AH","Baltic CDT","U4","04. Non-Edibles","U4.02","02. Family","D.09.01","25. Pet food and accessories","11561","01. Food","11566","04. Bird, fish, and other food","","","","","","","","","X",null,"E.05.07","Baby accesories","Breastfeeding acces.","","","","","","17961",{"$f":"_xlfn.TEXTJOIN(\"; \",TRUE,ZCDT_EXPORT_2[[#This Row],[Sub-Category]:[Segment 5]])","v":"Breastfeeding acces."}]
["AH","Baltic CDT","U4","04. Non-Edibles","U4.02","02. Family","D.09.01","25. Pet food and accessories","11562","02. Accessories","11632","01. Dogs","11635","01. Dog care accessories","","","","","","","X",null,"E.05.07","Baby accesories","Other baby products","","","","","","17962",{"$f":"_xlfn.TEXTJOIN(\"; \",TRUE,ZCDT_EXPORT_2[[#This Row],[Sub-Category]:[Segment 5]])","v":"Other baby products"}]
["AH","Baltic CDT","U4","04. Non-Edibles","U4.02","02. Family","D.09.01","25. Pet food and accessories","11562","02. Accessories","11632","01. Dogs","11638","02. Dog toys","","","","","","","X",null,"E.05.07","Baby accesories","Prams, pushchairs","","","","","","17963",{"$f":"_xlfn.TEXTJOIN(\"; \",TRUE,ZCDT_EXPORT_2[[#This Row],[Sub-Category]:[Segment 5]])","v":"Prams, pushchairs"}]
["AH","Baltic CDT","U4","04. Non-Edibles","U4.02","02. Family","D.09.01","25. Pet food and accessories","11562","02. Accessories","11633","02. Cat","11641","01. Cat care accessories","","","","","","","X",null,"E.05.08","Creative Toys","Creative DIY kits","","","","","","18280",{"$f":"_xlfn.TEXTJOIN(\"; \",TRUE,ZCDT_EXPORT_2[[#This Row],[Sub-Category]:[Segment 5]])","v":"Creative DIY kits"}]
["AH","Baltic CDT","U4","04. Non-Edibles","U4.02","02. Family","D.09.01","25. Pet food and accessories","11562","02. Accessories","11633","02. Cat","11643","02. Cat toys","","","","","","","X",null,"E.05.08","Creative Toys","Musical instruments","","","","","","18283",{"$f":"_xlfn.TEXTJOIN(\"; \",TRUE,ZCDT_EXPORT_2[[#This Row],[Sub-Category]:[Segment 5]])","v":"Musical instruments"}]
["AH","Baltic CDT","U4","04. Non-Edibles","U4.02","02. Family","D.09.01","25. Pet food and accessories","11562","02. Accessories","11633","02. Cat","11644","03. Cat Litter","18330","01. Clumbing Cat Litter","","","","","X",null,"E.05.08","Creative Toys","Moulding kits","","","","","","18284",{"$f":"_xlfn.TEXTJOIN(\"; \",TRUE,ZCDT_EXPORT_2[[#This Row],[Sub-Category]:[Segment 5]])","v":"Moulding kits"}]
["AH","Baltic CDT","U4","04. Non-Edibles","U4.02","02. Family","D.09.01","25. Pet food and accessories","11562","02. Accessories","11633","02. Cat","11644","03. Cat Litter","18333","02. Silica Cat Litter","","","","","X",null,"E.05.08","Creative Toys","Scientific sets","","","","","","18279",{"$f":"_xlfn.TEXTJOIN(\"; \",TRUE,ZCDT_EXPORT_2[[#This Row],[Sub-Category]:[Segment 5]])","v":"Scientific sets"}]
["AH","Baltic CDT","U4","04. Non-Edibles","U4.02","02. Family","D.09.01","25. Pet food and accessories","11562","02. Accessories","11633","02. Cat","11644","03. Cat Litter","18334","03. Non Clumbing Cat Litter","","","","","X",null,"E.05.09","Games","Puzzles","","","","","","18285",{"$f":"_xlfn.TEXTJOIN(\"; \",TRUE,ZCDT_EXPORT_2[[#This Row],[Sub-Category]:[Segment 5]])","v":"Puzzles"}]
["AH","Baltic CDT","U4","04. Non-Edibles","U4.02","02. Family","D.09.01","25. Pet food and accessories","11562","02. Accessories","11634","03. Other","11648","01. Rodent, Bird and other accessories","","","","","","","X",null,"E.05.09","Games","Board games","","","","","","18286",{"$f":"_xlfn.TEXTJOIN(\"; \",TRUE,ZCDT_EXPORT_2[[#This Row],[Sub-Category]:[Segment 5]])","v":"Board games"}]
["AH","Baltic CDT","U4","04. Non-Edibles","U4.02","02. Family","D.09.01","25. Pet food and accessories","11562","02. Accessories","11634","03. Other","11652","02. Rodent, Bird and other litter","","","","","","","X",null,"E.05.09","Games","Brain teasers","","","","","","18315",{"$f":"_xlfn.TEXTJOIN(\"; \",TRUE,ZCDT_EXPORT_2[[#This Row],[Sub-Category]:[Segment 5]])","v":"Brain teasers"}]
["AH","Baltic CDT","U4","04. Non-Edibles","U4.03","03. Beauty & Personal Care","D.12.01","01. Body Care accessories","18594","01. Body care accessories","18595","01. Beauty bags","","","","","","","","","X",null,"D.02.02","Deodorants","Female","Spray","","","","","16343",{"$f":"_xlfn.TEXTJOIN(\"; \",TRUE,ZCDT_EXPORT_2[[#This Row],[Sub-Category]:[Segment 5]])","v":"Female; Spray"}]
["AH","Baltic CDT","U4","04. Non-Edibles","U4.03","03. Beauty & Personal Care","D.12.01","01. Body Care accessories","18594","01. Body care accessories","18596","02. Foot care equipment","","","","","","","","","X",null,"D.02.02","Deodorants","Female","Roll-on","","","","","16344",{"$f":"_xlfn.TEXTJOIN(\"; \",TRUE,ZCDT_EXPORT_2[[#This Row],[Sub-Category]:[Segment 5]])","v":"Female; Roll-on"}]
["AH","Baltic CDT","U4","04. Non-Edibles","U4.03","03. Beauty & Personal Care","D.12.01","01. Body Care accessories","18594","01. Body care accessories","18597","03. Make-up equipment","","","","","","","","","X",null,"D.02.02","Deodorants","Female","Stick","Regular","","","","18992",{"$f":"_xlfn.TEXTJOIN(\"; \",TRUE,ZCDT_EXPORT_2[[#This Row],[Sub-Category]:[Segment 5]])","v":"Female; Stick; Regular"}]
["AH","Baltic CDT","U4","04. Non-Edibles","U4.03","03. Beauty & Personal Care","D.12.01","01. Body Care accessories","18594","01. Body care accessories","18598","04. Nail care equipment","","","","","","","","","X",null,"D.02.02","Deodorants","Female","Stick","Zero waste","","","","18993",{"$f":"_xlfn.TEXTJOIN(\"; \",TRUE,ZCDT_EXPORT_2[[#This Row],[Sub-Category]:[Segment 5]])","v":"Female; Stick; Zero waste"}]
["AH","Baltic CDT","U4","04. Non-Edibles","U4.03","03. Beauty & Personal Care","D.12.01","01. Body Care accessories","18594","01. Body care accessories","19470","05. Sauna accessories","","","","","","","","","X",null,"D.02.02","Deodorants","Female","Gel/cream","","","","","16346",{"$f":"_xlfn.TEXTJOIN(\"; \",TRUE,ZCDT_EXPORT_2[[#This Row],[Sub-Category]:[Segment 5]])","v":"Female; Gel/cream"}]
["AH","Baltic CDT","U4","04. Non-Edibles","U4.03","03. Beauty & Personal Care","D.12.01","01. Body Care accessories","18594","01. Body care accessories","19471","06. Bath sponges, brushes","","","","","","","","","X",null,"D.02.02","Deodorants","Male","Spray","","","","","16347",{"$f":"_xlfn.TEXTJOIN(\"; \",TRUE,ZCDT_EXPORT_2[[#This Row],[Sub-Category]:[Segment 5]])","v":"Male; Spray"}]
["AH","Baltic CDT","U4","04. Non-Edibles","U4.03","03. Beauty & Personal Care","D.12.02","02. Jewelry","18589","01. Brooches and pins","","","","","","","","","","","X",null,"D.02.02","Deodorants","Male","Roll-on","","","","","16348",{"$f":"_xlfn.TEXTJOIN(\"; \",TRUE,ZCDT_EXPORT_2[[#This Row],[Sub-Category]:[Segment 5]])","v":"Male; Roll-on"}]
["AH","Baltic CDT","U4","04. Non-Edibles","U4.03","03. Beauty & Personal Care","D.12.02","02. Jewelry","18590","02. Earrings","","","","","","","","","","","X",null,"D.02.02","Deodorants","Male","Stick","","","","","16349",{"$f":"_xlfn.TEXTJOIN(\"; \",TRUE,ZCDT_EXPORT_2[[#This Row],[Sub-Category]:[Segment 5]])","v":"Male; Stick"}]
["AH","Baltic CDT","U4","04. Non-Edibles","U4.03","03. Beauty & Personal Care","D.12.02","02. Jewelry","18591","03. Necklaces","","","","","","","","","","","X",null,"D.02.02","Deodorants","Male","Gel/cream","","","","","16350",{"$f":"_xlfn.TEXTJOIN(\"; \",TRUE,ZCDT_EXPORT_2[[#This Row],[Sub-Category]:[Segment 5]])","v":"Male; Gel/cream"}]
["AH","Baltic CDT","U4","04. Non-Edibles","U4.03","03. Beauty & Personal Care","D.12.02","02. Jewelry","18592","04. Wristwear","","","","","","","","","","","X",null,"D.02.02","Deodorants","Natural, eco (roll-on, cream, spray,","","","","","","16341",{"$f":"_xlfn.TEXTJOIN(\"; \",TRUE,ZCDT_EXPORT_2[[#This Row],[Sub-Category]:[Segment 5]])","v":"Natural, eco (roll-on, cream, spray,"}]
["AH","Baltic CDT","U4","04. Non-Edibles","U4.03","03. Beauty & Personal Care","D.12.02","02. Jewelry","18593","05. Hair","","","","","","","","","","","X",null,"D.02.02","Deodorants","Other antiperspirant (e.g. deo wipes","","","","","","16342",{"$f":"_xlfn.TEXTJOIN(\"; \",TRUE,ZCDT_EXPORT_2[[#This Row],[Sub-Category]:[Segment 5]])","v":"Other antiperspirant (e.g. deo wipes"}]
["AH","Baltic CDT","U4","04. Non-Edibles","U4.03","03. Beauty & Personal Care","D.02.02","03. Deodorants","16339","01. Female","16343","01. Spray","","","","","","","","","X",null,"D.02.03","Depilation and shaving","Womens","Shaving","Razor systems","","","","17874",{"$f":"_xlfn.TEXTJOIN(\"; \",TRUE,ZCDT_EXPORT_2[[#This Row],[Sub-Category]:[Segment 5]])","v":"Womens; Shaving; Razor systems"}]
["AH","Baltic CDT","U4","04. Non-Edibles","U4.03","03. Beauty & Personal Care","D.02.02","03. Deodorants","16339","01. Female","16344","02. Roll-on","","","","","","","","","X",null,"D.02.03","Depilation and shaving","Womens","Shaving","Disposable razors","","","","17875",{"$f":"_xlfn.TEXTJOIN(\"; \",TRUE,ZCDT_EXPORT_2[[#This Row],[Sub-Category]:[Segment 5]])","v":"Womens; Shaving; Disposable razors"}]
["AH","Baltic CDT","U4","04. Non-Edibles","U4.03","03. Beauty & Personal Care","D.02.02","03. Deodorants","16339","01. Female","18971","03. Stick","18992","01. Regular","","","","","","","X",null,"D.02.03","Depilation and shaving","Womens","Shaving","Shaving blades","","","","17876",{"$f":"_xlfn.TEXTJOIN(\"; \",TRUE,ZCDT_EXPORT_2[[#This Row],[Sub-Category]:[Segment 5]])","v":"Womens; Shaving; Shaving blades"}]
["AH","Baltic CDT","U4","04. Non-Edibles","U4.03","03. Beauty & Personal Care","D.02.02","03. Deodorants","16339","01. Female","18971","03. Stick","18993","02. Zero waste","","","","","","","X",null,"D.02.03","Depilation and shaving","Womens","Depilation","Wax products","","","","17877",{"$f":"_xlfn.TEXTJOIN(\"; \",TRUE,ZCDT_EXPORT_2[[#This Row],[Sub-Category]:[Segment 5]])","v":"Womens; Depilation; Wax products"}]
["AH","Baltic CDT","U4","04. Non-Edibles","U4.03","03. Beauty & Personal Care","D.02.02","03. Deodorants","16339","01. Female","16346","04. Gel/cream","","","","","","","","","X",null,"D.02.03","Depilation and shaving","Womens","Depilation","Gels / creams","","","","17878",{"$f":"_xlfn.TEXTJOIN(\"; \",TRUE,ZCDT_EXPORT_2[[#This Row],[Sub-Category]:[Segment 5]])","v":"Womens; Depilation; Gels / creams"}]
["AH","Baltic CDT","U4","04. Non-Edibles","U4.03","03. Beauty & Personal Care","D.02.02","03. Deodorants","16340","02. Male","16347","01. Spray","","","","","","","","","X",null,"D.02.03","Depilation and shaving","Womens","Cosmet. bef.&aft.shaving/depilation","","","","","17869",{"$f":"_xlfn.TEXTJOIN(\"; \",TRUE,ZCDT_EXPORT_2[[#This Row],[Sub-Category]:[Segment 5]])","v":"Womens; Cosmet. bef.&aft.shaving/depilation"}]
["AH","Baltic CDT","U4","04. Non-Edibles","U4.03","03. Beauty & Personal Care","D.02.02","03. Deodorants","16340","02. Male","16348","02. Roll-on","","","","","","","","","X",null,"D.02.03","Depilation and shaving","Mens","Shaving preperation","Gels","","","","17879",{"$f":"_xlfn.TEXTJOIN(\"; \",TRUE,ZCDT_EXPORT_2[[#This Row],[Sub-Category]:[Segment 5]])","v":"Mens; Shaving preperation; Gels"}]
["AH","Baltic CDT","U4","04. Non-Edibles","U4.03","03. Beauty & Personal Care","D.02.02","03. Deodorants","16340","02. Male","16349","03. Stick","","","","","","","","","X",null,"D.02.03","Depilation and shaving","Mens","Shaving preperation","Foams","","","","17880",{"$f":"_xlfn.TEXTJOIN(\"; \",TRUE,ZCDT_EXPORT_2[[#This Row],[Sub-Category]:[Segment 5]])","v":"Mens; Shaving preperation; Foams"}]
["AH","Baltic CDT","U4","04. Non-Edibles","U4.03","03. Beauty & Personal Care","D.02.02","03. Deodorants","16340","02. Male","16350","04. Gel/cream","","","","","","","","","X",null,"D.02.03","Depilation and shaving","Mens","Shaving preperation","Creams and soaps","","","","17881",{"$f":"_xlfn.TEXTJOIN(\"; \",TRUE,ZCDT_EXPORT_2[[#This Row],[Sub-Category]:[Segment 5]])","v":"Mens; Shaving preperation; Creams and soaps"}]
["AH","Baltic CDT","U4","04. Non-Edibles","U4.03","03. Beauty & Personal Care","D.02.02","03. Deodorants","16341","03. Natural, eco (roll-on, cream, spray,","","","","","","","","","","","X",null,"D.02.03","Depilation and shaving","Mens","Shaving","Razor systems","","","","17882",{"$f":"_xlfn.TEXTJOIN(\"; \",TRUE,ZCDT_EXPORT_2[[#This Row],[Sub-Category]:[Segment 5]])","v":"Mens; Shaving; Razor systems"}]
["AH","Baltic CDT","U4","04. Non-Edibles","U4.03","03. Beauty & Personal Care","D.02.02","03. Deodorants","16342","04. Other antiperspirant (e.g. deo wipes","","","","","","","","","","","X",null,"D.02.03","Depilation and shaving","Mens","Shaving","Disposable razors","","","","17883",{"$f":"_xlfn.TEXTJOIN(\"; \",TRUE,ZCDT_EXPORT_2[[#This Row],[Sub-Category]:[Segment 5]])","v":"Mens; Shaving; Disposable razors"}]
["AH","Baltic CDT","U4","04. Non-Edibles","U4.03","03. Beauty & Personal Care","D.12.03","03. Hair Care accessories","18586","01. Hair brushes and combs","","","","","","","","","","","X",null,"D.02.03","Depilation and shaving","Mens","Shaving","Blades","","","","17884",{"$f":"_xlfn.TEXTJOIN(\"; \",TRUE,ZCDT_EXPORT_2[[#This Row],[Sub-Category]:[Segment 5]])","v":"Mens; Shaving; Blades"}]
["AH","Baltic CDT","U4","04. Non-Edibles","U4.03","03. Beauty & Personal Care","D.12.03","03. Hair Care accessories","18587","02. Hair rollers, curlers","","","","","","","","","","","X",null,"D.02.03","Depilation and shaving","Mens","After shaving","Balsam / gels / creams","","","","17885",{"$f":"_xlfn.TEXTJOIN(\"; \",TRUE,ZCDT_EXPORT_2[[#This Row],[Sub-Category]:[Segment 5]])","v":"Mens; After shaving; Balsam / gels / creams"}]
["AH","Baltic CDT","U4","04. Non-Edibles","U4.03","03. Beauty & Personal Care","D.12.03","03. Hair Care accessories","18588","03. Hair rubbers, clips, pins","","","","","","","","","","","X",null,"D.02.03","Depilation and shaving","Mens","After shaving","Fragranced water / lotion","","","","17886",{"$f":"_xlfn.TEXTJOIN(\"; \",TRUE,ZCDT_EXPORT_2[[#This Row],[Sub-Category]:[Segment 5]])","v":"Mens; After shaving; Fragranced water / lotion"}]
["AH","Baltic CDT","U4","04. Non-Edibles","U4.03","03. Beauty & Personal Care","D.02.03","04. Depilation and shaving","17865","01. Womens","17867","01. Shaving","17874","01. Razor systems","","","","","","","X",null,"D.02.03","Depilation and shaving","Mens","Beard care","","","","","17873",{"$f":"_xlfn.TEXTJOIN(\"; \",TRUE,ZCDT_EXPORT_2[[#This Row],[Sub-Category]:[Segment 5]])","v":"Mens; Beard care"}]
["AH","Baltic CDT","U4","04. Non-Edibles","U4.03","03. Beauty & Personal Care","D.02.03","04. Depilation and shaving","17865","01. Womens","17867","01. Shaving","17875","02. Disposable razors","","","","","","","X",null,"D.02.04","Hair wash and care","Women’s hair care","Shampoo","Regular","","","","15492",{"$f":"_xlfn.TEXTJOIN(\"; \",TRUE,ZCDT_EXPORT_2[[#This Row],[Sub-Category]:[Segment 5]])","v":"Women’s hair care; Shampoo; Regular"}]
["AH","Baltic CDT","U4","04. Non-Edibles","U4.03","03. Beauty & Personal Care","D.02.03","04. Depilation and shaving","17865","01. Womens","17867","01. Shaving","17876","03. Shaving blades","","","","","","","X",null,"D.02.04","Hair wash and care","Women’s hair care","Shampoo","Professional","","","","15493",{"$f":"_xlfn.TEXTJOIN(\"; \",TRUE,ZCDT_EXPORT_2[[#This Row],[Sub-Category]:[Segment 5]])","v":"Women’s hair care; Shampoo; Professional"}]
["AH","Baltic CDT","U4","04. Non-Edibles","U4.03","03. Beauty & Personal Care","D.02.03","04. Depilation and shaving","17865","01. Womens","17868","02. Depilation","17877","01. Wax products","","","","","","","X",null,"D.02.04","Hair wash and care","Women’s hair care","Shampoo","Eco","","","","15494",{"$f":"_xlfn.TEXTJOIN(\"; \",TRUE,ZCDT_EXPORT_2[[#This Row],[Sub-Category]:[Segment 5]])","v":"Women’s hair care; Shampoo; Eco"}]
["AH","Baltic CDT","U4","04. Non-Edibles","U4.03","03. Beauty & Personal Care","D.02.03","04. Depilation and shaving","17865","01. Womens","17868","02. Depilation","17878","02. Gels / creams","","","","","","","X",null,"D.02.04","Hair wash and care","Women’s hair care","Shampoo","Pharmaceutical & Special need","","","","15495",{"$f":"_xlfn.TEXTJOIN(\"; \",TRUE,ZCDT_EXPORT_2[[#This Row],[Sub-Category]:[Segment 5]])","v":"Women’s hair care; Shampoo; Pharmaceutical & Special need"}]
["AH","Baltic CDT","U4","04. Non-Edibles","U4.03","03. Beauty & Personal Care","D.02.03","04. Depilation and shaving","17865","01. Womens","17869","03. Cosmet. bef.&aft.shaving/depilation","","","","","","","","","X",null,"D.02.04","Hair wash and care","Women’s hair care","Shampoo","Travel","","","","18389",{"$f":"_xlfn.TEXTJOIN(\"; \",TRUE,ZCDT_EXPORT_2[[#This Row],[Sub-Category]:[Segment 5]])","v":"Women’s hair care; Shampoo; Travel"}]
["AH","Baltic CDT","U4","04. Non-Edibles","U4.03","03. Beauty & Personal Care","D.02.03","04. Depilation and shaving","17866","02. Mens","17870","01. Shaving preperation","17879","01. Gels","","","","","","","X",null,"D.02.04","Hair wash and care","Women’s hair care","Shampoo","Dry","","","","18520",{"$f":"_xlfn.TEXTJOIN(\"; \",TRUE,ZCDT_EXPORT_2[[#This Row],[Sub-Category]:[Segment 5]])","v":"Women’s hair care; Shampoo; Dry"}]
["AH","Baltic CDT","U4","04. Non-Edibles","U4.03","03. Beauty & Personal Care","D.02.03","04. Depilation and shaving","17866","02. Mens","17870","01. Shaving preperation","17880","02. Foams","","","","","","","X",null,"D.02.04","Hair wash and care","Women’s hair care","Shampoo","Zero waste","","","","18973",{"$f":"_xlfn.TEXTJOIN(\"; \",TRUE,ZCDT_EXPORT_2[[#This Row],[Sub-Category]:[Segment 5]])","v":"Women’s hair care; Shampoo; Zero waste"}]
["AH","Baltic CDT","U4","04. Non-Edibles","U4.03","03. Beauty & Personal Care","D.02.03","04. Depilation and shaving","17866","02. Mens","17870","01. Shaving preperation","17881","03. Creams and soaps","","","","","","","X",null,"D.02.04","Hair wash and care","Women’s hair care","Conditioner","Regular","","","","15496",{"$f":"_xlfn.TEXTJOIN(\"; \",TRUE,ZCDT_EXPORT_2[[#This Row],[Sub-Category]:[Segment 5]])","v":"Women’s hair care; Conditioner; Regular"}]
["AH","Baltic CDT","U4","04. Non-Edibles","U4.03","03. Beauty & Personal Care","D.02.03","04. Depilation and shaving","17866","02. Mens","17871","02. Shaving","17882","01. Razor systems","","","","","","","X",null,"D.02.04","Hair wash and care","Women’s hair care","Conditioner","Professional","","","","15497",{"$f":"_xlfn.TEXTJOIN(\"; \",TRUE,ZCDT_EXPORT_2[[#This Row],[Sub-Category]:[Segment 5]])","v":"Women’s hair care; Conditioner; Professional"}]
["AH","Baltic CDT","U4","04. Non-Edibles","U4.03","03. Beauty & Personal Care","D.02.03","04. Depilation and shaving","17866","02. Mens","17871","02. Shaving","17883","02. Disposable razors","","","","","","","X",null,"D.02.04","Hair wash and care","Women’s hair care","Conditioner","Eco","","","","15498",{"$f":"_xlfn.TEXTJOIN(\"; \",TRUE,ZCDT_EXPORT_2[[#This Row],[Sub-Category]:[Segment 5]])","v":"Women’s hair care; Conditioner; Eco"}]
["AH","Baltic CDT","U4","04. Non-Edibles","U4.03","03. Beauty & Personal Care","D.02.03","04. Depilation and shaving","17866","02. Mens","17871","02. Shaving","17884","03. Blades","","","","","","","X",null,"D.02.04","Hair wash and care","Women’s hair care","Conditioner","Pharmaceutical & Special need","","","","15499",{"$f":"_xlfn.TEXTJOIN(\"; \",TRUE,ZCDT_EXPORT_2[[#This Row],[Sub-Category]:[Segment 5]])","v":"Women’s hair care; Conditioner; Pharmaceutical & Special need"}]
["AH","Baltic CDT","U4","04. Non-Edibles","U4.03","03. Beauty & Personal Care","D.02.03","04. Depilation and shaving","17866","02. Mens","17872","03. After shaving","17885","01. Balsam / gels / creams","","","","","","","X",null,"D.02.04","Hair wash and care","Women’s hair care","Conditioner","Travel","","","","18390",{"$f":"_xlfn.TEXTJOIN(\"; \",TRUE,ZCDT_EXPORT_2[[#This Row],[Sub-Category]:[Segment 5]])","v":"Women’s hair care; Conditioner; Travel"}]
["AH","Baltic CDT","U4","04. Non-Edibles","U4.03","03. Beauty & Personal Care","D.02.03","04. Depilation and shaving","17866","02. Mens","17872","03. After shaving","17886","02. Fragranced water / lotion","","","","","","","X",null,"D.02.04","Hair wash and care","Women’s hair care","Conditioner","Zero waste","","","","18972",{"$f":"_xlfn.TEXTJOIN(\"; \",TRUE,ZCDT_EXPORT_2[[#This Row],[Sub-Category]:[Segment 5]])","v":"Women’s hair care; Conditioner; Zero waste"}]
["AH","Baltic CDT","U4","04. Non-Edibles","U4.03","03. Beauty & Personal Care","D.02.03","04. Depilation and shaving","17866","02. Mens","17873","04. Beard care","","","","","","","","","X",null,"D.02.04","Hair wash and care","Women’s hair care","Hair treatments","Mask","","","","17912",{"$f":"_xlfn.TEXTJOIN(\"; \",TRUE,ZCDT_EXPORT_2[[#This Row],[Sub-Category]:[Segment 5]])","v":"Women’s hair care; Hair treatments; Mask"}]
["AH","Baltic CDT","U4","04. Non-Edibles","U4.03","03. Beauty & Personal Care","D.02.04","05. Hair wash and care","15481","01. Women’s hair care","15485","01. Shampoo","15492","01. Regular","","","","","","","X",null,"D.02.04","Hair wash and care","Women’s hair care","Hair treatments","Oil","","","","17913",{"$f":"_xlfn.TEXTJOIN(\"; \",TRUE,ZCDT_EXPORT_2[[#This Row],[Sub-Category]:[Segment 5]])","v":"Women’s hair care; Hair treatments; Oil"}]
["AH","Baltic CDT","U4","04. Non-Edibles","U4.03","03. Beauty & Personal Care","D.02.04","05. Hair wash and care","15481","01. Women’s hair care","15485","01. Shampoo","15493","02. Professional","","","","","","","X",null,"D.02.04","Hair wash and care","Women’s hair care","Hair treatments","Serum","","","","18391",{"$f":"_xlfn.TEXTJOIN(\"; \",TRUE,ZCDT_EXPORT_2[[#This Row],[Sub-Category]:[Segment 5]])","v":"Women’s hair care; Hair treatments; Serum"}]
["AH","Baltic CDT","U4","04. Non-Edibles","U4.03","03. Beauty & Personal Care","D.02.04","05. Hair wash and care","15481","01. Women’s hair care","15485","01. Shampoo","15494","03. Eco","","","","","","","X",null,"D.02.04","Hair wash and care","Men’s hair care","","","","","","15482",{"$f":"_xlfn.TEXTJOIN(\"; \",TRUE,ZCDT_EXPORT_2[[#This Row],[Sub-Category]:[Segment 5]])","v":"Men’s hair care"}]
["AH","Baltic CDT","U4","04. Non-Edibles","U4.03","03. Beauty & Personal Care","D.02.04","05. Hair wash and care","15481","01. Women’s hair care","15485","01. Shampoo","15495","04. Pharmaceutical & Special need","","","","","","","X",null,"D.02.04","Hair wash and care","Children’s hair care","","","","","","15483",{"$f":"_xlfn.TEXTJOIN(\"; \",TRUE,ZCDT_EXPORT_2[[#This Row],[Sub-Category]:[Segment 5]])","v":"Children’s hair care"}]
["AH","Baltic CDT","U4","04. Non-Edibles","U4.03","03. Beauty & Personal Care","D.02.04","05. Hair wash and care","15481","01. Women’s hair care","15485","01. Shampoo","18389","05. Travel","","","","","","","X",null,"D.02.05","Hand creams, foot care, body lotion","Body care, lotions","Body butter","","","","","16079",{"$f":"_xlfn.TEXTJOIN(\"; \",TRUE,ZCDT_EXPORT_2[[#This Row],[Sub-Category]:[Segment 5]])","v":"Body care, lotions; Body butter"}]
["AH","Baltic CDT","U4","04. Non-Edibles","U4.03","03. Beauty & Personal Care","D.02.04","05. Hair wash and care","15481","01. Women’s hair care","15485","01. Shampoo","18520","06. Dry","","","","","","","X",null,"D.02.05","Hand creams, foot care, body lotion","Body care, lotions","Body oils","","","","","16080",{"$f":"_xlfn.TEXTJOIN(\"; \",TRUE,ZCDT_EXPORT_2[[#This Row],[Sub-Category]:[Segment 5]])","v":"Body care, lotions; Body oils"}]
["AH","Baltic CDT","U4","04. Non-Edibles","U4.03","03. Beauty & Personal Care","D.02.04","05. Hair wash and care","15481","01. Women’s hair care","15485","01. Shampoo","18973","07. Zero waste","","","","","","","X",null,"D.02.05","Hand creams, foot care, body lotion","Body care, lotions","Body lotions, milk, cream","","","","","16081",{"$f":"_xlfn.TEXTJOIN(\"; \",TRUE,ZCDT_EXPORT_2[[#This Row],[Sub-Category]:[Segment 5]])","v":"Body care, lotions; Body lotions, milk, cream"}]
["AH","Baltic CDT","U4","04. Non-Edibles","U4.03","03. Beauty & Personal Care","D.02.04","05. Hair wash and care","15481","01. Women’s hair care","15486","02. Conditioner","15496","01. Regular","","","","","","","X",null,"D.02.05","Hand creams, foot care, body lotion","Body care, lotions","Anticellulite, striae","","","","","16082",{"$f":"_xlfn.TEXTJOIN(\"; \",TRUE,ZCDT_EXPORT_2[[#This Row],[Sub-Category]:[Segment 5]])","v":"Body care, lotions; Anticellulite, striae"}]
["AH","Baltic CDT","U4","04. Non-Edibles","U4.03","03. Beauty & Personal Care","D.02.04","05. Hair wash and care","15481","01. Women’s hair care","15486","02. Conditioner","15497","02. Professional","","","","","","","X",null,"D.02.05","Hand creams, foot care, body lotion","Foot care","Foot care cosmetics","","","","","16083",{"$f":"_xlfn.TEXTJOIN(\"; \",TRUE,ZCDT_EXPORT_2[[#This Row],[Sub-Category]:[Segment 5]])","v":"Foot care; Foot care cosmetics"}]
["AH","Baltic CDT","U4","04. Non-Edibles","U4.03","03. Beauty & Personal Care","D.02.04","05. Hair wash and care","15481","01. Women’s hair care","15486","02. Conditioner","15498","03. Eco","","","","","","","X",null,"D.02.05","Hand creams, foot care, body lotion","Foot care","Other foot care","","","","","16084",{"$f":"_xlfn.TEXTJOIN(\"; \",TRUE,ZCDT_EXPORT_2[[#This Row],[Sub-Category]:[Segment 5]])","v":"Foot care; Other foot care"}]
["AH","Baltic CDT","U4","04. Non-Edibles","U4.03","03. Beauty & Personal Care","D.02.04","05. Hair wash and care","15481","01. Women’s hair care","15486","02. Conditioner","15499","04. Pharmaceutical & Special need","","","","","","","X",null,"D.02.05","Hand creams, foot care, body lotion","Hand creams","","","","","","16076",{"$f":"_xlfn.TEXTJOIN(\"; \",TRUE,ZCDT_EXPORT_2[[#This Row],[Sub-Category]:[Segment 5]])","v":"Hand creams"}]
["AH","Baltic CDT","U4","04. Non-Edibles","U4.03","03. Beauty & Personal Care","D.02.04","05. Hair wash and care","15481","01. Women’s hair care","15486","02. Conditioner","18390","05. Travel","","","","","","","X",null,"D.02.05","Hand creams, foot care, body lotion","Sun protection and self-tanning prod","Self tanning","","","","","16085",{"$f":"_xlfn.TEXTJOIN(\"; \",TRUE,ZCDT_EXPORT_2[[#This Row],[Sub-Category]:[Segment 5]])","v":"Sun protection and self-tanning prod; Self tanning"}]
["AH","Baltic CDT","U4","04. Non-Edibles","U4.03","03. Beauty & Personal Care","D.02.04","05. Hair wash and care","15481","01. Women’s hair care","15486","02. Conditioner","18972","06. Zero waste","","","","","","","X",null,"D.02.05","Hand creams, foot care, body lotion","Sun protection and self-tanning prod","Sun protection","Adults","","","","16088",{"$f":"_xlfn.TEXTJOIN(\"; \",TRUE,ZCDT_EXPORT_2[[#This Row],[Sub-Category]:[Segment 5]])","v":"Sun protection and self-tanning prod; Sun protection; Adults"}]
["AH","Baltic CDT","U4","04. Non-Edibles","U4.03","03. Beauty & Personal Care","D.02.04","05. Hair wash and care","15481","01. Women’s hair care","17911","03. Hair treatments","17912","01. Mask","","","","","","","X",null,"D.02.05","Hand creams, foot care, body lotion","Sun protection and self-tanning prod","Sun protection","Kids","","","","16089",{"$f":"_xlfn.TEXTJOIN(\"; \",TRUE,ZCDT_EXPORT_2[[#This Row],[Sub-Category]:[Segment 5]])","v":"Sun protection and self-tanning prod; Sun protection; Kids"}]
["AH","Baltic CDT","U4","04. Non-Edibles","U4.03","03. Beauty & Personal Care","D.02.04","05. Hair wash and care","15481","01. Women’s hair care","17911","03. Hair treatments","17913","02. Oil","","","","","","","X",null,"D.02.05","Hand creams, foot care, body lotion","Sun protection and self-tanning prod","Sun protection","After-sun","","","","16090",{"$f":"_xlfn.TEXTJOIN(\"; \",TRUE,ZCDT_EXPORT_2[[#This Row],[Sub-Category]:[Segment 5]])","v":"Sun protection and self-tanning prod; Sun protection; After-sun"}]
["AH","Baltic CDT","U4","04. Non-Edibles","U4.03","03. Beauty & Personal Care","D.02.04","05. Hair wash and care","15481","01. Women’s hair care","17911","03. Hair treatments","18391","03. Serum","","","","","","","X",null,"D.02.05","Hand creams, foot care, body lotion","Sun protection and self-tanning prod","Solarium creams","","","","","16087",{"$f":"_xlfn.TEXTJOIN(\"; \",TRUE,ZCDT_EXPORT_2[[#This Row],[Sub-Category]:[Segment 5]])","v":"Sun protection and self-tanning prod; Solarium creams"}]
["AH","Baltic CDT","U4","04. Non-Edibles","U4.03","03. Beauty & Personal Care","D.02.04","05. Hair wash and care","15482","02. Men’s hair care","","","","","","","","","","","X",null,"D.02.05","Hand creams, foot care, body lotion","Sauna products","","","","","","16078",{"$f":"_xlfn.TEXTJOIN(\"; \",TRUE,ZCDT_EXPORT_2[[#This Row],[Sub-Category]:[Segment 5]])","v":"Sauna products"}]
["AH","Baltic CDT","U4","04. Non-Edibles","U4.03","03. Beauty & Personal Care","D.02.04","05. Hair wash and care","15483","03. Children’s hair care","","","","","","","","","","","X",null,"D.02.07","Oral care","Dental care and accessories","Breath fresheners / Mouth foam","","","","","18730",{"$f":"_xlfn.TEXTJOIN(\"; \",TRUE,ZCDT_EXPORT_2[[#This Row],[Sub-Category]:[Segment 5]])","v":"Dental care and accessories; Breath fresheners / Mouth foam"}]
["AH","Baltic CDT","U4","04. Non-Edibles","U4.03","03. Beauty & Personal Care","D.02.05","06. Hand creams, foot care, body lotion","16074","01. Body care, lotions","16079","01. Body butter","","","","","","","","","X",null,"D.02.07","Oral care","Dental care and accessories","Dental Floss, Toothpick","Regular","","","","18975",{"$f":"_xlfn.TEXTJOIN(\"; \",TRUE,ZCDT_EXPORT_2[[#This Row],[Sub-Category]:[Segment 5]])","v":"Dental care and accessories; Dental Floss, Toothpick; Regular"}]
["AH","Baltic CDT","U4","04. Non-Edibles","U4.03","03. Beauty & Personal Care","D.02.05","06. Hand creams, foot care, body lotion","16074","01. Body care, lotions","16080","02. Body oils","","","","","","","","","X",null,"D.02.07","Oral care","Dental care and accessories","Dental Floss, Toothpick","Zero waste","","","","18976",{"$f":"_xlfn.TEXTJOIN(\"; \",TRUE,ZCDT_EXPORT_2[[#This Row],[Sub-Category]:[Segment 5]])","v":"Dental care and accessories; Dental Floss, Toothpick; Zero waste"}]
["AH","Baltic CDT","U4","04. Non-Edibles","U4.03","03. Beauty & Personal Care","D.02.05","06. Hand creams, foot care, body lotion","16074","01. Body care, lotions","16081","03. Body lotions, milk, cream","","","","","","","","","X",null,"D.02.07","Oral care","Dental care and accessories","Dental Whitening systems and treatme","","","","","18732",{"$f":"_xlfn.TEXTJOIN(\"; \",TRUE,ZCDT_EXPORT_2[[#This Row],[Sub-Category]:[Segment 5]])","v":"Dental care and accessories; Dental Whitening systems and treatme"}]
["AH","Baltic CDT","U4","04. Non-Edibles","U4.03","03. Beauty & Personal Care","D.02.05","06. Hand creams, foot care, body lotion","16074","01. Body care, lotions","16082","04. Anticellulite, striae","","","","","","","","","X",null,"D.02.07","Oral care","Dental care and accessories","Denture care","","","","","18733",{"$f":"_xlfn.TEXTJOIN(\"; \",TRUE,ZCDT_EXPORT_2[[#This Row],[Sub-Category]:[Segment 5]])","v":"Dental care and accessories; Denture care"}]
["AH","Baltic CDT","U4","04. Non-Edibles","U4.03","03. Beauty & Personal Care","D.02.05","06. Hand creams, foot care, body lotion","16075","02. Foot care","16083","01. Foot care cosmetics","","","","","","","","","X",null,"D.02.07","Oral care","Oral rinses","Adult","<=500ml","","","","18736",{"$f":"_xlfn.TEXTJOIN(\"; \",TRUE,ZCDT_EXPORT_2[[#This Row],[Sub-Category]:[Segment 5]])","v":"Oral rinses; Adult; <=500ml"}]
["AH","Baltic CDT","U4","04. Non-Edibles","U4.03","03. Beauty & Personal Care","D.02.05","06. Hand creams, foot care, body lotion","16075","02. Foot care","16084","02. Other foot care","","","","","","","","","X",null,"D.02.07","Oral care","Oral rinses","Adult",">500ml","","","","18737",{"$f":"_xlfn.TEXTJOIN(\"; \",TRUE,ZCDT_EXPORT_2[[#This Row],[Sub-Category]:[Segment 5]])","v":"Oral rinses; Adult; >500ml"}]
["AH","Baltic CDT","U4","04. Non-Edibles","U4.03","03. Beauty & Personal Care","D.02.05","06. Hand creams, foot care, body lotion","16076","03. Hand creams","","","","","","","","","","","X",null,"D.02.07","Oral care","Oral rinses","Kids","","","","","18735",{"$f":"_xlfn.TEXTJOIN(\"; \",TRUE,ZCDT_EXPORT_2[[#This Row],[Sub-Category]:[Segment 5]])","v":"Oral rinses; Kids"}]
["AH","Baltic CDT","U4","04. Non-Edibles","U4.03","03. Beauty & Personal Care","D.02.05","06. Hand creams, foot care, body lotion","16077","04. Sun protection and self-tanning prod","16085","01. Self tanning","","","","","","","","","X",null,"D.02.07","Oral care","Toothbrush","Adult","Hard / Medium","","","","18741",{"$f":"_xlfn.TEXTJOIN(\"; \",TRUE,ZCDT_EXPORT_2[[#This Row],[Sub-Category]:[Segment 5]])","v":"Toothbrush; Adult; Hard / Medium"}]
["AH","Baltic CDT","U4","04. Non-Edibles","U4.03","03. Beauty & Personal Care","D.02.05","06. Hand creams, foot care, body lotion","16077","04. Sun protection and self-tanning prod","16086","02. Sun protection","16088","01. Adults","","","","","","","X",null,"D.02.07","Oral care","Toothbrush","Adult","Soft / Extra Soft","","","","18742",{"$f":"_xlfn.TEXTJOIN(\"; \",TRUE,ZCDT_EXPORT_2[[#This Row],[Sub-Category]:[Segment 5]])","v":"Toothbrush; Adult; Soft / Extra Soft"}]
["AH","Baltic CDT","U4","04. Non-Edibles","U4.03","03. Beauty & Personal Care","D.02.05","06. Hand creams, foot care, body lotion","16077","04. Sun protection and self-tanning prod","16086","02. Sun protection","16089","02. Kids","","","","","","","X",null,"D.02.07","Oral care","Toothbrush","Adult","Zero waste","","","","18977",{"$f":"_xlfn.TEXTJOIN(\"; \",TRUE,ZCDT_EXPORT_2[[#This Row],[Sub-Category]:[Segment 5]])","v":"Toothbrush; Adult; Zero waste"}]
["AH","Baltic CDT","U4","04. Non-Edibles","U4.03","03. Beauty & Personal Care","D.02.05","06. Hand creams, foot care, body lotion","16077","04. Sun protection and self-tanning prod","16086","02. Sun protection","16090","03. After-sun","","","","","","","X",null,"D.02.07","Oral care","Toothbrush","Electrical toothbrushes & accessorie","","","","","18739",{"$f":"_xlfn.TEXTJOIN(\"; \",TRUE,ZCDT_EXPORT_2[[#This Row],[Sub-Category]:[Segment 5]])","v":"Toothbrush; Electrical toothbrushes & accessorie"}]
["AH","Baltic CDT","U4","04. Non-Edibles","U4.03","03. Beauty & Personal Care","D.02.05","06. Hand creams, foot care, body lotion","16077","04. Sun protection and self-tanning prod","16087","03. Solarium creams","","","","","","","","","X",null,"D.02.07","Oral care","Toothbrush","Kids","Baby 0-2 y","","","","18743",{"$f":"_xlfn.TEXTJOIN(\"; \",TRUE,ZCDT_EXPORT_2[[#This Row],[Sub-Category]:[Segment 5]])","v":"Toothbrush; Kids; Baby 0-2 y"}]
["AH","Baltic CDT","U4","04. Non-Edibles","U4.03","03. Beauty & Personal Care","D.02.05","06. Hand creams, foot care, body lotion","16078","05. Sauna products","","","","","","","","","","","X",null,"D.02.07","Oral care","Toothbrush","Kids","Kids 3-12 y","","","","18744",{"$f":"_xlfn.TEXTJOIN(\"; \",TRUE,ZCDT_EXPORT_2[[#This Row],[Sub-Category]:[Segment 5]])","v":"Toothbrush; Kids; Kids 3-12 y"}]
["AH","Baltic CDT","U4","04. Non-Edibles","U4.03","03. Beauty & Personal Care","D.02.07","08. Oral care","18726","01. Dental care and accessories","18730","01. Breath fresheners / Mouth foam","","","","","","","","","X",null,"D.02.07","Oral care","Toothbrush","Kids","Zero waste","","","","18978",{"$f":"_xlfn.TEXTJOIN(\"; \",TRUE,ZCDT_EXPORT_2[[#This Row],[Sub-Category]:[Segment 5]])","v":"Toothbrush; Kids; Zero waste"}]
["AH","Baltic CDT","U4","04. Non-Edibles","U4.03","03. Beauty & Personal Care","D.02.07","08. Oral care","18726","01. Dental care and accessories","18974","02. Dental Floss, Toothpick","18975","01. Regular","","","","","","","X",null,"D.02.07","Oral care","Toothpaste","Adult","Natural / Herbal","","","","18747",{"$f":"_xlfn.TEXTJOIN(\"; \",TRUE,ZCDT_EXPORT_2[[#This Row],[Sub-Category]:[Segment 5]])","v":"Toothpaste; Adult; Natural / Herbal"}]
["AH","Baltic CDT","U4","04. Non-Edibles","U4.03","03. Beauty & Personal Care","D.02.07","08. Oral care","18726","01. Dental care and accessories","18974","02. Dental Floss, Toothpick","18976","02. Zero waste","","","","","","","X",null,"D.02.07","Oral care","Toothpaste","Adult","Regular care","","","","18748",{"$f":"_xlfn.TEXTJOIN(\"; \",TRUE,ZCDT_EXPORT_2[[#This Row],[Sub-Category]:[Segment 5]])","v":"Toothpaste; Adult; Regular care"}]
["AH","Baltic CDT","U4","04. Non-Edibles","U4.03","03. Beauty & Personal Care","D.02.07","08. Oral care","18726","01. Dental care and accessories","18732","03. Dental Whitening systems and treatme","","","","","","","","","X",null,"D.02.07","Oral care","Toothpaste","Adult","Special care","","","","18749",{"$f":"_xlfn.TEXTJOIN(\"; \",TRUE,ZCDT_EXPORT_2[[#This Row],[Sub-Category]:[Segment 5]])","v":"Toothpaste; Adult; Special care"}]
["AH","Baltic CDT","U4","04. Non-Edibles","U4.03","03. Beauty & Personal Care","D.02.07","08. Oral care","18726","01. Dental care and accessories","18733","04. Denture care","","","","","","","","","X",null,"D.02.07","Oral care","Toothpaste","Adult","Whitening","","","","18750",{"$f":"_xlfn.TEXTJOIN(\"; \",TRUE,ZCDT_EXPORT_2[[#This Row],[Sub-Category]:[Segment 5]])","v":"Toothpaste; Adult; Whitening"}]
["AH","Baltic CDT","U4","04. Non-Edibles","U4.03","03. Beauty & Personal Care","D.02.07","08. Oral care","18727","02. Oral rinses","18734","01. Adult","18736","01. <=500ml","","","","","","","X",null,"D.02.07","Oral care","Toothpaste","Adult","Zero waste","","","","18979",{"$f":"_xlfn.TEXTJOIN(\"; \",TRUE,ZCDT_EXPORT_2[[#This Row],[Sub-Category]:[Segment 5]])","v":"Toothpaste; Adult; Zero waste"}]
["AH","Baltic CDT","U4","04. Non-Edibles","U4.03","03. Beauty & Personal Care","D.02.07","08. Oral care","18727","02. Oral rinses","18734","01. Adult","18737","02. >500ml","","","","","","","X",null,"D.02.07","Oral care","Toothpaste","Kids","Baby 0-2 y","","","","18751",{"$f":"_xlfn.TEXTJOIN(\"; \",TRUE,ZCDT_EXPORT_2[[#This Row],[Sub-Category]:[Segment 5]])","v":"Toothpaste; Kids; Baby 0-2 y"}]
["AH","Baltic CDT","U4","04. Non-Edibles","U4.03","03. Beauty & Personal Care","D.02.07","08. Oral care","18727","02. Oral rinses","18735","02. Kids","","","","","","","","","X",null,"D.02.07","Oral care","Toothpaste","Kids","Kids 3-12 y","","","","18752",{"$f":"_xlfn.TEXTJOIN(\"; \",TRUE,ZCDT_EXPORT_2[[#This Row],[Sub-Category]:[Segment 5]])","v":"Toothpaste; Kids; Kids 3-12 y"}]
["AH","Baltic CDT","U4","04. Non-Edibles","U4.03","03. Beauty & Personal Care","D.02.07","08. Oral care","18728","03. Toothbrush","18738","01. Adult","18741","01. Hard / Medium","","","","","","","X",null,"D.02.07","Oral care","Tongue care","","","","","","18956",{"$f":"_xlfn.TEXTJOIN(\"; \",TRUE,ZCDT_EXPORT_2[[#This Row],[Sub-Category]:[Segment 5]])","v":"Tongue care"}]
["AH","Baltic CDT","U4","04. Non-Edibles","U4.03","03. Beauty & Personal Care","D.02.07","08. Oral care","18728","03. Toothbrush","18738","01. Adult","18742","02. Soft / Extra Soft","","","","","","","X",null,"D.02.08","Soaps, shower gels, bath foams, salt","Bath products","Adults","Salts, powders, balls","","","","16305",{"$f":"_xlfn.TEXTJOIN(\"; \",TRUE,ZCDT_EXPORT_2[[#This Row],[Sub-Category]:[Segment 5]])","v":"Bath products; Adults; Salts, powders, balls"}]
["AH","Baltic CDT","U4","04. Non-Edibles","U4.03","03. Beauty & Personal Care","D.02.07","08. Oral care","18728","03. Toothbrush","18738","01. Adult","18977","03. Zero waste","","","","","","","X",null,"D.02.08","Soaps, shower gels, bath foams, salt","Bath products","Adults","Foams, oils and extracts","","","","16306",{"$f":"_xlfn.TEXTJOIN(\"; \",TRUE,ZCDT_EXPORT_2[[#This Row],[Sub-Category]:[Segment 5]])","v":"Bath products; Adults; Foams, oils and extracts"}]
["AH","Baltic CDT","U4","04. Non-Edibles","U4.03","03. Beauty & Personal Care","D.02.07","08. Oral care","18728","03. Toothbrush","18739","02. Electrical toothbrushes & accessorie","","","","","","","","","X",null,"D.02.08","Soaps, shower gels, bath foams, salt","Bath products","Children (from 3y)","","","","","16304",{"$f":"_xlfn.TEXTJOIN(\"; \",TRUE,ZCDT_EXPORT_2[[#This Row],[Sub-Category]:[Segment 5]])","v":"Bath products; Children (from 3y)"}]
["AH","Baltic CDT","U4","04. Non-Edibles","U4.03","03. Beauty & Personal Care","D.02.07","08. Oral care","18728","03. Toothbrush","18740","03. Kids","18743","01. Baby 0-2 y","","","","","","","X",null,"D.02.08","Soaps, shower gels, bath foams, salt","Shower gels and creams","Adults","Gels, creams, oils","Regular","","","16310",{"$f":"_xlfn.TEXTJOIN(\"; \",TRUE,ZCDT_EXPORT_2[[#This Row],[Sub-Category]:[Segment 5]])","v":"Shower gels and creams; Adults; Gels, creams, oils; Regular"}]
["AH","Baltic CDT","U4","04. Non-Edibles","U4.03","03. Beauty & Personal Care","D.02.07","08. Oral care","18728","03. Toothbrush","18740","03. Kids","18744","02. Kids 3-12 y","","","","","","","X",null,"D.02.08","Soaps, shower gels, bath foams, salt","Shower gels and creams","Adults","Gels, creams, oils","Natural, eco, neutral","","","16311",{"$f":"_xlfn.TEXTJOIN(\"; \",TRUE,ZCDT_EXPORT_2[[#This Row],[Sub-Category]:[Segment 5]])","v":"Shower gels and creams; Adults; Gels, creams, oils; Natural, eco, neutral"}]
["AH","Baltic CDT","U4","04. Non-Edibles","U4.03","03. Beauty & Personal Care","D.02.07","08. Oral care","18728","03. Toothbrush","18740","03. Kids","18978","03. Zero waste","","","","","","","X",null,"D.02.08","Soaps, shower gels, bath foams, salt","Shower gels and creams","Adults","Scrubs and peelings","Regular","","","16312",{"$f":"_xlfn.TEXTJOIN(\"; \",TRUE,ZCDT_EXPORT_2[[#This Row],[Sub-Category]:[Segment 5]])","v":"Shower gels and creams; Adults; Scrubs and peelings; Regular"}]
["AH","Baltic CDT","U4","04. Non-Edibles","U4.03","03. Beauty & Personal Care","D.02.07","08. Oral care","18729","04. Toothpaste","18745","01. Adult","18747","01. Natural / Herbal","","","","","","","X",null,"D.02.08","Soaps, shower gels, bath foams, salt","Shower gels and creams","Adults","Scrubs and peelings","Natural, eco, neutral","","","16313",{"$f":"_xlfn.TEXTJOIN(\"; \",TRUE,ZCDT_EXPORT_2[[#This Row],[Sub-Category]:[Segment 5]])","v":"Shower gels and creams; Adults; Scrubs and peelings; Natural, eco, neutral"}]
["AH","Baltic CDT","U4","04. Non-Edibles","U4.03","03. Beauty & Personal Care","D.02.07","08. Oral care","18729","04. Toothpaste","18745","01. Adult","18748","02. Regular care","","","","","","","X",null,"D.02.08","Soaps, shower gels, bath foams, salt","Shower gels and creams","Children (from 3y)","Regular","","","","16316",{"$f":"_xlfn.TEXTJOIN(\"; \",TRUE,ZCDT_EXPORT_2[[#This Row],[Sub-Category]:[Segment 5]])","v":"Shower gels and creams; Children (from 3y); Regular"}]
["AH","Baltic CDT","U4","04. Non-Edibles","U4.03","03. Beauty & Personal Care","D.02.07","08. Oral care","18729","04. Toothpaste","18745","01. Adult","18749","03. Special care","","","","","","","X",null,"D.02.08","Soaps, shower gels, bath foams, salt","Shower gels and creams","Children (from 3y)","Natural, eco, neutral","","","","16317",{"$f":"_xlfn.TEXTJOIN(\"; \",TRUE,ZCDT_EXPORT_2[[#This Row],[Sub-Category]:[Segment 5]])","v":"Shower gels and creams; Children (from 3y); Natural, eco, neutral"}]
["AH","Baltic CDT","U4","04. Non-Edibles","U4.03","03. Beauty & Personal Care","D.02.07","08. Oral care","18729","04. Toothpaste","18745","01. Adult","18750","04. Whitening","","","","","","","X",null,"D.02.08","Soaps, shower gels, bath foams, salt","Shower gels and creams","Men (clear label)","","","","","16315",{"$f":"_xlfn.TEXTJOIN(\"; \",TRUE,ZCDT_EXPORT_2[[#This Row],[Sub-Category]:[Segment 5]])","v":"Shower gels and creams; Men (clear label)"}]
["AH","Baltic CDT","U4","04. Non-Edibles","U4.03","03. Beauty & Personal Care","D.02.07","08. Oral care","18729","04. Toothpaste","18745","01. Adult","18979","05. Zero waste","","","","","","","X",null,"D.02.08","Soaps, shower gels, bath foams, salt","Soaps","Adults","Soap bars","Regular","","","16325",{"$f":"_xlfn.TEXTJOIN(\"; \",TRUE,ZCDT_EXPORT_2[[#This Row],[Sub-Category]:[Segment 5]])","v":"Soaps; Adults; Soap bars; Regular"}]
["AH","Baltic CDT","U4","04. Non-Edibles","U4.03","03. Beauty & Personal Care","D.02.07","08. Oral care","18729","04. Toothpaste","18746","02. Kids","18751","01. Baby 0-2 y","","","","","","","X",null,"D.02.08","Soaps, shower gels, bath foams, salt","Soaps","Adults","Soap bars","Natural, eco, neutral","","","16326",{"$f":"_xlfn.TEXTJOIN(\"; \",TRUE,ZCDT_EXPORT_2[[#This Row],[Sub-Category]:[Segment 5]])","v":"Soaps; Adults; Soap bars; Natural, eco, neutral"}]
["AH","Baltic CDT","U4","04. Non-Edibles","U4.03","03. Beauty & Personal Care","D.02.07","08. Oral care","18729","04. Toothpaste","18746","02. Kids","18752","02. Kids 3-12 y","","","","","","","X",null,"D.02.08","Soaps, shower gels, bath foams, salt","Soaps","Adults","Soap bars","Zero waste","","","18981",{"$f":"_xlfn.TEXTJOIN(\"; \",TRUE,ZCDT_EXPORT_2[[#This Row],[Sub-Category]:[Segment 5]])","v":"Soaps; Adults; Soap bars; Zero waste"}]
["AH","Baltic CDT","U4","04. Non-Edibles","U4.03","03. Beauty & Personal Care","D.02.07","08. Oral care","18956","05. Tongue care","","","","","","","","","","","X",null,"D.02.08","Soaps, shower gels, bath foams, salt","Soaps","Adults","Liquid","Basic pack","Regular","","16329",{"$f":"_xlfn.TEXTJOIN(\"; \",TRUE,ZCDT_EXPORT_2[[#This Row],[Sub-Category]:[Segment 5]])","v":"Soaps; Adults; Liquid; Basic pack; Regular"}]
["AH","Baltic CDT","U4","04. Non-Edibles","U4.03","03. Beauty & Personal Care","D.02.08","09. Soaps, shower gels, bath foams, salt","16301","01. Bath products","16303","01. Adults","16305","01. Salts, powders, balls","","","","","","","X",null,"D.02.08","Soaps, shower gels, bath foams, salt","Soaps","Adults","Liquid","Basic pack","Natural, eco, neutral","","16330",{"$f":"_xlfn.TEXTJOIN(\"; \",TRUE,ZCDT_EXPORT_2[[#This Row],[Sub-Category]:[Segment 5]])","v":"Soaps; Adults; Liquid; Basic pack; Natural, eco, neutral"}]
["AH","Baltic CDT","U4","04. Non-Edibles","U4.03","03. Beauty & Personal Care","D.02.08","09. Soaps, shower gels, bath foams, salt","16301","01. Bath products","16303","01. Adults","16306","02. Foams, oils and extracts","","","","","","","X",null,"D.02.08","Soaps, shower gels, bath foams, salt","Soaps","Adults","Liquid","Refill pack","Regular","","16331",{"$f":"_xlfn.TEXTJOIN(\"; \",TRUE,ZCDT_EXPORT_2[[#This Row],[Sub-Category]:[Segment 5]])","v":"Soaps; Adults; Liquid; Refill pack; Regular"}]
["AH","Baltic CDT","U4","04. Non-Edibles","U4.03","03. Beauty & Personal Care","D.02.08","09. Soaps, shower gels, bath foams, salt","16301","01. Bath products","16304","02. Children (from 3y)","","","","","","","","","X",null,"D.02.08","Soaps, shower gels, bath foams, salt","Soaps","Adults","Liquid","Refill pack","Natural, eco, neutral","","16332",{"$f":"_xlfn.TEXTJOIN(\"; \",TRUE,ZCDT_EXPORT_2[[#This Row],[Sub-Category]:[Segment 5]])","v":"Soaps; Adults; Liquid; Refill pack; Natural, eco, neutral"}]
["AH","Baltic CDT","U4","04. Non-Edibles","U4.03","03. Beauty & Personal Care","D.02.08","09. Soaps, shower gels, bath foams, salt","16302","02. Shower gels and creams","16307","01. Adults","16308","01. Gels, creams, oils","16310","01. Regular","","","","","X",null,"D.02.08","Soaps, shower gels, bath foams, salt","Soaps","Adults","Liquid","Refill pack","Zero waste","","18980",{"$f":"_xlfn.TEXTJOIN(\"; \",TRUE,ZCDT_EXPORT_2[[#This Row],[Sub-Category]:[Segment 5]])","v":"Soaps; Adults; Liquid; Refill pack; Zero waste"}]
["AH","Baltic CDT","U4","04. Non-Edibles","U4.03","03. Beauty & Personal Care","D.02.08","09. Soaps, shower gels, bath foams, salt","16302","02. Shower gels and creams","16307","01. Adults","16308","01. Gels, creams, oils","16311","02. Natural, eco, neutral","","","","","X",null,"D.02.08","Soaps, shower gels, bath foams, salt","Soaps","Children (from 3y)","Soap bars","Regular","","","16335",{"$f":"_xlfn.TEXTJOIN(\"; \",TRUE,ZCDT_EXPORT_2[[#This Row],[Sub-Category]:[Segment 5]])","v":"Soaps; Children (from 3y); Soap bars; Regular"}]
["AH","Baltic CDT","U4","04. Non-Edibles","U4.03","03. Beauty & Personal Care","D.02.08","09. Soaps, shower gels, bath foams, salt","16302","02. Shower gels and creams","16307","01. Adults","16309","02. Scrubs and peelings","16312","01. Regular","","","","","X",null,"D.02.08","Soaps, shower gels, bath foams, salt","Soaps","Children (from 3y)","Soap bars","Natural, eco, neutral","","","16336",{"$f":"_xlfn.TEXTJOIN(\"; \",TRUE,ZCDT_EXPORT_2[[#This Row],[Sub-Category]:[Segment 5]])","v":"Soaps; Children (from 3y); Soap bars; Natural, eco, neutral"}]
["AH","Baltic CDT","U4","04. Non-Edibles","U4.03","03. Beauty & Personal Care","D.02.08","09. Soaps, shower gels, bath foams, salt","16302","02. Shower gels and creams","16307","01. Adults","16309","02. Scrubs and peelings","16313","02. Natural, eco, neutral","","","","","X",null,"D.02.08","Soaps, shower gels, bath foams, salt","Soaps","Children (from 3y)","Liquid","Regular","","","16337",{"$f":"_xlfn.TEXTJOIN(\"; \",TRUE,ZCDT_EXPORT_2[[#This Row],[Sub-Category]:[Segment 5]])","v":"Soaps; Children (from 3y); Liquid; Regular"}]
["AH","Baltic CDT","U4","04. Non-Edibles","U4.03","03. Beauty & Personal Care","D.02.08","09. Soaps, shower gels, bath foams, salt","16302","02. Shower gels and creams","16314","02. Children (from 3y)","16316","01. Regular","","","","","","","X",null,"D.02.08","Soaps, shower gels, bath foams, salt","Soaps","Children (from 3y)","Liquid","Natural, eco, neutral","","","16338",{"$f":"_xlfn.TEXTJOIN(\"; \",TRUE,ZCDT_EXPORT_2[[#This Row],[Sub-Category]:[Segment 5]])","v":"Soaps; Children (from 3y); Liquid; Natural, eco, neutral"}]
["AH","Baltic CDT","U4","04. Non-Edibles","U4.03","03. Beauty & Personal Care","D.02.08","09. Soaps, shower gels, bath foams, salt","16302","02. Shower gels and creams","16314","02. Children (from 3y)","16317","02. Natural, eco, neutral","","","","","","","X",null,"D.02.08","Soaps, shower gels, bath foams, salt","Soaps","Men","","","","","16322",{"$f":"_xlfn.TEXTJOIN(\"; \",TRUE,ZCDT_EXPORT_2[[#This Row],[Sub-Category]:[Segment 5]])","v":"Soaps; Men"}]
["AH","Baltic CDT","U4","04. Non-Edibles","U4.03","03. Beauty & Personal Care","D.02.08","09. Soaps, shower gels, bath foams, salt","16302","02. Shower gels and creams","16315","03. Men (clear label)","","","","","","","","","X",null,"D.02.09","Styling, hair colorants","Hair colorants","Women’s colorants","Permanent","","","","15976",{"$f":"_xlfn.TEXTJOIN(\"; \",TRUE,ZCDT_EXPORT_2[[#This Row],[Sub-Category]:[Segment 5]])","v":"Hair colorants; Women’s colorants; Permanent"}]
["AH","Baltic CDT","U4","04. Non-Edibles","U4.03","03. Beauty & Personal Care","D.02.08","09. Soaps, shower gels, bath foams, salt","16319","03. Soaps","16320","01. Adults","16323","01. Soap bars","16325","01. Regular","","","","","X",null,"D.02.09","Styling, hair colorants","Hair colorants","Women’s colorants","Semi permanent","","","","15977",{"$f":"_xlfn.TEXTJOIN(\"; \",TRUE,ZCDT_EXPORT_2[[#This Row],[Sub-Category]:[Segment 5]])","v":"Hair colorants; Women’s colorants; Semi permanent"}]
["AH","Baltic CDT","U4","04. Non-Edibles","U4.03","03. Beauty & Personal Care","D.02.08","09. Soaps, shower gels, bath foams, salt","16319","03. Soaps","16320","01. Adults","16323","01. Soap bars","16326","02. Natural, eco, neutral","","","","","X",null,"D.02.09","Styling, hair colorants","Hair colorants","Women’s colorants","Temporary colouring","","","","15978",{"$f":"_xlfn.TEXTJOIN(\"; \",TRUE,ZCDT_EXPORT_2[[#This Row],[Sub-Category]:[Segment 5]])","v":"Hair colorants; Women’s colorants; Temporary colouring"}]
["AH","Baltic CDT","U4","04. Non-Edibles","U4.03","03. Beauty & Personal Care","D.02.08","09. Soaps, shower gels, bath foams, salt","16319","03. Soaps","16320","01. Adults","16323","01. Soap bars","18981","03. Zero waste","","","","","X",null,"D.02.09","Styling, hair colorants","Hair colorants","Women’s colorants","Eco/Natural/Herbal coloring","","","","15979",{"$f":"_xlfn.TEXTJOIN(\"; \",TRUE,ZCDT_EXPORT_2[[#This Row],[Sub-Category]:[Segment 5]])","v":"Hair colorants; Women’s colorants; Eco/Natural/Herbal coloring"}]
["AH","Baltic CDT","U4","04. Non-Edibles","U4.03","03. Beauty & Personal Care","D.02.08","09. Soaps, shower gels, bath foams, salt","16319","03. Soaps","16320","01. Adults","16324","02. Liquid","16327","01. Basic pack","16329","01. Regular","","","X",null,"D.02.09","Styling, hair colorants","Hair colorants","Men’s colorants","","","","","15418",{"$f":"_xlfn.TEXTJOIN(\"; \",TRUE,ZCDT_EXPORT_2[[#This Row],[Sub-Category]:[Segment 5]])","v":"Hair colorants; Men’s colorants"}]
["AH","Baltic CDT","U4","04. Non-Edibles","U4.03","03. Beauty & Personal Care","D.02.08","09. Soaps, shower gels, bath foams, salt","16319","03. Soaps","16320","01. Adults","16324","02. Liquid","16327","01. Basic pack","16330","02. Natural, eco, neutral","","","X",null,"D.02.09","Styling, hair colorants","Styling","Hair spray","","","","","15419",{"$f":"_xlfn.TEXTJOIN(\"; \",TRUE,ZCDT_EXPORT_2[[#This Row],[Sub-Category]:[Segment 5]])","v":"Styling; Hair spray"}]
["AH","Baltic CDT","U4","04. Non-Edibles","U4.03","03. Beauty & Personal Care","D.02.08","09. Soaps, shower gels, bath foams, salt","16319","03. Soaps","16320","01. Adults","16324","02. Liquid","16328","02. Refill pack","16331","01. Regular","","","X",null,"D.02.09","Styling, hair colorants","Styling","Styling liquids","","","","","15420",{"$f":"_xlfn.TEXTJOIN(\"; \",TRUE,ZCDT_EXPORT_2[[#This Row],[Sub-Category]:[Segment 5]])","v":"Styling; Styling liquids"}]
["AH","Baltic CDT","U4","04. Non-Edibles","U4.03","03. Beauty & Personal Care","D.02.08","09. Soaps, shower gels, bath foams, salt","16319","03. Soaps","16320","01. Adults","16324","02. Liquid","16328","02. Refill pack","16332","02. Natural, eco, neutral","","","X",null,"D.02.09","Styling, hair colorants","Styling","Styling creams","","","","","15971",{"$f":"_xlfn.TEXTJOIN(\"; \",TRUE,ZCDT_EXPORT_2[[#This Row],[Sub-Category]:[Segment 5]])","v":"Styling; Styling creams"}]
["AH","Baltic CDT","U4","04. Non-Edibles","U4.03","03. Beauty & Personal Care","D.02.08","09. Soaps, shower gels, bath foams, salt","16319","03. Soaps","16320","01. Adults","16324","02. Liquid","16328","02. Refill pack","18980","03. Zero waste","","","X",null,"D.02.09","Styling, hair colorants","Styling","Styling gels","","","","","15972",{"$f":"_xlfn.TEXTJOIN(\"; \",TRUE,ZCDT_EXPORT_2[[#This Row],[Sub-Category]:[Segment 5]])","v":"Styling; Styling gels"}]
["AH","Baltic CDT","U4","04. Non-Edibles","U4.03","03. Beauty & Personal Care","D.02.08","09. Soaps, shower gels, bath foams, salt","16319","03. Soaps","16321","02. Children (from 3y)","16333","01. Soap bars","16335","01. Regular","","","","","X",null,"D.02.09","Styling, hair colorants","Styling","Styling mousses","","","","","15973",{"$f":"_xlfn.TEXTJOIN(\"; \",TRUE,ZCDT_EXPORT_2[[#This Row],[Sub-Category]:[Segment 5]])","v":"Styling; Styling mousses"}]
["AH","Baltic CDT","U4","04. Non-Edibles","U4.03","03. Beauty & Personal Care","D.02.08","09. Soaps, shower gels, bath foams, salt","16319","03. Soaps","16321","02. Children (from 3y)","16333","01. Soap bars","16336","02. Natural, eco, neutral","","","","","X",null,"D.02.09","Styling, hair colorants","Styling","Styling waxes, pasta","","","","","15974",{"$f":"_xlfn.TEXTJOIN(\"; \",TRUE,ZCDT_EXPORT_2[[#This Row],[Sub-Category]:[Segment 5]])","v":"Styling; Styling waxes, pasta"}]
["AH","Baltic CDT","U4","04. Non-Edibles","U4.03","03. Beauty & Personal Care","D.02.08","09. Soaps, shower gels, bath foams, salt","16319","03. Soaps","16321","02. Children (from 3y)","16334","02. Liquid","16337","01. Regular","","","","","X",null,"D.02.09","Styling, hair colorants","Styling","Men’s styling care","","","","","15975",{"$f":"_xlfn.TEXTJOIN(\"; \",TRUE,ZCDT_EXPORT_2[[#This Row],[Sub-Category]:[Segment 5]])","v":"Styling; Men’s styling care"}]
["AH","Baltic CDT","U4","04. Non-Edibles","U4.03","03. Beauty & Personal Care","D.02.08","09. Soaps, shower gels, bath foams, salt","16319","03. Soaps","16321","02. Children (from 3y)","16334","02. Liquid","16338","02. Natural, eco, neutral","","","","","X",null,"D.03.01","Cotton, moist wipes","Cotton","Basic cotton","","","","","16071",{"$f":"_xlfn.TEXTJOIN(\"; \",TRUE,ZCDT_EXPORT_2[[#This Row],[Sub-Category]:[Segment 5]])","v":"Cotton; Basic cotton"}]
["AH","Baltic CDT","U4","04. Non-Edibles","U4.03","03. Beauty & Personal Care","D.02.08","09. Soaps, shower gels, bath foams, salt","16319","03. Soaps","16322","03. Men","","","","","","","","","X",null,"D.03.01","Cotton, moist wipes","Cotton","Cotton balls, rounds, pads","","","","","16072",{"$f":"_xlfn.TEXTJOIN(\"; \",TRUE,ZCDT_EXPORT_2[[#This Row],[Sub-Category]:[Segment 5]])","v":"Cotton; Cotton balls, rounds, pads"}]
["AH","Baltic CDT","U4","04. Non-Edibles","U4.03","03. Beauty & Personal Care","D.02.09","10. Styling, hair colorants","15415","01. Hair colorants","15417","01. Women’s colorants","15976","01. Permanent","","","","","","","X",null,"D.03.01","Cotton, moist wipes","Cotton","Cotton swabs","Regular","","","","18983",{"$f":"_xlfn.TEXTJOIN(\"; \",TRUE,ZCDT_EXPORT_2[[#This Row],[Sub-Category]:[Segment 5]])","v":"Cotton; Cotton swabs; Regular"}]
["AH","Baltic CDT","U4","04. Non-Edibles","U4.03","03. Beauty & Personal Care","D.02.09","10. Styling, hair colorants","15415","01. Hair colorants","15417","01. Women’s colorants","15977","02. Semi permanent","","","","","","","X",null,"D.03.01","Cotton, moist wipes","Cotton","Cotton swabs","Zero waste","","","","18984",{"$f":"_xlfn.TEXTJOIN(\"; \",TRUE,ZCDT_EXPORT_2[[#This Row],[Sub-Category]:[Segment 5]])","v":"Cotton; Cotton swabs; Zero waste"}]
["AH","Baltic CDT","U4","04. Non-Edibles","U4.03","03. Beauty & Personal Care","D.02.09","10. Styling, hair colorants","15415","01. Hair colorants","15417","01. Women’s colorants","15978","03. Temporary colouring","","","","","","","X",null,"D.03.01","Cotton, moist wipes","Moist wipes","","","","","","16069",{"$f":"_xlfn.TEXTJOIN(\"; \",TRUE,ZCDT_EXPORT_2[[#This Row],[Sub-Category]:[Segment 5]])","v":"Moist wipes"}]
["AH","Baltic CDT","U4","04. Non-Edibles","U4.03","03. Beauty & Personal Care","D.02.09","10. Styling, hair colorants","15415","01. Hair colorants","15417","01. Women’s colorants","15979","04. Eco/Natural/Herbal coloring","","","","","","","X",null,"D.03.02","Home pharmacy","Vitamins&Minerals","","","","","","18341",{"$f":"_xlfn.TEXTJOIN(\"; \",TRUE,ZCDT_EXPORT_2[[#This Row],[Sub-Category]:[Segment 5]])","v":"Vitamins&Minerals"}]
["AH","Baltic CDT","U4","04. Non-Edibles","U4.03","03. Beauty & Personal Care","D.02.09","10. Styling, hair colorants","15415","01. Hair colorants","15418","02. Men’s colorants","","","","","","","","","X",null,"D.03.02","Home pharmacy","Beauty(slim&Diet)","","","","","","18342",{"$f":"_xlfn.TEXTJOIN(\"; \",TRUE,ZCDT_EXPORT_2[[#This Row],[Sub-Category]:[Segment 5]])","v":"Beauty(slim&Diet)"}]
["AH","Baltic CDT","U4","04. Non-Edibles","U4.03","03. Beauty & Personal Care","D.02.09","10. Styling, hair colorants","15416","02. Styling","15419","01. Hair spray","","","","","","","","","X",null,"D.03.02","Home pharmacy","Wellbeing & strengthening","","","","","","18343",{"$f":"_xlfn.TEXTJOIN(\"; \",TRUE,ZCDT_EXPORT_2[[#This Row],[Sub-Category]:[Segment 5]])","v":"Wellbeing & strengthening"}]
["AH","Baltic CDT","U4","04. Non-Edibles","U4.03","03. Beauty & Personal Care","D.02.09","10. Styling, hair colorants","15416","02. Styling","15420","02. Styling liquids","","","","","","","","","X",null,"D.03.02","Home pharmacy","Cold(sickness/fever)","","","","","","18344",{"$f":"_xlfn.TEXTJOIN(\"; \",TRUE,ZCDT_EXPORT_2[[#This Row],[Sub-Category]:[Segment 5]])","v":"Cold(sickness/fever)"}]
["AH","Baltic CDT","U4","04. Non-Edibles","U4.03","03. Beauty & Personal Care","D.02.09","10. Styling, hair colorants","15416","02. Styling","15971","03. Styling creams","","","","","","","","","X",null,"D.03.02","Home pharmacy","Wound care(Patch/Bandage/swabs)","","","","","","18345",{"$f":"_xlfn.TEXTJOIN(\"; \",TRUE,ZCDT_EXPORT_2[[#This Row],[Sub-Category]:[Segment 5]])","v":"Wound care(Patch/Bandage/swabs)"}]
["AH","Baltic CDT","U4","04. Non-Edibles","U4.03","03. Beauty & Personal Care","D.02.09","10. Styling, hair colorants","15416","02. Styling","15972","04. Styling gels","","","","","","","","","X",null,"D.03.02","Home pharmacy","Daily living aids(Medical Equipment)","","","","","","18346",{"$f":"_xlfn.TEXTJOIN(\"; \",TRUE,ZCDT_EXPORT_2[[#This Row],[Sub-Category]:[Segment 5]])","v":"Daily living aids(Medical Equipment)"}]
["AH","Baltic CDT","U4","04. Non-Edibles","U4.03","03. Beauty & Personal Care","D.02.09","10. Styling, hair colorants","15416","02. Styling","15973","05. Styling mousses","","","","","","","","","X",null,"D.03.02","Home pharmacy","Contact Lenses & Accessories","","","","","","18347",{"$f":"_xlfn.TEXTJOIN(\"; \",TRUE,ZCDT_EXPORT_2[[#This Row],[Sub-Category]:[Segment 5]])","v":"Contact Lenses & Accessories"}]
["AH","Baltic CDT","U4","04. Non-Edibles","U4.03","03. Beauty & Personal Care","D.02.09","10. Styling, hair colorants","15416","02. Styling","15974","06. Styling waxes, pasta","","","","","","","","","X",null,"D.03.02","Home pharmacy","Personal Protection","Antibacterial wipes","","","","","18953",{"$f":"_xlfn.TEXTJOIN(\"; \",TRUE,ZCDT_EXPORT_2[[#This Row],[Sub-Category]:[Segment 5]])","v":"Personal Protection; Antibacterial wipes"}]
["AH","Baltic CDT","U4","04. Non-Edibles","U4.03","03. Beauty & Personal Care","D.02.09","10. Styling, hair colorants","15416","02. Styling","15975","07. Men’s styling care","","","","","","","","","X",null,"D.03.02","Home pharmacy","Personal Protection","Disinfectants","","","","","18954",{"$f":"_xlfn.TEXTJOIN(\"; \",TRUE,ZCDT_EXPORT_2[[#This Row],[Sub-Category]:[Segment 5]])","v":"Personal Protection; Disinfectants"}]
["AH","Baltic CDT","U4","04. Non-Edibles","U4.03","03. Beauty & Personal Care","D.03.01","11. Cotton, moist wipes","16070","01. Cotton","16071","01. Basic cotton","","","","","","","","","X",null,"D.03.02","Home pharmacy","Personal Protection","Face masks","","","","","18955",{"$f":"_xlfn.TEXTJOIN(\"; \",TRUE,ZCDT_EXPORT_2[[#This Row],[Sub-Category]:[Segment 5]])","v":"Personal Protection; Face masks"}]
["AH","Baltic CDT","U4","04. Non-Edibles","U4.03","03. Beauty & Personal Care","D.03.01","11. Cotton, moist wipes","16070","01. Cotton","16072","02. Cotton balls, rounds, pads","","","","","","","","","X",null,"D.03.03","Non-prescription Drugs","Pain medication","","","","","","18724",{"$f":"_xlfn.TEXTJOIN(\"; \",TRUE,ZCDT_EXPORT_2[[#This Row],[Sub-Category]:[Segment 5]])","v":"Pain medication"}]
["AH","Baltic CDT","U4","04. Non-Edibles","U4.03","03. Beauty & Personal Care","D.03.01","11. Cotton, moist wipes","16070","01. Cotton","18982","03. Cotton swabs","18983","01. Regular","","","","","","","X",null,"D.03.03","Non-prescription Drugs","Others","","","","","","18725",{"$f":"_xlfn.TEXTJOIN(\"; \",TRUE,ZCDT_EXPORT_2[[#This Row],[Sub-Category]:[Segment 5]])","v":"Others"}]
["AH","Baltic CDT","U4","04. Non-Edibles","U4.03","03. Beauty & Personal Care","D.03.01","11. Cotton, moist wipes","16070","01. Cotton","18982","03. Cotton swabs","18984","02. Zero waste","","","","","","","X",null,"D.04.01","Face care","Regular","Face cleansing","Wash and peeling","","","","17855",{"$f":"_xlfn.TEXTJOIN(\"; \",TRUE,ZCDT_EXPORT_2[[#This Row],[Sub-Category]:[Segment 5]])","v":"Regular; Face cleansing; Wash and peeling"}]
["AH","Baltic CDT","U4","04. Non-Edibles","U4.03","03. Beauty & Personal Care","D.03.01","11. Cotton, moist wipes","16069","02. Moist wipes","","","","","","","","","","","X",null,"D.04.01","Face care","Regular","Face cleansing","Milk","","","","17856",{"$f":"_xlfn.TEXTJOIN(\"; \",TRUE,ZCDT_EXPORT_2[[#This Row],[Sub-Category]:[Segment 5]])","v":"Regular; Face cleansing; Milk"}]
["AH","Baltic CDT","U4","04. Non-Edibles","U4.03","03. Beauty & Personal Care","D.03.02","12. Home pharmacy","18341","01. Vitamins&Minerals","","","","","","","","","","","X",null,"D.04.01","Face care","Regular","Face cleansing","Tonics and micellar water","","","","17857",{"$f":"_xlfn.TEXTJOIN(\"; \",TRUE,ZCDT_EXPORT_2[[#This Row],[Sub-Category]:[Segment 5]])","v":"Regular; Face cleansing; Tonics and micellar water"}]
["AH","Baltic CDT","U4","04. Non-Edibles","U4.03","03. Beauty & Personal Care","D.03.02","12. Home pharmacy","18342","02. Beauty(slim&Diet)","","","","","","","","","","","X",null,"D.04.01","Face care","Regular","Face cleansing","Eyes and lips make up removers","","","","17858",{"$f":"_xlfn.TEXTJOIN(\"; \",TRUE,ZCDT_EXPORT_2[[#This Row],[Sub-Category]:[Segment 5]])","v":"Regular; Face cleansing; Eyes and lips make up removers"}]
["AH","Baltic CDT","U4","04. Non-Edibles","U4.03","03. Beauty & Personal Care","D.03.02","12. Home pharmacy","18343","03. Wellbeing & strengthening","","","","","","","","","","","X",null,"D.04.01","Face care","Regular","Face cleansing","Wipes","","","","17859",{"$f":"_xlfn.TEXTJOIN(\"; \",TRUE,ZCDT_EXPORT_2[[#This Row],[Sub-Category]:[Segment 5]])","v":"Regular; Face cleansing; Wipes"}]
["AH","Baltic CDT","U4","04. Non-Edibles","U4.03","03. Beauty & Personal Care","D.03.02","12. Home pharmacy","18344","04. Cold(sickness/fever)","","","","","","","","","","","X",null,"D.04.01","Face care","Regular","Face creams","Day creams","","","","17860",{"$f":"_xlfn.TEXTJOIN(\"; \",TRUE,ZCDT_EXPORT_2[[#This Row],[Sub-Category]:[Segment 5]])","v":"Regular; Face creams; Day creams"}]
["AH","Baltic CDT","U4","04. Non-Edibles","U4.03","03. Beauty & Personal Care","D.03.02","12. Home pharmacy","18345","05. Wound care(Patch/Bandage/swabs)","","","","","","","","","","","X",null,"D.04.01","Face care","Regular","Face creams","Night creams","","","","17861",{"$f":"_xlfn.TEXTJOIN(\"; \",TRUE,ZCDT_EXPORT_2[[#This Row],[Sub-Category]:[Segment 5]])","v":"Regular; Face creams; Night creams"}]
["AH","Baltic CDT","U4","04. Non-Edibles","U4.03","03. Beauty & Personal Care","D.03.02","12. Home pharmacy","18346","06. Daily living aids(Medical Equipment)","","","","","","","","","","","X",null,"D.04.01","Face care","Regular","Face creams","Eyes creams","","","","17862",{"$f":"_xlfn.TEXTJOIN(\"; \",TRUE,ZCDT_EXPORT_2[[#This Row],[Sub-Category]:[Segment 5]])","v":"Regular; Face creams; Eyes creams"}]
["AH","Baltic CDT","U4","04. Non-Edibles","U4.03","03. Beauty & Personal Care","D.03.02","12. Home pharmacy","18347","07. Contact Lenses & Accessories","","","","","","","","","","","X",null,"D.04.01","Face care","Regular","Face creams","Universal","","","","17863",{"$f":"_xlfn.TEXTJOIN(\"; \",TRUE,ZCDT_EXPORT_2[[#This Row],[Sub-Category]:[Segment 5]])","v":"Regular; Face creams; Universal"}]
["AH","Baltic CDT","U4","04. Non-Edibles","U4.03","03. Beauty & Personal Care","D.03.02","12. Home pharmacy","18952","08. Personal Protection","18953","01. Antibacterial wipes","","","","","","","","","X",null,"D.04.01","Face care","Regular","Face creams","Serums / oils / gels","","","","17864",{"$f":"_xlfn.TEXTJOIN(\"; \",TRUE,ZCDT_EXPORT_2[[#This Row],[Sub-Category]:[Segment 5]])","v":"Regular; Face creams; Serums / oils / gels"}]
["AH","Baltic CDT","U4","04. Non-Edibles","U4.03","03. Beauty & Personal Care","D.03.02","12. Home pharmacy","18952","08. Personal Protection","18954","02. Disinfectants","","","","","","","","","X",null,"D.04.01","Face care","Regular","Face creams","BB, CC, DD creams","","","","17902",{"$f":"_xlfn.TEXTJOIN(\"; \",TRUE,ZCDT_EXPORT_2[[#This Row],[Sub-Category]:[Segment 5]])","v":"Regular; Face creams; BB, CC, DD creams"}]
["AH","Baltic CDT","U4","04. Non-Edibles","U4.03","03. Beauty & Personal Care","D.03.02","12. Home pharmacy","18952","08. Personal Protection","18955","03. Face masks","","","","","","","","","X",null,"D.04.01","Face care","Regular","Face mask","","","","","17853",{"$f":"_xlfn.TEXTJOIN(\"; \",TRUE,ZCDT_EXPORT_2[[#This Row],[Sub-Category]:[Segment 5]])","v":"Regular; Face mask"}]
["AH","Baltic CDT","U4","04. Non-Edibles","U4.03","03. Beauty & Personal Care","D.04.01","13. Face care","17848","01. Regular","17851","01. Face cleansing","17855","01. Wash and peeling","","","","","","","X",null,"D.04.01","Face care","Regular","Lip care","","","","","17854",{"$f":"_xlfn.TEXTJOIN(\"; \",TRUE,ZCDT_EXPORT_2[[#This Row],[Sub-Category]:[Segment 5]])","v":"Regular; Lip care"}]
["AH","Baltic CDT","U4","04. Non-Edibles","U4.03","03. Beauty & Personal Care","D.04.01","13. Face care","17848","01. Regular","17851","01. Face cleansing","17856","02. Milk","","","","","","","X",null,"D.04.01","Face care","Regular","Korean cosmetic","","","","","19491",{"$f":"_xlfn.TEXTJOIN(\"; \",TRUE,ZCDT_EXPORT_2[[#This Row],[Sub-Category]:[Segment 5]])","v":"Regular; Korean cosmetic"}]
["AH","Baltic CDT","U4","04. Non-Edibles","U4.03","03. Beauty & Personal Care","D.04.01","13. Face care","17848","01. Regular","17851","01. Face cleansing","17857","03. Tonics and micellar water","","","","","","","X",null,"D.04.01","Face care","Special needs","","","","","","17849",{"$f":"_xlfn.TEXTJOIN(\"; \",TRUE,ZCDT_EXPORT_2[[#This Row],[Sub-Category]:[Segment 5]])","v":"Special needs"}]
["AH","Baltic CDT","U4","04. Non-Edibles","U4.03","03. Beauty & Personal Care","D.04.01","13. Face care","17848","01. Regular","17851","01. Face cleansing","17858","04. Eyes and lips make up removers","","","","","","","X",null,"D.04.01","Face care","Mens face","","","","","","17850",{"$f":"_xlfn.TEXTJOIN(\"; \",TRUE,ZCDT_EXPORT_2[[#This Row],[Sub-Category]:[Segment 5]])","v":"Mens face"}]
["AH","Baltic CDT","U4","04. Non-Edibles","U4.03","03. Beauty & Personal Care","D.04.01","13. Face care","17848","01. Regular","17851","01. Face cleansing","17859","05. Wipes","","","","","","","X",null,"D.04.02","Fragrances","Children","","","","","","16068",{"$f":"_xlfn.TEXTJOIN(\"; \",TRUE,ZCDT_EXPORT_2[[#This Row],[Sub-Category]:[Segment 5]])","v":"Children"}]
["AH","Baltic CDT","U4","04. Non-Edibles","U4.03","03. Beauty & Personal Care","D.04.01","13. Face care","17848","01. Regular","17852","02. Face creams","17860","01. Day creams","","","","","","","X",null,"D.04.02","Fragrances","Female","","","","","","16066",{"$f":"_xlfn.TEXTJOIN(\"; \",TRUE,ZCDT_EXPORT_2[[#This Row],[Sub-Category]:[Segment 5]])","v":"Female"}]
["AH","Baltic CDT","U4","04. Non-Edibles","U4.03","03. Beauty & Personal Care","D.04.01","13. Face care","17848","01. Regular","17852","02. Face creams","17861","02. Night creams","","","","","","","X",null,"D.04.02","Fragrances","Male","","","","","","16067",{"$f":"_xlfn.TEXTJOIN(\"; \",TRUE,ZCDT_EXPORT_2[[#This Row],[Sub-Category]:[Segment 5]])","v":"Male"}]
["AH","Baltic CDT","U4","04. Non-Edibles","U4.03","03. Beauty & Personal Care","D.04.01","13. Face care","17848","01. Regular","17852","02. Face creams","17862","03. Eyes creams","","","","","","","X",null,"D.04.03","Gift sets in cosmetics","Female","","","","","","7979",{"$f":"_xlfn.TEXTJOIN(\"; \",TRUE,ZCDT_EXPORT_2[[#This Row],[Sub-Category]:[Segment 5]])","v":"Female"}]
["AH","Baltic CDT","U4","04. Non-Edibles","U4.03","03. Beauty & Personal Care","D.04.01","13. Face care","17848","01. Regular","17852","02. Face creams","17863","04. Universal","","","","","","","X",null,"D.04.03","Gift sets in cosmetics","Male","","","","","","7980",{"$f":"_xlfn.TEXTJOIN(\"; \",TRUE,ZCDT_EXPORT_2[[#This Row],[Sub-Category]:[Segment 5]])","v":"Male"}]
["AH","Baltic CDT","U4","04. Non-Edibles","U4.03","03. Beauty & Personal Care","D.04.01","13. Face care","17848","01. Regular","17852","02. Face creams","17864","05. Serums / oils / gels","","","","","","","X",null,"D.04.03","Gift sets in cosmetics","Children 3+","","","","","","17914",{"$f":"_xlfn.TEXTJOIN(\"; \",TRUE,ZCDT_EXPORT_2[[#This Row],[Sub-Category]:[Segment 5]])","v":"Children 3+"}]
["AH","Baltic CDT","U4","04. Non-Edibles","U4.03","03. Beauty & Personal Care","D.04.01","13. Face care","17848","01. Regular","17852","02. Face creams","17902","06. BB, CC, DD creams","","","","","","","X",null,"D.04.03","Gift sets in cosmetics","Not gender specific (e.g. oral care)","","","","","","17915",{"$f":"_xlfn.TEXTJOIN(\"; \",TRUE,ZCDT_EXPORT_2[[#This Row],[Sub-Category]:[Segment 5]])","v":"Not gender specific (e.g. oral care)"}]
["AH","Baltic CDT","U4","04. Non-Edibles","U4.03","03. Beauty & Personal Care","D.04.01","13. Face care","17848","01. Regular","17853","03. Face mask","","","","","","","","","X",null,"D.04.04","Make-up","Eye make-up","Mascara (and conditioner)","","","","","16471",{"$f":"_xlfn.TEXTJOIN(\"; \",TRUE,ZCDT_EXPORT_2[[#This Row],[Sub-Category]:[Segment 5]])","v":"Eye make-up; Mascara (and conditioner)"}]
["AH","Baltic CDT","U4","04. Non-Edibles","U4.03","03. Beauty & Personal Care","D.04.01","13. Face care","17848","01. Regular","17854","04. Lip care","","","","","","","","","X",null,"D.04.04","Make-up","Eye make-up","Eye shadows","","","","","16472",{"$f":"_xlfn.TEXTJOIN(\"; \",TRUE,ZCDT_EXPORT_2[[#This Row],[Sub-Category]:[Segment 5]])","v":"Eye make-up; Eye shadows"}]
["AH","Baltic CDT","U4","04. Non-Edibles","U4.03","03. Beauty & Personal Care","D.04.01","13. Face care","17848","01. Regular","19491","05. Korean cosmetic","","","","","","","","","X",null,"D.04.04","Make-up","Eye make-up","Pencil and eyeliners","","","","","16473",{"$f":"_xlfn.TEXTJOIN(\"; \",TRUE,ZCDT_EXPORT_2[[#This Row],[Sub-Category]:[Segment 5]])","v":"Eye make-up; Pencil and eyeliners"}]
["AH","Baltic CDT","U4","04. Non-Edibles","U4.03","03. Beauty & Personal Care","D.04.01","13. Face care","17849","02. Special needs","","","","","","","","","","","X",null,"D.04.04","Make-up","Eye make-up","Eyebrow products","","","","","16474",{"$f":"_xlfn.TEXTJOIN(\"; \",TRUE,ZCDT_EXPORT_2[[#This Row],[Sub-Category]:[Segment 5]])","v":"Eye make-up; Eyebrow products"}]
["AH","Baltic CDT","U4","04. Non-Edibles","U4.03","03. Beauty & Personal Care","D.04.01","13. Face care","17850","03. Mens face","","","","","","","","","","","X",null,"D.04.04","Make-up","Face make-up","Foundations","","","","","16475",{"$f":"_xlfn.TEXTJOIN(\"; \",TRUE,ZCDT_EXPORT_2[[#This Row],[Sub-Category]:[Segment 5]])","v":"Face make-up; Foundations"}]
["AH","Baltic CDT","U4","04. Non-Edibles","U4.03","03. Beauty & Personal Care","D.03.03","13. Non-prescription Drugs","18724","01. Pain medication","","","","","","","","","","","X",null,"D.04.04","Make-up","Face make-up","Powders","","","","","16476",{"$f":"_xlfn.TEXTJOIN(\"; \",TRUE,ZCDT_EXPORT_2[[#This Row],[Sub-Category]:[Segment 5]])","v":"Face make-up; Powders"}]
["AH","Baltic CDT","U4","04. Non-Edibles","U4.03","03. Beauty & Personal Care","D.03.03","13. Non-prescription Drugs","18725","02. Others","","","","","","","","","","","X",null,"D.04.04","Make-up","Face make-up","Blushes","","","","","16477",{"$f":"_xlfn.TEXTJOIN(\"; \",TRUE,ZCDT_EXPORT_2[[#This Row],[Sub-Category]:[Segment 5]])","v":"Face make-up; Blushes"}]
["AH","Baltic CDT","U4","04. Non-Edibles","U4.03","03. Beauty & Personal Care","D.04.02","14. Fragrances","16068","01. Children","","","","","","","","","","","X",null,"D.04.04","Make-up","Face make-up","Concealers, correctors, base and spr","","","","","16479",{"$f":"_xlfn.TEXTJOIN(\"; \",TRUE,ZCDT_EXPORT_2[[#This Row],[Sub-Category]:[Segment 5]])","v":"Face make-up; Concealers, correctors, base and spr"}]
["AH","Baltic CDT","U4","04. Non-Edibles","U4.03","03. Beauty & Personal Care","D.04.02","14. Fragrances","16066","02. Female","","","","","","","","","","","X",null,"D.04.04","Make-up","Lip make-up","Lipsticks (and pallets)","","","","","16480",{"$f":"_xlfn.TEXTJOIN(\"; \",TRUE,ZCDT_EXPORT_2[[#This Row],[Sub-Category]:[Segment 5]])","v":"Lip make-up; Lipsticks (and pallets)"}]
["AH","Baltic CDT","U4","04. Non-Edibles","U4.03","03. Beauty & Personal Care","D.04.02","14. Fragrances","16067","03. Male","","","","","","","","","","","X",null,"D.04.04","Make-up","Lip make-up","Lip gloss","","","","","16481",{"$f":"_xlfn.TEXTJOIN(\"; \",TRUE,ZCDT_EXPORT_2[[#This Row],[Sub-Category]:[Segment 5]])","v":"Lip make-up; Lip gloss"}]
["AH","Baltic CDT","U4","04. Non-Edibles","U4.03","03. Beauty & Personal Care","D.04.03","15. Gift sets in cosmetics","7979","01. Female","","","","","","","","","","","X",null,"D.04.04","Make-up","Lip make-up","Lip liners and pencils","","","","","16482",{"$f":"_xlfn.TEXTJOIN(\"; \",TRUE,ZCDT_EXPORT_2[[#This Row],[Sub-Category]:[Segment 5]])","v":"Lip make-up; Lip liners and pencils"}]
["AH","Baltic CDT","U4","04. Non-Edibles","U4.03","03. Beauty & Personal Care","D.04.03","15. Gift sets in cosmetics","7980","02. Male","","","","","","","","","","","X",null,"D.04.04","Make-up","Make-up sets (regular assortment)","","","","","","16100",{"$f":"_xlfn.TEXTJOIN(\"; \",TRUE,ZCDT_EXPORT_2[[#This Row],[Sub-Category]:[Segment 5]])","v":"Make-up sets (regular assortment)"}]
["AH","Baltic CDT","U4","04. Non-Edibles","U4.03","03. Beauty & Personal Care","D.04.03","15. Gift sets in cosmetics","17914","03. Children 3+","","","","","","","","","","","X",null,"D.04.05","Nail care treatments","Nail gel products","","","","","","16483",{"$f":"_xlfn.TEXTJOIN(\"; \",TRUE,ZCDT_EXPORT_2[[#This Row],[Sub-Category]:[Segment 5]])","v":"Nail gel products"}]
["AH","Baltic CDT","U4","04. Non-Edibles","U4.03","03. Beauty & Personal Care","D.04.03","15. Gift sets in cosmetics","17915","04. Not gender specific (e.g. oral care)","","","","","","","","","","","X",null,"D.04.05","Nail care treatments","Nail polish","","","","","","16484",{"$f":"_xlfn.TEXTJOIN(\"; \",TRUE,ZCDT_EXPORT_2[[#This Row],[Sub-Category]:[Segment 5]])","v":"Nail polish"}]
["AH","Baltic CDT","U4","04. Non-Edibles","U4.03","03. Beauty & Personal Care","D.04.04","16. Make-up","16097","01. Eye make-up","16471","01. Mascara (and conditioner)","","","","","","","","","X",null,"D.04.05","Nail care treatments","Nail polish removers","","","","","","16485",{"$f":"_xlfn.TEXTJOIN(\"; \",TRUE,ZCDT_EXPORT_2[[#This Row],[Sub-Category]:[Segment 5]])","v":"Nail polish removers"}]
["AH","Baltic CDT","U4","04. Non-Edibles","U4.03","03. Beauty & Personal Care","D.04.04","16. Make-up","16097","01. Eye make-up","16472","02. Eye shadows","","","","","","","","","X",null,"D.04.05","Nail care treatments","Nail care treatments","","","","","","16486",{"$f":"_xlfn.TEXTJOIN(\"; \",TRUE,ZCDT_EXPORT_2[[#This Row],[Sub-Category]:[Segment 5]])","v":"Nail care treatments"}]
["AH","Baltic CDT","U4","04. Non-Edibles","U4.03","03. Beauty & Personal Care","D.04.04","16. Make-up","16097","01. Eye make-up","16473","03. Pencil and eyeliners","","","","","","","","","X",null,"D.06.01","Intimate hygiene","Menses Products","Pads","Day","","","","18293",{"$f":"_xlfn.TEXTJOIN(\"; \",TRUE,ZCDT_EXPORT_2[[#This Row],[Sub-Category]:[Segment 5]])","v":"Menses Products; Pads; Day"}]
["AH","Baltic CDT","U4","04. Non-Edibles","U4.03","03. Beauty & Personal Care","D.04.04","16. Make-up","16097","01. Eye make-up","16474","04. Eyebrow products","","","","","","","","","X",null,"D.06.01","Intimate hygiene","Menses Products","Pads","Night","","","","18292",{"$f":"_xlfn.TEXTJOIN(\"; \",TRUE,ZCDT_EXPORT_2[[#This Row],[Sub-Category]:[Segment 5]])","v":"Menses Products; Pads; Night"}]
["AH","Baltic CDT","U4","04. Non-Edibles","U4.03","03. Beauty & Personal Care","D.04.04","16. Make-up","16098","02. Face make-up","16475","01. Foundations","","","","","","","","","X",null,"D.06.01","Intimate hygiene","Menses Products","Tampons","With applicators","","","","18294",{"$f":"_xlfn.TEXTJOIN(\"; \",TRUE,ZCDT_EXPORT_2[[#This Row],[Sub-Category]:[Segment 5]])","v":"Menses Products; Tampons; With applicators"}]
["AH","Baltic CDT","U4","04. Non-Edibles","U4.03","03. Beauty & Personal Care","D.04.04","16. Make-up","16098","02. Face make-up","16476","02. Powders","","","","","","","","","X",null,"D.06.01","Intimate hygiene","Menses Products","Tampons","Wo applicators","","","","18295",{"$f":"_xlfn.TEXTJOIN(\"; \",TRUE,ZCDT_EXPORT_2[[#This Row],[Sub-Category]:[Segment 5]])","v":"Menses Products; Tampons; Wo applicators"}]
["AH","Baltic CDT","U4","04. Non-Edibles","U4.03","03. Beauty & Personal Care","D.04.04","16. Make-up","16098","02. Face make-up","16477","03. Blushes","","","","","","","","","X",null,"D.06.01","Intimate hygiene","Menses Products","Menstrual cups and accessories","Regular","","","","18986",{"$f":"_xlfn.TEXTJOIN(\"; \",TRUE,ZCDT_EXPORT_2[[#This Row],[Sub-Category]:[Segment 5]])","v":"Menses Products; Menstrual cups and accessories; Regular"}]
["AH","Baltic CDT","U4","04. Non-Edibles","U4.03","03. Beauty & Personal Care","D.04.04","16. Make-up","16098","02. Face make-up","16479","04. Concealers, correctors, base and spr","","","","","","","","","X",null,"D.06.01","Intimate hygiene","Menses Products","Menstrual cups and accessories","Zero waste","","","","18987",{"$f":"_xlfn.TEXTJOIN(\"; \",TRUE,ZCDT_EXPORT_2[[#This Row],[Sub-Category]:[Segment 5]])","v":"Menses Products; Menstrual cups and accessories; Zero waste"}]
["AH","Baltic CDT","U4","04. Non-Edibles","U4.03","03. Beauty & Personal Care","D.04.04","16. Make-up","16099","03. Lip make-up","16480","01. Lipsticks (and pallets)","","","","","","","","","X",null,"D.06.01","Intimate hygiene","Panty liners","String","","","","","15103",{"$f":"_xlfn.TEXTJOIN(\"; \",TRUE,ZCDT_EXPORT_2[[#This Row],[Sub-Category]:[Segment 5]])","v":"Panty liners; String"}]
["AH","Baltic CDT","U4","04. Non-Edibles","U4.03","03. Beauty & Personal Care","D.04.04","16. Make-up","16099","03. Lip make-up","16481","02. Lip gloss","","","","","","","","","X",null,"D.06.01","Intimate hygiene","Panty liners","Normal","","","","","15104",{"$f":"_xlfn.TEXTJOIN(\"; \",TRUE,ZCDT_EXPORT_2[[#This Row],[Sub-Category]:[Segment 5]])","v":"Panty liners; Normal"}]
["AH","Baltic CDT","U4","04. Non-Edibles","U4.03","03. Beauty & Personal Care","D.04.04","16. Make-up","16099","03. Lip make-up","16482","03. Lip liners and pencils","","","","","","","","","X",null,"D.06.01","Intimate hygiene","Panty liners","Large","","","","","15105",{"$f":"_xlfn.TEXTJOIN(\"; \",TRUE,ZCDT_EXPORT_2[[#This Row],[Sub-Category]:[Segment 5]])","v":"Panty liners; Large"}]
["AH","Baltic CDT","U4","04. Non-Edibles","U4.03","03. Beauty & Personal Care","D.04.04","16. Make-up","16100","04. Make-up sets (regular assortment)","","","","","","","","","","","X",null,"D.06.01","Intimate hygiene","Panty liners","Multiform","","","","","15106",{"$f":"_xlfn.TEXTJOIN(\"; \",TRUE,ZCDT_EXPORT_2[[#This Row],[Sub-Category]:[Segment 5]])","v":"Panty liners; Multiform"}]
["AH","Baltic CDT","U4","04. Non-Edibles","U4.03","03. Beauty & Personal Care","D.04.05","17. Nail care treatments","16483","01. Nail gel products","","","","","","","","","","","X",null,"D.06.01","Intimate hygiene","Cleansing products","Wipes","","","","","15125",{"$f":"_xlfn.TEXTJOIN(\"; \",TRUE,ZCDT_EXPORT_2[[#This Row],[Sub-Category]:[Segment 5]])","v":"Cleansing products; Wipes"}]
["AH","Baltic CDT","U4","04. Non-Edibles","U4.03","03. Beauty & Personal Care","D.04.05","17. Nail care treatments","16484","02. Nail polish","","","","","","","","","","","X",null,"D.06.01","Intimate hygiene","Cleansing products","Wash & care","","","","","15126",{"$f":"_xlfn.TEXTJOIN(\"; \",TRUE,ZCDT_EXPORT_2[[#This Row],[Sub-Category]:[Segment 5]])","v":"Cleansing products; Wash & care"}]
["AH","Baltic CDT","U4","04. Non-Edibles","U4.03","03. Beauty & Personal Care","D.04.05","17. Nail care treatments","16485","03. Nail polish removers","","","","","","","","","","","X",null,"D.06.01","Intimate hygiene","Contraceptives","Condoms","","","","","15127",{"$f":"_xlfn.TEXTJOIN(\"; \",TRUE,ZCDT_EXPORT_2[[#This Row],[Sub-Category]:[Segment 5]])","v":"Contraceptives; Condoms"}]
["AH","Baltic CDT","U4","04. Non-Edibles","U4.03","03. Beauty & Personal Care","D.04.05","17. Nail care treatments","16486","04. Nail care treatments","","","","","","","","","","","X",null,"D.06.01","Intimate hygiene","Contraceptives","Lubricants","","","","","15128",{"$f":"_xlfn.TEXTJOIN(\"; \",TRUE,ZCDT_EXPORT_2[[#This Row],[Sub-Category]:[Segment 5]])","v":"Contraceptives; Lubricants"}]
["AH","Baltic CDT","U4","04. Non-Edibles","U4.03","03. Beauty & Personal Care","D.06.01","21. Intimate hygiene","15058","01. Menses Products","15064","01. Pads","18293","01. Day","","","","","","","X",null,"D.06.01","Intimate hygiene","Incontinence products","Men","","","","","15135",{"$f":"_xlfn.TEXTJOIN(\"; \",TRUE,ZCDT_EXPORT_2[[#This Row],[Sub-Category]:[Segment 5]])","v":"Incontinence products; Men"}]
["AH","Baltic CDT","U4","04. Non-Edibles","U4.03","03. Beauty & Personal Care","D.06.01","21. Intimate hygiene","15058","01. Menses Products","15064","01. Pads","18292","02. Night","","","","","","","X",null,"D.06.01","Intimate hygiene","Incontinence products","Women","","","","","15136",{"$f":"_xlfn.TEXTJOIN(\"; \",TRUE,ZCDT_EXPORT_2[[#This Row],[Sub-Category]:[Segment 5]])","v":"Incontinence products; Women"}]
["AH","Baltic CDT","U4","04. Non-Edibles","U4.03","03. Beauty & Personal Care","D.06.01","21. Intimate hygiene","15058","01. Menses Products","15065","02. Tampons","18294","01. With applicators","","","","","","","X",null,"D.06.01","Intimate hygiene","Pregnancy tests & Other tests","","","","","","15063",{"$f":"_xlfn.TEXTJOIN(\"; \",TRUE,ZCDT_EXPORT_2[[#This Row],[Sub-Category]:[Segment 5]])","v":"Pregnancy tests & Other tests"}]
["AH","Baltic CDT","U4","04. Non-Edibles","U4.03","03. Beauty & Personal Care","D.06.01","21. Intimate hygiene","15058","01. Menses Products","15065","02. Tampons","18295","02. Wo applicators","","","","","","","X",null,"D.10.01","Toilet paper, paper towels, handkerc","WC paper","Regular","Regular packages","1-2 ply","","","19534",{"$f":"_xlfn.TEXTJOIN(\"; \",TRUE,ZCDT_EXPORT_2[[#This Row],[Sub-Category]:[Segment 5]])","v":"WC paper; Regular; Regular packages; 1-2 ply"}]
["AH","Baltic CDT","U4","04. Non-Edibles","U4.03","03. Beauty & Personal Care","D.06.01","21. Intimate hygiene","15058","01. Menses Products","18985","03. Menstrual cups and accessories","18986","01. Regular","","","","","","","X",null,"D.10.01","Toilet paper, paper towels, handkerc","WC paper","Regular","Regular packages","3 ply","","","19535",{"$f":"_xlfn.TEXTJOIN(\"; \",TRUE,ZCDT_EXPORT_2[[#This Row],[Sub-Category]:[Segment 5]])","v":"WC paper; Regular; Regular packages; 3 ply"}]
["AH","Baltic CDT","U4","04. Non-Edibles","U4.03","03. Beauty & Personal Care","D.06.01","21. Intimate hygiene","15058","01. Menses Products","18985","03. Menstrual cups and accessories","18987","02. Zero waste","","","","","","","X",null,"D.10.01","Toilet paper, paper towels, handkerc","WC paper","Regular","Regular packages",">=4 ply","","","19536",{"$f":"_xlfn.TEXTJOIN(\"; \",TRUE,ZCDT_EXPORT_2[[#This Row],[Sub-Category]:[Segment 5]])","v":"WC paper; Regular; Regular packages; >=4 ply"}]
["AH","Baltic CDT","U4","04. Non-Edibles","U4.03","03. Beauty & Personal Care","D.06.01","21. Intimate hygiene","15059","02. Panty liners","15103","01. String","","","","","","","","","X",null,"D.10.01","Toilet paper, paper towels, handkerc","WC paper","Regular","Big Packages 12+","","","","19532",{"$f":"_xlfn.TEXTJOIN(\"; \",TRUE,ZCDT_EXPORT_2[[#This Row],[Sub-Category]:[Segment 5]])","v":"WC paper; Regular; Big Packages 12+"}]
["AH","Baltic CDT","U4","04. Non-Edibles","U4.03","03. Beauty & Personal Care","D.06.01","21. Intimate hygiene","15059","02. Panty liners","15104","02. Normal","","","","","","","","","X",null,"D.10.01","Toilet paper, paper towels, handkerc","WC paper","Designed/color","","","","","19477",{"$f":"_xlfn.TEXTJOIN(\"; \",TRUE,ZCDT_EXPORT_2[[#This Row],[Sub-Category]:[Segment 5]])","v":"WC paper; Designed/color"}]
["AH","Baltic CDT","U4","04. Non-Edibles","U4.03","03. Beauty & Personal Care","D.06.01","21. Intimate hygiene","15059","02. Panty liners","15105","03. Large","","","","","","","","","X",null,"D.10.01","Toilet paper, paper towels, handkerc","WC paper","Aroma","","","","","19478",{"$f":"_xlfn.TEXTJOIN(\"; \",TRUE,ZCDT_EXPORT_2[[#This Row],[Sub-Category]:[Segment 5]])","v":"WC paper; Aroma"}]
["AH","Baltic CDT","U4","04. Non-Edibles","U4.03","03. Beauty & Personal Care","D.06.01","21. Intimate hygiene","15059","02. Panty liners","15106","04. Multiform","","","","","","","","","X",null,"D.10.01","Toilet paper, paper towels, handkerc","WC paper","Recycled","","","","","19479",{"$f":"_xlfn.TEXTJOIN(\"; \",TRUE,ZCDT_EXPORT_2[[#This Row],[Sub-Category]:[Segment 5]])","v":"WC paper; Recycled"}]
["AH","Baltic CDT","U4","04. Non-Edibles","U4.03","03. Beauty & Personal Care","D.06.01","21. Intimate hygiene","15060","03. Cleansing products","15125","01. Wipes","","","","","","","","","X",null,"D.10.01","Toilet paper, paper towels, handkerc","WC paper","Wet","","","","","19480",{"$f":"_xlfn.TEXTJOIN(\"; \",TRUE,ZCDT_EXPORT_2[[#This Row],[Sub-Category]:[Segment 5]])","v":"WC paper; Wet"}]
["AH","Baltic CDT","U4","04. Non-Edibles","U4.03","03. Beauty & Personal Care","D.06.01","21. Intimate hygiene","15060","03. Cleansing products","15126","02. Wash & care","","","","","","","","","X",null,"D.10.01","Toilet paper, paper towels, handkerc","Kitchen towels","Regular","Regular","1-2 ply","","","19543",{"$f":"_xlfn.TEXTJOIN(\"; \",TRUE,ZCDT_EXPORT_2[[#This Row],[Sub-Category]:[Segment 5]])","v":"Kitchen towels; Regular; Regular; 1-2 ply"}]
["AH","Baltic CDT","U4","04. Non-Edibles","U4.03","03. Beauty & Personal Care","D.06.01","21. Intimate hygiene","15061","04. Contraceptives","15127","01. Condoms","","","","","","","","","X",null,"D.10.01","Toilet paper, paper towels, handkerc","Kitchen towels","Regular","Regular",">= 3 ply","","","19544",{"$f":"_xlfn.TEXTJOIN(\"; \",TRUE,ZCDT_EXPORT_2[[#This Row],[Sub-Category]:[Segment 5]])","v":"Kitchen towels; Regular; Regular; >= 3 ply"}]
["AH","Baltic CDT","U4","04. Non-Edibles","U4.03","03. Beauty & Personal Care","D.06.01","21. Intimate hygiene","15061","04. Contraceptives","15128","02. Lubricants","","","","","","","","","X",null,"D.10.01","Toilet paper, paper towels, handkerc","Kitchen towels","Regular","Designed/color","","","","19541",{"$f":"_xlfn.TEXTJOIN(\"; \",TRUE,ZCDT_EXPORT_2[[#This Row],[Sub-Category]:[Segment 5]])","v":"Kitchen towels; Regular; Designed/color"}]
["AH","Baltic CDT","U4","04. Non-Edibles","U4.03","03. Beauty & Personal Care","D.06.01","21. Intimate hygiene","15062","05. Incontinence products","15135","01. Men","","","","","","","","","X",null,"D.10.01","Toilet paper, paper towels, handkerc","Kitchen towels","Regular","Recycled","","","","19542",{"$f":"_xlfn.TEXTJOIN(\"; \",TRUE,ZCDT_EXPORT_2[[#This Row],[Sub-Category]:[Segment 5]])","v":"Kitchen towels; Regular; Recycled"}]
["AH","Baltic CDT","U4","04. Non-Edibles","U4.03","03. Beauty & Personal Care","D.06.01","21. Intimate hygiene","15062","05. Incontinence products","15136","02. Women","","","","","","","","","X",null,"D.10.01","Toilet paper, paper towels, handkerc","Kitchen towels","Jumbo","","","","","19537",{"$f":"_xlfn.TEXTJOIN(\"; \",TRUE,ZCDT_EXPORT_2[[#This Row],[Sub-Category]:[Segment 5]])","v":"Kitchen towels; Jumbo"}]
["AH","Baltic CDT","U4","04. Non-Edibles","U4.03","03. Beauty & Personal Care","D.06.01","21. Intimate hygiene","15063","06. Pregnancy tests & Other tests","","","","","","","","","","","X",null,"D.10.01","Toilet paper, paper towels, handkerc","Kitchen towels","Folded towels","","","","","19539",{"$f":"_xlfn.TEXTJOIN(\"; \",TRUE,ZCDT_EXPORT_2[[#This Row],[Sub-Category]:[Segment 5]])","v":"Kitchen towels; Folded towels"}]
["AH","Baltic CDT","U4","04. Non-Edibles","U4.03","03. Beauty & Personal Care","D.10.01","26. Toilet paper, paper towels, handkerc","19472","01. WC paper","19531","01. Regular","19533","01. Regular packages","19534","01. 1-2 ply","","","","","X",null,"D.10.01","Toilet paper, paper towels, handkerc","Handkerchiefs","Regular","","","","","19545",{"$f":"_xlfn.TEXTJOIN(\"; \",TRUE,ZCDT_EXPORT_2[[#This Row],[Sub-Category]:[Segment 5]])","v":"Handkerchiefs; Regular"}]
["AH","Baltic CDT","U4","04. Non-Edibles","U4.03","03. Beauty & Personal Care","D.10.01","26. Toilet paper, paper towels, handkerc","19472","01. WC paper","19531","01. Regular","19533","01. Regular packages","19535","02. 3 ply","","","","","X",null,"D.10.01","Toilet paper, paper towels, handkerc","Handkerchiefs","Aroma","","","","","19546",{"$f":"_xlfn.TEXTJOIN(\"; \",TRUE,ZCDT_EXPORT_2[[#This Row],[Sub-Category]:[Segment 5]])","v":"Handkerchiefs; Aroma"}]
["AH","Baltic CDT","U4","04. Non-Edibles","U4.03","03. Beauty & Personal Care","D.10.01","26. Toilet paper, paper towels, handkerc","19472","01. WC paper","19531","01. Regular","19533","01. Regular packages","19536","03. >=4 ply","","","","","X",null,"D.10.01","Toilet paper, paper towels, handkerc","Handkerchiefs","Kids","","","","","19547",{"$f":"_xlfn.TEXTJOIN(\"; \",TRUE,ZCDT_EXPORT_2[[#This Row],[Sub-Category]:[Segment 5]])","v":"Handkerchiefs; Kids"}]
["AH","Baltic CDT","U4","04. Non-Edibles","U4.03","03. Beauty & Personal Care","D.10.01","26. Toilet paper, paper towels, handkerc","19472","01. WC paper","19531","01. Regular","19532","02. Big Packages 12+","","","","","","","X",null,"D.10.01","Toilet paper, paper towels, handkerc","Facial Tissues","Cosmetic","Regular","","","","19550",{"$f":"_xlfn.TEXTJOIN(\"; \",TRUE,ZCDT_EXPORT_2[[#This Row],[Sub-Category]:[Segment 5]])","v":"Facial Tissues; Cosmetic; Regular"}]
["AH","Baltic CDT","U4","04. Non-Edibles","U4.03","03. Beauty & Personal Care","D.10.01","26. Toilet paper, paper towels, handkerc","19472","01. WC paper","19477","02. Designed/color","","","","","","","","","X",null,"D.10.01","Toilet paper, paper towels, handkerc","Facial Tissues","Cosmetic","Aroma","","","","19551",{"$f":"_xlfn.TEXTJOIN(\"; \",TRUE,ZCDT_EXPORT_2[[#This Row],[Sub-Category]:[Segment 5]])","v":"Facial Tissues; Cosmetic; Aroma"}]
["AH","Baltic CDT","U4","04. Non-Edibles","U4.03","03. Beauty & Personal Care","D.10.01","26. Toilet paper, paper towels, handkerc","19472","01. WC paper","19478","03. Aroma","","","","","","","","","X",null,"D.10.01","Toilet paper, paper towels, handkerc","Facial Tissues","Kids","","","","","19549",{"$f":"_xlfn.TEXTJOIN(\"; \",TRUE,ZCDT_EXPORT_2[[#This Row],[Sub-Category]:[Segment 5]])","v":"Facial Tissues; Kids"}]
["AH","Baltic CDT","U4","04. Non-Edibles","U4.03","03. Beauty & Personal Care","D.10.01","26. Toilet paper, paper towels, handkerc","19472","01. WC paper","19479","04. Recycled","","","","","","","","","X",null,"D.10.01","Toilet paper, paper towels, handkerc","Zero waste","","","","","","19473",{"$f":"_xlfn.TEXTJOIN(\"; \",TRUE,ZCDT_EXPORT_2[[#This Row],[Sub-Category]:[Segment 5]])","v":"Zero waste"}]
["AH","Baltic CDT","U4","04. Non-Edibles","U4.03","03. Beauty & Personal Care","D.10.01","26. Toilet paper, paper towels, handkerc","19472","01. WC paper","19480","05. Wet","","","","","","","","","X",null,"D.12.01","Body Care accessories","Body care accessories","Beauty bags","","","","","18595",{"$f":"_xlfn.TEXTJOIN(\"; \",TRUE,ZCDT_EXPORT_2[[#This Row],[Sub-Category]:[Segment 5]])","v":"Body care accessories; Beauty bags"}]
["AH","Baltic CDT","U4","04. Non-Edibles","U4.03","03. Beauty & Personal Care","D.10.01","26. Toilet paper, paper towels, handkerc","19474","02. Kitchen towels","19538","01. Regular","19540","01. Regular","19543","01. 1-2 ply","","","","","X",null,"D.12.01","Body Care accessories","Body care accessories","Foot care equipment","","","","","18596",{"$f":"_xlfn.TEXTJOIN(\"; \",TRUE,ZCDT_EXPORT_2[[#This Row],[Sub-Category]:[Segment 5]])","v":"Body care accessories; Foot care equipment"}]
["AH","Baltic CDT","U4","04. Non-Edibles","U4.03","03. Beauty & Personal Care","D.10.01","26. Toilet paper, paper towels, handkerc","19474","02. Kitchen towels","19538","01. Regular","19540","01. Regular","19544","02. >= 3 ply","","","","","X",null,"D.12.01","Body Care accessories","Body care accessories","Make-up equipment","","","","","18597",{"$f":"_xlfn.TEXTJOIN(\"; \",TRUE,ZCDT_EXPORT_2[[#This Row],[Sub-Category]:[Segment 5]])","v":"Body care accessories; Make-up equipment"}]
["AH","Baltic CDT","U4","04. Non-Edibles","U4.03","03. Beauty & Personal Care","D.10.01","26. Toilet paper, paper towels, handkerc","19474","02. Kitchen towels","19538","01. Regular","19541","02. Designed/color","","","","","","","X",null,"D.12.01","Body Care accessories","Body care accessories","Nail care equipment","","","","","18598",{"$f":"_xlfn.TEXTJOIN(\"; \",TRUE,ZCDT_EXPORT_2[[#This Row],[Sub-Category]:[Segment 5]])","v":"Body care accessories; Nail care equipment"}]
["AH","Baltic CDT","U4","04. Non-Edibles","U4.03","03. Beauty & Personal Care","D.10.01","26. Toilet paper, paper towels, handkerc","19474","02. Kitchen towels","19538","01. Regular","19542","03. Recycled","","","","","","","X",null,"D.12.01","Body Care accessories","Body care accessories","Sauna accessories","","","","","19470",{"$f":"_xlfn.TEXTJOIN(\"; \",TRUE,ZCDT_EXPORT_2[[#This Row],[Sub-Category]:[Segment 5]])","v":"Body care accessories; Sauna accessories"}]
["AH","Baltic CDT","U4","04. Non-Edibles","U4.03","03. Beauty & Personal Care","D.10.01","26. Toilet paper, paper towels, handkerc","19474","02. Kitchen towels","19537","02. Jumbo","","","","","","","","","X",null,"D.12.01","Body Care accessories","Body care accessories","Bath sponges, brushes","","","","","19471",{"$f":"_xlfn.TEXTJOIN(\"; \",TRUE,ZCDT_EXPORT_2[[#This Row],[Sub-Category]:[Segment 5]])","v":"Body care accessories; Bath sponges, brushes"}]
["AH","Baltic CDT","U4","04. Non-Edibles","U4.03","03. Beauty & Personal Care","D.10.01","26. Toilet paper, paper towels, handkerc","19474","02. Kitchen towels","19539","03. Folded towels","","","","","","","","","X",null,"D.12.02","Jewelry","Brooches and pins","","","","","","18589",{"$f":"_xlfn.TEXTJOIN(\"; \",TRUE,ZCDT_EXPORT_2[[#This Row],[Sub-Category]:[Segment 5]])","v":"Brooches and pins"}]
["AH","Baltic CDT","U4","04. Non-Edibles","U4.03","03. Beauty & Personal Care","D.10.01","26. Toilet paper, paper towels, handkerc","19475","03. Handkerchiefs","19545","01. Regular","","","","","","","","","X",null,"D.12.02","Jewelry","Earrings","","","","","","18590",{"$f":"_xlfn.TEXTJOIN(\"; \",TRUE,ZCDT_EXPORT_2[[#This Row],[Sub-Category]:[Segment 5]])","v":"Earrings"}]
["AH","Baltic CDT","U4","04. Non-Edibles","U4.03","03. Beauty & Personal Care","D.10.01","26. Toilet paper, paper towels, handkerc","19475","03. Handkerchiefs","19546","02. Aroma","","","","","","","","","X",null,"D.12.02","Jewelry","Necklaces","","","","","","18591",{"$f":"_xlfn.TEXTJOIN(\"; \",TRUE,ZCDT_EXPORT_2[[#This Row],[Sub-Category]:[Segment 5]])","v":"Necklaces"}]
["AH","Baltic CDT","U4","04. Non-Edibles","U4.03","03. Beauty & Personal Care","D.10.01","26. Toilet paper, paper towels, handkerc","19475","03. Handkerchiefs","19547","03. Kids","","","","","","","","","X",null,"D.12.02","Jewelry","Wristwear","","","","","","18592",{"$f":"_xlfn.TEXTJOIN(\"; \",TRUE,ZCDT_EXPORT_2[[#This Row],[Sub-Category]:[Segment 5]])","v":"Wristwear"}]
["AH","Baltic CDT","U4","04. Non-Edibles","U4.03","03. Beauty & Personal Care","D.10.01","26. Toilet paper, paper towels, handkerc","19476","04. Facial Tissues","19548","01. Cosmetic","19550","01. Regular","","","","","","","X",null,"D.12.02","Jewelry","Hair","","","","","","18593",{"$f":"_xlfn.TEXTJOIN(\"; \",TRUE,ZCDT_EXPORT_2[[#This Row],[Sub-Category]:[Segment 5]])","v":"Hair"}]
["AH","Baltic CDT","U4","04. Non-Edibles","U4.03","03. Beauty & Personal Care","D.10.01","26. Toilet paper, paper towels, handkerc","19476","04. Facial Tissues","19548","01. Cosmetic","19551","02. Aroma","","","","","","","X",null,"D.12.03","Hair Care accessories","Hair brushes and combs","","","","","","18586",{"$f":"_xlfn.TEXTJOIN(\"; \",TRUE,ZCDT_EXPORT_2[[#This Row],[Sub-Category]:[Segment 5]])","v":"Hair brushes and combs"}]
["AH","Baltic CDT","U4","04. Non-Edibles","U4.03","03. Beauty & Personal Care","D.10.01","26. Toilet paper, paper towels, handkerc","19476","04. Facial Tissues","19549","02. Kids","","","","","","","","","X",null,"D.12.03","Hair Care accessories","Hair rollers, curlers","","","","","","18587",{"$f":"_xlfn.TEXTJOIN(\"; \",TRUE,ZCDT_EXPORT_2[[#This Row],[Sub-Category]:[Segment 5]])","v":"Hair rollers, curlers"}]
["AH","Baltic CDT","U4","04. Non-Edibles","U4.03","03. Beauty & Personal Care","D.10.01","26. Toilet paper, paper towels, handkerc","19473","05. Zero waste","","","","","","","","","","","X",null,"D.12.03","Hair Care accessories","Hair rubbers, clips, pins","","","","","","18588",{"$f":"_xlfn.TEXTJOIN(\"; \",TRUE,ZCDT_EXPORT_2[[#This Row],[Sub-Category]:[Segment 5]])","v":"Hair rubbers, clips, pins"}]
["AH","Baltic CDT","U4","04. Non-Edibles","U4.04","04. Indirect Sourcing","F.01.01","01. Shopping bags","18335","01. Plastic bags","18339","01. Reusable bags","","","","","","","","","X",null,"F.01.01","Shopping bags","Plastic bags","Reusable bags","","","","","18339",{"$f":"_xlfn.TEXTJOIN(\"; \",TRUE,ZCDT_EXPORT_2[[#This Row],[Sub-Category]:[Segment 5]])","v":"Plastic bags; Reusable bags"}]
["AH","Baltic CDT","U4","04. Non-Edibles","U4.04","04. Indirect Sourcing","F.01.01","01. Shopping bags","18335","01. Plastic bags","18340","02. Disposable bags","","","","","","","","","X",null,"F.01.01","Shopping bags","Plastic bags","Disposable bags","","","","","18340",{"$f":"_xlfn.TEXTJOIN(\"; \",TRUE,ZCDT_EXPORT_2[[#This Row],[Sub-Category]:[Segment 5]])","v":"Plastic bags; Disposable bags"}]
["AH","Baltic CDT","U4","04. Non-Edibles","U4.04","04. Indirect Sourcing","F.01.01","01. Shopping bags","18336","02. Paper bags","","","","","","","","","","","X",null,"F.01.01","Shopping bags","Paper bags","","","","","","18336",{"$f":"_xlfn.TEXTJOIN(\"; \",TRUE,ZCDT_EXPORT_2[[#This Row],[Sub-Category]:[Segment 5]])","v":"Paper bags"}]
["AH","Baltic CDT","U4","04. Non-Edibles","U4.04","04. Indirect Sourcing","F.01.01","01. Shopping bags","18337","03. Textile bags","18351","01. Bags for F&V","","","","","","","","","X",null,"F.01.01","Shopping bags","Textile bags","Bags for F&V","","","","","18351",{"$f":"_xlfn.TEXTJOIN(\"; \",TRUE,ZCDT_EXPORT_2[[#This Row],[Sub-Category]:[Segment 5]])","v":"Textile bags; Bags for F&V"}]
["AH","Baltic CDT","U4","04. Non-Edibles","U4.04","04. Indirect Sourcing","F.01.01","01. Shopping bags","18337","03. Textile bags","18352","02. Textile shopping bags","","","","","","","","","X",null,"F.01.01","Shopping bags","Textile bags","Textile shopping bags","","","","","18352",{"$f":"_xlfn.TEXTJOIN(\"; \",TRUE,ZCDT_EXPORT_2[[#This Row],[Sub-Category]:[Segment 5]])","v":"Textile bags; Textile shopping bags"}]
["AH","Baltic CDT","U4","04. Non-Edibles","U4.04","04. Indirect Sourcing","F.01.01","01. Shopping bags","18338","04. Shopping boxes","","","","","","","","","","","X",null,"F.01.01","Shopping bags","Shopping boxes","","","","","","18338",{"$f":"_xlfn.TEXTJOIN(\"; \",TRUE,ZCDT_EXPORT_2[[#This Row],[Sub-Category]:[Segment 5]])","v":"Shopping boxes"}]
["AH","Baltic CDT","U4","04. Non-Edibles","U4.04","04. Indirect Sourcing","F.02.01","02. Loyalty articles","18639","01. Loyalty articles","","","","","","","","","","","X",null,"F.02.01","Loyalty articles","Loyalty articles","","","","","","18639",{"$f":"_xlfn.TEXTJOIN(\"; \",TRUE,ZCDT_EXPORT_2[[#This Row],[Sub-Category]:[Segment 5]])","v":"Loyalty articles"}]
["AH","Baltic CDT","U4","04. Non-Edibles","U4.04","04. Indirect Sourcing","F.02.01","02. Loyalty articles","19231","02. Kids Loyalty articles","","","","","","","","","","","X",null,"F.02.01","Loyalty articles","Kids Loyalty articles","","","","","","19231",{"$f":"_xlfn.TEXTJOIN(\"; \",TRUE,ZCDT_EXPORT_2[[#This Row],[Sub-Category]:[Segment 5]])","v":"Kids Loyalty articles"}]
["AH","Baltic CDT","U4","04. Non-Edibles","U4.04","04. Indirect Sourcing","F.02.01","02. Loyalty articles","19081","03. Donation articles","","","","","","","","","","","X",null,"F.02.01","Loyalty articles","Donation articles","","","","","","19081",{"$f":"_xlfn.TEXTJOIN(\"; \",TRUE,ZCDT_EXPORT_2[[#This Row],[Sub-Category]:[Segment 5]])","v":"Donation articles"}]

{"sheet":"Instructions","index":3,"n_rows":54,"n_cols":21,"rows_kept":54,"cut":false,"hidden":true,"merged":[[33,13,35,13],[22,17,29,17],[36,13,37,13],[39,13,47,13],[0,10,0,20],[2,17,21,17],[2,13,21,13],[22,13,29,13],[30,13,32,13],[30,17,32,17],[33,17,35,17],[0,4,0,7],[33,0,35,0],[22,0,29,0],[30,0,32,0],[22,9,29,9],[30,9,32,9],[33,9,35,9],[2,0,21,0],[2,9,21,9],[51,0,52,0],[36,9,37,9],[39,9,47,9],[48,9,50,9],[51,9,52,9],[36,0,37,0],[39,0,47,0],[48,0,50,0],[48,17,50,17],[51,17,52,17],[36,17,37,17],[39,17,47,17],[51,13,52,13],[48,13,50,13]]}
[null,null,null,null,"* Mandatory fields for following categories",null,null,null,null,null,"TRANSLATIONS"]
[null,"Field name","Restrictions","Instructions","Fresh","Dry","Nearfood","Nonfood",null,null,"Field name EE","Restrictions EE","Instructions EE",null,"Field name LV","Restrictions LV","Instructions LV",null,"Field name LT","Restrictions LT","Instructions LT"]
["Product information","Unit","automatic field","Unit to which Product Category applies to.",null,null,null,null,null,"Tooteinfo","Üksus","automaatne väli","Üksus, mille kohta tootekategooria kehtib.","Produkta informācija","Produkta struktūrvienība","Automātisks lauks","Produkta struktūrvienība, uz kuru attiecas produkta kategorija.","Produkto informacija","Vienetas","automatinis laukas","Vienetas, kuriam taikoma produkto kategorija."]
[null,"Product Category ID","automatic field","Product category ID as selected on first sheet of this form.","*","*","*","*",null,null,"Tootekategooria ID","automaatne väli","Tootekategooria ID on valitud vormi esimesel lehel",null,"Produkta kategorijas ID","Automātisks lauks","Produkta kategorijas ID jānorāda šīs formas pirmajā lapā.",null,"Produkto kategorija ID","automatinis laukas","Nurodykite kategoriją ID, kurioje siūlote naują prekę."]
[null,"Product Category","automatic field","Product category as selected on first sheet of this form.","*","*","*","*",null,null,"Tootekategooria","automaatne väli","Tootekategooria on valitud vormi esimesel lehel",null,"Produkta kategorija","Automātisks lauks","Produkta kategorija jānorāda šīs formas pirmajā lapā.",null,"Produkto kategorija","automatinis laukas","Nurodykite kategoriją, kurioje siūlote naują prekę."]
[null,"Category Tree ID","automatic field","Subcategory ID of proposed product.",null,null,null,null,null,null,"Kategooriapuu ID","automaatne väli","Pakutud toote alamkategooria ID.",null,"Kategoriju koka ID","Automātisks lauks","Apakškategorijas ID, kurai tiek sagatavots jauna produkta piedāvājums.",null,"Kategorijų medis ID","automatinis laukas","Kategoriją ID, kurioje siūlote naują prekę."]
[null,"Category Tree","pick from list","Please select subcategory of proposed product in order to see field types to be filled in.",null,null,null,null,null,null,"Kategooriapuu","vali nimekirjast","Vali pakutava toote alamkategooria. Vorm näitab, missugused väljad tuleb täita.",null,"Kategoriju koks","Izvēlieties no saraksta","Norādiet apakškategoriju, kurai tiek sagatavots jauna produkta piedāvājums. Formā tiks atzīmēti aizpildāmie lauki.",null,"Kategorijų medis","pasirinkite iš sąrašo","Nurodykite kategoriją, kurioje siūlote naują prekę."]
[null,"EAN","code","Indicate EAN code, which is printed on the Basic unit packaging. \nIn case EAN is not yet known - indicate vendor's article nr.","*","*","*","*",null,null,"EAN","number","Sisesta EAN kood, mis on prinditud baasühiku pakendile. \nJuhul kui EAN kood ei ole veel teada, sisesta hankija toote kood.",null,"EAN","Kods","Norādiet EAN kodu, kas ir uzdrukāts uz pamatvienības iepakojuma. \nJa EAN kods pagaidām nav zināms, norādiet piegādātāja artikula numuru.",null,"Prekės EAN kodas","kodas","Nurodykite EAN kodą, kuris atspausdintas ant pagrindinio gaminio pakuotės. \nJei EAN kodas nėra žinomas - įrašykite tiekėjo nurodytą prekės numerį."]
[null,"Article full name","text","Enter full product name.","*","*","*","*",null,null,"Toote nimetus","tekst","Sisesta toote täisnimi.",null,"Preces nosaukums","Teksts","Norādiet pilnu produkta nosaukumu.",null,"Prekės pilnas pavadinimas","tekstas","Įveskite pilną prekės pavadinimą."]
[null,"Additional EAN","code","Indicate EAN code, in case there is different code for DPA (travel packaging) and Basic Unit",null,null,null,null,null,null,"Täiendav EAN","number","Märkige EAN-kood, kui DPA (reisipakend) ja põhiüksuse kood on erinev",null,"Papildus EAN","Kods","Norādiet papildus EAN, ja ir atšķirīgs EAN kods uz preces un transporta iepakojuma",null,"Papildomas EAN","kodas","Nurodykite EAN kodą, jei skiriasi DPA (kelioninės pakuotės) ir pagrindinio vieneto kodai"]
[null,"Brand name","text","Enter products Brand name with CAPITAL LETTERS.\nBrand name: a product, line of products, or service bearing a widely known name used as a brand name.","*","*","*","*",null,null,"Bränd","tekst","Sisesta brändi nimi SUURTE TÄHTEDEGA.\nBrändi nimi: identiteet, mis eristab toodet või tootegruppi teistest samalaadsetest.\n",null,"Zīmols","Teksts","Norādiet preces zīmolu DRUKĀTIEM BURTIEM. \nZīmols: produkts vai produktu līnija, kas tiek atpazīta klientu vidū pēc nosaukuma jeb zīmola.",null,"Prekinis ženklas","tekstas","Įveskite prekinio ženklo pavadinimą DIDŽIOSIOMIS RAIDĖMIS."]
[null,"Producer","text","Enter producer's name.","*","*","*","*",null,null,"Tootja","tekst","Sisesta tootja nimi.",null,"Ražotājs","Teksts","Norādiet preces ražotāja pilnu nosaukumu un tā juridisko formu.",null,"Gamintojas","tekstas","Įveskite gamintojo pavadinimą."]
[null,"Vendor name","text","Enter vendor company name and its legal form.","*","*","*","*",null,null,"Hankija nimi","tekst","Sisesta hankija ettevõtte nimetus ja selle õiguslik vorm.",null,"Piegādātājs","Teksts","Norādiet piegādātāja uzņēmuma nosaukumu un tā juridisko formu.",null,"Tiekėjas","tekstas","Įveskite tiekėjo įmonės pavadinimą ir teisinį statusą."]
[null,"Country of origin","text","Indicate the country of origin of the item.","*","*",null,"*",null,null,"Päritolumaa","tekst","Sisesta toote päritolumaa.",null,"Izcelsmes valsts","Teksts","Norādiet preces izcelsmes valsti",null,"Kilmės šalis","tekstas","Nurodykite prekės kilmės šalį."]
[null,"Shelf life in days","number","Total shelf life is product validity in days that a product may be stored without becoming unfit for use, consumption, or sale.\nPlease indicate number of days.",null,null,"* ? CLARIFY",null,null,null,"Kogu eluiga päevades","number","Toote kogu eluiga näitab mitu päeva toode säilib, on müügiks kõlbulik ning tarbimiseks ohutu.\nMärkige toote kogu eluiga päevades.",null,"Derīguma termiņš (dienas)","Skaitlis","Derīguma termiņš ir ilgums dienās, kad produkts ir piemērotas lietošanai vai patērēšanai.",null,"Galiojimo trukmė","skaičius","Nurodykite bendrą prekės galiojimo laiką dienomis,\nkiek laiko produktas gali būti tinkamas naudoti, vartoti ar parduoti."]
[null,"Shelf life in days after opening packaging for weighted items","number","Total shelf life is product validity in days that a product may be stored without becoming unfit for use, consumption, or sale after opening packaging for weighted items.\nPlease indicate number of days.",null,null,null,null,null,null,"Kogu eluiga päevades \npärast kaalutud esemete pakendi avamist","number","Toote kogu eluiga näitab mitu päeva toode säilib, on müügiks kõlbulik ning tarbimiseks ohutu pärast kaalutud esemete pakendi avamist.\nMärkige toote kogu eluiga päevades.",null,"Derīguma termiņš (dienas) pēc sveramā iepakojuma atvēršanas","Skaitlis","Derīguma termiņš ir ilgums dienās dienās, kad produkts ir piemērotas lietošanai vai patērēšanai pēc sveramā iepakojuma atvēršanas.",null,"Galiojimo trukmė atidarius sveriamų prekės pakuotę","skaičius","Nurodykite bendrą prekės galiojimo laiką dienomis,\nkiek laiko produktas gali būti tinkamas naudoti, vartoti ar parduoti atidarius sveriamų prekės pakuotę."]
[null,"Need for storing temperature check","pick from list","Please select if this products needs to be stored in cotrolled temperature",null,null,null,null,null,null,"Vajadus ladustamistemperatuuri kontrollimiseks","vali nimekirjast","Valige, kas neid tooteid tuleb hoida kontrollitud temperatuuril",null,"Nepieciešama uzglabāšanas temperatūras kontrole","Izvēlieties no saraksta","Lūdzu, atlasiet, vai šie produkti ir jāuzglabā kontrolētā temperatūrā",null,"Būtina patikrinti laikymo temperatūrą","pasirinkite iš sąrašo","Pasirinkite, ar šie produktai turi būti laikomi kontroliuojamoje temperatūroje"]
[null,"Minimum storing temperature","number","Indicate Minimum temperature in °C",null,null,null,null,null,null,"Minimaalne säilitustemperatuur","number (°C)","Märkige minimaalne temperatuur °C",null,"Minimālā uzglabāšanas temperatūra","Skaitlis (°C)","Norādiet minimālo temperatūru °C",null,"Minimali laikymo temperatūra","skaičius (°C)","Nurodykite minimalią temperatūrą °C"]
[null,"Maximum storing temperature","number","Indicate Maximum temperature in °C",null,null,null,null,null,null,"Maksimaalne säilitustemperatuur","number (°C)","Märkige maksimaalne temperatuur °C",null,"Maksimālā uzglabāšanas temperatūra","Skaitlis (°C)","Norādiet maksimālo temperatūru °C",null,"Maksimali laikymo temperatūra","skaičius (°C)","Nurodykite maksimalią temperatūrą °C"]
[null,"Purchase price for one unit","without VAT","Indicate the purchase price of the item without VAT for 1 unit of the item.","*","*","*","*",null,null,"Ühe ühiku ostuhind","KM-ta","Sisesta ühe toote ostuhind ilma käibemaksuta.",null,"Iepirkuma cena par vienu vienību","Bez PVN","Norādiet iepirkuma cenu bez PVN par 1 preces vienību.",null,"Prekės pirkimo kaina, 1 vnt.","be PVM","Nurodykite prekės pirkimo kainą, 1 vnt. be PVM."]
[null,"Purchase price currency","text","Indicate the applicable currency for purchase price (e.g. EUR, USD, SEK)",null,null,null,null,null,null,"Ostuhinna valuuta","tekst","Märkige ostuhinna jaoks kohaldatav valuuta (nt EUR, USD, SEK)",null,"Iepirkuma cenas valūta","Teksts","Norādiet iepirkuma cenai piemērojamo valūtu (piem., EUR, USD, SEK)",null,"Prekės pirkimo kainos valiuta","tekstas","Nurodykite taikomą pirkimo kainos valiutą (pvz., EUR, USD, SEK)"]
[null,"Purchase price for 1 KG/ 1L","automatic field","Automatic calculation of indicated purchase price for 1 KG/ 1 L of product.",null,null,null,null,null,null,"1KG/1L ostuhind","automaatne väli","Automaatne arvutus, mis näitab ostuhinda 1KG/1L kohta.",null,"Iepirkuma cena par 1KG / 1L","Automātisks lauks","Automātisks norādītās iepirkuma cenas aprēķins par 1L /1KG.",null,"Prekės pirkimo kaina, 1 kg/1l","automatinis laukas","Prekės pirkimo kaina 1kg/1l bus apskaičiuota automatiškai."]
["Basic and transport unit data","One unit weight, volume or quantity","number","Enter weight (in KG) or volume (in L) for one selling unit of product. \nIn case one selling unit of product is not sold in KG or L, enter 1 here.","*","*","*","*",null,"Baas- ja transpordiühiku andmed","Baasühiku kaal, maht või arv","number","Sisesta ühe baasühiku kaal (kilogrammides) või maht (liitrites).\nKui toodet ei müüda kaalu või mahu järgi,  ja seda müüakse tükkides, siis palun sisesta lahtrisse 1.","Pamatvienības un transporta vienības dati","Produkta svars (KG), tilpums (L) vai daudzums (gab.)","Skaitlis","Norādiet preces svaru (kilogramos) vai tilpumu (litros). \nJa prece netiek tirgota kilogramos vai litros, lūdzu norādiet 1.","Transportavimo vienetų duomenys","Prekės vieneto svoris, dydis ar kiekis","skaičius","Įveskite parduodamos prekės vieneto svorį (KG) arba tūrį (L). \nJei prekė neparduodama KG arba L, čia nurodykite -  1."]
[null,"Unit of measure: weight (KG), volume (L) or quantity (PC)","pick from list","Choose unit of measure from list: \nKG in case product is sold by any weight in kilograms; \nL in case product is sold by any volume in litres;\npiece (PC) in case the product is sold by pieces.","*","*","*","*",null,null,"Baasühiku nimetus: kaal (KG), maht (L) või kogus (TK)","vali nimekirjast","Vali nimekirjast baasühiku nimetus: \nKG kui toode on kaalutav ja seda on võimalik müüa muutuva kaaluga; \nL kui toodet on võimalik müüa liitrites; \nTK kui toodet on võimalik müüa tükitootena.",null,"Produkta svara mērvienība (KG, L, gab.)","Izvēlieties no saraksta","Izvēlies no saraksta preces svara mērvienību:\n KG, ja produkts tiek tirgots jebkādā daudzumā kilogramos; \n L, ja produkts tiek tirgots jebkādā daudzumā litros;\n gab., ja produkts tiek tirgots gabalos.\n",null,"Prekės matavimo vienetas: svoris (kg), talpa (l) ar vienetai (vnt.)","pasirinkite iš sąrašo","Pasirinkite matavimo vienetą iš sąrašo: \n- kg, jei prekė parduodama bet kokiu kiekiu kilogramais, \n- l, jei prekė parduodama bet kokiu kiekiu litrais, \n- vnt., jei prekė parduodama vienetais."]
[null,"Retail ready packaging","pick from list","Retail Ready Packaging or Shelf Ready Packaging is the packaging, \nboxes or display units that can be placed directly on shelf or the shop floor \nwithout being unpacked (or that can be unpacked and placed with only little effort).\nChoose \"Yes\" if offered product has retail ready packaging. \nChoose \"No\" if offered product doesn't have such packaging. ",null,null,null,null,null,null,"Riiuldamiseks sobiv kast","vali nimekirjast","Riiuldamiseks sobiv pakend (kast, väljapanek) on pakend, mille saab kohe paigaldada riiulisse või \nkaupluse põrandale ilma seda lahti pakkimata. \nVali nimekirjast \"Jah\" kui toode on pakendatud riiulisse paigutamiseks sobivasse kasti. \nVali nimekirjast \"Ei\" kui tootel ei ole sellist kasti.",null,"Tirdzniecībai gatavs iepakojums","Izvēlieties no saraksta","Tirdzniecībai gatavs iepakojums ir iepakojums vai kastes, kuras var ievietot tieši uz \nplaukta vai veikala grīdas, neizsaiņojot (vai kuras var izpakot un ievietot tikai ar nelielu piepūli). \nNorādiet \"Jā\", ja piedāvātai precei ir tirdzniecībai gatavs iepakojums. Norādiet \"Nē\", ja piedāvātai precei nav šāda iepakojuma.",null,"Pardavimui lentynoje skirta speciali pakuotė","pasirinkite iš sąrašo","Mažmeninei prekybai skirta pakuotė, be papildomų pakavimo pastangų tinkama naudoti lentynoms arba ant parduotuvės grindų. Pasirinkite iš sąrašo:\n- TAIP, jeigu prekė turi specialią pardavimui iš lentynos skirtą pakuotę (RRP),\n- NE, jeigu prekė neturi specialios, pardavimui iš lentynos skirtos pakuotės."]
[null,"Basic unit dimensions","length (cm)","Enter the length of product in cm",null,null,null,null,null,null,"Baasühikute mõõtmed","pikkus (cm)","Sisestage toote pikkus (cm)",null,"Pamatvienības dimensijas (izmēri)","garums (cm)","Ievadiet produkta garumu (cm)",null,"Pagrindiniai vieneto matmenys","ilgis (cm)","Įveskite gaminio ilgį (cm)"]
[null,null,"depth (cm)","Enter the depth of product in cm",null,null,null,null,null,null,null,"sügavus (cm)","Sisestage toote sügavus (cm)",null,null,"dziļums (cm)","Ievadiet produkta dziļumu (cm)",null,null,"gylis (cm)","Įveskite gaminio gylį (cm)"]
[null,null,"height (cm)","Enter the height of product in cm",null,null,null,null,null,null,null,"kõrgus (cm)","Sisestage toote kõrgus (cm)",null,null,"augstums (cm)","Ievadiet produkta augstumu (cm)",null,null,"aukštis (cm)","Įveskite gaminio aukštį (cm)"]
[null,"Number of Basic units in one DPA","number","Enter amount of selling units in one transport packaging (DPA) of product.","*","*","*","*",null,null,"Baasühikute arv transpordipakendis","number","Sisesta baasühikute arv transpordipakendis (DPA).",null,"Pamatvienību skaits transporta iepakojumā","Skaitlis","Norādiet preces pamatvienību skaitu transporta iepakojumā jeb tā saucamajā D-pakā.",null,"Prekės vnt. skaičius vienoje transportavimo pakuotėje (DPA)","skaičius","Nurodykite prekės vienetų skaičių, telpančių į transportavimui skirtą pakuotę (DPA)."]
[null,"One DPA weight (KG)","automatic field","Automatic calculation of weight in KG of one transport packaging (DPA).","*","*","*","*",null,null,"Ühe transpordipakendi (DPA) kaal (KG)","automaatne väli","Automaatne arvutus. Toodete arvu DPA-s ja üksiktoote kaalu korrutis.",null,"DPA (transporta vienības) svars (KG)","Automātisks lauks","Automātisks vienas DPA (Transporta vienības) svara aprēķins kilogramos.",null,"Vienos transportavimo pakuotės (DPA) svoris (KG)","automatinis laukas","Automatinis vienos transportavimo pakuotės (DPA) svorio (KG) skaičiavimas. "]
["Availability and delivery","Product availability, date or period","date or period in mm.yyyy format","Indicate from which month (from mm.yyyy) or for what time period (mm.yyyy-mm.yyyy) \nthe product will be available for orders",null,null,null,null,null,"Saadavus ja tarne","Toode saadaval (kuu või periood)","kuupäev või periood kk.aaaa formaadis","Märkige mis kuust (kk.aaaa) alates või mis perioodil (kk.aaaa-kk.aaaa) on toode tellimusteks saadaval.","Produkta pieejamība un piegāde","Plānotais produkta ieviešanas datums tirgū","Datums","Norādiet no kura mēneša (mm.gggg.), vai kādu laika periodu (mm.gggg.-mm.gggg.) \nprodukts būs pieejams pasūtījumiem.","Produkto prieinamumas ir pristatymas","Prekės prieinamumas, data arba laikotarpis","data arba laikotarpis (mėn./metai formatu)","Nurodyti laikotarpį (mėn./metai), nuo kada prekę galite \npradėti tiekti arba kokiu laikotarpiu prekę bus galima užsisakyti (mėn./metai - mėn./metai)."]
[null,"Local or Baltic offer?","pick from list","Please select to which countries it's possible to deliver offered product. \nIf more than one country is selected, supplier should be ready to deliver product to Baltic\nwarehouse and provide product labelling in corresponding languages.",null,null,null,null,null,null,"Kohalik või Baltikumi pakkumine?","vali nimekirjast","Valida, millistesse Baltikumi riikidesse on võimalik toodet tarnida. \nValides rohkem kui ühe riigi peaks hankija olema valmis toodet tarnima \nBaltikumi lattu ja tagama toote märgistuse kõikides vastavates keeltes.",null,"Vietējai vai Baltijas piedāvājums?","Izvēlieties no saraksta","Lūdzu atlasiet valstis, uz kurām ir iespējams piegādāt piedāvāto produktu. \nJa tiek izvēlētas vairāk nekā viena valsts, piegādātājam jābūt gatavam piegādāt produktu \nBaltijas noliktavai un nodrošināt produkta marķējumu attiecīgajās valodās. ",null,"Vietinis ar Baltijos šalių pasiūlymas?","pasirinkite iš sąrašo","Nurodykite, į kurias šalis galėsite pristatyti siūlomą prekę.\n Jei pasirinkta daugiau nei viena šalis, tiekėjas turėtų būti pasirengęs pristatyti prekę į \nBaltijos šalių sandėlį ir pateikti gaminių etiketes atitinkamomis kalbomis."]
[null,"Incoterms","text","To be filled only by Import suppliers. Indicate Incoterms for the product:\n- for DAP: enter text \"DAP Rimi DC\". In such case supplier is responsible for product delivery to one of Rimi DC;\n- for FCA: enter text \"FCA\" and add city and country, from where products are ready for shipment. Example: FCA Hamburg, Germany","*","*",null,null,null,null,"Tarneklausel","tekst","Täita ainult import hankijatel. \nMärkige toote tarnetingimused:\n- DAP: sisesta lahtrisse tekst \"DAP Rimi DC\" kui hankija on vastutav toote transpordi eest Rimi lattu;\n- FCA: sisesta lahtrisse tekst \"FCA\" ja laadimisriik ning linn kui Rimi peab organiseerima transpordi lattu. Näiteks: FCA Hamburg, Saksamaa",null,"Starptautiskie tirdzniecības noteikumi (Incoterms)","Teksts","Tikai Importa piegādātājiem: \nNorādiet produkta starptautiskos tirdzniecības noteikumus (Incoterms):\n-Terminam DAP: norādiet \"DAP Rimi DC\". Šādā gadījumā piegādātājs ir atbildīgs par preču piegādi uz Rimi noliktavu.\n-Terminam FCA: norādiet \"FCA\", pilsētu un valsti, no kurienes produkts ir gatavs izsūtīšanai. Piemēŗam: FCA, Hamburga, Vācija,",null,"Prekės pristatymo sąlygos","tekstas","Pildo tik importo prekių tiekėjai. \nNurodykite prekės pristatymo sąlygas:\n- DAP: nurodykite \"DAP Rimi DC\", jei siūlomą prekę pristatote į vieną iš Rimi sandėlių,\n- FCA: nurodykite FCA, jei nepristatote prekės į Rimi sandėlius. \nPapildomai pridėkite miestą ir šalį, iš kurios prekė yra paruošta išvežimui, pvz.: FCA, Hamburgas, Vokietija."]
["Product replacement","Is the new item replacing some item from current assortment?","pick from list","Pick from list:\n- if new item is going to replace some item from current Rimi assortment - choose \"Yes\";\n- if new item is proposed on top of, additionally to current Rimi assortment - choose \"No\"","*","*","*","*",null,"Toote asendamine","Kas uus toode vahetab välja mõne sortimendis oleva toote?","vali nimekirjast","Vali nimekirjast:\n\"Jah\" - kui toode vahetab välja mõne sortimendis oleva toote (üks-ühele vahetus);\n\"Ei\" - kui toode pakutakse Rimi sortimenti lisaks.","Produkta aizvietošana","Vai šī ir aizvietotājprece kādam citam sortimentā esošam produktam?","Izvēlieties no saraksta","Izvēlieties no saraksta:\n- Ja šī ir kāda cita sortimenta produkta aizvietotājprece, izvēlieties \"Jā\"\n-Ja šī prece ir sortimenta papildinājums, izvēlieties \"Nē\"","Produkto pakeitimas","Ar siūloma prekė keičia, šiuo metu jau esančią asortimente?","pasirinkite iš sąrašo","Pasirinkite iš sąrašo:\n- Taip, jei nauja siūloma prekė, keičia šiuo metu esančią Rimi asortimente, prekę,\n- Ne, jei siūlote papildomai įvesti naują prekę į Rimi asortimentą."]
[null,"Product EAN to be delisted from assortment","code","Fill in ONLY in case of replacement: enter EAN code of the product, which should be delisted from current Rimi assortment.\nIf the item is not a replacement, this will field is greyed out and should not be filled.",null,null,null,null,null,null,"Toote EAN kood mida soovitakse sortimendist välja võtta","kood","Sisesta sortimendist väljamineva toote EAN kood AINULT siis kui uus toode on pakutud \nüks-ühele vahetusena. Siia lahtrisse sisestatud EAN-iga toode eemaldatakse Rimi sortimendist. \nKui uus toode ei ole pakutud vahetusena, siis jätta antud lahter tühjaks.",null,"Preces, kura iziet no sortimenta -EAN","Kods","Aizpildiet šo lauku tikai tad, ja šis produkts ir aizvietotājprece.\n Norādiet no sortimenta izejošās preces EAN kodu.\nJa šī nav aizvietotājprece, lauks iekrāsosies pelēks un nav jāpilda.",null,"Prekės EAN kodas, kurią siūloma išimti iš asortimento","kodas","Užpildykite tik jei siūlote pakeisti prekę: įveskite EAN kodą prekės, kurią siūlote išimti iš esamo Rimi asortimento.\nJei siūloma prekė nėra skirta pakeitimui, laukas taps pilkas ir jo pildyti nereikia."]
[null,"Product name to be delisted from assortment","text","Fill in ONLY in case of replacement: enter full name of the product, which should be delisted from current Rimi assortment.\nIf the item is not a replacement, this will field is greyed out and should not be filled.",null,null,null,null,null,null,"Toote nimetus mida soovitakse sortimendist välja võtta","tekst","Sisesta sortimendist väljamineva toote nimetus AINULT siis kui uus toode on pakutud \nüks-ühele vahetusena. Siia lahtrisse sisestatud toode eemaldatakse Rimi sortimendist.\n Kui uus toode ei ole pakutud vahetusena, siis jätta antud lahter tühjaks.",null,"Preces, kura iziet no sortimenta - nosaukums","Teksts","Aizpildiet šo lauku tikai tad, ja šis produkts ir aizvietotājprece. \nNorādiet no sortimenta izejošās preces nosaukumu. \nJa šī nav aizvietotājprece, lauks iekrāsosies pelēks un nav jāpilda.",null,"Prekės pavadinimas, kurią siūloma išimti iš asortimento","tekstas","Užpildykite tik jei siūlote pakeisti prekę: įveskite prekės pilną pavadinimą,\n kurią siūlote išimti iš esamo Rimi asortimento. Jei siūloma prekė nėra skirta pakeitimui, laukas taps pilkas ir jo pildyti nereikia."]
["Product marketing","Marketing support","pick from list","Indicate if any marketing support is planned for this product","*","*","*","*",null,"Toote turundus","Turundustugi","vali nimekirjast","Vali nimekirjast kas tootele on planeeritud turundustugi.","Produkta mārketings","Mārketinga atbalsts","Izvēlieties no saraksta","Norādiet, vai šim produktam ir plānots mārketinga atbalsts.","Produkto marketingas","Marketinginis palaikymas","pasirinkite iš sąrašo","Nurodykite ar planuojamas marketinginis palaikymas siūlomai prekei. "]
[null,"Comments about marketing support","text","If marketing support is planned, describe in short what kind of activities are planned.",null,null,null,null,null,null,"Kommentaarid turundustoe kohta","tekst","Kui tootele on planeeritud turundustugi, siis palun täpsusta konkreetsed tegevused.",null,"Komentāri par mārketinga atbalstu","Teksts","Ja mārketinga atbalsts ir plānots, aprakstiet, kādas aktivitātes ir ieplānotas.",null,"Pastabos apie marketinginį palaikymą","tekstas","Jeigu planuojamas marketinginis palaikymas siūlomai prekei,\n trumpai įvardinkite aktyvumus ir planuojamus veiksmus."]
[null,"Contact\n(E-Mail)","text","Enter contact email address, which Rimi will use for informing about acceptance or rejection of this offer.","*","*","*","*",null,null,"Kontakt*\n(e-mail)","tekst","Sisesta e-maili aadress, kuhu Rimi annab tagasisidet toote pakkumise osas.",null,"Kontaktpersonas e-pasts","Teksts","Norādiet e-pasta adresi, kuru izmantot atbildes nosūtīšanai \nsaistībā ar lēmumu par preces piedāvājuma apstiprināšanu vai noraidīšanu.",null,"Kontaktinis el. paštas","tekstas","Nurodykite el. pašto adresą, kuriuo turi būti informuojama, \napie šio pasiūlymo tinkamumą ar ne."]
["Special product marks","GMO mark","pick from list","Indicate if the product contains genetically modified organisms or if the product is produced from materials containing GMO.",null,null,null,null,null,"Toote erimärgistused","Sisaldab GMO-d","vali nimekirjast","Märgi kas toode sisaldab geneetiliselt muundatud organisme,\n või toode on toodetud toorainest, mis sisaldab GMO-d.","Specifiskas produkta atzīmes","Produkts satur ĢMO","Izvēlieties no saraksta","Norādiet, vai produkts satur ģenētiski modificētus organismus \nvai produkts tiek ražots no izejvielām, kas satur ĢMO.","Specifinis produktų žymėjimas","GMO žyma","pasirinkite iš sąrašo","Nurodykite, ar produkte yra genetiškai modifikuotų \norganizmų, ar produktas pagamintas iš žaliavų, turinčių GMO."]
[null,"Gluten-free","pick from list","Product packaging must indicate that product contains no more than \n20 mg/kg of gluten or that product is gluten free (does not contain gluten).",null,null,null,null,null,null,"Gluteenivaba","vali nimekirjast","Toote pakendil peab olema märgitud, et toode ei sisalda rohkem \nkui 20mg/kg gluteeni, või toode on gluteenivaba (ei sisalda gluteeni).",null,"Nesatur lipekli","Izvēlieties no saraksta","Uz produkta iepakojuma ir jābūt norādītam, ka produkts nesatur vairāk kā \n20 mg lipekļa kilogramā vai, ka produkts nesatur lipekli.",null,"Be glitimo","pasirinkite iš sąrašo","Prekės pakuotėje turi būti nurodyta, kad sudėtyje glitimo \nyra ne daugiau kaip 20 mg/kg arba kad prekės sudėtyje visai nėra glitimo."]
[null,"Sugars-free","pick from list","Nutrition facts label must indicate that product contains no more than 0,5 g of sugars per 100 g or 100 ml.",null,null,null,null,null,null,"Suhkruvaba","vali nimekirjast","Koostisosades peab olema märgitud, et toode ei sisalda üle 0,5g suhkruid 100g või 100ml toote kohta.",null,"Bez cukura","Izvēlieties no saraksta","Uzturvērtību tabulā ir jābūt norādītam, ka produkts nesatur vairāk kā 0,5 g cukura uz 100 g vai 100 ml.",null,"Be cukraus","pasirinkite iš sąrašo","Prekės pakuotėje, sudėties dalyje turi būti nurodyta, \nkad 100 g arba 100 ml gaminio cukraus yra ne daugiau kaip 0,5 g."]
[null,"Lactose-free","pick from list","Product packaging must indicate that lactose content in the product is not greater than \n2,5 mg/100 kJ (10 mg/100 kcal) or that product is lactose free (does not contain lactose).",null,null,null,null,null,null,"Laktoosivaba","vali nimekirjast","Toote pakendil peab olema märgitud, et toote laktoosisisaldus ei ole \nkõrgem kui 2,5mg/100kJ (10mg/100kcal), või toode on laktoosivaba (ei sisalda laktoosi).",null,"Nesatur laktozi","Izvēlieties no saraksta","Uz produkta iepakojuma ir jābūt norādītam, ka produkts nesatur laktozi vai,\n ka laktozes saturs produktā nepārsniedz 2,5 mg/100 kJ (10 mg/100 kcal).",null,"Be laktozės","pasirinkite iš sąrašo","Prekės pakuotėte turi būti nurodyta, kad laktozės kiekis sudėtyje\n yra ne daugiau kaip 2,5 mg/100kj (arba 5 mg/ 100 kcal) arba kad prekės sudėtyje visai nėra laktozės."]
[null,"Dairy-free","pick from list","Dairy free mark must be indicated on the product packaging.",null,null,null,null,null,null,"Piimavaba","vali nimekirjast","Toode peab olema märgitud piimavabaks ainult juhul kui sama märge on olemas ka pakendil.",null,"Bez piena","Izvēlieties no saraksta","Uz produkta iepakojuma ir jābūt norādītam, ka produkts nesatur pienu.",null,"Be pieno","pasirinkite iš sąrašo","Prekės pakuotėje turi būti nurodyta, kad sudėtyje nėra pieno baltymo."]
[null,"Vegetarian","pick from list","Product packaging must indicate that product is suitable for vegetarians.",null,null,null,null,null,null,"Toode sobib vegetaarlastele","vali nimekirjast","Toode peab olema märgitud vegetaarlastele sobivaks ainult juhul kui sama märge on olemas ka pakendil.",null,"Piemērots veģetāriešiem","Izvēlieties no saraksta","Uz produkta iepakojuma ir jābūt norādītam, ka produkts ir piemērots veģetāriešiem.",null,"Tinka vegetarams","pasirinkite iš sąrašo","Prekės pakuotėje turi būti nurodyta, kad prekė tinkama vegetarams vartoti."]
[null,"Vegan","pick from list","Product packaging must indicate that product is suitable for vegans.",null,null,null,null,null,null,"Toode sobib veganitele","vali nimekirjast","Toode peab olema märgitud veganitele sobivaks ainult juhul kui sama märge on olemas ka pakendil.",null,"Piemērots vegāniem","Izvēlieties no saraksta","Uz produkta iepakojuma ir jābūt norādītam, ka produkts ir piemērots vegāniem.",null,"Tinka veganams","pasirinkite iš sąrašo","Prekės pakuotėje turi būti nurodyta, kad prekė tinkama veganams vartoti."]
[null,"Animal milk type","pick from list","Product packaging must indicate from which animal milk type product is produced.\nIf more than one milk type is used, please choose approriate combination in drop-down list.",null,null,null,null,null,null,"Loomset päritolu piima liik","vali nimekirjast","Pakendil peab olema märgitud millise looma piimaga on tegemist, millest toode on valmistatud.\n Kui toote valmistamisel on kasutatud rohkem kui ühe looma piima, siis palun vali nimekirjast sobiv variant.",null,"Dzīvnieka piena veids","Izvēlieties no saraksta","Uz produkta iepakojuma ir jābūt norādītam dzīvnieku piena veidam, \nkas ir izmantots produkta pagatavošanā. \nJa pagatavošanā tiek izmantots vairāk kā viens piena veids, lūdzu izvēlieties atbilstošo kombināciju.",null,"Gyvūlinės kilmės pienas","pasirinkite iš sąrašo","Prekės pakuotėje turi būti nurodyta kokios rūšies pieno baltymo \nyra prekės sudėtyje. Jeigu yra daugiau nei vienos rūšies pieno baltymų, nurodykite pasirinkdami iš sąrašo, kelias rūšis."]
[null,"Rimi Good for you","pick from list","Indicate if product corresponds to \"Rimi Good for you\" product criteria. \nCriteria are developed on the basis of Baltic and Nordic Nutrition Recommendations, \nNordic Keyhole and ICA Gott liv criteria. For existing Rimi suppliers the criteria can be found in following iRimi links:\nEE: https://irimi.rimibaltic.com/cms/ee/pages/view/1344\nLV: https://irimi.rimibaltic.com/cms/lv/pages/view/1332\nLT: https://irimi.rimibaltic.com/cms/lt/pages/view/1333\nSuppliers without access to iRimi can contact Category Manager or Assistant to receive more information.",null,null,null,null,null,null,"Vastab \"Rimi toitumisnõustaja soovitab\" kriteeriumitele","vali nimekirjast","Vali nimekirjast kas toode vastab \"RIMI toitumisnõustaja soovitab\" kriteeriumitele. \nKriteeriumid on välja töötatud tuginedes Baltikumi ja Põhjamaade toitumissoovitustele, Nordic Keyhole ja ICA Gott liv kriteeriumitele.\n\"Rimi toitumisnõustaja soovitab\" kriteeriumid on IRimi kasutajale leitavad siit:\nEE: https://irimi.rimibaltic.com/cms/ee/pages/view/1344",null,"Rimi - Labākai dzīvei","Izvēlieties no saraksta","Norādiet, ja produkts atbilst \"Rimi Labākai Dzīvei\"kritērijiem. \nKritēriji ir izstrādāti pamatojoties uz Baltijas un Ziemeļvalstu ieteikumiem par uzturu\n, Nordic Keyhole un ICA Gott liv kritērijiem. \nEsošie Rimi piegādātāji kritērijus var atrast šajā iRimi saitē: \nhttps://irimi.rimibaltic.com/cms/lv/pages/view/1332.\nJa vēl neesat Rimi piegādātājs, vairāk par kritērijiem varat uzzināt sazinoties ar noteiktās kategorijas vadītāju vai asistentu.",null," Rimi Rinkis Sveikiau","pasirinkite iš sąrašo","Nurodykite ar prekė atitinka Rimi Rinkis Sveikiau kriterijus\n Kriterijai yra sukurti remiantis Baltijos ir Šiaurės šalių mitybos rekomendacijomis, „Nordic Keyhole“ ir „ICA Gott liv“ kriterijais. \nEsami tiekėjai kriterijus gali rasti šioje „iRimi“ nuorodoje:\nhttps://irimi.rimibaltic.com/cms/lt/pages/view/1333\nTiekėjai, neturintys prieigos prie „iRimi“, gali susisiekti su produkto vadovu ar asistentu."]
["Product certification","Organic","pick from list","EU Regulation 834/2007: Organic (Ecological/Biological) - applicable only to on organic food and F&V products. \nProduct have special mark on the label and comply to the  EU Regulation 834/2007 requirements.",null,null,null,null,null,"Toote sertifikaadid","Orgaaniline toode","vali nimekirjast","EL regulatsioon 834/2007: Mahe (Öko/Bio) - kasutatav ainult mahe toitude,\n ning puuviljade ja juurviljade puhul. \nToodetel peab olema spetsiaalne märk pakendil ja nad vastavad EL regulatsiooni 834/2007 nõuetele.","Produkta sertifikācija","Bioloģisks produkts","Izvēlieties no saraksta","ES Regula 834/2007: Bioloģisks - attiecināms tikai uz bioloģiskās lauksaimniecības pārtiku,\n augļiem un dārzeņiem. Produktiem ir attiecīga norāde marķējumā,\n kas atbilst ES Regulā 834/2007 noteiktajām prasībām.","Produkto sertifikavimas","Ekologiškas","pasirinkite iš sąrašo","Pažymėkite tik tuo atveju, jeigu prekės etiketėje yra specialus žymėjimas \nir jis atitinka ES reglamento 834/2007 reikalavimus arba ES reglamentas 834/2007:\nekologiškas (ekologinis/ biologinis) - taikomas tik ekologiškam maistui ar vaisių ir daržovių produktams. "]
[null,"Environmental","pick from list","For certified products choose respective certificate.",null,null,null,null,null,null,"Keskkonnasõbralik toode","vali nimekirjast","Sertifitseeritud toote puhul vali nimekirjast sobiv sertifikaat.",null,"Saudzīgs videi","Izvēlieties no saraksta","Sertificētiem produktiem izvēlieties atbilstošo sertifikātu.",null,"Draugiškas aplinkai","pasirinkite iš sąrašo","Pažymėkite tik tuo atveju, jeigu siūloma prekė turi atitinkamus sertifikatus."]
[null,"Ethical","pick from list","For certified products choose respective certificate.",null,null,null,null,null,null,"Eetiline toode","vali nimekirjast","Sertifitseeritud toote puhul vali nimekirjast sobiv sertifikaat.",null,"Ētisks","Izvēlieties no saraksta","Sertificētiem produktiem izvēlieties atbilstošo sertifikātu.",null,"Etiškas","pasirinkite iš sąrašo","Pažymėkite tik tuo atveju, jeigu siūloma prekė turi atitinkamus sertifikatus."]
["Wine guide","Wine colour","pick from list","Pick from list the colour of the wine.",null,null,null,null,null,"Juhend veinidele","Veini värvus","vali nimekirjast","Vali nimekirjast veini värvus.","Vīna katalogs","Vīna krāsa","Izvēlieties no saraksta","Izvēlies no saraksta vīna krāsu.","Vyno gidas","Vyno spalva","pasirinkite iš sąrašo","Pasirinkite iš sąrašo vyno spalvą."]
[null,"Wine taste","pick from list","Pick from list the taste of wine.",null,null,null,null,null,null,"Veini maitse","vali nimekirjast","Vali nimekirjast veini maitse.",null,"Vīna garša","Izvēlieties no saraksta","Izvēlies no saraksta vīna garšas īpašības.",null,"Vyno skoninės savybės","pasirinkite iš sąrašo","Pasirinkite iš sąrašo vyno skonį."]
[null,"Comments","text","Add any important information, which is not covered by other fields.\nFor Nonfood categories only: Provide product description.",null,null,null,null,null,null,"Kommentaarid","tekst","Lisa siia oluline info, mis ei ole eelnevates lahtrites kajastatud.\nTööstuskaupade (Nonfood) puhul lisa toote kirjeldus.",null,"Komentāri","Teksts","Pievienojiet citu svarīgu informāciju (ja tāda ir), kas netika iekļauta citos informāčijas laukos. \nTikai Nepārtikas kategorijām: norādiet produkta aprakstu.",null,"Komentarai","tekstas","Nurodykite kitą svarbią informaciją apie prekę, kuri dar nebuvo paminėta. \nNe maisto prekėms: pateikite prekės aprašymą."]

{"sheet":"Main Page","index":4,"n_rows":139,"n_cols":20,"rows_kept":139,"cut":false,"hidden":false,"merged":[[1,1,1,2]]}
[null,null,null,null,null,null,"Only grouping",null,null,null,"Active range for Categories",null,"Full mapping"]
[null,{"$f":"C16","v":"Welcome to Rimi New Item Proposal Form!"},null,null,null,null,"Grouping","Grouping (translation)","Sorted categories (for Dropdown)",null,"Filtered categories",null,"Grouping","ID","Category name","ID & Name","Translation ID & name","Translation Name","Group translation name","Unit translation name"]
[null,{"$f":"C17","v":"1. Please select language:"},null,null,null,null,"Alcohol",{"$f":"IFERROR(_xlfn.XLOOKUP(MAINPAGE_COUNTRY,Table6[[#Headers],[EE]:[LT]],_xlfn.XLOOKUP(Grouping[[#This Row],[Grouping]],Table6[EN],Table6[[EE]:[LT]])),Grouping[[#This Row],[Grouping]])","v":"Alcohol"},{"$f":"_xlfn._xlws.SORT(Grouping[Grouping (translation)])","v":"Alcohol"},null,{"$f":"_xlfn._xlws.SORT(_xlfn._xlws.FILTER(CDT_Mapping[Translation Name],CDT_Mapping[Group translation name]=C5,CDT_Mapping[Translation Name]))","v":"Activity toys"},null,"Alcohol","C.01.01","Bitter drinks, liquors",{"$f":"CDT_Mapping[[#This Row],[ID]]&\" \"&CDT_Mapping[[#This Row],[Category name]]","v":"C.01.01 Bitter drinks, liquors"},{"$f":"IFERROR(_xlfn.XLOOKUP(\"CDT \"&MAINPAGE_COUNTRY,Table7[[#Headers],[CDT EN]:[CDT LT]],_xlfn.XLOOKUP(CDT_Mapping[[#This Row],[ID]],Table7[CDT ID],Table7[[CDT EN]:[CDT LT]])),CDT_Mapping[[#This Row],[ID & Name]])","v":"C.01.01 Bitter drinks, vermouth, liquors"},{"$f":"RIGHT(CDT_Mapping[[#This Row],[Translation ID & name]],LEN(CDT_Mapping[[#This Row],[Translation ID & name]])-8)","v":"Bitter drinks, vermouth, liquors"},{"$f":"IFERROR(_xlfn.XLOOKUP(CDT_Mapping[[#This Row],[Grouping]],Grouping[Grouping],Grouping[Grouping (translation)]),CDT_Mapping[[#This Row],[Grouping]])","v":"Alcohol"},{"$f":"IFERROR(TRIM(RIGHT(_xlfn.XLOOKUP(CDT_Mapping[[#This Row],[ID]],ZCDT_EXPORT[Category Id],ZCDT_EXPORT[Group],\"\"),LEN(_xlfn.XLOOKUP(CDT_Mapping[[#This Row],[ID]],ZCDT_EXPORT[Category Id],ZCDT_EXPORT[Group],\"\"))-FIND(\". \",_xlfn.XLOOKUP(CDT_Mapping[[#This Row],[ID]],ZCDT_EXPORT[Category Id],ZCDT_EXPORT[Group],\"\"),1))),\"\")","v":"Dry & Frozen"}]
[null,null,null,null,null,null,"Baby food",{"$f":"IFERROR(_xlfn.XLOOKUP(MAINPAGE_COUNTRY,Table6[[#Headers],[EE]:[LT]],_xlfn.XLOOKUP(Grouping[[#This Row],[Grouping]],Table6[EN],Table6[[EE]:[LT]])),Grouping[[#This Row],[Grouping]])","v":"Baby food"},"Baby food",null,"Adult's clothing--> Clothing accessories",null,"Alcohol","C.01.02","Rum, whiskey, cognac, brandy",{"$f":"CDT_Mapping[[#This Row],[ID]]&\" \"&CDT_Mapping[[#This Row],[Category name]]","v":"C.01.02 Rum, whiskey, cognac, brandy"},{"$f":"IFERROR(_xlfn.XLOOKUP(\"CDT \"&MAINPAGE_COUNTRY,Table7[[#Headers],[CDT EN]:[CDT LT]],_xlfn.XLOOKUP(CDT_Mapping[[#This Row],[ID]],Table7[CDT ID],Table7[[CDT EN]:[CDT LT]])),CDT_Mapping[[#This Row],[ID & Name]])","v":"C.01.02 Rum, whiskey, cognac, brandy"},{"$f":"RIGHT(CDT_Mapping[[#This Row],[Translation ID & name]],LEN(CDT_Mapping[[#This Row],[Translation ID & name]])-8)","v":"Rum, whiskey, cognac, brandy"},{"$f":"IFERROR(_xlfn.XLOOKUP(CDT_Mapping[[#This Row],[Grouping]],Grouping[Grouping],Grouping[Grouping (translation)]),CDT_Mapping[[#This Row],[Grouping]])","v":"Alcohol"},{"$f":"IFERROR(TRIM(RIGHT(_xlfn.XLOOKUP(CDT_Mapping[[#This Row],[ID]],ZCDT_EXPORT[Category Id],ZCDT_EXPORT[Group],\"\"),LEN(_xlfn.XLOOKUP(CDT_Mapping[[#This Row],[ID]],ZCDT_EXPORT[Category Id],ZCDT_EXPORT[Group],\"\"))-FIND(\". \",_xlfn.XLOOKUP(CDT_Mapping[[#This Row],[ID]],ZCDT_EXPORT[Category Id],ZCDT_EXPORT[Group],\"\"),1))),\"\")","v":"Dry & Frozen"}]
[null,{"$f":"C18","v":"2. Please select Product Group:"},"Please select...",null,null,null,"Cigarettes, cigars, other tobacco",{"$f":"IFERROR(_xlfn.XLOOKUP(MAINPAGE_COUNTRY,Table6[[#Headers],[EE]:[LT]],_xlfn.XLOOKUP(Grouping[[#This Row],[Grouping]],Table6[EN],Table6[[EE]:[LT]])),Grouping[[#This Row],[Grouping]])","v":"Cigarettes, cigars, other tobacco"},"Cigarettes, cigars, other tobacco",null,"Baby accesories",null,"Alcohol","C.01.05","Vodka, gin, tequila",{"$f":"CDT_Mapping[[#This Row],[ID]]&\" \"&CDT_Mapping[[#This Row],[Category name]]","v":"C.01.05 Vodka, gin, tequila"},{"$f":"IFERROR(_xlfn.XLOOKUP(\"CDT \"&MAINPAGE_COUNTRY,Table7[[#Headers],[CDT EN]:[CDT LT]],_xlfn.XLOOKUP(CDT_Mapping[[#This Row],[ID]],Table7[CDT ID],Table7[[CDT EN]:[CDT LT]])),CDT_Mapping[[#This Row],[ID & Name]])","v":"C.01.05 Vodka, gin, tequila"},{"$f":"RIGHT(CDT_Mapping[[#This Row],[Translation ID & name]],LEN(CDT_Mapping[[#This Row],[Translation ID & name]])-8)","v":"Vodka, gin, tequila"},{"$f":"IFERROR(_xlfn.XLOOKUP(CDT_Mapping[[#This Row],[Grouping]],Grouping[Grouping],Grouping[Grouping (translation)]),CDT_Mapping[[#This Row],[Grouping]])","v":"Alcohol"},{"$f":"IFERROR(TRIM(RIGHT(_xlfn.XLOOKUP(CDT_Mapping[[#This Row],[ID]],ZCDT_EXPORT[Category Id],ZCDT_EXPORT[Group],\"\"),LEN(_xlfn.XLOOKUP(CDT_Mapping[[#This Row],[ID]],ZCDT_EXPORT[Category Id],ZCDT_EXPORT[Group],\"\"))-FIND(\". \",_xlfn.XLOOKUP(CDT_Mapping[[#This Row],[ID]],ZCDT_EXPORT[Category Id],ZCDT_EXPORT[Group],\"\"),1))),\"\")","v":"Dry & Frozen"}]
[null,null,null,null,null,null,"Cosmetics, hygiene and body care products",{"$f":"IFERROR(_xlfn.XLOOKUP(MAINPAGE_COUNTRY,Table6[[#Headers],[EE]:[LT]],_xlfn.XLOOKUP(Grouping[[#This Row],[Grouping]],Table6[EN],Table6[[EE]:[LT]])),Grouping[[#This Row],[Grouping]])","v":"Cosmetics, hygiene and body care products"},"Cosmetics, hygiene and body care products",null,"Baby food",null,"Alcohol","C.03.01","Beer, cider, long drinks, cocktails",{"$f":"CDT_Mapping[[#This Row],[ID]]&\" \"&CDT_Mapping[[#This Row],[Category name]]","v":"C.03.01 Beer, cider, long drinks, cocktails"},{"$f":"IFERROR(_xlfn.XLOOKUP(\"CDT \"&MAINPAGE_COUNTRY,Table7[[#Headers],[CDT EN]:[CDT LT]],_xlfn.XLOOKUP(CDT_Mapping[[#This Row],[ID]],Table7[CDT ID],Table7[[CDT EN]:[CDT LT]])),CDT_Mapping[[#This Row],[ID & Name]])","v":"C.03.01 Beer, cider, long drinks, cocktails"},{"$f":"RIGHT(CDT_Mapping[[#This Row],[Translation ID & name]],LEN(CDT_Mapping[[#This Row],[Translation ID & name]])-8)","v":"Beer, cider, long drinks, cocktails"},{"$f":"IFERROR(_xlfn.XLOOKUP(CDT_Mapping[[#This Row],[Grouping]],Grouping[Grouping],Grouping[Grouping (translation)]),CDT_Mapping[[#This Row],[Grouping]])","v":"Alcohol"},{"$f":"IFERROR(TRIM(RIGHT(_xlfn.XLOOKUP(CDT_Mapping[[#This Row],[ID]],ZCDT_EXPORT[Category Id],ZCDT_EXPORT[Group],\"\"),LEN(_xlfn.XLOOKUP(CDT_Mapping[[#This Row],[ID]],ZCDT_EXPORT[Category Id],ZCDT_EXPORT[Group],\"\"))-FIND(\". \",_xlfn.XLOOKUP(CDT_Mapping[[#This Row],[ID]],ZCDT_EXPORT[Category Id],ZCDT_EXPORT[Group],\"\"),1))),\"\")","v":"Dry & Frozen"}]
[null,{"$f":"C19","v":"3. Please select Product Category:"},"Please select...",null,null,null,"Fresh food",{"$f":"IFERROR(_xlfn.XLOOKUP(MAINPAGE_COUNTRY,Table6[[#Headers],[EE]:[LT]],_xlfn.XLOOKUP(Grouping[[#This Row],[Grouping]],Table6[EN],Table6[[EE]:[LT]])),Grouping[[#This Row],[Grouping]])","v":"Fresh food"},"Fresh food",null,"Baby Toys",null,"Baby food","D.01.01","Baby food",{"$f":"CDT_Mapping[[#This Row],[ID]]&\" \"&CDT_Mapping[[#This Row],[Category name]]","v":"D.01.01 Baby food"},{"$f":"IFERROR(_xlfn.XLOOKUP(\"CDT \"&MAINPAGE_COUNTRY,Table7[[#Headers],[CDT EN]:[CDT LT]],_xlfn.XLOOKUP(CDT_Mapping[[#This Row],[ID]],Table7[CDT ID],Table7[[CDT EN]:[CDT LT]])),CDT_Mapping[[#This Row],[ID & Name]])","v":"D.01.01 Baby food"},{"$f":"RIGHT(CDT_Mapping[[#This Row],[Translation ID & name]],LEN(CDT_Mapping[[#This Row],[Translation ID & name]])-8)","v":"Baby food"},{"$f":"IFERROR(_xlfn.XLOOKUP(CDT_Mapping[[#This Row],[Grouping]],Grouping[Grouping],Grouping[Grouping (translation)]),CDT_Mapping[[#This Row],[Grouping]])","v":"Baby food"},{"$f":"IFERROR(TRIM(RIGHT(_xlfn.XLOOKUP(CDT_Mapping[[#This Row],[ID]],ZCDT_EXPORT[Category Id],ZCDT_EXPORT[Group],\"\"),LEN(_xlfn.XLOOKUP(CDT_Mapping[[#This Row],[ID]],ZCDT_EXPORT[Category Id],ZCDT_EXPORT[Group],\"\"))-FIND(\". \",_xlfn.XLOOKUP(CDT_Mapping[[#This Row],[ID]],ZCDT_EXPORT[Category Id],ZCDT_EXPORT[Group],\"\"),1))),\"\")","v":"Non-Edibles"}]
[null,null,null,null,null,null,"Frozen food",{"$f":"IFERROR(_xlfn.XLOOKUP(MAINPAGE_COUNTRY,Table6[[#Headers],[EE]:[LT]],_xlfn.XLOOKUP(Grouping[[#This Row],[Grouping]],Table6[EN],Table6[[EE]:[LT]])),Grouping[[#This Row],[Grouping]])","v":"Frozen food"},"Frozen food",null,"Baking needs and dessert powders",null,"Cigarettes, cigars, other tobacco","C.14.01","Cigarettes, tobacco & accessories",{"$f":"CDT_Mapping[[#This Row],[ID]]&\" \"&CDT_Mapping[[#This Row],[Category name]]","v":"C.14.01 Cigarettes, tobacco & accessories"},{"$f":"IFERROR(_xlfn.XLOOKUP(\"CDT \"&MAINPAGE_COUNTRY,Table7[[#Headers],[CDT EN]:[CDT LT]],_xlfn.XLOOKUP(CDT_Mapping[[#This Row],[ID]],Table7[CDT ID],Table7[[CDT EN]:[CDT LT]])),CDT_Mapping[[#This Row],[ID & Name]])","v":"C.14.01 Cigarettes, tobacco & accessories"},{"$f":"RIGHT(CDT_Mapping[[#This Row],[Translation ID & name]],LEN(CDT_Mapping[[#This Row],[Translation ID & name]])-8)","v":"Cigarettes, tobacco & accessories"},{"$f":"IFERROR(_xlfn.XLOOKUP(CDT_Mapping[[#This Row],[Grouping]],Grouping[Grouping],Grouping[Grouping (translation)]),CDT_Mapping[[#This Row],[Grouping]])","v":"Cigarettes, cigars, other tobacco"},{"$f":"IFERROR(TRIM(RIGHT(_xlfn.XLOOKUP(CDT_Mapping[[#This Row],[ID]],ZCDT_EXPORT[Category Id],ZCDT_EXPORT[Group],\"\"),LEN(_xlfn.XLOOKUP(CDT_Mapping[[#This Row],[ID]],ZCDT_EXPORT[Category Id],ZCDT_EXPORT[Group],\"\"))-FIND(\". \",_xlfn.XLOOKUP(CDT_Mapping[[#This Row],[ID]],ZCDT_EXPORT[Category Id],ZCDT_EXPORT[Group],\"\"),1))),\"\")","v":"Dry & Frozen"}]
[null,{"$f":"C20","v":"4. Press here when finalized:"},null,null,null,null,"Household chemicals",{"$f":"IFERROR(_xlfn.XLOOKUP(MAINPAGE_COUNTRY,Table6[[#Headers],[EE]:[LT]],_xlfn.XLOOKUP(Grouping[[#This Row],[Grouping]],Table6[EN],Table6[[EE]:[LT]])),Grouping[[#This Row],[Grouping]])","v":"Household chemicals"},"Household chemicals",null,"Bathroom",null,"Cosmetics, hygiene and body care products","D.07.01","Diapers and baby care",{"$f":"CDT_Mapping[[#This Row],[ID]]&\" \"&CDT_Mapping[[#This Row],[Category name]]","v":"D.07.01 Diapers and baby care"},{"$f":"IFERROR(_xlfn.XLOOKUP(\"CDT \"&MAINPAGE_COUNTRY,Table7[[#Headers],[CDT EN]:[CDT LT]],_xlfn.XLOOKUP(CDT_Mapping[[#This Row],[ID]],Table7[CDT ID],Table7[[CDT EN]:[CDT LT]])),CDT_Mapping[[#This Row],[ID & Name]])","v":"D.07.01 Diapers and baby care"},{"$f":"RIGHT(CDT_Mapping[[#This Row],[Translation ID & name]],LEN(CDT_Mapping[[#This Row],[Translation ID & name]])-8)","v":"Diapers and baby care"},{"$f":"IFERROR(_xlfn.XLOOKUP(CDT_Mapping[[#This Row],[Grouping]],Grouping[Grouping],Grouping[Grouping (translation)]),CDT_Mapping[[#This Row],[Grouping]])","v":"Cosmetics, hygiene and body care products"},{"$f":"IFERROR(TRIM(RIGHT(_xlfn.XLOOKUP(CDT_Mapping[[#This Row],[ID]],ZCDT_EXPORT[Category Id],ZCDT_EXPORT[Group],\"\"),LEN(_xlfn.XLOOKUP(CDT_Mapping[[#This Row],[ID]],ZCDT_EXPORT[Category Id],ZCDT_EXPORT[Group],\"\"))-FIND(\". \",_xlfn.XLOOKUP(CDT_Mapping[[#This Row],[ID]],ZCDT_EXPORT[Category Id],ZCDT_EXPORT[Group],\"\"),1))),\"\")","v":"Non-Edibles"}]
[null,null,null,null,null,null,"Lottery tickets, prepaid mobile cards",{"$f":"IFERROR(_xlfn.XLOOKUP(MAINPAGE_COUNTRY,Table6[[#Headers],[EE]:[LT]],_xlfn.XLOOKUP(Grouping[[#This Row],[Grouping]],Table6[EN],Table6[[EE]:[LT]])),Grouping[[#This Row],[Grouping]])","v":"Lottery tickets, prepaid mobile cards"},"Lottery tickets, prepaid mobile cards",null,"Batteries",null,"Cosmetics, hygiene and body care products","D.10.01","Toilet paper, paper towels, handkerc",{"$f":"CDT_Mapping[[#This Row],[ID]]&\" \"&CDT_Mapping[[#This Row],[Category name]]","v":"D.10.01 Toilet paper, paper towels, handkerc"},{"$f":"IFERROR(_xlfn.XLOOKUP(\"CDT \"&MAINPAGE_COUNTRY,Table7[[#Headers],[CDT EN]:[CDT LT]],_xlfn.XLOOKUP(CDT_Mapping[[#This Row],[ID]],Table7[CDT ID],Table7[[CDT EN]:[CDT LT]])),CDT_Mapping[[#This Row],[ID & Name]])","v":"D.10.01 Toilet paper, paper towels, handkerc"},{"$f":"RIGHT(CDT_Mapping[[#This Row],[Translation ID & name]],LEN(CDT_Mapping[[#This Row],[Translation ID & name]])-8)","v":"Toilet paper, paper towels, handkerc"},{"$f":"IFERROR(_xlfn.XLOOKUP(CDT_Mapping[[#This Row],[Grouping]],Grouping[Grouping],Grouping[Grouping (translation)]),CDT_Mapping[[#This Row],[Grouping]])","v":"Cosmetics, hygiene and body care products"},{"$f":"IFERROR(TRIM(RIGHT(_xlfn.XLOOKUP(CDT_Mapping[[#This Row],[ID]],ZCDT_EXPORT[Category Id],ZCDT_EXPORT[Group],\"\"),LEN(_xlfn.XLOOKUP(CDT_Mapping[[#This Row],[ID]],ZCDT_EXPORT[Category Id],ZCDT_EXPORT[Group],\"\"))-FIND(\". \",_xlfn.XLOOKUP(CDT_Mapping[[#This Row],[ID]],ZCDT_EXPORT[Category Id],ZCDT_EXPORT[Group],\"\"),1))),\"\")","v":"Non-Edibles"}]
[null,null,null,null,null,null,"Non-alcoholic beverages",{"$f":"IFERROR(_xlfn.XLOOKUP(MAINPAGE_COUNTRY,Table6[[#Headers],[EE]:[LT]],_xlfn.XLOOKUP(Grouping[[#This Row],[Grouping]],Table6[EN],Table6[[EE]:[LT]])),Grouping[[#This Row],[Grouping]])","v":"Non-alcoholic beverages"},"Non-alcoholic beverages",null,"Beauty electronics",null,"Cosmetics, hygiene and body care products","D.06.01","Intimate hygiene",{"$f":"CDT_Mapping[[#This Row],[ID]]&\" \"&CDT_Mapping[[#This Row],[Category name]]","v":"D.06.01 Intimate hygiene"},{"$f":"IFERROR(_xlfn.XLOOKUP(\"CDT \"&MAINPAGE_COUNTRY,Table7[[#Headers],[CDT EN]:[CDT LT]],_xlfn.XLOOKUP(CDT_Mapping[[#This Row],[ID]],Table7[CDT ID],Table7[[CDT EN]:[CDT LT]])),CDT_Mapping[[#This Row],[ID & Name]])","v":"D.06.01 Intimate hygiene"},{"$f":"RIGHT(CDT_Mapping[[#This Row],[Translation ID & name]],LEN(CDT_Mapping[[#This Row],[Translation ID & name]])-8)","v":"Intimate hygiene"},{"$f":"IFERROR(_xlfn.XLOOKUP(CDT_Mapping[[#This Row],[Grouping]],Grouping[Grouping],Grouping[Grouping (translation)]),CDT_Mapping[[#This Row],[Grouping]])","v":"Cosmetics, hygiene and body care products"},{"$f":"IFERROR(TRIM(RIGHT(_xlfn.XLOOKUP(CDT_Mapping[[#This Row],[ID]],ZCDT_EXPORT[Category Id],ZCDT_EXPORT[Group],\"\"),LEN(_xlfn.XLOOKUP(CDT_Mapping[[#This Row],[ID]],ZCDT_EXPORT[Category Id],ZCDT_EXPORT[Group],\"\"))-FIND(\". \",_xlfn.XLOOKUP(CDT_Mapping[[#This Row],[ID]],ZCDT_EXPORT[Category Id],ZCDT_EXPORT[Group],\"\"),1))),\"\")","v":"Non-Edibles"}]
[null,null,"EN",null,null,null,"Nonfood",{"$f":"IFERROR(_xlfn.XLOOKUP(MAINPAGE_COUNTRY,Table6[[#Headers],[EE]:[LT]],_xlfn.XLOOKUP(Grouping[[#This Row],[Grouping]],Table6[EN],Table6[[EE]:[LT]])),Grouping[[#This Row],[Grouping]])","v":"Nonfood"},"Nonfood",null,"Beer, cider, long drinks, cocktails",null,"Cosmetics, hygiene and body care products","D.02.08","Soaps, shower gels, bath foams, salt",{"$f":"CDT_Mapping[[#This Row],[ID]]&\" \"&CDT_Mapping[[#This Row],[Category name]]","v":"D.02.08 Soaps, shower gels, bath foams, salt"},{"$f":"IFERROR(_xlfn.XLOOKUP(\"CDT \"&MAINPAGE_COUNTRY,Table7[[#Headers],[CDT EN]:[CDT LT]],_xlfn.XLOOKUP(CDT_Mapping[[#This Row],[ID]],Table7[CDT ID],Table7[[CDT EN]:[CDT LT]])),CDT_Mapping[[#This Row],[ID & Name]])","v":"D.02.08 Soaps, shower gels, bath foams, salt"},{"$f":"RIGHT(CDT_Mapping[[#This Row],[Translation ID & name]],LEN(CDT_Mapping[[#This Row],[Translation ID & name]])-8)","v":"Soaps, shower gels, bath foams, salt"},{"$f":"IFERROR(_xlfn.XLOOKUP(CDT_Mapping[[#This Row],[Grouping]],Grouping[Grouping],Grouping[Grouping (translation)]),CDT_Mapping[[#This Row],[Grouping]])","v":"Cosmetics, hygiene and body care products"},{"$f":"IFERROR(TRIM(RIGHT(_xlfn.XLOOKUP(CDT_Mapping[[#This Row],[ID]],ZCDT_EXPORT[Category Id],ZCDT_EXPORT[Group],\"\"),LEN(_xlfn.XLOOKUP(CDT_Mapping[[#This Row],[ID]],ZCDT_EXPORT[Category Id],ZCDT_EXPORT[Group],\"\"))-FIND(\". \",_xlfn.XLOOKUP(CDT_Mapping[[#This Row],[ID]],ZCDT_EXPORT[Category Id],ZCDT_EXPORT[Group],\"\"),1))),\"\")","v":"Non-Edibles"}]
[null,null,null,null,null,null,"Other Nearfood",{"$f":"IFERROR(_xlfn.XLOOKUP(MAINPAGE_COUNTRY,Table6[[#Headers],[EE]:[LT]],_xlfn.XLOOKUP(Grouping[[#This Row],[Grouping]],Table6[EN],Table6[[EE]:[LT]])),Grouping[[#This Row],[Grouping]])","v":"Other Nearfood"},"Other Nearfood",null,"Biscuits, wafers",null,"Cosmetics, hygiene and body care products","D.02.05","Hand creams, foot care,  body lotion",{"$f":"CDT_Mapping[[#This Row],[ID]]&\" \"&CDT_Mapping[[#This Row],[Category name]]","v":"D.02.05 Hand creams, foot care,  body lotion"},{"$f":"IFERROR(_xlfn.XLOOKUP(\"CDT \"&MAINPAGE_COUNTRY,Table7[[#Headers],[CDT EN]:[CDT LT]],_xlfn.XLOOKUP(CDT_Mapping[[#This Row],[ID]],Table7[CDT ID],Table7[[CDT EN]:[CDT LT]])),CDT_Mapping[[#This Row],[ID & Name]])","v":"D.02.05 Hand creams, foot care, body lotion"},{"$f":"RIGHT(CDT_Mapping[[#This Row],[Translation ID & name]],LEN(CDT_Mapping[[#This Row],[Translation ID & name]])-8)","v":"Hand creams, foot care, body lotion"},{"$f":"IFERROR(_xlfn.XLOOKUP(CDT_Mapping[[#This Row],[Grouping]],Grouping[Grouping],Grouping[Grouping (translation)]),CDT_Mapping[[#This Row],[Grouping]])","v":"Cosmetics, hygiene and body care products"},{"$f":"IFERROR(TRIM(RIGHT(_xlfn.XLOOKUP(CDT_Mapping[[#This Row],[ID]],ZCDT_EXPORT[Category Id],ZCDT_EXPORT[Group],\"\"),LEN(_xlfn.XLOOKUP(CDT_Mapping[[#This Row],[ID]],ZCDT_EXPORT[Category Id],ZCDT_EXPORT[Group],\"\"))-FIND(\". \",_xlfn.XLOOKUP(CDT_Mapping[[#This Row],[ID]],ZCDT_EXPORT[Category Id],ZCDT_EXPORT[Group],\"\"),1))),\"\")","v":"Non-Edibles"}]
[null,null,null,null,null,null,"Packed food (grocery)",{"$f":"IFERROR(_xlfn.XLOOKUP(MAINPAGE_COUNTRY,Table6[[#Headers],[EE]:[LT]],_xlfn.XLOOKUP(Grouping[[#This Row],[Grouping]],Table6[EN],Table6[[EE]:[LT]])),Grouping[[#This Row],[Grouping]])","v":"Packed food (grocery)"},"Packed food (grocery)",null,"Bitter drinks, vermouth, liquors",null,"Cosmetics, hygiene and body care products","D.02.04","Hair wash and styling",{"$f":"CDT_Mapping[[#This Row],[ID]]&\" \"&CDT_Mapping[[#This Row],[Category name]]","v":"D.02.04 Hair wash and styling"},{"$f":"IFERROR(_xlfn.XLOOKUP(\"CDT \"&MAINPAGE_COUNTRY,Table7[[#Headers],[CDT EN]:[CDT LT]],_xlfn.XLOOKUP(CDT_Mapping[[#This Row],[ID]],Table7[CDT ID],Table7[[CDT EN]:[CDT LT]])),CDT_Mapping[[#This Row],[ID & Name]])","v":"D.02.04 Hair wash and styling"},{"$f":"RIGHT(CDT_Mapping[[#This Row],[Translation ID & name]],LEN(CDT_Mapping[[#This Row],[Translation ID & name]])-8)","v":"Hair wash and styling"},{"$f":"IFERROR(_xlfn.XLOOKUP(CDT_Mapping[[#This Row],[Grouping]],Grouping[Grouping],Grouping[Grouping (translation)]),CDT_Mapping[[#This Row],[Grouping]])","v":"Cosmetics, hygiene and body care products"},{"$f":"IFERROR(TRIM(RIGHT(_xlfn.XLOOKUP(CDT_Mapping[[#This Row],[ID]],ZCDT_EXPORT[Category Id],ZCDT_EXPORT[Group],\"\"),LEN(_xlfn.XLOOKUP(CDT_Mapping[[#This Row],[ID]],ZCDT_EXPORT[Category Id],ZCDT_EXPORT[Group],\"\"))-FIND(\". \",_xlfn.XLOOKUP(CDT_Mapping[[#This Row],[ID]],ZCDT_EXPORT[Category Id],ZCDT_EXPORT[Group],\"\"),1))),\"\")","v":"Non-Edibles"}]
[null,"EN version of texts","Translated version of texts",null,null,null,"Pet food",{"$f":"IFERROR(_xlfn.XLOOKUP(MAINPAGE_COUNTRY,Table6[[#Headers],[EE]:[LT]],_xlfn.XLOOKUP(Grouping[[#This Row],[Grouping]],Table6[EN],Table6[[EE]:[LT]])),Grouping[[#This Row],[Grouping]])","v":"Pet food"},"Pet food",null,"Body accessories and sponges",null,"Cosmetics, hygiene and body care products","D.02.07","Oral care",{"$f":"CDT_Mapping[[#This Row],[ID]]&\" \"&CDT_Mapping[[#This Row],[Category name]]","v":"D.02.07 Oral care"},{"$f":"IFERROR(_xlfn.XLOOKUP(\"CDT \"&MAINPAGE_COUNTRY,Table7[[#Headers],[CDT EN]:[CDT LT]],_xlfn.XLOOKUP(CDT_Mapping[[#This Row],[ID]],Table7[CDT ID],Table7[[CDT EN]:[CDT LT]])),CDT_Mapping[[#This Row],[ID & Name]])","v":"D.02.07 Oral care"},{"$f":"RIGHT(CDT_Mapping[[#This Row],[Translation ID & name]],LEN(CDT_Mapping[[#This Row],[Translation ID & name]])-8)","v":"Oral care"},{"$f":"IFERROR(_xlfn.XLOOKUP(CDT_Mapping[[#This Row],[Grouping]],Grouping[Grouping],Grouping[Grouping (translation)]),CDT_Mapping[[#This Row],[Grouping]])","v":"Cosmetics, hygiene and body care products"},{"$f":"IFERROR(TRIM(RIGHT(_xlfn.XLOOKUP(CDT_Mapping[[#This Row],[ID]],ZCDT_EXPORT[Category Id],ZCDT_EXPORT[Group],\"\"),LEN(_xlfn.XLOOKUP(CDT_Mapping[[#This Row],[ID]],ZCDT_EXPORT[Category Id],ZCDT_EXPORT[Group],\"\"))-FIND(\". \",_xlfn.XLOOKUP(CDT_Mapping[[#This Row],[ID]],ZCDT_EXPORT[Category Id],ZCDT_EXPORT[Group],\"\"),1))),\"\")","v":"Non-Edibles"}]
[null,"Welcome to Rimi New Item Proposal Form!",{"$f":"IFERROR(_xlfn.XLOOKUP(MAINPAGE_COUNTRY,Table9[[#Headers],[EE]:[LT]],_xlfn.XLOOKUP('Main Page'!B16,Table9[EN],Table9[[EE]:[LT]])),B16)","v":"Welcome to Rimi New Item Proposal Form!"},null,null,null,"Press, magazines",{"$f":"IFERROR(_xlfn.XLOOKUP(MAINPAGE_COUNTRY,Table6[[#Headers],[EE]:[LT]],_xlfn.XLOOKUP(Grouping[[#This Row],[Grouping]],Table6[EN],Table6[[EE]:[LT]])),Grouping[[#This Row],[Grouping]])","v":"Press, magazines"},"Press, magazines",null,"Bread, Rimi production bread product",null,"Cosmetics, hygiene and body care products","D.02.03","Depilation, shaving",{"$f":"CDT_Mapping[[#This Row],[ID]]&\" \"&CDT_Mapping[[#This Row],[Category name]]","v":"D.02.03 Depilation, shaving"},{"$f":"IFERROR(_xlfn.XLOOKUP(\"CDT \"&MAINPAGE_COUNTRY,Table7[[#Headers],[CDT EN]:[CDT LT]],_xlfn.XLOOKUP(CDT_Mapping[[#This Row],[ID]],Table7[CDT ID],Table7[[CDT EN]:[CDT LT]])),CDT_Mapping[[#This Row],[ID & Name]])","v":"D.02.03 Depilation and shaving"},{"$f":"RIGHT(CDT_Mapping[[#This Row],[Translation ID & name]],LEN(CDT_Mapping[[#This Row],[Translation ID & name]])-8)","v":"Depilation and shaving"},{"$f":"IFERROR(_xlfn.XLOOKUP(CDT_Mapping[[#This Row],[Grouping]],Grouping[Grouping],Grouping[Grouping (translation)]),CDT_Mapping[[#This Row],[Grouping]])","v":"Cosmetics, hygiene and body care products"},{"$f":"IFERROR(TRIM(RIGHT(_xlfn.XLOOKUP(CDT_Mapping[[#This Row],[ID]],ZCDT_EXPORT[Category Id],ZCDT_EXPORT[Group],\"\"),LEN(_xlfn.XLOOKUP(CDT_Mapping[[#This Row],[ID]],ZCDT_EXPORT[Category Id],ZCDT_EXPORT[Group],\"\"))-FIND(\". \",_xlfn.XLOOKUP(CDT_Mapping[[#This Row],[ID]],ZCDT_EXPORT[Category Id],ZCDT_EXPORT[Group],\"\"),1))),\"\")","v":"Non-Edibles"}]
[null,"Please select language:",{"$f":"\"1. \"&IFERROR(_xlfn.XLOOKUP(MAINPAGE_COUNTRY,Table9[[#Headers],[EE]:[LT]],_xlfn.XLOOKUP('Main Page'!B17,Table9[EN],Table9[[EE]:[LT]])),B17)","v":"1. Please select language:"},null,null,null,"Wine, sparkling wine",{"$f":"IFERROR(_xlfn.XLOOKUP(MAINPAGE_COUNTRY,Table6[[#Headers],[EE]:[LT]],_xlfn.XLOOKUP(Grouping[[#This Row],[Grouping]],Table6[EN],Table6[[EE]:[LT]])),Grouping[[#This Row],[Grouping]])","v":"Wine, sparkling wine"},"Wine, sparkling wine",null,"Candles",null,"Cosmetics, hygiene and body care products","D.04.01","Face care",{"$f":"CDT_Mapping[[#This Row],[ID]]&\" \"&CDT_Mapping[[#This Row],[Category name]]","v":"D.04.01 Face care"},{"$f":"IFERROR(_xlfn.XLOOKUP(\"CDT \"&MAINPAGE_COUNTRY,Table7[[#Headers],[CDT EN]:[CDT LT]],_xlfn.XLOOKUP(CDT_Mapping[[#This Row],[ID]],Table7[CDT ID],Table7[[CDT EN]:[CDT LT]])),CDT_Mapping[[#This Row],[ID & Name]])","v":"D.04.01 Face care"},{"$f":"RIGHT(CDT_Mapping[[#This Row],[Translation ID & name]],LEN(CDT_Mapping[[#This Row],[Translation ID & name]])-8)","v":"Face care"},{"$f":"IFERROR(_xlfn.XLOOKUP(CDT_Mapping[[#This Row],[Grouping]],Grouping[Grouping],Grouping[Grouping (translation)]),CDT_Mapping[[#This Row],[Grouping]])","v":"Cosmetics, hygiene and body care products"},{"$f":"IFERROR(TRIM(RIGHT(_xlfn.XLOOKUP(CDT_Mapping[[#This Row],[ID]],ZCDT_EXPORT[Category Id],ZCDT_EXPORT[Group],\"\"),LEN(_xlfn.XLOOKUP(CDT_Mapping[[#This Row],[ID]],ZCDT_EXPORT[Category Id],ZCDT_EXPORT[Group],\"\"))-FIND(\". \",_xlfn.XLOOKUP(CDT_Mapping[[#This Row],[ID]],ZCDT_EXPORT[Category Id],ZCDT_EXPORT[Group],\"\"),1))),\"\")","v":"Non-Edibles"}]
[null,"Please select Product Group:",{"$f":"\"2. \"&IFERROR(_xlfn.XLOOKUP(MAINPAGE_COUNTRY,Table9[[#Headers],[EE]:[LT]],_xlfn.XLOOKUP('Main Page'!B18,Table9[EN],Table9[[EE]:[LT]])),B18)","v":"2. Please select Product Group:"},null,null,null,null,null,null,null,"Canned (jarred) fruits and berries",null,"Cosmetics, hygiene and body care products","D.02.02","Deodorants; Fragrances",{"$f":"CDT_Mapping[[#This Row],[ID]]&\" \"&CDT_Mapping[[#This Row],[Category name]]","v":"D.02.02 Deodorants; Fragrances"},{"$f":"IFERROR(_xlfn.XLOOKUP(\"CDT \"&MAINPAGE_COUNTRY,Table7[[#Headers],[CDT EN]:[CDT LT]],_xlfn.XLOOKUP(CDT_Mapping[[#This Row],[ID]],Table7[CDT ID],Table7[[CDT EN]:[CDT LT]])),CDT_Mapping[[#This Row],[ID & Name]])","v":"D.02.02 Deodorants; Fragrances"},{"$f":"RIGHT(CDT_Mapping[[#This Row],[Translation ID & name]],LEN(CDT_Mapping[[#This Row],[Translation ID & name]])-8)","v":"Deodorants; Fragrances"},{"$f":"IFERROR(_xlfn.XLOOKUP(CDT_Mapping[[#This Row],[Grouping]],Grouping[Grouping],Grouping[Grouping (translation)]),CDT_Mapping[[#This Row],[Grouping]])","v":"Cosmetics, hygiene and body care products"},{"$f":"IFERROR(TRIM(RIGHT(_xlfn.XLOOKUP(CDT_Mapping[[#This Row],[ID]],ZCDT_EXPORT[Category Id],ZCDT_EXPORT[Group],\"\"),LEN(_xlfn.XLOOKUP(CDT_Mapping[[#This Row],[ID]],ZCDT_EXPORT[Category Id],ZCDT_EXPORT[Group],\"\"))-FIND(\". \",_xlfn.XLOOKUP(CDT_Mapping[[#This Row],[ID]],ZCDT_EXPORT[Category Id],ZCDT_EXPORT[Group],\"\"),1))),\"\")","v":"Non-Edibles"}]
[null,"Please select Product Category:",{"$f":"\"3. \"&IFERROR(_xlfn.XLOOKUP(MAINPAGE_COUNTRY,Table9[[#Headers],[EE]:[LT]],_xlfn.XLOOKUP('Main Page'!B19,Table9[EN],Table9[[EE]:[LT]])),B19)","v":"3. Please select Product Category:"},null,null,null,null,null,null,null,"Canned (jarred) vegetables, canned p",null,"Cosmetics, hygiene and body care products","D.04.04","Make-up",{"$f":"CDT_Mapping[[#This Row],[ID]]&\" \"&CDT_Mapping[[#This Row],[Category name]]","v":"D.04.04 Make-up"},{"$f":"IFERROR(_xlfn.XLOOKUP(\"CDT \"&MAINPAGE_COUNTRY,Table7[[#Headers],[CDT EN]:[CDT LT]],_xlfn.XLOOKUP(CDT_Mapping[[#This Row],[ID]],Table7[CDT ID],Table7[[CDT EN]:[CDT LT]])),CDT_Mapping[[#This Row],[ID & Name]])","v":"D.04.04 Make-up"},{"$f":"RIGHT(CDT_Mapping[[#This Row],[Translation ID & name]],LEN(CDT_Mapping[[#This Row],[Translation ID & name]])-8)","v":"Make-up"},{"$f":"IFERROR(_xlfn.XLOOKUP(CDT_Mapping[[#This Row],[Grouping]],Grouping[Grouping],Grouping[Grouping (translation)]),CDT_Mapping[[#This Row],[Grouping]])","v":"Cosmetics, hygiene and body care products"},{"$f":"IFERROR(TRIM(RIGHT(_xlfn.XLOOKUP(CDT_Mapping[[#This Row],[ID]],ZCDT_EXPORT[Category Id],ZCDT_EXPORT[Group],\"\"),LEN(_xlfn.XLOOKUP(CDT_Mapping[[#This Row],[ID]],ZCDT_EXPORT[Category Id],ZCDT_EXPORT[Group],\"\"))-FIND(\". \",_xlfn.XLOOKUP(CDT_Mapping[[#This Row],[ID]],ZCDT_EXPORT[Category Id],ZCDT_EXPORT[Group],\"\"),1))),\"\")","v":"Non-Edibles"}]
[null,"Press here when finalized:",{"$f":"\"4. \"&IFERROR(_xlfn.XLOOKUP(MAINPAGE_COUNTRY,Table9[[#Headers],[EE]:[LT]],_xlfn.XLOOKUP('Main Page'!B20,Table9[EN],Table9[[EE]:[LT]])),B20)","v":"4. Press here when finalized:"},null,null,null,null,null,null,null,"Canned fish and seafood, Canned meat",null,"Cosmetics, hygiene and body care products","D.04.03","Gift sets in cosmetics",{"$f":"CDT_Mapping[[#This Row],[ID]]&\" \"&CDT_Mapping[[#This Row],[Category name]]","v":"D.04.03 Gift sets in cosmetics"},{"$f":"IFERROR(_xlfn.XLOOKUP(\"CDT \"&MAINPAGE_COUNTRY,Table7[[#Headers],[CDT EN]:[CDT LT]],_xlfn.XLOOKUP(CDT_Mapping[[#This Row],[ID]],Table7[CDT ID],Table7[[CDT EN]:[CDT LT]])),CDT_Mapping[[#This Row],[ID & Name]])","v":"D.04.03 Gift sets in cosmetics (seasonal)"},{"$f":"RIGHT(CDT_Mapping[[#This Row],[Translation ID & name]],LEN(CDT_Mapping[[#This Row],[Translation ID & name]])-8)","v":"Gift sets in cosmetics (seasonal)"},{"$f":"IFERROR(_xlfn.XLOOKUP(CDT_Mapping[[#This Row],[Grouping]],Grouping[Grouping],Grouping[Grouping (translation)]),CDT_Mapping[[#This Row],[Grouping]])","v":"Cosmetics, hygiene and body care products"},{"$f":"IFERROR(TRIM(RIGHT(_xlfn.XLOOKUP(CDT_Mapping[[#This Row],[ID]],ZCDT_EXPORT[Category Id],ZCDT_EXPORT[Group],\"\"),LEN(_xlfn.XLOOKUP(CDT_Mapping[[#This Row],[ID]],ZCDT_EXPORT[Category Id],ZCDT_EXPORT[Group],\"\"))-FIND(\". \",_xlfn.XLOOKUP(CDT_Mapping[[#This Row],[ID]],ZCDT_EXPORT[Category Id],ZCDT_EXPORT[Group],\"\"),1))),\"\")","v":"Non-Edibles"}]
[null,"Input is done",{"$f":"IFERROR(_xlfn.XLOOKUP(MAINPAGE_COUNTRY,Table9[[#Headers],[EE]:[LT]],_xlfn.XLOOKUP('Main Page'!B21,Table9[EN],Table9[[EE]:[LT]])),B21)","v":"Input is done"},null,null,null,null,null,null,null,"Car accessories and chemicals",null,"Cosmetics, hygiene and body care products","D.04.05","Nail care treatments",{"$f":"CDT_Mapping[[#This Row],[ID]]&\" \"&CDT_Mapping[[#This Row],[Category name]]","v":"D.04.05 Nail care treatments"},{"$f":"IFERROR(_xlfn.XLOOKUP(\"CDT \"&MAINPAGE_COUNTRY,Table7[[#Headers],[CDT EN]:[CDT LT]],_xlfn.XLOOKUP(CDT_Mapping[[#This Row],[ID]],Table7[CDT ID],Table7[[CDT EN]:[CDT LT]])),CDT_Mapping[[#This Row],[ID & Name]])","v":"D.04.05 Nail care treatments"},{"$f":"RIGHT(CDT_Mapping[[#This Row],[Translation ID & name]],LEN(CDT_Mapping[[#This Row],[Translation ID & name]])-8)","v":"Nail care treatments"},{"$f":"IFERROR(_xlfn.XLOOKUP(CDT_Mapping[[#This Row],[Grouping]],Grouping[Grouping],Grouping[Grouping (translation)]),CDT_Mapping[[#This Row],[Grouping]])","v":"Cosmetics, hygiene and body care products"},{"$f":"IFERROR(TRIM(RIGHT(_xlfn.XLOOKUP(CDT_Mapping[[#This Row],[ID]],ZCDT_EXPORT[Category Id],ZCDT_EXPORT[Group],\"\"),LEN(_xlfn.XLOOKUP(CDT_Mapping[[#This Row],[ID]],ZCDT_EXPORT[Category Id],ZCDT_EXPORT[Group],\"\"))-FIND(\". \",_xlfn.XLOOKUP(CDT_Mapping[[#This Row],[ID]],ZCDT_EXPORT[Category Id],ZCDT_EXPORT[Group],\"\"),1))),\"\")","v":"Non-Edibles"}]
[null,null,null,null,null,null,null,null,null,null,"Cereals and muesli products",null,"Cosmetics, hygiene and body care products","D.03.01","Cotton and moist wipes",{"$f":"CDT_Mapping[[#This Row],[ID]]&\" \"&CDT_Mapping[[#This Row],[Category name]]","v":"D.03.01 Cotton and moist wipes"},{"$f":"IFERROR(_xlfn.XLOOKUP(\"CDT \"&MAINPAGE_COUNTRY,Table7[[#Headers],[CDT EN]:[CDT LT]],_xlfn.XLOOKUP(CDT_Mapping[[#This Row],[ID]],Table7[CDT ID],Table7[[CDT EN]:[CDT LT]])),CDT_Mapping[[#This Row],[ID & Name]])","v":"D.03.01 Cotton, moist wipes"},{"$f":"RIGHT(CDT_Mapping[[#This Row],[Translation ID & name]],LEN(CDT_Mapping[[#This Row],[Translation ID & name]])-8)","v":"Cotton, moist wipes"},{"$f":"IFERROR(_xlfn.XLOOKUP(CDT_Mapping[[#This Row],[Grouping]],Grouping[Grouping],Grouping[Grouping (translation)]),CDT_Mapping[[#This Row],[Grouping]])","v":"Cosmetics, hygiene and body care products"},{"$f":"IFERROR(TRIM(RIGHT(_xlfn.XLOOKUP(CDT_Mapping[[#This Row],[ID]],ZCDT_EXPORT[Category Id],ZCDT_EXPORT[Group],\"\"),LEN(_xlfn.XLOOKUP(CDT_Mapping[[#This Row],[ID]],ZCDT_EXPORT[Category Id],ZCDT_EXPORT[Group],\"\"))-FIND(\". \",_xlfn.XLOOKUP(CDT_Mapping[[#This Row],[ID]],ZCDT_EXPORT[Category Id],ZCDT_EXPORT[Group],\"\"),1))),\"\")","v":"Non-Edibles"}]
[null,null,null,null,null,null,null,null,null,null,"Cheese",null,"Cosmetics, hygiene and body care products","D.03.02","Home pharmacy",{"$f":"CDT_Mapping[[#This Row],[ID]]&\" \"&CDT_Mapping[[#This Row],[Category name]]","v":"D.03.02 Home pharmacy"},{"$f":"IFERROR(_xlfn.XLOOKUP(\"CDT \"&MAINPAGE_COUNTRY,Table7[[#Headers],[CDT EN]:[CDT LT]],_xlfn.XLOOKUP(CDT_Mapping[[#This Row],[ID]],Table7[CDT ID],Table7[[CDT EN]:[CDT LT]])),CDT_Mapping[[#This Row],[ID & Name]])","v":"D.03.02 Home pharmacy"},{"$f":"RIGHT(CDT_Mapping[[#This Row],[Translation ID & name]],LEN(CDT_Mapping[[#This Row],[Translation ID & name]])-8)","v":"Home pharmacy"},{"$f":"IFERROR(_xlfn.XLOOKUP(CDT_Mapping[[#This Row],[Grouping]],Grouping[Grouping],Grouping[Grouping (translation)]),CDT_Mapping[[#This Row],[Grouping]])","v":"Cosmetics, hygiene and body care products"},{"$f":"IFERROR(TRIM(RIGHT(_xlfn.XLOOKUP(CDT_Mapping[[#This Row],[ID]],ZCDT_EXPORT[Category Id],ZCDT_EXPORT[Group],\"\"),LEN(_xlfn.XLOOKUP(CDT_Mapping[[#This Row],[ID]],ZCDT_EXPORT[Category Id],ZCDT_EXPORT[Group],\"\"))-FIND(\". \",_xlfn.XLOOKUP(CDT_Mapping[[#This Row],[ID]],ZCDT_EXPORT[Category Id],ZCDT_EXPORT[Group],\"\"),1))),\"\")","v":"Non-Edibles"}]
[null,null,null,null,null,null,null,null,null,null,"Chewing gums",null,"Fresh food","A.10.04","Fresh minced meat",{"$f":"CDT_Mapping[[#This Row],[ID]]&\" \"&CDT_Mapping[[#This Row],[Category name]]","v":"A.10.04 Fresh minced meat"},{"$f":"IFERROR(_xlfn.XLOOKUP(\"CDT \"&MAINPAGE_COUNTRY,Table7[[#Headers],[CDT EN]:[CDT LT]],_xlfn.XLOOKUP(CDT_Mapping[[#This Row],[ID]],Table7[CDT ID],Table7[[CDT EN]:[CDT LT]])),CDT_Mapping[[#This Row],[ID & Name]])","v":"A.10.04 Fresh minced meat"},{"$f":"RIGHT(CDT_Mapping[[#This Row],[Translation ID & name]],LEN(CDT_Mapping[[#This Row],[Translation ID & name]])-8)","v":"Fresh minced meat"},{"$f":"IFERROR(_xlfn.XLOOKUP(CDT_Mapping[[#This Row],[Grouping]],Grouping[Grouping],Grouping[Grouping (translation)]),CDT_Mapping[[#This Row],[Grouping]])","v":"Fresh food"},{"$f":"IFERROR(TRIM(RIGHT(_xlfn.XLOOKUP(CDT_Mapping[[#This Row],[ID]],ZCDT_EXPORT[Category Id],ZCDT_EXPORT[Group],\"\"),LEN(_xlfn.XLOOKUP(CDT_Mapping[[#This Row],[ID]],ZCDT_EXPORT[Category Id],ZCDT_EXPORT[Group],\"\"))-FIND(\". \",_xlfn.XLOOKUP(CDT_Mapping[[#This Row],[ID]],ZCDT_EXPORT[Category Id],ZCDT_EXPORT[Group],\"\"),1))),\"\")","v":"Ultra-Fresh"}]
[null,null,null,null,null,null,null,null,null,null,"Children underwear",null,"Fresh food","A.10.02","Fresh meat pork, beef, lamb",{"$f":"CDT_Mapping[[#This Row],[ID]]&\" \"&CDT_Mapping[[#This Row],[Category name]]","v":"A.10.02 Fresh meat pork, beef, lamb"},{"$f":"IFERROR(_xlfn.XLOOKUP(\"CDT \"&MAINPAGE_COUNTRY,Table7[[#Headers],[CDT EN]:[CDT LT]],_xlfn.XLOOKUP(CDT_Mapping[[#This Row],[ID]],Table7[CDT ID],Table7[[CDT EN]:[CDT LT]])),CDT_Mapping[[#This Row],[ID & Name]])","v":"A.10.02 Fresh meat pork, beef, lamb"},{"$f":"RIGHT(CDT_Mapping[[#This Row],[Translation ID & name]],LEN(CDT_Mapping[[#This Row],[Translation ID & name]])-8)","v":"Fresh meat pork, beef, lamb"},{"$f":"IFERROR(_xlfn.XLOOKUP(CDT_Mapping[[#This Row],[Grouping]],Grouping[Grouping],Grouping[Grouping (translation)]),CDT_Mapping[[#This Row],[Grouping]])","v":"Fresh food"},{"$f":"IFERROR(TRIM(RIGHT(_xlfn.XLOOKUP(CDT_Mapping[[#This Row],[ID]],ZCDT_EXPORT[Category Id],ZCDT_EXPORT[Group],\"\"),LEN(_xlfn.XLOOKUP(CDT_Mapping[[#This Row],[ID]],ZCDT_EXPORT[Category Id],ZCDT_EXPORT[Group],\"\"))-FIND(\". \",_xlfn.XLOOKUP(CDT_Mapping[[#This Row],[ID]],ZCDT_EXPORT[Category Id],ZCDT_EXPORT[Group],\"\"),1))),\"\")","v":"Ultra-Fresh"}]
[null,null,null,null,null,null,null,null,null,null,"Children`s clothing",null,"Fresh food","A.10.01","Fresh meat marinade",{"$f":"CDT_Mapping[[#This Row],[ID]]&\" \"&CDT_Mapping[[#This Row],[Category name]]","v":"A.10.01 Fresh meat marinade"},{"$f":"IFERROR(_xlfn.XLOOKUP(\"CDT \"&MAINPAGE_COUNTRY,Table7[[#Headers],[CDT EN]:[CDT LT]],_xlfn.XLOOKUP(CDT_Mapping[[#This Row],[ID]],Table7[CDT ID],Table7[[CDT EN]:[CDT LT]])),CDT_Mapping[[#This Row],[ID & Name]])","v":"A.10.01 Fresh meat marinade"},{"$f":"RIGHT(CDT_Mapping[[#This Row],[Translation ID & name]],LEN(CDT_Mapping[[#This Row],[Translation ID & name]])-8)","v":"Fresh meat marinade"},{"$f":"IFERROR(_xlfn.XLOOKUP(CDT_Mapping[[#This Row],[Grouping]],Grouping[Grouping],Grouping[Grouping (translation)]),CDT_Mapping[[#This Row],[Grouping]])","v":"Fresh food"},{"$f":"IFERROR(TRIM(RIGHT(_xlfn.XLOOKUP(CDT_Mapping[[#This Row],[ID]],ZCDT_EXPORT[Category Id],ZCDT_EXPORT[Group],\"\"),LEN(_xlfn.XLOOKUP(CDT_Mapping[[#This Row],[ID]],ZCDT_EXPORT[Category Id],ZCDT_EXPORT[Group],\"\"))-FIND(\". \",_xlfn.XLOOKUP(CDT_Mapping[[#This Row],[ID]],ZCDT_EXPORT[Category Id],ZCDT_EXPORT[Group],\"\"),1))),\"\")","v":"Ultra-Fresh"}]
[null,null,null,null,null,null,null,null,null,null,"Children's socks & tights",null,"Fresh food","A.10.03","Fresh meat poultry",{"$f":"CDT_Mapping[[#This Row],[ID]]&\" \"&CDT_Mapping[[#This Row],[Category name]]","v":"A.10.03 Fresh meat poultry"},{"$f":"IFERROR(_xlfn.XLOOKUP(\"CDT \"&MAINPAGE_COUNTRY,Table7[[#Headers],[CDT EN]:[CDT LT]],_xlfn.XLOOKUP(CDT_Mapping[[#This Row],[ID]],Table7[CDT ID],Table7[[CDT EN]:[CDT LT]])),CDT_Mapping[[#This Row],[ID & Name]])","v":"A.10.03 Fresh meat poultry"},{"$f":"RIGHT(CDT_Mapping[[#This Row],[Translation ID & name]],LEN(CDT_Mapping[[#This Row],[Translation ID & name]])-8)","v":"Fresh meat poultry"},{"$f":"IFERROR(_xlfn.XLOOKUP(CDT_Mapping[[#This Row],[Grouping]],Grouping[Grouping],Grouping[Grouping (translation)]),CDT_Mapping[[#This Row],[Grouping]])","v":"Fresh food"},{"$f":"IFERROR(TRIM(RIGHT(_xlfn.XLOOKUP(CDT_Mapping[[#This Row],[ID]],ZCDT_EXPORT[Category Id],ZCDT_EXPORT[Group],\"\"),LEN(_xlfn.XLOOKUP(CDT_Mapping[[#This Row],[ID]],ZCDT_EXPORT[Category Id],ZCDT_EXPORT[Group],\"\"))-FIND(\". \",_xlfn.XLOOKUP(CDT_Mapping[[#This Row],[ID]],ZCDT_EXPORT[Category Id],ZCDT_EXPORT[Group],\"\"),1))),\"\")","v":"Ultra-Fresh"}]
[null,null,null,null,null,null,null,null,null,null,"Chips, dip mixes, snacks, popcorn",null,"Fresh food","A.06.01","Fresh fish",{"$f":"CDT_Mapping[[#This Row],[ID]]&\" \"&CDT_Mapping[[#This Row],[Category name]]","v":"A.06.01 Fresh fish"},{"$f":"IFERROR(_xlfn.XLOOKUP(\"CDT \"&MAINPAGE_COUNTRY,Table7[[#Headers],[CDT EN]:[CDT LT]],_xlfn.XLOOKUP(CDT_Mapping[[#This Row],[ID]],Table7[CDT ID],Table7[[CDT EN]:[CDT LT]])),CDT_Mapping[[#This Row],[ID & Name]])","v":"A.06.01 Fresh fish"},{"$f":"RIGHT(CDT_Mapping[[#This Row],[Translation ID & name]],LEN(CDT_Mapping[[#This Row],[Translation ID & name]])-8)","v":"Fresh fish"},{"$f":"IFERROR(_xlfn.XLOOKUP(CDT_Mapping[[#This Row],[Grouping]],Grouping[Grouping],Grouping[Grouping (translation)]),CDT_Mapping[[#This Row],[Grouping]])","v":"Fresh food"},{"$f":"IFERROR(TRIM(RIGHT(_xlfn.XLOOKUP(CDT_Mapping[[#This Row],[ID]],ZCDT_EXPORT[Category Id],ZCDT_EXPORT[Group],\"\"),LEN(_xlfn.XLOOKUP(CDT_Mapping[[#This Row],[ID]],ZCDT_EXPORT[Category Id],ZCDT_EXPORT[Group],\"\"))-FIND(\". \",_xlfn.XLOOKUP(CDT_Mapping[[#This Row],[ID]],ZCDT_EXPORT[Category Id],ZCDT_EXPORT[Group],\"\"),1))),\"\")","v":"Ultra-Fresh"}]
[null,null,null,null,null,null,null,null,null,null,"Chocolate tablets and bars",null,"Fresh food","A.06.02","Processed fish and seafood",{"$f":"CDT_Mapping[[#This Row],[ID]]&\" \"&CDT_Mapping[[#This Row],[Category name]]","v":"A.06.02 Processed fish and seafood"},{"$f":"IFERROR(_xlfn.XLOOKUP(\"CDT \"&MAINPAGE_COUNTRY,Table7[[#Headers],[CDT EN]:[CDT LT]],_xlfn.XLOOKUP(CDT_Mapping[[#This Row],[ID]],Table7[CDT ID],Table7[[CDT EN]:[CDT LT]])),CDT_Mapping[[#This Row],[ID & Name]])","v":"A.06.02 Processed fish and seafood"},{"$f":"RIGHT(CDT_Mapping[[#This Row],[Translation ID & name]],LEN(CDT_Mapping[[#This Row],[Translation ID & name]])-8)","v":"Processed fish and seafood"},{"$f":"IFERROR(_xlfn.XLOOKUP(CDT_Mapping[[#This Row],[Grouping]],Grouping[Grouping],Grouping[Grouping (translation)]),CDT_Mapping[[#This Row],[Grouping]])","v":"Fresh food"},{"$f":"IFERROR(TRIM(RIGHT(_xlfn.XLOOKUP(CDT_Mapping[[#This Row],[ID]],ZCDT_EXPORT[Category Id],ZCDT_EXPORT[Group],\"\"),LEN(_xlfn.XLOOKUP(CDT_Mapping[[#This Row],[ID]],ZCDT_EXPORT[Category Id],ZCDT_EXPORT[Group],\"\"))-FIND(\". \",_xlfn.XLOOKUP(CDT_Mapping[[#This Row],[ID]],ZCDT_EXPORT[Category Id],ZCDT_EXPORT[Group],\"\"),1))),\"\")","v":"Fresh"}]
[null,null,null,null,null,null,null,null,null,null,"Cigarettes, tobacco & accessories",null,"Fresh food","A.05.01","Canned fish and seafood, Canned meat",{"$f":"CDT_Mapping[[#This Row],[ID]]&\" \"&CDT_Mapping[[#This Row],[Category name]]","v":"A.05.01 Canned fish and seafood, Canned meat"},{"$f":"IFERROR(_xlfn.XLOOKUP(\"CDT \"&MAINPAGE_COUNTRY,Table7[[#Headers],[CDT EN]:[CDT LT]],_xlfn.XLOOKUP(CDT_Mapping[[#This Row],[ID]],Table7[CDT ID],Table7[[CDT EN]:[CDT LT]])),CDT_Mapping[[#This Row],[ID & Name]])","v":"A.05.01 Canned fish and seafood, Canned meat"},{"$f":"RIGHT(CDT_Mapping[[#This Row],[Translation ID & name]],LEN(CDT_Mapping[[#This Row],[Translation ID & name]])-8)","v":"Canned fish and seafood, Canned meat"},{"$f":"IFERROR(_xlfn.XLOOKUP(CDT_Mapping[[#This Row],[Grouping]],Grouping[Grouping],Grouping[Grouping (translation)]),CDT_Mapping[[#This Row],[Grouping]])","v":"Fresh food"},{"$f":"IFERROR(TRIM(RIGHT(_xlfn.XLOOKUP(CDT_Mapping[[#This Row],[ID]],ZCDT_EXPORT[Category Id],ZCDT_EXPORT[Group],\"\"),LEN(_xlfn.XLOOKUP(CDT_Mapping[[#This Row],[ID]],ZCDT_EXPORT[Category Id],ZCDT_EXPORT[Group],\"\"))-FIND(\". \",_xlfn.XLOOKUP(CDT_Mapping[[#This Row],[ID]],ZCDT_EXPORT[Category Id],ZCDT_EXPORT[Group],\"\"),1))),\"\")","v":"Fresh"}]
[null,null,null,null,null,null,null,null,null,null,"Cleaning tools and accessories",null,"Fresh food","A.12.01","Processed meat",{"$f":"CDT_Mapping[[#This Row],[ID]]&\" \"&CDT_Mapping[[#This Row],[Category name]]","v":"A.12.01 Processed meat"},{"$f":"IFERROR(_xlfn.XLOOKUP(\"CDT \"&MAINPAGE_COUNTRY,Table7[[#Headers],[CDT EN]:[CDT LT]],_xlfn.XLOOKUP(CDT_Mapping[[#This Row],[ID]],Table7[CDT ID],Table7[[CDT EN]:[CDT LT]])),CDT_Mapping[[#This Row],[ID & Name]])","v":"A.12.01 Processed meat"},{"$f":"RIGHT(CDT_Mapping[[#This Row],[Translation ID & name]],LEN(CDT_Mapping[[#This Row],[Translation ID & name]])-8)","v":"Processed meat"},{"$f":"IFERROR(_xlfn.XLOOKUP(CDT_Mapping[[#This Row],[Grouping]],Grouping[Grouping],Grouping[Grouping (translation)]),CDT_Mapping[[#This Row],[Grouping]])","v":"Fresh food"},{"$f":"IFERROR(TRIM(RIGHT(_xlfn.XLOOKUP(CDT_Mapping[[#This Row],[ID]],ZCDT_EXPORT[Category Id],ZCDT_EXPORT[Group],\"\"),LEN(_xlfn.XLOOKUP(CDT_Mapping[[#This Row],[ID]],ZCDT_EXPORT[Category Id],ZCDT_EXPORT[Group],\"\"))-FIND(\". \",_xlfn.XLOOKUP(CDT_Mapping[[#This Row],[ID]],ZCDT_EXPORT[Category Id],ZCDT_EXPORT[Group],\"\"),1))),\"\")","v":"Fresh"}]
[null,null,null,null,null,null,null,null,null,null,"Coffee buns, Rimi production coffee",null,"Fresh food","A.11.01","Ready to eat food;prepared food",{"$f":"CDT_Mapping[[#This Row],[ID]]&\" \"&CDT_Mapping[[#This Row],[Category name]]","v":"A.11.01 Ready to eat food;prepared food"},{"$f":"IFERROR(_xlfn.XLOOKUP(\"CDT \"&MAINPAGE_COUNTRY,Table7[[#Headers],[CDT EN]:[CDT LT]],_xlfn.XLOOKUP(CDT_Mapping[[#This Row],[ID]],Table7[CDT ID],Table7[[CDT EN]:[CDT LT]])),CDT_Mapping[[#This Row],[ID & Name]])","v":"A.11.01 Ready to eat food; ready to cook foo"},{"$f":"RIGHT(CDT_Mapping[[#This Row],[Translation ID & name]],LEN(CDT_Mapping[[#This Row],[Translation ID & name]])-8)","v":"Ready to eat food; ready to cook foo"},{"$f":"IFERROR(_xlfn.XLOOKUP(CDT_Mapping[[#This Row],[Grouping]],Grouping[Grouping],Grouping[Grouping (translation)]),CDT_Mapping[[#This Row],[Grouping]])","v":"Fresh food"},{"$f":"IFERROR(TRIM(RIGHT(_xlfn.XLOOKUP(CDT_Mapping[[#This Row],[ID]],ZCDT_EXPORT[Category Id],ZCDT_EXPORT[Group],\"\"),LEN(_xlfn.XLOOKUP(CDT_Mapping[[#This Row],[ID]],ZCDT_EXPORT[Category Id],ZCDT_EXPORT[Group],\"\"))-FIND(\". \",_xlfn.XLOOKUP(CDT_Mapping[[#This Row],[ID]],ZCDT_EXPORT[Category Id],ZCDT_EXPORT[Group],\"\"),1))),\"\")","v":"Ultra-Fresh"}]
[null,null,null,null,null,null,null,null,null,null,"Coffee, cocoa",null,"Fresh food","A.07.01","Bread, Rimi production bread product",{"$f":"CDT_Mapping[[#This Row],[ID]]&\" \"&CDT_Mapping[[#This Row],[Category name]]","v":"A.07.01 Bread, Rimi production bread product"},{"$f":"IFERROR(_xlfn.XLOOKUP(\"CDT \"&MAINPAGE_COUNTRY,Table7[[#Headers],[CDT EN]:[CDT LT]],_xlfn.XLOOKUP(CDT_Mapping[[#This Row],[ID]],Table7[CDT ID],Table7[[CDT EN]:[CDT LT]])),CDT_Mapping[[#This Row],[ID & Name]])","v":"A.07.01 Bread, Rimi production bread product"},{"$f":"RIGHT(CDT_Mapping[[#This Row],[Translation ID & name]],LEN(CDT_Mapping[[#This Row],[Translation ID & name]])-8)","v":"Bread, Rimi production bread product"},{"$f":"IFERROR(_xlfn.XLOOKUP(CDT_Mapping[[#This Row],[Grouping]],Grouping[Grouping],Grouping[Grouping (translation)]),CDT_Mapping[[#This Row],[Grouping]])","v":"Fresh food"},{"$f":"IFERROR(TRIM(RIGHT(_xlfn.XLOOKUP(CDT_Mapping[[#This Row],[ID]],ZCDT_EXPORT[Category Id],ZCDT_EXPORT[Group],\"\"),LEN(_xlfn.XLOOKUP(CDT_Mapping[[#This Row],[ID]],ZCDT_EXPORT[Category Id],ZCDT_EXPORT[Group],\"\"))-FIND(\". \",_xlfn.XLOOKUP(CDT_Mapping[[#This Row],[ID]],ZCDT_EXPORT[Category Id],ZCDT_EXPORT[Group],\"\"),1))),\"\")","v":"Ultra-Fresh"}]
[null,null,null,null,null,null,null,null,null,null,"Confectionery, Rimi production confe",null,"Fresh food","A.07.03","Confectionery, Rimi production confe",{"$f":"CDT_Mapping[[#This Row],[ID]]&\" \"&CDT_Mapping[[#This Row],[Category name]]","v":"A.07.03 Confectionery, Rimi production confe"},{"$f":"IFERROR(_xlfn.XLOOKUP(\"CDT \"&MAINPAGE_COUNTRY,Table7[[#Headers],[CDT EN]:[CDT LT]],_xlfn.XLOOKUP(CDT_Mapping[[#This Row],[ID]],Table7[CDT ID],Table7[[CDT EN]:[CDT LT]])),CDT_Mapping[[#This Row],[ID & Name]])","v":"A.07.03 Confectionery, Rimi production confe"},{"$f":"RIGHT(CDT_Mapping[[#This Row],[Translation ID & name]],LEN(CDT_Mapping[[#This Row],[Translation ID & name]])-8)","v":"Confectionery, Rimi production confe"},{"$f":"IFERROR(_xlfn.XLOOKUP(CDT_Mapping[[#This Row],[Grouping]],Grouping[Grouping],Grouping[Grouping (translation)]),CDT_Mapping[[#This Row],[Grouping]])","v":"Fresh food"},{"$f":"IFERROR(TRIM(RIGHT(_xlfn.XLOOKUP(CDT_Mapping[[#This Row],[ID]],ZCDT_EXPORT[Category Id],ZCDT_EXPORT[Group],\"\"),LEN(_xlfn.XLOOKUP(CDT_Mapping[[#This Row],[ID]],ZCDT_EXPORT[Category Id],ZCDT_EXPORT[Group],\"\"))-FIND(\". \",_xlfn.XLOOKUP(CDT_Mapping[[#This Row],[ID]],ZCDT_EXPORT[Category Id],ZCDT_EXPORT[Group],\"\"),1))),\"\")","v":"Ultra-Fresh"}]
[null,null,null,null,null,null,null,null,null,null,"Construction sets",null,"Fresh food","A.07.02","Coffee buns, Rimi production coffee",{"$f":"CDT_Mapping[[#This Row],[ID]]&\" \"&CDT_Mapping[[#This Row],[Category name]]","v":"A.07.02 Coffee buns, Rimi production coffee"},{"$f":"IFERROR(_xlfn.XLOOKUP(\"CDT \"&MAINPAGE_COUNTRY,Table7[[#Headers],[CDT EN]:[CDT LT]],_xlfn.XLOOKUP(CDT_Mapping[[#This Row],[ID]],Table7[CDT ID],Table7[[CDT EN]:[CDT LT]])),CDT_Mapping[[#This Row],[ID & Name]])","v":"A.07.02 Coffee buns, Rimi production coffee"},{"$f":"RIGHT(CDT_Mapping[[#This Row],[Translation ID & name]],LEN(CDT_Mapping[[#This Row],[Translation ID & name]])-8)","v":"Coffee buns, Rimi production coffee"},{"$f":"IFERROR(_xlfn.XLOOKUP(CDT_Mapping[[#This Row],[Grouping]],Grouping[Grouping],Grouping[Grouping (translation)]),CDT_Mapping[[#This Row],[Grouping]])","v":"Fresh food"},{"$f":"IFERROR(TRIM(RIGHT(_xlfn.XLOOKUP(CDT_Mapping[[#This Row],[ID]],ZCDT_EXPORT[Category Id],ZCDT_EXPORT[Group],\"\"),LEN(_xlfn.XLOOKUP(CDT_Mapping[[#This Row],[ID]],ZCDT_EXPORT[Category Id],ZCDT_EXPORT[Group],\"\"))-FIND(\". \",_xlfn.XLOOKUP(CDT_Mapping[[#This Row],[ID]],ZCDT_EXPORT[Category Id],ZCDT_EXPORT[Group],\"\"),1))),\"\")","v":"Ultra-Fresh"}]
[null,null,null,null,null,null,null,null,null,null,"Consumer electronics",null,"Fresh food","A.15.01","Vegan",{"$f":"CDT_Mapping[[#This Row],[ID]]&\" \"&CDT_Mapping[[#This Row],[Category name]]","v":"A.15.01 Vegan"},{"$f":"IFERROR(_xlfn.XLOOKUP(\"CDT \"&MAINPAGE_COUNTRY,Table7[[#Headers],[CDT EN]:[CDT LT]],_xlfn.XLOOKUP(CDT_Mapping[[#This Row],[ID]],Table7[CDT ID],Table7[[CDT EN]:[CDT LT]])),CDT_Mapping[[#This Row],[ID & Name]])","v":"A.15.01 Vegan"},{"$f":"RIGHT(CDT_Mapping[[#This Row],[Translation ID & name]],LEN(CDT_Mapping[[#This Row],[Translation ID & name]])-8)","v":"Vegan"},{"$f":"IFERROR(_xlfn.XLOOKUP(CDT_Mapping[[#This Row],[Grouping]],Grouping[Grouping],Grouping[Grouping (translation)]),CDT_Mapping[[#This Row],[Grouping]])","v":"Fresh food"},{"$f":"IFERROR(TRIM(RIGHT(_xlfn.XLOOKUP(CDT_Mapping[[#This Row],[ID]],ZCDT_EXPORT[Category Id],ZCDT_EXPORT[Group],\"\"),LEN(_xlfn.XLOOKUP(CDT_Mapping[[#This Row],[ID]],ZCDT_EXPORT[Category Id],ZCDT_EXPORT[Group],\"\"))-FIND(\". \",_xlfn.XLOOKUP(CDT_Mapping[[#This Row],[ID]],ZCDT_EXPORT[Category Id],ZCDT_EXPORT[Group],\"\"),1))),\"\")","v":"Fresh"}]
[null,null,null,null,null,null,null,null,null,null,"Cooking oils, vinegar",null,"Fresh food","A.04.01","Eggs",{"$f":"CDT_Mapping[[#This Row],[ID]]&\" \"&CDT_Mapping[[#This Row],[Category name]]","v":"A.04.01 Eggs"},{"$f":"IFERROR(_xlfn.XLOOKUP(\"CDT \"&MAINPAGE_COUNTRY,Table7[[#Headers],[CDT EN]:[CDT LT]],_xlfn.XLOOKUP(CDT_Mapping[[#This Row],[ID]],Table7[CDT ID],Table7[[CDT EN]:[CDT LT]])),CDT_Mapping[[#This Row],[ID & Name]])","v":"A.04.01 Eggs"},{"$f":"RIGHT(CDT_Mapping[[#This Row],[Translation ID & name]],LEN(CDT_Mapping[[#This Row],[Translation ID & name]])-8)","v":"Eggs"},{"$f":"IFERROR(_xlfn.XLOOKUP(CDT_Mapping[[#This Row],[Grouping]],Grouping[Grouping],Grouping[Grouping (translation)]),CDT_Mapping[[#This Row],[Grouping]])","v":"Fresh food"},{"$f":"IFERROR(TRIM(RIGHT(_xlfn.XLOOKUP(CDT_Mapping[[#This Row],[ID]],ZCDT_EXPORT[Category Id],ZCDT_EXPORT[Group],\"\"),LEN(_xlfn.XLOOKUP(CDT_Mapping[[#This Row],[ID]],ZCDT_EXPORT[Category Id],ZCDT_EXPORT[Group],\"\"))-FIND(\". \",_xlfn.XLOOKUP(CDT_Mapping[[#This Row],[ID]],ZCDT_EXPORT[Category Id],ZCDT_EXPORT[Group],\"\"),1))),\"\")","v":"Fresh"}]
[null,null,null,null,null,null,null,null,null,null,"Cotton, moist wipes",null,"Fresh food","A.02.04","Milk",{"$f":"CDT_Mapping[[#This Row],[ID]]&\" \"&CDT_Mapping[[#This Row],[Category name]]","v":"A.02.04 Milk"},{"$f":"IFERROR(_xlfn.XLOOKUP(\"CDT \"&MAINPAGE_COUNTRY,Table7[[#Headers],[CDT EN]:[CDT LT]],_xlfn.XLOOKUP(CDT_Mapping[[#This Row],[ID]],Table7[CDT ID],Table7[[CDT EN]:[CDT LT]])),CDT_Mapping[[#This Row],[ID & Name]])","v":"A.02.04 Milk"},{"$f":"RIGHT(CDT_Mapping[[#This Row],[Translation ID & name]],LEN(CDT_Mapping[[#This Row],[Translation ID & name]])-8)","v":"Milk"},{"$f":"IFERROR(_xlfn.XLOOKUP(CDT_Mapping[[#This Row],[Grouping]],Grouping[Grouping],Grouping[Grouping (translation)]),CDT_Mapping[[#This Row],[Grouping]])","v":"Fresh food"},{"$f":"IFERROR(TRIM(RIGHT(_xlfn.XLOOKUP(CDT_Mapping[[#This Row],[ID]],ZCDT_EXPORT[Category Id],ZCDT_EXPORT[Group],\"\"),LEN(_xlfn.XLOOKUP(CDT_Mapping[[#This Row],[ID]],ZCDT_EXPORT[Category Id],ZCDT_EXPORT[Group],\"\"))-FIND(\". \",_xlfn.XLOOKUP(CDT_Mapping[[#This Row],[ID]],ZCDT_EXPORT[Category Id],ZCDT_EXPORT[Group],\"\"),1))),\"\")","v":"Fresh"}]
[null,null,null,null,null,null,null,null,null,null,"Creams",null,"Fresh food","A.02.05","Sour milk",{"$f":"CDT_Mapping[[#This Row],[ID]]&\" \"&CDT_Mapping[[#This Row],[Category name]]","v":"A.02.05 Sour milk"},{"$f":"IFERROR(_xlfn.XLOOKUP(\"CDT \"&MAINPAGE_COUNTRY,Table7[[#Headers],[CDT EN]:[CDT LT]],_xlfn.XLOOKUP(CDT_Mapping[[#This Row],[ID]],Table7[CDT ID],Table7[[CDT EN]:[CDT LT]])),CDT_Mapping[[#This Row],[ID & Name]])","v":"A.02.05 Sour milk"},{"$f":"RIGHT(CDT_Mapping[[#This Row],[Translation ID & name]],LEN(CDT_Mapping[[#This Row],[Translation ID & name]])-8)","v":"Sour milk"},{"$f":"IFERROR(_xlfn.XLOOKUP(CDT_Mapping[[#This Row],[Grouping]],Grouping[Grouping],Grouping[Grouping (translation)]),CDT_Mapping[[#This Row],[Grouping]])","v":"Fresh food"},{"$f":"IFERROR(TRIM(RIGHT(_xlfn.XLOOKUP(CDT_Mapping[[#This Row],[ID]],ZCDT_EXPORT[Category Id],ZCDT_EXPORT[Group],\"\"),LEN(_xlfn.XLOOKUP(CDT_Mapping[[#This Row],[ID]],ZCDT_EXPORT[Category Id],ZCDT_EXPORT[Group],\"\"))-FIND(\". \",_xlfn.XLOOKUP(CDT_Mapping[[#This Row],[ID]],ZCDT_EXPORT[Category Id],ZCDT_EXPORT[Group],\"\"),1))),\"\")","v":"Fresh"}]
[null,null,null,null,null,null,null,null,null,null,"Creative and educational toys",null,"Fresh food","A.02.01","Creams",{"$f":"CDT_Mapping[[#This Row],[ID]]&\" \"&CDT_Mapping[[#This Row],[Category name]]","v":"A.02.01 Creams"},{"$f":"IFERROR(_xlfn.XLOOKUP(\"CDT \"&MAINPAGE_COUNTRY,Table7[[#Headers],[CDT EN]:[CDT LT]],_xlfn.XLOOKUP(CDT_Mapping[[#This Row],[ID]],Table7[CDT ID],Table7[[CDT EN]:[CDT LT]])),CDT_Mapping[[#This Row],[ID & Name]])","v":"A.02.01 Creams"},{"$f":"RIGHT(CDT_Mapping[[#This Row],[Translation ID & name]],LEN(CDT_Mapping[[#This Row],[Translation ID & name]])-8)","v":"Creams"},{"$f":"IFERROR(_xlfn.XLOOKUP(CDT_Mapping[[#This Row],[Grouping]],Grouping[Grouping],Grouping[Grouping (translation)]),CDT_Mapping[[#This Row],[Grouping]])","v":"Fresh food"},{"$f":"IFERROR(TRIM(RIGHT(_xlfn.XLOOKUP(CDT_Mapping[[#This Row],[ID]],ZCDT_EXPORT[Category Id],ZCDT_EXPORT[Group],\"\"),LEN(_xlfn.XLOOKUP(CDT_Mapping[[#This Row],[ID]],ZCDT_EXPORT[Category Id],ZCDT_EXPORT[Group],\"\"))-FIND(\". \",_xlfn.XLOOKUP(CDT_Mapping[[#This Row],[ID]],ZCDT_EXPORT[Category Id],ZCDT_EXPORT[Group],\"\"),1))),\"\")","v":"Fresh"}]
[null,null,null,null,null,null,null,null,null,null,"Curd and cottage cheese",null,"Fresh food","A.02.02","Curd and cottage cheese",{"$f":"CDT_Mapping[[#This Row],[ID]]&\" \"&CDT_Mapping[[#This Row],[Category name]]","v":"A.02.02 Curd and cottage cheese"},{"$f":"IFERROR(_xlfn.XLOOKUP(\"CDT \"&MAINPAGE_COUNTRY,Table7[[#Headers],[CDT EN]:[CDT LT]],_xlfn.XLOOKUP(CDT_Mapping[[#This Row],[ID]],Table7[CDT ID],Table7[[CDT EN]:[CDT LT]])),CDT_Mapping[[#This Row],[ID & Name]])","v":"A.02.02 Curd and cottage cheese"},{"$f":"RIGHT(CDT_Mapping[[#This Row],[Translation ID & name]],LEN(CDT_Mapping[[#This Row],[Translation ID & name]])-8)","v":"Curd and cottage cheese"},{"$f":"IFERROR(_xlfn.XLOOKUP(CDT_Mapping[[#This Row],[Grouping]],Grouping[Grouping],Grouping[Grouping (translation)]),CDT_Mapping[[#This Row],[Grouping]])","v":"Fresh food"},{"$f":"IFERROR(TRIM(RIGHT(_xlfn.XLOOKUP(CDT_Mapping[[#This Row],[ID]],ZCDT_EXPORT[Category Id],ZCDT_EXPORT[Group],\"\"),LEN(_xlfn.XLOOKUP(CDT_Mapping[[#This Row],[ID]],ZCDT_EXPORT[Category Id],ZCDT_EXPORT[Group],\"\"))-FIND(\". \",_xlfn.XLOOKUP(CDT_Mapping[[#This Row],[ID]],ZCDT_EXPORT[Category Id],ZCDT_EXPORT[Group],\"\"),1))),\"\")","v":"Fresh"}]
[null,null,null,null,null,null,null,null,null,null,"Curd bars",null,"Fresh food","A.02.03","Mayonnaise",{"$f":"CDT_Mapping[[#This Row],[ID]]&\" \"&CDT_Mapping[[#This Row],[Category name]]","v":"A.02.03 Mayonnaise"},{"$f":"IFERROR(_xlfn.XLOOKUP(\"CDT \"&MAINPAGE_COUNTRY,Table7[[#Headers],[CDT EN]:[CDT LT]],_xlfn.XLOOKUP(CDT_Mapping[[#This Row],[ID]],Table7[CDT ID],Table7[[CDT EN]:[CDT LT]])),CDT_Mapping[[#This Row],[ID & Name]])","v":"A.02.03 Mayonnaise"},{"$f":"RIGHT(CDT_Mapping[[#This Row],[Translation ID & name]],LEN(CDT_Mapping[[#This Row],[Translation ID & name]])-8)","v":"Mayonnaise"},{"$f":"IFERROR(_xlfn.XLOOKUP(CDT_Mapping[[#This Row],[Grouping]],Grouping[Grouping],Grouping[Grouping (translation)]),CDT_Mapping[[#This Row],[Grouping]])","v":"Fresh food"},{"$f":"IFERROR(TRIM(RIGHT(_xlfn.XLOOKUP(CDT_Mapping[[#This Row],[ID]],ZCDT_EXPORT[Category Id],ZCDT_EXPORT[Group],\"\"),LEN(_xlfn.XLOOKUP(CDT_Mapping[[#This Row],[ID]],ZCDT_EXPORT[Category Id],ZCDT_EXPORT[Group],\"\"))-FIND(\". \",_xlfn.XLOOKUP(CDT_Mapping[[#This Row],[ID]],ZCDT_EXPORT[Category Id],ZCDT_EXPORT[Group],\"\"),1))),\"\")","v":"Fresh"}]
[null,null,null,null,null,null,null,null,null,null,"Deodorants; Fragrances",null,"Fresh food","A.14.03","Yogurts",{"$f":"CDT_Mapping[[#This Row],[ID]]&\" \"&CDT_Mapping[[#This Row],[Category name]]","v":"A.14.03 Yogurts"},{"$f":"IFERROR(_xlfn.XLOOKUP(\"CDT \"&MAINPAGE_COUNTRY,Table7[[#Headers],[CDT EN]:[CDT LT]],_xlfn.XLOOKUP(CDT_Mapping[[#This Row],[ID]],Table7[CDT ID],Table7[[CDT EN]:[CDT LT]])),CDT_Mapping[[#This Row],[ID & Name]])","v":"A.14.03 Yogurts"},{"$f":"RIGHT(CDT_Mapping[[#This Row],[Translation ID & name]],LEN(CDT_Mapping[[#This Row],[Translation ID & name]])-8)","v":"Yogurts"},{"$f":"IFERROR(_xlfn.XLOOKUP(CDT_Mapping[[#This Row],[Grouping]],Grouping[Grouping],Grouping[Grouping (translation)]),CDT_Mapping[[#This Row],[Grouping]])","v":"Fresh food"},{"$f":"IFERROR(TRIM(RIGHT(_xlfn.XLOOKUP(CDT_Mapping[[#This Row],[ID]],ZCDT_EXPORT[Category Id],ZCDT_EXPORT[Group],\"\"),LEN(_xlfn.XLOOKUP(CDT_Mapping[[#This Row],[ID]],ZCDT_EXPORT[Category Id],ZCDT_EXPORT[Group],\"\"))-FIND(\". \",_xlfn.XLOOKUP(CDT_Mapping[[#This Row],[ID]],ZCDT_EXPORT[Category Id],ZCDT_EXPORT[Group],\"\"),1))),\"\")","v":"Fresh"}]
[null,null,null,null,null,null,null,null,null,null,"Depilation and shaving",null,"Fresh food","A.14.02","Desserts and snacks",{"$f":"CDT_Mapping[[#This Row],[ID]]&\" \"&CDT_Mapping[[#This Row],[Category name]]","v":"A.14.02 Desserts and snacks"},{"$f":"IFERROR(_xlfn.XLOOKUP(\"CDT \"&MAINPAGE_COUNTRY,Table7[[#Headers],[CDT EN]:[CDT LT]],_xlfn.XLOOKUP(CDT_Mapping[[#This Row],[ID]],Table7[CDT ID],Table7[[CDT EN]:[CDT LT]])),CDT_Mapping[[#This Row],[ID & Name]])","v":"A.14.02 Desserts and snacks"},{"$f":"RIGHT(CDT_Mapping[[#This Row],[Translation ID & name]],LEN(CDT_Mapping[[#This Row],[Translation ID & name]])-8)","v":"Desserts and snacks"},{"$f":"IFERROR(_xlfn.XLOOKUP(CDT_Mapping[[#This Row],[Grouping]],Grouping[Grouping],Grouping[Grouping (translation)]),CDT_Mapping[[#This Row],[Grouping]])","v":"Fresh food"},{"$f":"IFERROR(TRIM(RIGHT(_xlfn.XLOOKUP(CDT_Mapping[[#This Row],[ID]],ZCDT_EXPORT[Category Id],ZCDT_EXPORT[Group],\"\"),LEN(_xlfn.XLOOKUP(CDT_Mapping[[#This Row],[ID]],ZCDT_EXPORT[Category Id],ZCDT_EXPORT[Group],\"\"))-FIND(\". \",_xlfn.XLOOKUP(CDT_Mapping[[#This Row],[ID]],ZCDT_EXPORT[Category Id],ZCDT_EXPORT[Group],\"\"),1))),\"\")","v":"Fresh"}]
[null,null,null,null,null,null,null,null,null,null,"Desserts and snacks",null,"Fresh food","A.14.01","Curd bars",{"$f":"CDT_Mapping[[#This Row],[ID]]&\" \"&CDT_Mapping[[#This Row],[Category name]]","v":"A.14.01 Curd bars"},{"$f":"IFERROR(_xlfn.XLOOKUP(\"CDT \"&MAINPAGE_COUNTRY,Table7[[#Headers],[CDT EN]:[CDT LT]],_xlfn.XLOOKUP(CDT_Mapping[[#This Row],[ID]],Table7[CDT ID],Table7[[CDT EN]:[CDT LT]])),CDT_Mapping[[#This Row],[ID & Name]])","v":"A.14.01 Curd bars"},{"$f":"RIGHT(CDT_Mapping[[#This Row],[Translation ID & name]],LEN(CDT_Mapping[[#This Row],[Translation ID & name]])-8)","v":"Curd bars"},{"$f":"IFERROR(_xlfn.XLOOKUP(CDT_Mapping[[#This Row],[Grouping]],Grouping[Grouping],Grouping[Grouping (translation)]),CDT_Mapping[[#This Row],[Grouping]])","v":"Fresh food"},{"$f":"IFERROR(TRIM(RIGHT(_xlfn.XLOOKUP(CDT_Mapping[[#This Row],[ID]],ZCDT_EXPORT[Category Id],ZCDT_EXPORT[Group],\"\"),LEN(_xlfn.XLOOKUP(CDT_Mapping[[#This Row],[ID]],ZCDT_EXPORT[Category Id],ZCDT_EXPORT[Group],\"\"))-FIND(\". \",_xlfn.XLOOKUP(CDT_Mapping[[#This Row],[ID]],ZCDT_EXPORT[Category Id],ZCDT_EXPORT[Group],\"\"),1))),\"\")","v":"Fresh"}]
[null,null,null,null,null,null,null,null,null,null,"Diapers and baby care",null,"Fresh food","A.03.01","Edible fats",{"$f":"CDT_Mapping[[#This Row],[ID]]&\" \"&CDT_Mapping[[#This Row],[Category name]]","v":"A.03.01 Edible fats"},{"$f":"IFERROR(_xlfn.XLOOKUP(\"CDT \"&MAINPAGE_COUNTRY,Table7[[#Headers],[CDT EN]:[CDT LT]],_xlfn.XLOOKUP(CDT_Mapping[[#This Row],[ID]],Table7[CDT ID],Table7[[CDT EN]:[CDT LT]])),CDT_Mapping[[#This Row],[ID & Name]])","v":"A.03.01 Edible fats"},{"$f":"RIGHT(CDT_Mapping[[#This Row],[Translation ID & name]],LEN(CDT_Mapping[[#This Row],[Translation ID & name]])-8)","v":"Edible fats"},{"$f":"IFERROR(_xlfn.XLOOKUP(CDT_Mapping[[#This Row],[Grouping]],Grouping[Grouping],Grouping[Grouping (translation)]),CDT_Mapping[[#This Row],[Grouping]])","v":"Fresh food"},{"$f":"IFERROR(TRIM(RIGHT(_xlfn.XLOOKUP(CDT_Mapping[[#This Row],[ID]],ZCDT_EXPORT[Category Id],ZCDT_EXPORT[Group],\"\"),LEN(_xlfn.XLOOKUP(CDT_Mapping[[#This Row],[ID]],ZCDT_EXPORT[Category Id],ZCDT_EXPORT[Group],\"\"))-FIND(\". \",_xlfn.XLOOKUP(CDT_Mapping[[#This Row],[ID]],ZCDT_EXPORT[Category Id],ZCDT_EXPORT[Group],\"\"),1))),\"\")","v":"Fresh"}]
[null,null,null,null,null,null,null,null,null,null,"Disposable materials",null,"Fresh food","A.01.01","Cheese",{"$f":"CDT_Mapping[[#This Row],[ID]]&\" \"&CDT_Mapping[[#This Row],[Category name]]","v":"A.01.01 Cheese"},{"$f":"IFERROR(_xlfn.XLOOKUP(\"CDT \"&MAINPAGE_COUNTRY,Table7[[#Headers],[CDT EN]:[CDT LT]],_xlfn.XLOOKUP(CDT_Mapping[[#This Row],[ID]],Table7[CDT ID],Table7[[CDT EN]:[CDT LT]])),CDT_Mapping[[#This Row],[ID & Name]])","v":"A.01.01 Cheese"},{"$f":"RIGHT(CDT_Mapping[[#This Row],[Translation ID & name]],LEN(CDT_Mapping[[#This Row],[Translation ID & name]])-8)","v":"Cheese"},{"$f":"IFERROR(_xlfn.XLOOKUP(CDT_Mapping[[#This Row],[Grouping]],Grouping[Grouping],Grouping[Grouping (translation)]),CDT_Mapping[[#This Row],[Grouping]])","v":"Fresh food"},{"$f":"IFERROR(TRIM(RIGHT(_xlfn.XLOOKUP(CDT_Mapping[[#This Row],[ID]],ZCDT_EXPORT[Category Id],ZCDT_EXPORT[Group],\"\"),LEN(_xlfn.XLOOKUP(CDT_Mapping[[#This Row],[ID]],ZCDT_EXPORT[Category Id],ZCDT_EXPORT[Group],\"\"))-FIND(\". \",_xlfn.XLOOKUP(CDT_Mapping[[#This Row],[ID]],ZCDT_EXPORT[Category Id],ZCDT_EXPORT[Group],\"\"),1))),\"\")","v":"Fresh"}]
[null,null,null,null,null,null,null,null,null,null,"Disposable tableware",null,"Frozen food","A.08.02","Frozen food, meat, F&V",{"$f":"CDT_Mapping[[#This Row],[ID]]&\" \"&CDT_Mapping[[#This Row],[Category name]]","v":"A.08.02 Frozen food, meat, F&V"},{"$f":"IFERROR(_xlfn.XLOOKUP(\"CDT \"&MAINPAGE_COUNTRY,Table7[[#Headers],[CDT EN]:[CDT LT]],_xlfn.XLOOKUP(CDT_Mapping[[#This Row],[ID]],Table7[CDT ID],Table7[[CDT EN]:[CDT LT]])),CDT_Mapping[[#This Row],[ID & Name]])","v":"A.08.02 Frozen food, meat, F&V"},{"$f":"RIGHT(CDT_Mapping[[#This Row],[Translation ID & name]],LEN(CDT_Mapping[[#This Row],[Translation ID & name]])-8)","v":"Frozen food, meat, F&V"},{"$f":"IFERROR(_xlfn.XLOOKUP(CDT_Mapping[[#This Row],[Grouping]],Grouping[Grouping],Grouping[Grouping (translation)]),CDT_Mapping[[#This Row],[Grouping]])","v":"Frozen food"},{"$f":"IFERROR(TRIM(RIGHT(_xlfn.XLOOKUP(CDT_Mapping[[#This Row],[ID]],ZCDT_EXPORT[Category Id],ZCDT_EXPORT[Group],\"\"),LEN(_xlfn.XLOOKUP(CDT_Mapping[[#This Row],[ID]],ZCDT_EXPORT[Category Id],ZCDT_EXPORT[Group],\"\"))-FIND(\". \",_xlfn.XLOOKUP(CDT_Mapping[[#This Row],[ID]],ZCDT_EXPORT[Category Id],ZCDT_EXPORT[Group],\"\"),1))),\"\")","v":"Dry & Frozen"}]
[null,null,null,null,null,null,null,null,null,null,"DIY",null,"Frozen food","A.09.01","Ice cream, ice products",{"$f":"CDT_Mapping[[#This Row],[ID]]&\" \"&CDT_Mapping[[#This Row],[Category name]]","v":"A.09.01 Ice cream, ice products"},{"$f":"IFERROR(_xlfn.XLOOKUP(\"CDT \"&MAINPAGE_COUNTRY,Table7[[#Headers],[CDT EN]:[CDT LT]],_xlfn.XLOOKUP(CDT_Mapping[[#This Row],[ID]],Table7[CDT ID],Table7[[CDT EN]:[CDT LT]])),CDT_Mapping[[#This Row],[ID & Name]])","v":"A.09.01 Ice cream, ice products"},{"$f":"RIGHT(CDT_Mapping[[#This Row],[Translation ID & name]],LEN(CDT_Mapping[[#This Row],[Translation ID & name]])-8)","v":"Ice cream, ice products"},{"$f":"IFERROR(_xlfn.XLOOKUP(CDT_Mapping[[#This Row],[Grouping]],Grouping[Grouping],Grouping[Grouping (translation)]),CDT_Mapping[[#This Row],[Grouping]])","v":"Frozen food"},{"$f":"IFERROR(TRIM(RIGHT(_xlfn.XLOOKUP(CDT_Mapping[[#This Row],[ID]],ZCDT_EXPORT[Category Id],ZCDT_EXPORT[Group],\"\"),LEN(_xlfn.XLOOKUP(CDT_Mapping[[#This Row],[ID]],ZCDT_EXPORT[Category Id],ZCDT_EXPORT[Group],\"\"))-FIND(\". \",_xlfn.XLOOKUP(CDT_Mapping[[#This Row],[ID]],ZCDT_EXPORT[Category Id],ZCDT_EXPORT[Group],\"\"),1))),\"\")","v":"Dry & Frozen"}]
[null,null,null,null,null,null,null,null,null,null,"Edible fats",null,"Frozen food","A.08.01","Frozen fish and seafood",{"$f":"CDT_Mapping[[#This Row],[ID]]&\" \"&CDT_Mapping[[#This Row],[Category name]]","v":"A.08.01 Frozen fish and seafood"},{"$f":"IFERROR(_xlfn.XLOOKUP(\"CDT \"&MAINPAGE_COUNTRY,Table7[[#Headers],[CDT EN]:[CDT LT]],_xlfn.XLOOKUP(CDT_Mapping[[#This Row],[ID]],Table7[CDT ID],Table7[[CDT EN]:[CDT LT]])),CDT_Mapping[[#This Row],[ID & Name]])","v":"A.08.01 Frozen fish and seafood"},{"$f":"RIGHT(CDT_Mapping[[#This Row],[Translation ID & name]],LEN(CDT_Mapping[[#This Row],[Translation ID & name]])-8)","v":"Frozen fish and seafood"},{"$f":"IFERROR(_xlfn.XLOOKUP(CDT_Mapping[[#This Row],[Grouping]],Grouping[Grouping],Grouping[Grouping (translation)]),CDT_Mapping[[#This Row],[Grouping]])","v":"Frozen food"},{"$f":"IFERROR(TRIM(RIGHT(_xlfn.XLOOKUP(CDT_Mapping[[#This Row],[ID]],ZCDT_EXPORT[Category Id],ZCDT_EXPORT[Group],\"\"),LEN(_xlfn.XLOOKUP(CDT_Mapping[[#This Row],[ID]],ZCDT_EXPORT[Category Id],ZCDT_EXPORT[Group],\"\"))-FIND(\". \",_xlfn.XLOOKUP(CDT_Mapping[[#This Row],[ID]],ZCDT_EXPORT[Category Id],ZCDT_EXPORT[Group],\"\"),1))),\"\")","v":"Dry & Frozen"}]
[null,null,null,null,null,null,null,null,null,null,"Eggs",null,"Household chemicals","D.05.01","Home laundry",{"$f":"CDT_Mapping[[#This Row],[ID]]&\" \"&CDT_Mapping[[#This Row],[Category name]]","v":"D.05.01 Home laundry"},{"$f":"IFERROR(_xlfn.XLOOKUP(\"CDT \"&MAINPAGE_COUNTRY,Table7[[#Headers],[CDT EN]:[CDT LT]],_xlfn.XLOOKUP(CDT_Mapping[[#This Row],[ID]],Table7[CDT ID],Table7[[CDT EN]:[CDT LT]])),CDT_Mapping[[#This Row],[ID & Name]])","v":"D.05.01 Home laundry"},{"$f":"RIGHT(CDT_Mapping[[#This Row],[Translation ID & name]],LEN(CDT_Mapping[[#This Row],[Translation ID & name]])-8)","v":"Home laundry"},{"$f":"IFERROR(_xlfn.XLOOKUP(CDT_Mapping[[#This Row],[Grouping]],Grouping[Grouping],Grouping[Grouping (translation)]),CDT_Mapping[[#This Row],[Grouping]])","v":"Household chemicals"},{"$f":"IFERROR(TRIM(RIGHT(_xlfn.XLOOKUP(CDT_Mapping[[#This Row],[ID]],ZCDT_EXPORT[Category Id],ZCDT_EXPORT[Group],\"\"),LEN(_xlfn.XLOOKUP(CDT_Mapping[[#This Row],[ID]],ZCDT_EXPORT[Category Id],ZCDT_EXPORT[Group],\"\"))-FIND(\". \",_xlfn.XLOOKUP(CDT_Mapping[[#This Row],[ID]],ZCDT_EXPORT[Category Id],ZCDT_EXPORT[Group],\"\"),1))),\"\")","v":"Non-Edibles"}]
[null,null,null,null,null,null,null,null,null,null,"Electric Bulbs",null,"Household chemicals","D.05.02","Household cleaning and dishwashing",{"$f":"CDT_Mapping[[#This Row],[ID]]&\" \"&CDT_Mapping[[#This Row],[Category name]]","v":"D.05.02 Household cleaning and dishwashing"},{"$f":"IFERROR(_xlfn.XLOOKUP(\"CDT \"&MAINPAGE_COUNTRY,Table7[[#Headers],[CDT EN]:[CDT LT]],_xlfn.XLOOKUP(CDT_Mapping[[#This Row],[ID]],Table7[CDT ID],Table7[[CDT EN]:[CDT LT]])),CDT_Mapping[[#This Row],[ID & Name]])","v":"D.05.02 Household cleaning and dishwashing"},{"$f":"RIGHT(CDT_Mapping[[#This Row],[Translation ID & name]],LEN(CDT_Mapping[[#This Row],[Translation ID & name]])-8)","v":"Household cleaning and dishwashing"},{"$f":"IFERROR(_xlfn.XLOOKUP(CDT_Mapping[[#This Row],[Grouping]],Grouping[Grouping],Grouping[Grouping (translation)]),CDT_Mapping[[#This Row],[Grouping]])","v":"Household chemicals"},{"$f":"IFERROR(TRIM(RIGHT(_xlfn.XLOOKUP(CDT_Mapping[[#This Row],[ID]],ZCDT_EXPORT[Category Id],ZCDT_EXPORT[Group],\"\"),LEN(_xlfn.XLOOKUP(CDT_Mapping[[#This Row],[ID]],ZCDT_EXPORT[Category Id],ZCDT_EXPORT[Group],\"\"))-FIND(\". \",_xlfn.XLOOKUP(CDT_Mapping[[#This Row],[ID]],ZCDT_EXPORT[Category Id],ZCDT_EXPORT[Group],\"\"),1))),\"\")","v":"Non-Edibles"}]
[null,null,null,null,null,null,null,null,null,null,"Ethnic seasoning and meal ingredient",null,"Household chemicals","D.05.03","Other homecare",{"$f":"CDT_Mapping[[#This Row],[ID]]&\" \"&CDT_Mapping[[#This Row],[Category name]]","v":"D.05.03 Other homecare"},{"$f":"IFERROR(_xlfn.XLOOKUP(\"CDT \"&MAINPAGE_COUNTRY,Table7[[#Headers],[CDT EN]:[CDT LT]],_xlfn.XLOOKUP(CDT_Mapping[[#This Row],[ID]],Table7[CDT ID],Table7[[CDT EN]:[CDT LT]])),CDT_Mapping[[#This Row],[ID & Name]])","v":"D.05.03 Other homecare (glues, repellents, shoe care)"},{"$f":"RIGHT(CDT_Mapping[[#This Row],[Translation ID & name]],LEN(CDT_Mapping[[#This Row],[Translation ID & name]])-8)","v":"Other homecare (glues, repellents, shoe care)"},{"$f":"IFERROR(_xlfn.XLOOKUP(CDT_Mapping[[#This Row],[Grouping]],Grouping[Grouping],Grouping[Grouping (translation)]),CDT_Mapping[[#This Row],[Grouping]])","v":"Household chemicals"},{"$f":"IFERROR(TRIM(RIGHT(_xlfn.XLOOKUP(CDT_Mapping[[#This Row],[ID]],ZCDT_EXPORT[Category Id],ZCDT_EXPORT[Group],\"\"),LEN(_xlfn.XLOOKUP(CDT_Mapping[[#This Row],[ID]],ZCDT_EXPORT[Category Id],ZCDT_EXPORT[Group],\"\"))-FIND(\". \",_xlfn.XLOOKUP(CDT_Mapping[[#This Row],[ID]],ZCDT_EXPORT[Category Id],ZCDT_EXPORT[Group],\"\"),1))),\"\")","v":"Non-Edibles"}]
[null,null,null,null,null,null,null,null,null,null,"Face care",null,"Lottery tickets, prepaid mobile cards","D.08.02","Partner services, lottery tickets",{"$f":"CDT_Mapping[[#This Row],[ID]]&\" \"&CDT_Mapping[[#This Row],[Category name]]","v":"D.08.02 Partner services, lottery tickets"},{"$f":"IFERROR(_xlfn.XLOOKUP(\"CDT \"&MAINPAGE_COUNTRY,Table7[[#Headers],[CDT EN]:[CDT LT]],_xlfn.XLOOKUP(CDT_Mapping[[#This Row],[ID]],Table7[CDT ID],Table7[[CDT EN]:[CDT LT]])),CDT_Mapping[[#This Row],[ID & Name]])","v":"D.08.02 Partner services, lottery tickets"},{"$f":"RIGHT(CDT_Mapping[[#This Row],[Translation ID & name]],LEN(CDT_Mapping[[#This Row],[Translation ID & name]])-8)","v":"Partner services, lottery tickets"},{"$f":"IFERROR(_xlfn.XLOOKUP(CDT_Mapping[[#This Row],[Grouping]],Grouping[Grouping],Grouping[Grouping (translation)]),CDT_Mapping[[#This Row],[Grouping]])","v":"Lottery tickets, prepaid mobile cards"},{"$f":"IFERROR(TRIM(RIGHT(_xlfn.XLOOKUP(CDT_Mapping[[#This Row],[ID]],ZCDT_EXPORT[Category Id],ZCDT_EXPORT[Group],\"\"),LEN(_xlfn.XLOOKUP(CDT_Mapping[[#This Row],[ID]],ZCDT_EXPORT[Category Id],ZCDT_EXPORT[Group],\"\"))-FIND(\". \",_xlfn.XLOOKUP(CDT_Mapping[[#This Row],[ID]],ZCDT_EXPORT[Category Id],ZCDT_EXPORT[Group],\"\"),1))),\"\")","v":"Non-Edibles"}]
[null,null,null,null,null,null,null,null,null,null,"Festivity",null,"Non-alcoholic beverages","C.09.01","Coffee, cocoa",{"$f":"CDT_Mapping[[#This Row],[ID]]&\" \"&CDT_Mapping[[#This Row],[Category name]]","v":"C.09.01 Coffee, cocoa"},{"$f":"IFERROR(_xlfn.XLOOKUP(\"CDT \"&MAINPAGE_COUNTRY,Table7[[#Headers],[CDT EN]:[CDT LT]],_xlfn.XLOOKUP(CDT_Mapping[[#This Row],[ID]],Table7[CDT ID],Table7[[CDT EN]:[CDT LT]])),CDT_Mapping[[#This Row],[ID & Name]])","v":"C.09.01 Coffee, cocoa"},{"$f":"RIGHT(CDT_Mapping[[#This Row],[Translation ID & name]],LEN(CDT_Mapping[[#This Row],[Translation ID & name]])-8)","v":"Coffee, cocoa"},{"$f":"IFERROR(_xlfn.XLOOKUP(CDT_Mapping[[#This Row],[Grouping]],Grouping[Grouping],Grouping[Grouping (translation)]),CDT_Mapping[[#This Row],[Grouping]])","v":"Non-alcoholic beverages"},{"$f":"IFERROR(TRIM(RIGHT(_xlfn.XLOOKUP(CDT_Mapping[[#This Row],[ID]],ZCDT_EXPORT[Category Id],ZCDT_EXPORT[Group],\"\"),LEN(_xlfn.XLOOKUP(CDT_Mapping[[#This Row],[ID]],ZCDT_EXPORT[Category Id],ZCDT_EXPORT[Group],\"\"))-FIND(\". \",_xlfn.XLOOKUP(CDT_Mapping[[#This Row],[ID]],ZCDT_EXPORT[Category Id],ZCDT_EXPORT[Group],\"\"),1))),\"\")","v":"Dry & Frozen"}]
[null,null,null,null,null,null,null,null,null,null,"Flakes,  groats, legume, rice",null,"Non-alcoholic beverages","C.09.02","Tea",{"$f":"CDT_Mapping[[#This Row],[ID]]&\" \"&CDT_Mapping[[#This Row],[Category name]]","v":"C.09.02 Tea"},{"$f":"IFERROR(_xlfn.XLOOKUP(\"CDT \"&MAINPAGE_COUNTRY,Table7[[#Headers],[CDT EN]:[CDT LT]],_xlfn.XLOOKUP(CDT_Mapping[[#This Row],[ID]],Table7[CDT ID],Table7[[CDT EN]:[CDT LT]])),CDT_Mapping[[#This Row],[ID & Name]])","v":"C.09.02 Tea"},{"$f":"RIGHT(CDT_Mapping[[#This Row],[Translation ID & name]],LEN(CDT_Mapping[[#This Row],[Translation ID & name]])-8)","v":"Tea"},{"$f":"IFERROR(_xlfn.XLOOKUP(CDT_Mapping[[#This Row],[Grouping]],Grouping[Grouping],Grouping[Grouping (translation)]),CDT_Mapping[[#This Row],[Grouping]])","v":"Non-alcoholic beverages"},{"$f":"IFERROR(TRIM(RIGHT(_xlfn.XLOOKUP(CDT_Mapping[[#This Row],[ID]],ZCDT_EXPORT[Category Id],ZCDT_EXPORT[Group],\"\"),LEN(_xlfn.XLOOKUP(CDT_Mapping[[#This Row],[ID]],ZCDT_EXPORT[Category Id],ZCDT_EXPORT[Group],\"\"))-FIND(\". \",_xlfn.XLOOKUP(CDT_Mapping[[#This Row],[ID]],ZCDT_EXPORT[Category Id],ZCDT_EXPORT[Group],\"\"),1))),\"\")","v":"Dry & Frozen"}]
[null,null,null,null,null,null,null,null,null,null,"Flours and baking mixtures",null,"Non-alcoholic beverages","C.10.01","Juices and nectars, concentrates and",{"$f":"CDT_Mapping[[#This Row],[ID]]&\" \"&CDT_Mapping[[#This Row],[Category name]]","v":"C.10.01 Juices and nectars, concentrates and"},{"$f":"IFERROR(_xlfn.XLOOKUP(\"CDT \"&MAINPAGE_COUNTRY,Table7[[#Headers],[CDT EN]:[CDT LT]],_xlfn.XLOOKUP(CDT_Mapping[[#This Row],[ID]],Table7[CDT ID],Table7[[CDT EN]:[CDT LT]])),CDT_Mapping[[#This Row],[ID & Name]])","v":"C.10.01 Juices and nectars, concentrates and"},{"$f":"RIGHT(CDT_Mapping[[#This Row],[Translation ID & name]],LEN(CDT_Mapping[[#This Row],[Translation ID & name]])-8)","v":"Juices and nectars, concentrates and"},{"$f":"IFERROR(_xlfn.XLOOKUP(CDT_Mapping[[#This Row],[Grouping]],Grouping[Grouping],Grouping[Grouping (translation)]),CDT_Mapping[[#This Row],[Grouping]])","v":"Non-alcoholic beverages"},{"$f":"IFERROR(TRIM(RIGHT(_xlfn.XLOOKUP(CDT_Mapping[[#This Row],[ID]],ZCDT_EXPORT[Category Id],ZCDT_EXPORT[Group],\"\"),LEN(_xlfn.XLOOKUP(CDT_Mapping[[#This Row],[ID]],ZCDT_EXPORT[Category Id],ZCDT_EXPORT[Group],\"\"))-FIND(\". \",_xlfn.XLOOKUP(CDT_Mapping[[#This Row],[ID]],ZCDT_EXPORT[Category Id],ZCDT_EXPORT[Group],\"\"),1))),\"\")","v":"Dry & Frozen"}]
[null,null,null,null,null,null,null,null,null,null,"Food preparation",null,"Non-alcoholic beverages","C.16.01","Lemonade, ice tea, kvass, tonic, par",{"$f":"CDT_Mapping[[#This Row],[ID]]&\" \"&CDT_Mapping[[#This Row],[Category name]]","v":"C.16.01 Lemonade, ice tea, kvass, tonic, par"},{"$f":"IFERROR(_xlfn.XLOOKUP(\"CDT \"&MAINPAGE_COUNTRY,Table7[[#Headers],[CDT EN]:[CDT LT]],_xlfn.XLOOKUP(CDT_Mapping[[#This Row],[ID]],Table7[CDT ID],Table7[[CDT EN]:[CDT LT]])),CDT_Mapping[[#This Row],[ID & Name]])","v":"C.16.01 Lemonade, ice tea, kvass, tonic, par"},{"$f":"RIGHT(CDT_Mapping[[#This Row],[Translation ID & name]],LEN(CDT_Mapping[[#This Row],[Translation ID & name]])-8)","v":"Lemonade, ice tea, kvass, tonic, par"},{"$f":"IFERROR(_xlfn.XLOOKUP(CDT_Mapping[[#This Row],[Grouping]],Grouping[Grouping],Grouping[Grouping (translation)]),CDT_Mapping[[#This Row],[Grouping]])","v":"Non-alcoholic beverages"},{"$f":"IFERROR(TRIM(RIGHT(_xlfn.XLOOKUP(CDT_Mapping[[#This Row],[ID]],ZCDT_EXPORT[Category Id],ZCDT_EXPORT[Group],\"\"),LEN(_xlfn.XLOOKUP(CDT_Mapping[[#This Row],[ID]],ZCDT_EXPORT[Category Id],ZCDT_EXPORT[Group],\"\"))-FIND(\". \",_xlfn.XLOOKUP(CDT_Mapping[[#This Row],[ID]],ZCDT_EXPORT[Category Id],ZCDT_EXPORT[Group],\"\"),1))),\"\")","v":"Dry & Frozen"}]
[null,null,null,null,null,null,null,null,null,null,"Footwear",null,"Non-alcoholic beverages","C.16.02","Water, sports drinks",{"$f":"CDT_Mapping[[#This Row],[ID]]&\" \"&CDT_Mapping[[#This Row],[Category name]]","v":"C.16.02 Water, sports drinks"},{"$f":"IFERROR(_xlfn.XLOOKUP(\"CDT \"&MAINPAGE_COUNTRY,Table7[[#Headers],[CDT EN]:[CDT LT]],_xlfn.XLOOKUP(CDT_Mapping[[#This Row],[ID]],Table7[CDT ID],Table7[[CDT EN]:[CDT LT]])),CDT_Mapping[[#This Row],[ID & Name]])","v":"C.16.02 Water, sports drinks"},{"$f":"RIGHT(CDT_Mapping[[#This Row],[Translation ID & name]],LEN(CDT_Mapping[[#This Row],[Translation ID & name]])-8)","v":"Water, sports drinks"},{"$f":"IFERROR(_xlfn.XLOOKUP(CDT_Mapping[[#This Row],[Grouping]],Grouping[Grouping],Grouping[Grouping (translation)]),CDT_Mapping[[#This Row],[Grouping]])","v":"Non-alcoholic beverages"},{"$f":"IFERROR(TRIM(RIGHT(_xlfn.XLOOKUP(CDT_Mapping[[#This Row],[ID]],ZCDT_EXPORT[Category Id],ZCDT_EXPORT[Group],\"\"),LEN(_xlfn.XLOOKUP(CDT_Mapping[[#This Row],[ID]],ZCDT_EXPORT[Category Id],ZCDT_EXPORT[Group],\"\"))-FIND(\". \",_xlfn.XLOOKUP(CDT_Mapping[[#This Row],[ID]],ZCDT_EXPORT[Category Id],ZCDT_EXPORT[Group],\"\"),1))),\"\")","v":"Dry & Frozen"}]
[null,null,null,null,null,null,null,null,null,null,"Free from",null,"Nonfood","E.03.08"," Men's underwear",{"$f":"CDT_Mapping[[#This Row],[ID]]&\" \"&CDT_Mapping[[#This Row],[Category name]]","v":"E.03.08  Men's underwear"},{"$f":"IFERROR(_xlfn.XLOOKUP(\"CDT \"&MAINPAGE_COUNTRY,Table7[[#Headers],[CDT EN]:[CDT LT]],_xlfn.XLOOKUP(CDT_Mapping[[#This Row],[ID]],Table7[CDT ID],Table7[[CDT EN]:[CDT LT]])),CDT_Mapping[[#This Row],[ID & Name]])","v":"E.03.08 Men's underwear"},{"$f":"RIGHT(CDT_Mapping[[#This Row],[Translation ID & name]],LEN(CDT_Mapping[[#This Row],[Translation ID & name]])-8)","v":"Men's underwear"},{"$f":"IFERROR(_xlfn.XLOOKUP(CDT_Mapping[[#This Row],[Grouping]],Grouping[Grouping],Grouping[Grouping (translation)]),CDT_Mapping[[#This Row],[Grouping]])","v":"Nonfood"},{"$f":"IFERROR(TRIM(RIGHT(_xlfn.XLOOKUP(CDT_Mapping[[#This Row],[ID]],ZCDT_EXPORT[Category Id],ZCDT_EXPORT[Group],\"\"),LEN(_xlfn.XLOOKUP(CDT_Mapping[[#This Row],[ID]],ZCDT_EXPORT[Category Id],ZCDT_EXPORT[Group],\"\"))-FIND(\". \",_xlfn.XLOOKUP(CDT_Mapping[[#This Row],[ID]],ZCDT_EXPORT[Category Id],ZCDT_EXPORT[Group],\"\"),1))),\"\")","v":"Non-Edibles"}]
[null,null,null,null,null,null,null,null,null,null,"Fresh fish",null,"Nonfood","E.03.09"," Swimwear",{"$f":"CDT_Mapping[[#This Row],[ID]]&\" \"&CDT_Mapping[[#This Row],[Category name]]","v":"E.03.09  Swimwear"},{"$f":"IFERROR(_xlfn.XLOOKUP(\"CDT \"&MAINPAGE_COUNTRY,Table7[[#Headers],[CDT EN]:[CDT LT]],_xlfn.XLOOKUP(CDT_Mapping[[#This Row],[ID]],Table7[CDT ID],Table7[[CDT EN]:[CDT LT]])),CDT_Mapping[[#This Row],[ID & Name]])","v":"E.03.09 Swimwear"},{"$f":"RIGHT(CDT_Mapping[[#This Row],[Translation ID & name]],LEN(CDT_Mapping[[#This Row],[Translation ID & name]])-8)","v":"Swimwear"},{"$f":"IFERROR(_xlfn.XLOOKUP(CDT_Mapping[[#This Row],[Grouping]],Grouping[Grouping],Grouping[Grouping (translation)]),CDT_Mapping[[#This Row],[Grouping]])","v":"Nonfood"},{"$f":"IFERROR(TRIM(RIGHT(_xlfn.XLOOKUP(CDT_Mapping[[#This Row],[ID]],ZCDT_EXPORT[Category Id],ZCDT_EXPORT[Group],\"\"),LEN(_xlfn.XLOOKUP(CDT_Mapping[[#This Row],[ID]],ZCDT_EXPORT[Category Id],ZCDT_EXPORT[Group],\"\"))-FIND(\". \",_xlfn.XLOOKUP(CDT_Mapping[[#This Row],[ID]],ZCDT_EXPORT[Category Id],ZCDT_EXPORT[Group],\"\"),1))),\"\")","v":"Non-Edibles"}]
[null,null,null,null,null,null,null,null,null,null,"Fresh meat marinade",null,"Nonfood","E.03.11"," Women's underwear",{"$f":"CDT_Mapping[[#This Row],[ID]]&\" \"&CDT_Mapping[[#This Row],[Category name]]","v":"E.03.11  Women's underwear"},{"$f":"IFERROR(_xlfn.XLOOKUP(\"CDT \"&MAINPAGE_COUNTRY,Table7[[#Headers],[CDT EN]:[CDT LT]],_xlfn.XLOOKUP(CDT_Mapping[[#This Row],[ID]],Table7[CDT ID],Table7[[CDT EN]:[CDT LT]])),CDT_Mapping[[#This Row],[ID & Name]])","v":"E.03.11 Women's underwear"},{"$f":"RIGHT(CDT_Mapping[[#This Row],[Translation ID & name]],LEN(CDT_Mapping[[#This Row],[Translation ID & name]])-8)","v":"Women's underwear"},{"$f":"IFERROR(_xlfn.XLOOKUP(CDT_Mapping[[#This Row],[Grouping]],Grouping[Grouping],Grouping[Grouping (translation)]),CDT_Mapping[[#This Row],[Grouping]])","v":"Nonfood"},{"$f":"IFERROR(TRIM(RIGHT(_xlfn.XLOOKUP(CDT_Mapping[[#This Row],[ID]],ZCDT_EXPORT[Category Id],ZCDT_EXPORT[Group],\"\"),LEN(_xlfn.XLOOKUP(CDT_Mapping[[#This Row],[ID]],ZCDT_EXPORT[Category Id],ZCDT_EXPORT[Group],\"\"))-FIND(\". \",_xlfn.XLOOKUP(CDT_Mapping[[#This Row],[ID]],ZCDT_EXPORT[Category Id],ZCDT_EXPORT[Group],\"\"),1))),\"\")","v":"Non-Edibles"}]
[null,null,null,null,null,null,null,null,null,null,"Fresh meat pork, beef, lamb",null,"Nonfood","E.03.03"," Children underwear",{"$f":"CDT_Mapping[[#This Row],[ID]]&\" \"&CDT_Mapping[[#This Row],[Category name]]","v":"E.03.03  Children underwear"},{"$f":"IFERROR(_xlfn.XLOOKUP(\"CDT \"&MAINPAGE_COUNTRY,Table7[[#Headers],[CDT EN]:[CDT LT]],_xlfn.XLOOKUP(CDT_Mapping[[#This Row],[ID]],Table7[CDT ID],Table7[[CDT EN]:[CDT LT]])),CDT_Mapping[[#This Row],[ID & Name]])","v":"E.03.03 Children underwear"},{"$f":"RIGHT(CDT_Mapping[[#This Row],[Translation ID & name]],LEN(CDT_Mapping[[#This Row],[Translation ID & name]])-8)","v":"Children underwear"},{"$f":"IFERROR(_xlfn.XLOOKUP(CDT_Mapping[[#This Row],[Grouping]],Grouping[Grouping],Grouping[Grouping (translation)]),CDT_Mapping[[#This Row],[Grouping]])","v":"Nonfood"},{"$f":"IFERROR(TRIM(RIGHT(_xlfn.XLOOKUP(CDT_Mapping[[#This Row],[ID]],ZCDT_EXPORT[Category Id],ZCDT_EXPORT[Group],\"\"),LEN(_xlfn.XLOOKUP(CDT_Mapping[[#This Row],[ID]],ZCDT_EXPORT[Category Id],ZCDT_EXPORT[Group],\"\"))-FIND(\". \",_xlfn.XLOOKUP(CDT_Mapping[[#This Row],[ID]],ZCDT_EXPORT[Category Id],ZCDT_EXPORT[Group],\"\"),1))),\"\")","v":"Non-Edibles"}]
[null,null,null,null,null,null,null,null,null,null,"Fresh meat poultry",null,"Nonfood","E.06.10"," Napkins and table cover",{"$f":"CDT_Mapping[[#This Row],[ID]]&\" \"&CDT_Mapping[[#This Row],[Category name]]","v":"E.06.10  Napkins and table cover"},{"$f":"IFERROR(_xlfn.XLOOKUP(\"CDT \"&MAINPAGE_COUNTRY,Table7[[#Headers],[CDT EN]:[CDT LT]],_xlfn.XLOOKUP(CDT_Mapping[[#This Row],[ID]],Table7[CDT ID],Table7[[CDT EN]:[CDT LT]])),CDT_Mapping[[#This Row],[ID & Name]])","v":"E.06.10 Napkins and table cover"},{"$f":"RIGHT(CDT_Mapping[[#This Row],[Translation ID & name]],LEN(CDT_Mapping[[#This Row],[Translation ID & name]])-8)","v":"Napkins and table cover"},{"$f":"IFERROR(_xlfn.XLOOKUP(CDT_Mapping[[#This Row],[Grouping]],Grouping[Grouping],Grouping[Grouping (translation)]),CDT_Mapping[[#This Row],[Grouping]])","v":"Nonfood"},{"$f":"IFERROR(TRIM(RIGHT(_xlfn.XLOOKUP(CDT_Mapping[[#This Row],[ID]],ZCDT_EXPORT[Category Id],ZCDT_EXPORT[Group],\"\"),LEN(_xlfn.XLOOKUP(CDT_Mapping[[#This Row],[ID]],ZCDT_EXPORT[Category Id],ZCDT_EXPORT[Group],\"\"))-FIND(\". \",_xlfn.XLOOKUP(CDT_Mapping[[#This Row],[ID]],ZCDT_EXPORT[Category Id],ZCDT_EXPORT[Group],\"\"),1))),\"\")","v":"Non-Edibles"}]
[null,null,null,null,null,null,null,null,null,null,"Fresh minced meat",null,"Nonfood","E.06.06"," Party accessories",{"$f":"CDT_Mapping[[#This Row],[ID]]&\" \"&CDT_Mapping[[#This Row],[Category name]]","v":"E.06.06  Party accessories"},{"$f":"IFERROR(_xlfn.XLOOKUP(\"CDT \"&MAINPAGE_COUNTRY,Table7[[#Headers],[CDT EN]:[CDT LT]],_xlfn.XLOOKUP(CDT_Mapping[[#This Row],[ID]],Table7[CDT ID],Table7[[CDT EN]:[CDT LT]])),CDT_Mapping[[#This Row],[ID & Name]])","v":"E.06.06 Party accessories"},{"$f":"RIGHT(CDT_Mapping[[#This Row],[Translation ID & name]],LEN(CDT_Mapping[[#This Row],[Translation ID & name]])-8)","v":"Party accessories"},{"$f":"IFERROR(_xlfn.XLOOKUP(CDT_Mapping[[#This Row],[Grouping]],Grouping[Grouping],Grouping[Grouping (translation)]),CDT_Mapping[[#This Row],[Grouping]])","v":"Nonfood"},{"$f":"IFERROR(TRIM(RIGHT(_xlfn.XLOOKUP(CDT_Mapping[[#This Row],[ID]],ZCDT_EXPORT[Category Id],ZCDT_EXPORT[Group],\"\"),LEN(_xlfn.XLOOKUP(CDT_Mapping[[#This Row],[ID]],ZCDT_EXPORT[Category Id],ZCDT_EXPORT[Group],\"\"))-FIND(\". \",_xlfn.XLOOKUP(CDT_Mapping[[#This Row],[ID]],ZCDT_EXPORT[Category Id],ZCDT_EXPORT[Group],\"\"),1))),\"\")","v":"Non-Edibles"}]
[null,null,null,null,null,null,null,null,null,null,"Frozen fish and seafood",null,"Nonfood","E.04.01"," Candles",{"$f":"CDT_Mapping[[#This Row],[ID]]&\" \"&CDT_Mapping[[#This Row],[Category name]]","v":"E.04.01  Candles"},{"$f":"IFERROR(_xlfn.XLOOKUP(\"CDT \"&MAINPAGE_COUNTRY,Table7[[#Headers],[CDT EN]:[CDT LT]],_xlfn.XLOOKUP(CDT_Mapping[[#This Row],[ID]],Table7[CDT ID],Table7[[CDT EN]:[CDT LT]])),CDT_Mapping[[#This Row],[ID & Name]])","v":"E.04.01 Candles"},{"$f":"RIGHT(CDT_Mapping[[#This Row],[Translation ID & name]],LEN(CDT_Mapping[[#This Row],[Translation ID & name]])-8)","v":"Candles"},{"$f":"IFERROR(_xlfn.XLOOKUP(CDT_Mapping[[#This Row],[Grouping]],Grouping[Grouping],Grouping[Grouping (translation)]),CDT_Mapping[[#This Row],[Grouping]])","v":"Nonfood"},{"$f":"IFERROR(TRIM(RIGHT(_xlfn.XLOOKUP(CDT_Mapping[[#This Row],[ID]],ZCDT_EXPORT[Category Id],ZCDT_EXPORT[Group],\"\"),LEN(_xlfn.XLOOKUP(CDT_Mapping[[#This Row],[ID]],ZCDT_EXPORT[Category Id],ZCDT_EXPORT[Group],\"\"))-FIND(\". \",_xlfn.XLOOKUP(CDT_Mapping[[#This Row],[ID]],ZCDT_EXPORT[Category Id],ZCDT_EXPORT[Group],\"\"),1))),\"\")","v":"Non-Edibles"}]
[null,null,null,null,null,null,null,null,null,null,"Frozen food, meat, F&V",null,"Nonfood","E.07.06"," Outdoor furniture and supplies",{"$f":"CDT_Mapping[[#This Row],[ID]]&\" \"&CDT_Mapping[[#This Row],[Category name]]","v":"E.07.06  Outdoor furniture and supplies"},{"$f":"IFERROR(_xlfn.XLOOKUP(\"CDT \"&MAINPAGE_COUNTRY,Table7[[#Headers],[CDT EN]:[CDT LT]],_xlfn.XLOOKUP(CDT_Mapping[[#This Row],[ID]],Table7[CDT ID],Table7[[CDT EN]:[CDT LT]])),CDT_Mapping[[#This Row],[ID & Name]])","v":"E.07.06 Outdoor furniture and supplies"},{"$f":"RIGHT(CDT_Mapping[[#This Row],[Translation ID & name]],LEN(CDT_Mapping[[#This Row],[Translation ID & name]])-8)","v":"Outdoor furniture and supplies"},{"$f":"IFERROR(_xlfn.XLOOKUP(CDT_Mapping[[#This Row],[Grouping]],Grouping[Grouping],Grouping[Grouping (translation)]),CDT_Mapping[[#This Row],[Grouping]])","v":"Nonfood"},{"$f":"IFERROR(TRIM(RIGHT(_xlfn.XLOOKUP(CDT_Mapping[[#This Row],[ID]],ZCDT_EXPORT[Category Id],ZCDT_EXPORT[Group],\"\"),LEN(_xlfn.XLOOKUP(CDT_Mapping[[#This Row],[ID]],ZCDT_EXPORT[Category Id],ZCDT_EXPORT[Group],\"\"))-FIND(\". \",_xlfn.XLOOKUP(CDT_Mapping[[#This Row],[ID]],ZCDT_EXPORT[Category Id],ZCDT_EXPORT[Group],\"\"),1))),\"\")","v":"Non-Edibles"}]
[null,null,null,null,null,null,null,null,null,null,"Games",null,"Nonfood","E.06.01"," Disposable tableware",{"$f":"CDT_Mapping[[#This Row],[ID]]&\" \"&CDT_Mapping[[#This Row],[Category name]]","v":"E.06.01  Disposable tableware"},{"$f":"IFERROR(_xlfn.XLOOKUP(\"CDT \"&MAINPAGE_COUNTRY,Table7[[#Headers],[CDT EN]:[CDT LT]],_xlfn.XLOOKUP(CDT_Mapping[[#This Row],[ID]],Table7[CDT ID],Table7[[CDT EN]:[CDT LT]])),CDT_Mapping[[#This Row],[ID & Name]])","v":"E.06.01 Disposable tableware"},{"$f":"RIGHT(CDT_Mapping[[#This Row],[Translation ID & name]],LEN(CDT_Mapping[[#This Row],[Translation ID & name]])-8)","v":"Disposable tableware"},{"$f":"IFERROR(_xlfn.XLOOKUP(CDT_Mapping[[#This Row],[Grouping]],Grouping[Grouping],Grouping[Grouping (translation)]),CDT_Mapping[[#This Row],[Grouping]])","v":"Nonfood"},{"$f":"IFERROR(TRIM(RIGHT(_xlfn.XLOOKUP(CDT_Mapping[[#This Row],[ID]],ZCDT_EXPORT[Category Id],ZCDT_EXPORT[Group],\"\"),LEN(_xlfn.XLOOKUP(CDT_Mapping[[#This Row],[ID]],ZCDT_EXPORT[Category Id],ZCDT_EXPORT[Group],\"\"))-FIND(\". \",_xlfn.XLOOKUP(CDT_Mapping[[#This Row],[ID]],ZCDT_EXPORT[Category Id],ZCDT_EXPORT[Group],\"\"),1))),\"\")","v":"Non-Edibles"}]
[null,null,null,null,null,null,null,null,null,null,"Gardening supplies",null,"Nonfood","E.06.04"," Disposable materials",{"$f":"CDT_Mapping[[#This Row],[ID]]&\" \"&CDT_Mapping[[#This Row],[Category name]]","v":"E.06.04  Disposable materials"},{"$f":"IFERROR(_xlfn.XLOOKUP(\"CDT \"&MAINPAGE_COUNTRY,Table7[[#Headers],[CDT EN]:[CDT LT]],_xlfn.XLOOKUP(CDT_Mapping[[#This Row],[ID]],Table7[CDT ID],Table7[[CDT EN]:[CDT LT]])),CDT_Mapping[[#This Row],[ID & Name]])","v":"E.06.04 Disposable materials"},{"$f":"RIGHT(CDT_Mapping[[#This Row],[Translation ID & name]],LEN(CDT_Mapping[[#This Row],[Translation ID & name]])-8)","v":"Disposable materials"},{"$f":"IFERROR(_xlfn.XLOOKUP(CDT_Mapping[[#This Row],[Grouping]],Grouping[Grouping],Grouping[Grouping (translation)]),CDT_Mapping[[#This Row],[Grouping]])","v":"Nonfood"},{"$f":"IFERROR(TRIM(RIGHT(_xlfn.XLOOKUP(CDT_Mapping[[#This Row],[ID]],ZCDT_EXPORT[Category Id],ZCDT_EXPORT[Group],\"\"),LEN(_xlfn.XLOOKUP(CDT_Mapping[[#This Row],[ID]],ZCDT_EXPORT[Category Id],ZCDT_EXPORT[Group],\"\"))-FIND(\". \",_xlfn.XLOOKUP(CDT_Mapping[[#This Row],[ID]],ZCDT_EXPORT[Category Id],ZCDT_EXPORT[Group],\"\"),1))),\"\")","v":"Non-Edibles"}]
[null,null,null,null,null,null,null,null,null,null,"Gift sets in cosmetics (seasonal)",null,"Nonfood","E.03.07"," Men's socks",{"$f":"CDT_Mapping[[#This Row],[ID]]&\" \"&CDT_Mapping[[#This Row],[Category name]]","v":"E.03.07  Men's socks"},{"$f":"IFERROR(_xlfn.XLOOKUP(\"CDT \"&MAINPAGE_COUNTRY,Table7[[#Headers],[CDT EN]:[CDT LT]],_xlfn.XLOOKUP(CDT_Mapping[[#This Row],[ID]],Table7[CDT ID],Table7[[CDT EN]:[CDT LT]])),CDT_Mapping[[#This Row],[ID & Name]])","v":"E.03.07 Men's socks"},{"$f":"RIGHT(CDT_Mapping[[#This Row],[Translation ID & name]],LEN(CDT_Mapping[[#This Row],[Translation ID & name]])-8)","v":"Men's socks"},{"$f":"IFERROR(_xlfn.XLOOKUP(CDT_Mapping[[#This Row],[Grouping]],Grouping[Grouping],Grouping[Grouping (translation)]),CDT_Mapping[[#This Row],[Grouping]])","v":"Nonfood"},{"$f":"IFERROR(TRIM(RIGHT(_xlfn.XLOOKUP(CDT_Mapping[[#This Row],[ID]],ZCDT_EXPORT[Category Id],ZCDT_EXPORT[Group],\"\"),LEN(_xlfn.XLOOKUP(CDT_Mapping[[#This Row],[ID]],ZCDT_EXPORT[Category Id],ZCDT_EXPORT[Group],\"\"))-FIND(\". \",_xlfn.XLOOKUP(CDT_Mapping[[#This Row],[ID]],ZCDT_EXPORT[Category Id],ZCDT_EXPORT[Group],\"\"),1))),\"\")","v":"Non-Edibles"}]
[null,null,null,null,null,null,null,null,null,null,"Gifts and hobby",null,"Nonfood","E.03.12","Women's socks",{"$f":"CDT_Mapping[[#This Row],[ID]]&\" \"&CDT_Mapping[[#This Row],[Category name]]","v":"E.03.12 Women's socks"},{"$f":"IFERROR(_xlfn.XLOOKUP(\"CDT \"&MAINPAGE_COUNTRY,Table7[[#Headers],[CDT EN]:[CDT LT]],_xlfn.XLOOKUP(CDT_Mapping[[#This Row],[ID]],Table7[CDT ID],Table7[[CDT EN]:[CDT LT]])),CDT_Mapping[[#This Row],[ID & Name]])","v":"E.03.12 Women's socks"},{"$f":"RIGHT(CDT_Mapping[[#This Row],[Translation ID & name]],LEN(CDT_Mapping[[#This Row],[Translation ID & name]])-8)","v":"Women's socks"},{"$f":"IFERROR(_xlfn.XLOOKUP(CDT_Mapping[[#This Row],[Grouping]],Grouping[Grouping],Grouping[Grouping (translation)]),CDT_Mapping[[#This Row],[Grouping]])","v":"Nonfood"},{"$f":"IFERROR(TRIM(RIGHT(_xlfn.XLOOKUP(CDT_Mapping[[#This Row],[ID]],ZCDT_EXPORT[Category Id],ZCDT_EXPORT[Group],\"\"),LEN(_xlfn.XLOOKUP(CDT_Mapping[[#This Row],[ID]],ZCDT_EXPORT[Category Id],ZCDT_EXPORT[Group],\"\"))-FIND(\". \",_xlfn.XLOOKUP(CDT_Mapping[[#This Row],[ID]],ZCDT_EXPORT[Category Id],ZCDT_EXPORT[Group],\"\"),1))),\"\")","v":"Non-Edibles"}]
[null,null,null,null,null,null,null,null,null,null,"Grilling",null,"Nonfood","E.03.10"," Women's socks & tights",{"$f":"CDT_Mapping[[#This Row],[ID]]&\" \"&CDT_Mapping[[#This Row],[Category name]]","v":"E.03.10  Women's socks & tights"},{"$f":"IFERROR(_xlfn.XLOOKUP(\"CDT \"&MAINPAGE_COUNTRY,Table7[[#Headers],[CDT EN]:[CDT LT]],_xlfn.XLOOKUP(CDT_Mapping[[#This Row],[ID]],Table7[CDT ID],Table7[[CDT EN]:[CDT LT]])),CDT_Mapping[[#This Row],[ID & Name]])","v":"E.03.10 Women's socks & tights"},{"$f":"RIGHT(CDT_Mapping[[#This Row],[Translation ID & name]],LEN(CDT_Mapping[[#This Row],[Translation ID & name]])-8)","v":"Women's socks & tights"},{"$f":"IFERROR(_xlfn.XLOOKUP(CDT_Mapping[[#This Row],[Grouping]],Grouping[Grouping],Grouping[Grouping (translation)]),CDT_Mapping[[#This Row],[Grouping]])","v":"Nonfood"},{"$f":"IFERROR(TRIM(RIGHT(_xlfn.XLOOKUP(CDT_Mapping[[#This Row],[ID]],ZCDT_EXPORT[Category Id],ZCDT_EXPORT[Group],\"\"),LEN(_xlfn.XLOOKUP(CDT_Mapping[[#This Row],[ID]],ZCDT_EXPORT[Category Id],ZCDT_EXPORT[Group],\"\"))-FIND(\". \",_xlfn.XLOOKUP(CDT_Mapping[[#This Row],[ID]],ZCDT_EXPORT[Category Id],ZCDT_EXPORT[Group],\"\"),1))),\"\")","v":"Non-Edibles"}]
[null,null,null,null,null,null,null,null,null,null,"Hair accessories",null,"Nonfood","E.03.05"," Children's socks & tights",{"$f":"CDT_Mapping[[#This Row],[ID]]&\" \"&CDT_Mapping[[#This Row],[Category name]]","v":"E.03.05  Children's socks & tights"},{"$f":"IFERROR(_xlfn.XLOOKUP(\"CDT \"&MAINPAGE_COUNTRY,Table7[[#Headers],[CDT EN]:[CDT LT]],_xlfn.XLOOKUP(CDT_Mapping[[#This Row],[ID]],Table7[CDT ID],Table7[[CDT EN]:[CDT LT]])),CDT_Mapping[[#This Row],[ID & Name]])","v":"E.03.05 Children's socks & tights"},{"$f":"RIGHT(CDT_Mapping[[#This Row],[Translation ID & name]],LEN(CDT_Mapping[[#This Row],[Translation ID & name]])-8)","v":"Children's socks & tights"},{"$f":"IFERROR(_xlfn.XLOOKUP(CDT_Mapping[[#This Row],[Grouping]],Grouping[Grouping],Grouping[Grouping (translation)]),CDT_Mapping[[#This Row],[Grouping]])","v":"Nonfood"},{"$f":"IFERROR(TRIM(RIGHT(_xlfn.XLOOKUP(CDT_Mapping[[#This Row],[ID]],ZCDT_EXPORT[Category Id],ZCDT_EXPORT[Group],\"\"),LEN(_xlfn.XLOOKUP(CDT_Mapping[[#This Row],[ID]],ZCDT_EXPORT[Category Id],ZCDT_EXPORT[Group],\"\"))-FIND(\". \",_xlfn.XLOOKUP(CDT_Mapping[[#This Row],[ID]],ZCDT_EXPORT[Category Id],ZCDT_EXPORT[Group],\"\"),1))),\"\")","v":"Non-Edibles"}]
[null,null,null,null,null,null,null,null,null,null,"Hair wash and styling",null,"Nonfood","E.06.08"," Table serving",{"$f":"CDT_Mapping[[#This Row],[ID]]&\" \"&CDT_Mapping[[#This Row],[Category name]]","v":"E.06.08  Table serving"},{"$f":"IFERROR(_xlfn.XLOOKUP(\"CDT \"&MAINPAGE_COUNTRY,Table7[[#Headers],[CDT EN]:[CDT LT]],_xlfn.XLOOKUP(CDT_Mapping[[#This Row],[ID]],Table7[CDT ID],Table7[[CDT EN]:[CDT LT]])),CDT_Mapping[[#This Row],[ID & Name]])","v":"E.06.08 Table serving"},{"$f":"RIGHT(CDT_Mapping[[#This Row],[Translation ID & name]],LEN(CDT_Mapping[[#This Row],[Translation ID & name]])-8)","v":"Table serving"},{"$f":"IFERROR(_xlfn.XLOOKUP(CDT_Mapping[[#This Row],[Grouping]],Grouping[Grouping],Grouping[Grouping (translation)]),CDT_Mapping[[#This Row],[Grouping]])","v":"Nonfood"},{"$f":"IFERROR(TRIM(RIGHT(_xlfn.XLOOKUP(CDT_Mapping[[#This Row],[ID]],ZCDT_EXPORT[Category Id],ZCDT_EXPORT[Group],\"\"),LEN(_xlfn.XLOOKUP(CDT_Mapping[[#This Row],[ID]],ZCDT_EXPORT[Category Id],ZCDT_EXPORT[Group],\"\"))-FIND(\". \",_xlfn.XLOOKUP(CDT_Mapping[[#This Row],[ID]],ZCDT_EXPORT[Category Id],ZCDT_EXPORT[Group],\"\"),1))),\"\")","v":"Non-Edibles"}]
[null,null,null,null,null,null,null,null,null,null,"Hand creams, foot care, body lotion",null,"Nonfood","E.06.03"," Kitchen Gadgets",{"$f":"CDT_Mapping[[#This Row],[ID]]&\" \"&CDT_Mapping[[#This Row],[Category name]]","v":"E.06.03  Kitchen Gadgets"},{"$f":"IFERROR(_xlfn.XLOOKUP(\"CDT \"&MAINPAGE_COUNTRY,Table7[[#Headers],[CDT EN]:[CDT LT]],_xlfn.XLOOKUP(CDT_Mapping[[#This Row],[ID]],Table7[CDT ID],Table7[[CDT EN]:[CDT LT]])),CDT_Mapping[[#This Row],[ID & Name]])","v":"E.06.03 Kitchen Gadgets"},{"$f":"RIGHT(CDT_Mapping[[#This Row],[Translation ID & name]],LEN(CDT_Mapping[[#This Row],[Translation ID & name]])-8)","v":"Kitchen Gadgets"},{"$f":"IFERROR(_xlfn.XLOOKUP(CDT_Mapping[[#This Row],[Grouping]],Grouping[Grouping],Grouping[Grouping (translation)]),CDT_Mapping[[#This Row],[Grouping]])","v":"Nonfood"},{"$f":"IFERROR(TRIM(RIGHT(_xlfn.XLOOKUP(CDT_Mapping[[#This Row],[ID]],ZCDT_EXPORT[Category Id],ZCDT_EXPORT[Group],\"\"),LEN(_xlfn.XLOOKUP(CDT_Mapping[[#This Row],[ID]],ZCDT_EXPORT[Category Id],ZCDT_EXPORT[Group],\"\"))-FIND(\". \",_xlfn.XLOOKUP(CDT_Mapping[[#This Row],[ID]],ZCDT_EXPORT[Category Id],ZCDT_EXPORT[Group],\"\"),1))),\"\")","v":"Non-Edibles"}]
[null,null,null,null,null,null,null,null,null,null,"Home electric appliances",null,"Nonfood","E.06.02"," Food preparation",{"$f":"CDT_Mapping[[#This Row],[ID]]&\" \"&CDT_Mapping[[#This Row],[Category name]]","v":"E.06.02  Food preparation"},{"$f":"IFERROR(_xlfn.XLOOKUP(\"CDT \"&MAINPAGE_COUNTRY,Table7[[#Headers],[CDT EN]:[CDT LT]],_xlfn.XLOOKUP(CDT_Mapping[[#This Row],[ID]],Table7[CDT ID],Table7[[CDT EN]:[CDT LT]])),CDT_Mapping[[#This Row],[ID & Name]])","v":"E.06.02 Food preparation"},{"$f":"RIGHT(CDT_Mapping[[#This Row],[Translation ID & name]],LEN(CDT_Mapping[[#This Row],[Translation ID & name]])-8)","v":"Food preparation"},{"$f":"IFERROR(_xlfn.XLOOKUP(CDT_Mapping[[#This Row],[Grouping]],Grouping[Grouping],Grouping[Grouping (translation)]),CDT_Mapping[[#This Row],[Grouping]])","v":"Nonfood"},{"$f":"IFERROR(TRIM(RIGHT(_xlfn.XLOOKUP(CDT_Mapping[[#This Row],[ID]],ZCDT_EXPORT[Category Id],ZCDT_EXPORT[Group],\"\"),LEN(_xlfn.XLOOKUP(CDT_Mapping[[#This Row],[ID]],ZCDT_EXPORT[Category Id],ZCDT_EXPORT[Group],\"\"))-FIND(\". \",_xlfn.XLOOKUP(CDT_Mapping[[#This Row],[ID]],ZCDT_EXPORT[Category Id],ZCDT_EXPORT[Group],\"\"),1))),\"\")","v":"Non-Edibles"}]
[null,null,null,null,null,null,null,null,null,null,"Home laundry",null,"Nonfood","E.06.09"," Kitchen storage",{"$f":"CDT_Mapping[[#This Row],[ID]]&\" \"&CDT_Mapping[[#This Row],[Category name]]","v":"E.06.09  Kitchen storage"},{"$f":"IFERROR(_xlfn.XLOOKUP(\"CDT \"&MAINPAGE_COUNTRY,Table7[[#Headers],[CDT EN]:[CDT LT]],_xlfn.XLOOKUP(CDT_Mapping[[#This Row],[ID]],Table7[CDT ID],Table7[[CDT EN]:[CDT LT]])),CDT_Mapping[[#This Row],[ID & Name]])","v":"E.06.09 Kitchen storage"},{"$f":"RIGHT(CDT_Mapping[[#This Row],[Translation ID & name]],LEN(CDT_Mapping[[#This Row],[Translation ID & name]])-8)","v":"Kitchen storage"},{"$f":"IFERROR(_xlfn.XLOOKUP(CDT_Mapping[[#This Row],[Grouping]],Grouping[Grouping],Grouping[Grouping (translation)]),CDT_Mapping[[#This Row],[Grouping]])","v":"Nonfood"},{"$f":"IFERROR(TRIM(RIGHT(_xlfn.XLOOKUP(CDT_Mapping[[#This Row],[ID]],ZCDT_EXPORT[Category Id],ZCDT_EXPORT[Group],\"\"),LEN(_xlfn.XLOOKUP(CDT_Mapping[[#This Row],[ID]],ZCDT_EXPORT[Category Id],ZCDT_EXPORT[Group],\"\"))-FIND(\". \",_xlfn.XLOOKUP(CDT_Mapping[[#This Row],[ID]],ZCDT_EXPORT[Category Id],ZCDT_EXPORT[Group],\"\"),1))),\"\")","v":"Non-Edibles"}]
[null,null,null,null,null,null,null,null,null,null,"Home pharmacy",null,"Nonfood","E.04.03"," Cleaning tools and accessories",{"$f":"CDT_Mapping[[#This Row],[ID]]&\" \"&CDT_Mapping[[#This Row],[Category name]]","v":"E.04.03  Cleaning tools and accessories"},{"$f":"IFERROR(_xlfn.XLOOKUP(\"CDT \"&MAINPAGE_COUNTRY,Table7[[#Headers],[CDT EN]:[CDT LT]],_xlfn.XLOOKUP(CDT_Mapping[[#This Row],[ID]],Table7[CDT ID],Table7[[CDT EN]:[CDT LT]])),CDT_Mapping[[#This Row],[ID & Name]])","v":"E.04.03 Cleaning tools and accessories"},{"$f":"RIGHT(CDT_Mapping[[#This Row],[Translation ID & name]],LEN(CDT_Mapping[[#This Row],[Translation ID & name]])-8)","v":"Cleaning tools and accessories"},{"$f":"IFERROR(_xlfn.XLOOKUP(CDT_Mapping[[#This Row],[Grouping]],Grouping[Grouping],Grouping[Grouping (translation)]),CDT_Mapping[[#This Row],[Grouping]])","v":"Nonfood"},{"$f":"IFERROR(TRIM(RIGHT(_xlfn.XLOOKUP(CDT_Mapping[[#This Row],[ID]],ZCDT_EXPORT[Category Id],ZCDT_EXPORT[Group],\"\"),LEN(_xlfn.XLOOKUP(CDT_Mapping[[#This Row],[ID]],ZCDT_EXPORT[Category Id],ZCDT_EXPORT[Group],\"\"))-FIND(\". \",_xlfn.XLOOKUP(CDT_Mapping[[#This Row],[ID]],ZCDT_EXPORT[Category Id],ZCDT_EXPORT[Group],\"\"),1))),\"\")","v":"Non-Edibles"}]
[null,null,null,null,null,null,null,null,null,null,"Home textiles",null,"Nonfood","E.02.06","School and office supplies",{"$f":"CDT_Mapping[[#This Row],[ID]]&\" \"&CDT_Mapping[[#This Row],[Category name]]","v":"E.02.06 School and office supplies"},{"$f":"IFERROR(_xlfn.XLOOKUP(\"CDT \"&MAINPAGE_COUNTRY,Table7[[#Headers],[CDT EN]:[CDT LT]],_xlfn.XLOOKUP(CDT_Mapping[[#This Row],[ID]],Table7[CDT ID],Table7[[CDT EN]:[CDT LT]])),CDT_Mapping[[#This Row],[ID & Name]])","v":"E.02.06 School and office supplies"},{"$f":"RIGHT(CDT_Mapping[[#This Row],[Translation ID & name]],LEN(CDT_Mapping[[#This Row],[Translation ID & name]])-8)","v":"School and office supplies"},{"$f":"IFERROR(_xlfn.XLOOKUP(CDT_Mapping[[#This Row],[Grouping]],Grouping[Grouping],Grouping[Grouping (translation)]),CDT_Mapping[[#This Row],[Grouping]])","v":"Nonfood"},{"$f":"IFERROR(TRIM(RIGHT(_xlfn.XLOOKUP(CDT_Mapping[[#This Row],[ID]],ZCDT_EXPORT[Category Id],ZCDT_EXPORT[Group],\"\"),LEN(_xlfn.XLOOKUP(CDT_Mapping[[#This Row],[ID]],ZCDT_EXPORT[Category Id],ZCDT_EXPORT[Group],\"\"))-FIND(\". \",_xlfn.XLOOKUP(CDT_Mapping[[#This Row],[ID]],ZCDT_EXPORT[Category Id],ZCDT_EXPORT[Group],\"\"),1))),\"\")","v":"Non-Edibles"}]
[null,null,null,null,null,null,null,null,null,null,"Household cleaning and dishwashing",null,"Nonfood","E.04.05","Electric Bulbs",{"$f":"CDT_Mapping[[#This Row],[ID]]&\" \"&CDT_Mapping[[#This Row],[Category name]]","v":"E.04.05 Electric Bulbs"},{"$f":"IFERROR(_xlfn.XLOOKUP(\"CDT \"&MAINPAGE_COUNTRY,Table7[[#Headers],[CDT EN]:[CDT LT]],_xlfn.XLOOKUP(CDT_Mapping[[#This Row],[ID]],Table7[CDT ID],Table7[[CDT EN]:[CDT LT]])),CDT_Mapping[[#This Row],[ID & Name]])","v":"E.04.05 Electric Bulbs"},{"$f":"RIGHT(CDT_Mapping[[#This Row],[Translation ID & name]],LEN(CDT_Mapping[[#This Row],[Translation ID & name]])-8)","v":"Electric Bulbs"},{"$f":"IFERROR(_xlfn.XLOOKUP(CDT_Mapping[[#This Row],[Grouping]],Grouping[Grouping],Grouping[Grouping (translation)]),CDT_Mapping[[#This Row],[Grouping]])","v":"Nonfood"},{"$f":"IFERROR(TRIM(RIGHT(_xlfn.XLOOKUP(CDT_Mapping[[#This Row],[ID]],ZCDT_EXPORT[Category Id],ZCDT_EXPORT[Group],\"\"),LEN(_xlfn.XLOOKUP(CDT_Mapping[[#This Row],[ID]],ZCDT_EXPORT[Category Id],ZCDT_EXPORT[Group],\"\"))-FIND(\". \",_xlfn.XLOOKUP(CDT_Mapping[[#This Row],[ID]],ZCDT_EXPORT[Category Id],ZCDT_EXPORT[Group],\"\"),1))),\"\")","v":"Non-Edibles"}]
[null,null,null,null,null,null,null,null,null,null,"Ice cream, ice products",null,"Nonfood","E.04.04","DIY",{"$f":"CDT_Mapping[[#This Row],[ID]]&\" \"&CDT_Mapping[[#This Row],[Category name]]","v":"E.04.04 DIY"},{"$f":"IFERROR(_xlfn.XLOOKUP(\"CDT \"&MAINPAGE_COUNTRY,Table7[[#Headers],[CDT EN]:[CDT LT]],_xlfn.XLOOKUP(CDT_Mapping[[#This Row],[ID]],Table7[CDT ID],Table7[[CDT EN]:[CDT LT]])),CDT_Mapping[[#This Row],[ID & Name]])","v":"E.04.04 DIY"},{"$f":"RIGHT(CDT_Mapping[[#This Row],[Translation ID & name]],LEN(CDT_Mapping[[#This Row],[Translation ID & name]])-8)","v":"DIY"},{"$f":"IFERROR(_xlfn.XLOOKUP(CDT_Mapping[[#This Row],[Grouping]],Grouping[Grouping],Grouping[Grouping (translation)]),CDT_Mapping[[#This Row],[Grouping]])","v":"Nonfood"},{"$f":"IFERROR(TRIM(RIGHT(_xlfn.XLOOKUP(CDT_Mapping[[#This Row],[ID]],ZCDT_EXPORT[Category Id],ZCDT_EXPORT[Group],\"\"),LEN(_xlfn.XLOOKUP(CDT_Mapping[[#This Row],[ID]],ZCDT_EXPORT[Category Id],ZCDT_EXPORT[Group],\"\"))-FIND(\". \",_xlfn.XLOOKUP(CDT_Mapping[[#This Row],[ID]],ZCDT_EXPORT[Category Id],ZCDT_EXPORT[Group],\"\"),1))),\"\")","v":"Non-Edibles"}]
[null,null,null,null,null,null,null,null,null,null,"Intimate hygiene",null,"Nonfood","E.02.01","Batteries",{"$f":"CDT_Mapping[[#This Row],[ID]]&\" \"&CDT_Mapping[[#This Row],[Category name]]","v":"E.02.01 Batteries"},{"$f":"IFERROR(_xlfn.XLOOKUP(\"CDT \"&MAINPAGE_COUNTRY,Table7[[#Headers],[CDT EN]:[CDT LT]],_xlfn.XLOOKUP(CDT_Mapping[[#This Row],[ID]],Table7[CDT ID],Table7[[CDT EN]:[CDT LT]])),CDT_Mapping[[#This Row],[ID & Name]])","v":"E.02.01 Batteries"},{"$f":"RIGHT(CDT_Mapping[[#This Row],[Translation ID & name]],LEN(CDT_Mapping[[#This Row],[Translation ID & name]])-8)","v":"Batteries"},{"$f":"IFERROR(_xlfn.XLOOKUP(CDT_Mapping[[#This Row],[Grouping]],Grouping[Grouping],Grouping[Grouping (translation)]),CDT_Mapping[[#This Row],[Grouping]])","v":"Nonfood"},{"$f":"IFERROR(TRIM(RIGHT(_xlfn.XLOOKUP(CDT_Mapping[[#This Row],[ID]],ZCDT_EXPORT[Category Id],ZCDT_EXPORT[Group],\"\"),LEN(_xlfn.XLOOKUP(CDT_Mapping[[#This Row],[ID]],ZCDT_EXPORT[Category Id],ZCDT_EXPORT[Group],\"\"))-FIND(\". \",_xlfn.XLOOKUP(CDT_Mapping[[#This Row],[ID]],ZCDT_EXPORT[Category Id],ZCDT_EXPORT[Group],\"\"),1))),\"\")","v":"Non-Edibles"}]
[null,null,null,null,null,null,null,null,null,null,"Jam, marmalade, puree, honey, sweet",null,"Nonfood","E.04.08","Home textiles",{"$f":"CDT_Mapping[[#This Row],[ID]]&\" \"&CDT_Mapping[[#This Row],[Category name]]","v":"E.04.08 Home textiles"},{"$f":"IFERROR(_xlfn.XLOOKUP(\"CDT \"&MAINPAGE_COUNTRY,Table7[[#Headers],[CDT EN]:[CDT LT]],_xlfn.XLOOKUP(CDT_Mapping[[#This Row],[ID]],Table7[CDT ID],Table7[[CDT EN]:[CDT LT]])),CDT_Mapping[[#This Row],[ID & Name]])","v":"E.04.08 Home textiles"},{"$f":"RIGHT(CDT_Mapping[[#This Row],[Translation ID & name]],LEN(CDT_Mapping[[#This Row],[Translation ID & name]])-8)","v":"Home textiles"},{"$f":"IFERROR(_xlfn.XLOOKUP(CDT_Mapping[[#This Row],[Grouping]],Grouping[Grouping],Grouping[Grouping (translation)]),CDT_Mapping[[#This Row],[Grouping]])","v":"Nonfood"},{"$f":"IFERROR(TRIM(RIGHT(_xlfn.XLOOKUP(CDT_Mapping[[#This Row],[ID]],ZCDT_EXPORT[Category Id],ZCDT_EXPORT[Group],\"\"),LEN(_xlfn.XLOOKUP(CDT_Mapping[[#This Row],[ID]],ZCDT_EXPORT[Category Id],ZCDT_EXPORT[Group],\"\"))-FIND(\". \",_xlfn.XLOOKUP(CDT_Mapping[[#This Row],[ID]],ZCDT_EXPORT[Category Id],ZCDT_EXPORT[Group],\"\"),1))),\"\")","v":"Non-Edibles"}]
[null,null,null,null,null,null,null,null,null,null,"Jewelry",null,"Nonfood","E.04.09","Yarns and handicraft",{"$f":"CDT_Mapping[[#This Row],[ID]]&\" \"&CDT_Mapping[[#This Row],[Category name]]","v":"E.04.09 Yarns and handicraft"},{"$f":"IFERROR(_xlfn.XLOOKUP(\"CDT \"&MAINPAGE_COUNTRY,Table7[[#Headers],[CDT EN]:[CDT LT]],_xlfn.XLOOKUP(CDT_Mapping[[#This Row],[ID]],Table7[CDT ID],Table7[[CDT EN]:[CDT LT]])),CDT_Mapping[[#This Row],[ID & Name]])","v":"E.04.09 Yarns and handicraft"},{"$f":"RIGHT(CDT_Mapping[[#This Row],[Translation ID & name]],LEN(CDT_Mapping[[#This Row],[Translation ID & name]])-8)","v":"Yarns and handicraft"},{"$f":"IFERROR(_xlfn.XLOOKUP(CDT_Mapping[[#This Row],[Grouping]],Grouping[Grouping],Grouping[Grouping (translation)]),CDT_Mapping[[#This Row],[Grouping]])","v":"Nonfood"},{"$f":"IFERROR(TRIM(RIGHT(_xlfn.XLOOKUP(CDT_Mapping[[#This Row],[ID]],ZCDT_EXPORT[Category Id],ZCDT_EXPORT[Group],\"\"),LEN(_xlfn.XLOOKUP(CDT_Mapping[[#This Row],[ID]],ZCDT_EXPORT[Category Id],ZCDT_EXPORT[Group],\"\"))-FIND(\". \",_xlfn.XLOOKUP(CDT_Mapping[[#This Row],[ID]],ZCDT_EXPORT[Category Id],ZCDT_EXPORT[Group],\"\"),1))),\"\")","v":"Non-Edibles"}]
[null,null,null,null,null,null,null,null,null,null,"Juices and nectars, concentrates and",null,"Nonfood","E.06.05","Kitchen textiles",{"$f":"CDT_Mapping[[#This Row],[ID]]&\" \"&CDT_Mapping[[#This Row],[Category name]]","v":"E.06.05 Kitchen textiles"},{"$f":"IFERROR(_xlfn.XLOOKUP(\"CDT \"&MAINPAGE_COUNTRY,Table7[[#Headers],[CDT EN]:[CDT LT]],_xlfn.XLOOKUP(CDT_Mapping[[#This Row],[ID]],Table7[CDT ID],Table7[[CDT EN]:[CDT LT]])),CDT_Mapping[[#This Row],[ID & Name]])","v":"E.06.05 Kitchen textiles"},{"$f":"RIGHT(CDT_Mapping[[#This Row],[Translation ID & name]],LEN(CDT_Mapping[[#This Row],[Translation ID & name]])-8)","v":"Kitchen textiles"},{"$f":"IFERROR(_xlfn.XLOOKUP(CDT_Mapping[[#This Row],[Grouping]],Grouping[Grouping],Grouping[Grouping (translation)]),CDT_Mapping[[#This Row],[Grouping]])","v":"Nonfood"},{"$f":"IFERROR(TRIM(RIGHT(_xlfn.XLOOKUP(CDT_Mapping[[#This Row],[ID]],ZCDT_EXPORT[Category Id],ZCDT_EXPORT[Group],\"\"),LEN(_xlfn.XLOOKUP(CDT_Mapping[[#This Row],[ID]],ZCDT_EXPORT[Category Id],ZCDT_EXPORT[Group],\"\"))-FIND(\". \",_xlfn.XLOOKUP(CDT_Mapping[[#This Row],[ID]],ZCDT_EXPORT[Category Id],ZCDT_EXPORT[Group],\"\"),1))),\"\")","v":"Non-Edibles"}]
[null,null,null,null,null,null,null,null,null,null,"Kitchen Gadgets",null,"Nonfood","E.05.07","Baby accesories",{"$f":"CDT_Mapping[[#This Row],[ID]]&\" \"&CDT_Mapping[[#This Row],[Category name]]","v":"E.05.07 Baby accesories"},{"$f":"IFERROR(_xlfn.XLOOKUP(\"CDT \"&MAINPAGE_COUNTRY,Table7[[#Headers],[CDT EN]:[CDT LT]],_xlfn.XLOOKUP(CDT_Mapping[[#This Row],[ID]],Table7[CDT ID],Table7[[CDT EN]:[CDT LT]])),CDT_Mapping[[#This Row],[ID & Name]])","v":"E.05.07 Baby accesories"},{"$f":"RIGHT(CDT_Mapping[[#This Row],[Translation ID & name]],LEN(CDT_Mapping[[#This Row],[Translation ID & name]])-8)","v":"Baby accesories"},{"$f":"IFERROR(_xlfn.XLOOKUP(CDT_Mapping[[#This Row],[Grouping]],Grouping[Grouping],Grouping[Grouping (translation)]),CDT_Mapping[[#This Row],[Grouping]])","v":"Nonfood"},{"$f":"IFERROR(TRIM(RIGHT(_xlfn.XLOOKUP(CDT_Mapping[[#This Row],[ID]],ZCDT_EXPORT[Category Id],ZCDT_EXPORT[Group],\"\"),LEN(_xlfn.XLOOKUP(CDT_Mapping[[#This Row],[ID]],ZCDT_EXPORT[Category Id],ZCDT_EXPORT[Group],\"\"))-FIND(\". \",_xlfn.XLOOKUP(CDT_Mapping[[#This Row],[ID]],ZCDT_EXPORT[Category Id],ZCDT_EXPORT[Group],\"\"),1))),\"\")","v":"Non-Edibles"}]
[null,null,null,null,null,null,null,null,null,null,"Kitchen storage",null,"Nonfood","E.05.02","Baby Toys",{"$f":"CDT_Mapping[[#This Row],[ID]]&\" \"&CDT_Mapping[[#This Row],[Category name]]","v":"E.05.02 Baby Toys"},{"$f":"IFERROR(_xlfn.XLOOKUP(\"CDT \"&MAINPAGE_COUNTRY,Table7[[#Headers],[CDT EN]:[CDT LT]],_xlfn.XLOOKUP(CDT_Mapping[[#This Row],[ID]],Table7[CDT ID],Table7[[CDT EN]:[CDT LT]])),CDT_Mapping[[#This Row],[ID & Name]])","v":"E.05.02 Baby Toys"},{"$f":"RIGHT(CDT_Mapping[[#This Row],[Translation ID & name]],LEN(CDT_Mapping[[#This Row],[Translation ID & name]])-8)","v":"Baby Toys"},{"$f":"IFERROR(_xlfn.XLOOKUP(CDT_Mapping[[#This Row],[Grouping]],Grouping[Grouping],Grouping[Grouping (translation)]),CDT_Mapping[[#This Row],[Grouping]])","v":"Nonfood"},{"$f":"IFERROR(TRIM(RIGHT(_xlfn.XLOOKUP(CDT_Mapping[[#This Row],[ID]],ZCDT_EXPORT[Category Id],ZCDT_EXPORT[Group],\"\"),LEN(_xlfn.XLOOKUP(CDT_Mapping[[#This Row],[ID]],ZCDT_EXPORT[Category Id],ZCDT_EXPORT[Group],\"\"))-FIND(\". \",_xlfn.XLOOKUP(CDT_Mapping[[#This Row],[ID]],ZCDT_EXPORT[Category Id],ZCDT_EXPORT[Group],\"\"),1))),\"\")","v":"Non-Edibles"}]
[null,null,null,null,null,null,null,null,null,null,"Kitchen textiles",null,"Nonfood","E.05.05","Toys for boys",{"$f":"CDT_Mapping[[#This Row],[ID]]&\" \"&CDT_Mapping[[#This Row],[Category name]]","v":"E.05.05 Toys for boys"},{"$f":"IFERROR(_xlfn.XLOOKUP(\"CDT \"&MAINPAGE_COUNTRY,Table7[[#Headers],[CDT EN]:[CDT LT]],_xlfn.XLOOKUP(CDT_Mapping[[#This Row],[ID]],Table7[CDT ID],Table7[[CDT EN]:[CDT LT]])),CDT_Mapping[[#This Row],[ID & Name]])","v":"E.05.05 Toys for boys"},{"$f":"RIGHT(CDT_Mapping[[#This Row],[Translation ID & name]],LEN(CDT_Mapping[[#This Row],[Translation ID & name]])-8)","v":"Toys for boys"},{"$f":"IFERROR(_xlfn.XLOOKUP(CDT_Mapping[[#This Row],[Grouping]],Grouping[Grouping],Grouping[Grouping (translation)]),CDT_Mapping[[#This Row],[Grouping]])","v":"Nonfood"},{"$f":"IFERROR(TRIM(RIGHT(_xlfn.XLOOKUP(CDT_Mapping[[#This Row],[ID]],ZCDT_EXPORT[Category Id],ZCDT_EXPORT[Group],\"\"),LEN(_xlfn.XLOOKUP(CDT_Mapping[[#This Row],[ID]],ZCDT_EXPORT[Category Id],ZCDT_EXPORT[Group],\"\"))-FIND(\". \",_xlfn.XLOOKUP(CDT_Mapping[[#This Row],[ID]],ZCDT_EXPORT[Category Id],ZCDT_EXPORT[Group],\"\"),1))),\"\")","v":"Non-Edibles"}]
[null,null,null,null,null,null,null,null,null,null,"Lemonade, ice tea, kvass, tonic, par",null,"Nonfood","E.05.06","Toys for girls",{"$f":"CDT_Mapping[[#This Row],[ID]]&\" \"&CDT_Mapping[[#This Row],[Category name]]","v":"E.05.06 Toys for girls"},{"$f":"IFERROR(_xlfn.XLOOKUP(\"CDT \"&MAINPAGE_COUNTRY,Table7[[#Headers],[CDT EN]:[CDT LT]],_xlfn.XLOOKUP(CDT_Mapping[[#This Row],[ID]],Table7[CDT ID],Table7[[CDT EN]:[CDT LT]])),CDT_Mapping[[#This Row],[ID & Name]])","v":"E.05.06 Toys for girls"},{"$f":"RIGHT(CDT_Mapping[[#This Row],[Translation ID & name]],LEN(CDT_Mapping[[#This Row],[Translation ID & name]])-8)","v":"Toys for girls"},{"$f":"IFERROR(_xlfn.XLOOKUP(CDT_Mapping[[#This Row],[Grouping]],Grouping[Grouping],Grouping[Grouping (translation)]),CDT_Mapping[[#This Row],[Grouping]])","v":"Nonfood"},{"$f":"IFERROR(TRIM(RIGHT(_xlfn.XLOOKUP(CDT_Mapping[[#This Row],[ID]],ZCDT_EXPORT[Category Id],ZCDT_EXPORT[Group],\"\"),LEN(_xlfn.XLOOKUP(CDT_Mapping[[#This Row],[ID]],ZCDT_EXPORT[Category Id],ZCDT_EXPORT[Group],\"\"))-FIND(\". \",_xlfn.XLOOKUP(CDT_Mapping[[#This Row],[ID]],ZCDT_EXPORT[Category Id],ZCDT_EXPORT[Group],\"\"),1))),\"\")","v":"Non-Edibles"}]
[null,null,null,null,null,null,null,null,null,null,"Make-up",null,"Nonfood","E.05.04","Soft Toys",{"$f":"CDT_Mapping[[#This Row],[ID]]&\" \"&CDT_Mapping[[#This Row],[Category name]]","v":"E.05.04 Soft Toys"},{"$f":"IFERROR(_xlfn.XLOOKUP(\"CDT \"&MAINPAGE_COUNTRY,Table7[[#Headers],[CDT EN]:[CDT LT]],_xlfn.XLOOKUP(CDT_Mapping[[#This Row],[ID]],Table7[CDT ID],Table7[[CDT EN]:[CDT LT]])),CDT_Mapping[[#This Row],[ID & Name]])","v":"E.05.04 Soft Toys"},{"$f":"RIGHT(CDT_Mapping[[#This Row],[Translation ID & name]],LEN(CDT_Mapping[[#This Row],[Translation ID & name]])-8)","v":"Soft Toys"},{"$f":"IFERROR(_xlfn.XLOOKUP(CDT_Mapping[[#This Row],[Grouping]],Grouping[Grouping],Grouping[Grouping (translation)]),CDT_Mapping[[#This Row],[Grouping]])","v":"Nonfood"},{"$f":"IFERROR(TRIM(RIGHT(_xlfn.XLOOKUP(CDT_Mapping[[#This Row],[ID]],ZCDT_EXPORT[Category Id],ZCDT_EXPORT[Group],\"\"),LEN(_xlfn.XLOOKUP(CDT_Mapping[[#This Row],[ID]],ZCDT_EXPORT[Category Id],ZCDT_EXPORT[Group],\"\"))-FIND(\". \",_xlfn.XLOOKUP(CDT_Mapping[[#This Row],[ID]],ZCDT_EXPORT[Category Id],ZCDT_EXPORT[Group],\"\"),1))),\"\")","v":"Non-Edibles"}]
[null,null,null,null,null,null,null,null,null,null,"Mayonnaise",null,"Nonfood","E.05.01","Activity toys",{"$f":"CDT_Mapping[[#This Row],[ID]]&\" \"&CDT_Mapping[[#This Row],[Category name]]","v":"E.05.01 Activity toys"},{"$f":"IFERROR(_xlfn.XLOOKUP(\"CDT \"&MAINPAGE_COUNTRY,Table7[[#Headers],[CDT EN]:[CDT LT]],_xlfn.XLOOKUP(CDT_Mapping[[#This Row],[ID]],Table7[CDT ID],Table7[[CDT EN]:[CDT LT]])),CDT_Mapping[[#This Row],[ID & Name]])","v":"E.05.01 Activity toys"},{"$f":"RIGHT(CDT_Mapping[[#This Row],[Translation ID & name]],LEN(CDT_Mapping[[#This Row],[Translation ID & name]])-8)","v":"Activity toys"},{"$f":"IFERROR(_xlfn.XLOOKUP(CDT_Mapping[[#This Row],[Grouping]],Grouping[Grouping],Grouping[Grouping (translation)]),CDT_Mapping[[#This Row],[Grouping]])","v":"Nonfood"},{"$f":"IFERROR(TRIM(RIGHT(_xlfn.XLOOKUP(CDT_Mapping[[#This Row],[ID]],ZCDT_EXPORT[Category Id],ZCDT_EXPORT[Group],\"\"),LEN(_xlfn.XLOOKUP(CDT_Mapping[[#This Row],[ID]],ZCDT_EXPORT[Category Id],ZCDT_EXPORT[Group],\"\"))-FIND(\". \",_xlfn.XLOOKUP(CDT_Mapping[[#This Row],[ID]],ZCDT_EXPORT[Category Id],ZCDT_EXPORT[Group],\"\"),1))),\"\")","v":"Non-Edibles"}]
[null,null,null,null,null,null,null,null,null,null,"Media,books,cards,calendars",null,"Nonfood","E.05.08","Creative and educational toys",{"$f":"CDT_Mapping[[#This Row],[ID]]&\" \"&CDT_Mapping[[#This Row],[Category name]]","v":"E.05.08 Creative and educational toys"},{"$f":"IFERROR(_xlfn.XLOOKUP(\"CDT \"&MAINPAGE_COUNTRY,Table7[[#Headers],[CDT EN]:[CDT LT]],_xlfn.XLOOKUP(CDT_Mapping[[#This Row],[ID]],Table7[CDT ID],Table7[[CDT EN]:[CDT LT]])),CDT_Mapping[[#This Row],[ID & Name]])","v":"E.05.08 Creative and educational toys"},{"$f":"RIGHT(CDT_Mapping[[#This Row],[Translation ID & name]],LEN(CDT_Mapping[[#This Row],[Translation ID & name]])-8)","v":"Creative and educational toys"},{"$f":"IFERROR(_xlfn.XLOOKUP(CDT_Mapping[[#This Row],[Grouping]],Grouping[Grouping],Grouping[Grouping (translation)]),CDT_Mapping[[#This Row],[Grouping]])","v":"Nonfood"},{"$f":"IFERROR(TRIM(RIGHT(_xlfn.XLOOKUP(CDT_Mapping[[#This Row],[ID]],ZCDT_EXPORT[Category Id],ZCDT_EXPORT[Group],\"\"),LEN(_xlfn.XLOOKUP(CDT_Mapping[[#This Row],[ID]],ZCDT_EXPORT[Category Id],ZCDT_EXPORT[Group],\"\"))-FIND(\". \",_xlfn.XLOOKUP(CDT_Mapping[[#This Row],[ID]],ZCDT_EXPORT[Category Id],ZCDT_EXPORT[Group],\"\"),1))),\"\")","v":"Non-Edibles"}]
[null,null,null,null,null,null,null,null,null,null,"Men's socks",null,"Nonfood","E.05.09","Games",{"$f":"CDT_Mapping[[#This Row],[ID]]&\" \"&CDT_Mapping[[#This Row],[Category name]]","v":"E.05.09 Games"},{"$f":"IFERROR(_xlfn.XLOOKUP(\"CDT \"&MAINPAGE_COUNTRY,Table7[[#Headers],[CDT EN]:[CDT LT]],_xlfn.XLOOKUP(CDT_Mapping[[#This Row],[ID]],Table7[CDT ID],Table7[[CDT EN]:[CDT LT]])),CDT_Mapping[[#This Row],[ID & Name]])","v":"E.05.09 Games"},{"$f":"RIGHT(CDT_Mapping[[#This Row],[Translation ID & name]],LEN(CDT_Mapping[[#This Row],[Translation ID & name]])-8)","v":"Games"},{"$f":"IFERROR(_xlfn.XLOOKUP(CDT_Mapping[[#This Row],[Grouping]],Grouping[Grouping],Grouping[Grouping (translation)]),CDT_Mapping[[#This Row],[Grouping]])","v":"Nonfood"},{"$f":"IFERROR(TRIM(RIGHT(_xlfn.XLOOKUP(CDT_Mapping[[#This Row],[ID]],ZCDT_EXPORT[Category Id],ZCDT_EXPORT[Group],\"\"),LEN(_xlfn.XLOOKUP(CDT_Mapping[[#This Row],[ID]],ZCDT_EXPORT[Category Id],ZCDT_EXPORT[Group],\"\"))-FIND(\". \",_xlfn.XLOOKUP(CDT_Mapping[[#This Row],[ID]],ZCDT_EXPORT[Category Id],ZCDT_EXPORT[Group],\"\"),1))),\"\")","v":"Non-Edibles"}]
[null,null,null,null,null,null,null,null,null,null,"Men's underwear",null,"Nonfood","E.05.03","Construction sets",{"$f":"CDT_Mapping[[#This Row],[ID]]&\" \"&CDT_Mapping[[#This Row],[Category name]]","v":"E.05.03 Construction sets"},{"$f":"IFERROR(_xlfn.XLOOKUP(\"CDT \"&MAINPAGE_COUNTRY,Table7[[#Headers],[CDT EN]:[CDT LT]],_xlfn.XLOOKUP(CDT_Mapping[[#This Row],[ID]],Table7[CDT ID],Table7[[CDT EN]:[CDT LT]])),CDT_Mapping[[#This Row],[ID & Name]])","v":"E.05.03 Construction sets"},{"$f":"RIGHT(CDT_Mapping[[#This Row],[Translation ID & name]],LEN(CDT_Mapping[[#This Row],[Translation ID & name]])-8)","v":"Construction sets"},{"$f":"IFERROR(_xlfn.XLOOKUP(CDT_Mapping[[#This Row],[Grouping]],Grouping[Grouping],Grouping[Grouping (translation)]),CDT_Mapping[[#This Row],[Grouping]])","v":"Nonfood"},{"$f":"IFERROR(TRIM(RIGHT(_xlfn.XLOOKUP(CDT_Mapping[[#This Row],[ID]],ZCDT_EXPORT[Category Id],ZCDT_EXPORT[Group],\"\"),LEN(_xlfn.XLOOKUP(CDT_Mapping[[#This Row],[ID]],ZCDT_EXPORT[Category Id],ZCDT_EXPORT[Group],\"\"))-FIND(\". \",_xlfn.XLOOKUP(CDT_Mapping[[#This Row],[ID]],ZCDT_EXPORT[Category Id],ZCDT_EXPORT[Group],\"\"),1))),\"\")","v":"Non-Edibles"}]
[null,null,null,null,null,null,null,null,null,null,"Milk",null,"Nonfood","E.02.03","Gifts and hobby",{"$f":"CDT_Mapping[[#This Row],[ID]]&\" \"&CDT_Mapping[[#This Row],[Category name]]","v":"E.02.03 Gifts and hobby"},{"$f":"IFERROR(_xlfn.XLOOKUP(\"CDT \"&MAINPAGE_COUNTRY,Table7[[#Headers],[CDT EN]:[CDT LT]],_xlfn.XLOOKUP(CDT_Mapping[[#This Row],[ID]],Table7[CDT ID],Table7[[CDT EN]:[CDT LT]])),CDT_Mapping[[#This Row],[ID & Name]])","v":"E.02.03 Gifts and hobby"},{"$f":"RIGHT(CDT_Mapping[[#This Row],[Translation ID & name]],LEN(CDT_Mapping[[#This Row],[Translation ID & name]])-8)","v":"Gifts and hobby"},{"$f":"IFERROR(_xlfn.XLOOKUP(CDT_Mapping[[#This Row],[Grouping]],Grouping[Grouping],Grouping[Grouping (translation)]),CDT_Mapping[[#This Row],[Grouping]])","v":"Nonfood"},{"$f":"IFERROR(TRIM(RIGHT(_xlfn.XLOOKUP(CDT_Mapping[[#This Row],[ID]],ZCDT_EXPORT[Category Id],ZCDT_EXPORT[Group],\"\"),LEN(_xlfn.XLOOKUP(CDT_Mapping[[#This Row],[ID]],ZCDT_EXPORT[Category Id],ZCDT_EXPORT[Group],\"\"))-FIND(\". \",_xlfn.XLOOKUP(CDT_Mapping[[#This Row],[ID]],ZCDT_EXPORT[Category Id],ZCDT_EXPORT[Group],\"\"),1))),\"\")","v":"Non-Edibles"}]
[null,null,null,null,null,null,null,null,null,null,"Mustard, horseradish, sauces and ket",null,"Nonfood","E.03.01","Adult's clothing--> Clothing accessories",{"$f":"CDT_Mapping[[#This Row],[ID]]&\" \"&CDT_Mapping[[#This Row],[Category name]]","v":"E.03.01 Adult's clothing--> Clothing accessories"},{"$f":"IFERROR(_xlfn.XLOOKUP(\"CDT \"&MAINPAGE_COUNTRY,Table7[[#Headers],[CDT EN]:[CDT LT]],_xlfn.XLOOKUP(CDT_Mapping[[#This Row],[ID]],Table7[CDT ID],Table7[[CDT EN]:[CDT LT]])),CDT_Mapping[[#This Row],[ID & Name]])","v":"E.03.01 Adult's clothing--> Clothing accessories"},{"$f":"RIGHT(CDT_Mapping[[#This Row],[Translation ID & name]],LEN(CDT_Mapping[[#This Row],[Translation ID & name]])-8)","v":"Adult's clothing--> Clothing accessories"},{"$f":"IFERROR(_xlfn.XLOOKUP(CDT_Mapping[[#This Row],[Grouping]],Grouping[Grouping],Grouping[Grouping (translation)]),CDT_Mapping[[#This Row],[Grouping]])","v":"Nonfood"},{"$f":"IFERROR(TRIM(RIGHT(_xlfn.XLOOKUP(CDT_Mapping[[#This Row],[ID]],ZCDT_EXPORT[Category Id],ZCDT_EXPORT[Group],\"\"),LEN(_xlfn.XLOOKUP(CDT_Mapping[[#This Row],[ID]],ZCDT_EXPORT[Category Id],ZCDT_EXPORT[Group],\"\"))-FIND(\". \",_xlfn.XLOOKUP(CDT_Mapping[[#This Row],[ID]],ZCDT_EXPORT[Category Id],ZCDT_EXPORT[Group],\"\"),1))),\"\")","v":"Non-Edibles"}]
[null,null,null,null,null,null,null,null,null,null,"Nail care treatments",null,"Nonfood","E.03.04","Children`s clothing",{"$f":"CDT_Mapping[[#This Row],[ID]]&\" \"&CDT_Mapping[[#This Row],[Category name]]","v":"E.03.04 Children`s clothing"},{"$f":"IFERROR(_xlfn.XLOOKUP(\"CDT \"&MAINPAGE_COUNTRY,Table7[[#Headers],[CDT EN]:[CDT LT]],_xlfn.XLOOKUP(CDT_Mapping[[#This Row],[ID]],Table7[CDT ID],Table7[[CDT EN]:[CDT LT]])),CDT_Mapping[[#This Row],[ID & Name]])","v":"E.03.04 Children`s clothing"},{"$f":"RIGHT(CDT_Mapping[[#This Row],[Translation ID & name]],LEN(CDT_Mapping[[#This Row],[Translation ID & name]])-8)","v":"Children`s clothing"},{"$f":"IFERROR(_xlfn.XLOOKUP(CDT_Mapping[[#This Row],[Grouping]],Grouping[Grouping],Grouping[Grouping (translation)]),CDT_Mapping[[#This Row],[Grouping]])","v":"Nonfood"},{"$f":"IFERROR(TRIM(RIGHT(_xlfn.XLOOKUP(CDT_Mapping[[#This Row],[ID]],ZCDT_EXPORT[Category Id],ZCDT_EXPORT[Group],\"\"),LEN(_xlfn.XLOOKUP(CDT_Mapping[[#This Row],[ID]],ZCDT_EXPORT[Category Id],ZCDT_EXPORT[Group],\"\"))-FIND(\". \",_xlfn.XLOOKUP(CDT_Mapping[[#This Row],[ID]],ZCDT_EXPORT[Category Id],ZCDT_EXPORT[Group],\"\"),1))),\"\")","v":"Non-Edibles"}]
[null,null,null,null,null,null,null,null,null,null,"Napkins and table cover",null,"Nonfood","E.01.03","Optical products",{"$f":"CDT_Mapping[[#This Row],[ID]]&\" \"&CDT_Mapping[[#This Row],[Category name]]","v":"E.01.03 Optical products"},{"$f":"IFERROR(_xlfn.XLOOKUP(\"CDT \"&MAINPAGE_COUNTRY,Table7[[#Headers],[CDT EN]:[CDT LT]],_xlfn.XLOOKUP(CDT_Mapping[[#This Row],[ID]],Table7[CDT ID],Table7[[CDT EN]:[CDT LT]])),CDT_Mapping[[#This Row],[ID & Name]])","v":"E.01.03 Optical products"},{"$f":"RIGHT(CDT_Mapping[[#This Row],[Translation ID & name]],LEN(CDT_Mapping[[#This Row],[Translation ID & name]])-8)","v":"Optical products"},{"$f":"IFERROR(_xlfn.XLOOKUP(CDT_Mapping[[#This Row],[Grouping]],Grouping[Grouping],Grouping[Grouping (translation)]),CDT_Mapping[[#This Row],[Grouping]])","v":"Nonfood"},{"$f":"IFERROR(TRIM(RIGHT(_xlfn.XLOOKUP(CDT_Mapping[[#This Row],[ID]],ZCDT_EXPORT[Category Id],ZCDT_EXPORT[Group],\"\"),LEN(_xlfn.XLOOKUP(CDT_Mapping[[#This Row],[ID]],ZCDT_EXPORT[Category Id],ZCDT_EXPORT[Group],\"\"))-FIND(\". \",_xlfn.XLOOKUP(CDT_Mapping[[#This Row],[ID]],ZCDT_EXPORT[Category Id],ZCDT_EXPORT[Group],\"\"),1))),\"\")","v":"Non-Edibles"}]
[null,null,null,null,null,null,null,null,null,null,"National souvenirs",null,"Nonfood","E.03.06","Footwear",{"$f":"CDT_Mapping[[#This Row],[ID]]&\" \"&CDT_Mapping[[#This Row],[Category name]]","v":"E.03.06 Footwear"},{"$f":"IFERROR(_xlfn.XLOOKUP(\"CDT \"&MAINPAGE_COUNTRY,Table7[[#Headers],[CDT EN]:[CDT LT]],_xlfn.XLOOKUP(CDT_Mapping[[#This Row],[ID]],Table7[CDT ID],Table7[[CDT EN]:[CDT LT]])),CDT_Mapping[[#This Row],[ID & Name]])","v":"E.03.06 Footwear"},{"$f":"RIGHT(CDT_Mapping[[#This Row],[Translation ID & name]],LEN(CDT_Mapping[[#This Row],[Translation ID & name]])-8)","v":"Footwear"},{"$f":"IFERROR(_xlfn.XLOOKUP(CDT_Mapping[[#This Row],[Grouping]],Grouping[Grouping],Grouping[Grouping (translation)]),CDT_Mapping[[#This Row],[Grouping]])","v":"Nonfood"},{"$f":"IFERROR(TRIM(RIGHT(_xlfn.XLOOKUP(CDT_Mapping[[#This Row],[ID]],ZCDT_EXPORT[Category Id],ZCDT_EXPORT[Group],\"\"),LEN(_xlfn.XLOOKUP(CDT_Mapping[[#This Row],[ID]],ZCDT_EXPORT[Category Id],ZCDT_EXPORT[Group],\"\"))-FIND(\". \",_xlfn.XLOOKUP(CDT_Mapping[[#This Row],[ID]],ZCDT_EXPORT[Category Id],ZCDT_EXPORT[Group],\"\"),1))),\"\")","v":"Non-Edibles"}]
[null,null,null,null,null,null,null,null,null,null,"Nuts, dried fruits, dried fruit and",null,"Nonfood","E.07.09","Festivity",{"$f":"CDT_Mapping[[#This Row],[ID]]&\" \"&CDT_Mapping[[#This Row],[Category name]]","v":"E.07.09 Festivity"},{"$f":"IFERROR(_xlfn.XLOOKUP(\"CDT \"&MAINPAGE_COUNTRY,Table7[[#Headers],[CDT EN]:[CDT LT]],_xlfn.XLOOKUP(CDT_Mapping[[#This Row],[ID]],Table7[CDT ID],Table7[[CDT EN]:[CDT LT]])),CDT_Mapping[[#This Row],[ID & Name]])","v":"E.07.09 Festivity"},{"$f":"RIGHT(CDT_Mapping[[#This Row],[Translation ID & name]],LEN(CDT_Mapping[[#This Row],[Translation ID & name]])-8)","v":"Festivity"},{"$f":"IFERROR(_xlfn.XLOOKUP(CDT_Mapping[[#This Row],[Grouping]],Grouping[Grouping],Grouping[Grouping (translation)]),CDT_Mapping[[#This Row],[Grouping]])","v":"Nonfood"},{"$f":"IFERROR(TRIM(RIGHT(_xlfn.XLOOKUP(CDT_Mapping[[#This Row],[ID]],ZCDT_EXPORT[Category Id],ZCDT_EXPORT[Group],\"\"),LEN(_xlfn.XLOOKUP(CDT_Mapping[[#This Row],[ID]],ZCDT_EXPORT[Category Id],ZCDT_EXPORT[Group],\"\"))-FIND(\". \",_xlfn.XLOOKUP(CDT_Mapping[[#This Row],[ID]],ZCDT_EXPORT[Category Id],ZCDT_EXPORT[Group],\"\"),1))),\"\")","v":"Non-Edibles"}]
[null,null,null,null,null,null,null,null,null,null,"Optical products",null,"Nonfood","E.07.07","Sport and leisure",{"$f":"CDT_Mapping[[#This Row],[ID]]&\" \"&CDT_Mapping[[#This Row],[Category name]]","v":"E.07.07 Sport and leisure"},{"$f":"IFERROR(_xlfn.XLOOKUP(\"CDT \"&MAINPAGE_COUNTRY,Table7[[#Headers],[CDT EN]:[CDT LT]],_xlfn.XLOOKUP(CDT_Mapping[[#This Row],[ID]],Table7[CDT ID],Table7[[CDT EN]:[CDT LT]])),CDT_Mapping[[#This Row],[ID & Name]])","v":"E.07.07 Sport and leisure"},{"$f":"RIGHT(CDT_Mapping[[#This Row],[Translation ID & name]],LEN(CDT_Mapping[[#This Row],[Translation ID & name]])-8)","v":"Sport and leisure"},{"$f":"IFERROR(_xlfn.XLOOKUP(CDT_Mapping[[#This Row],[Grouping]],Grouping[Grouping],Grouping[Grouping (translation)]),CDT_Mapping[[#This Row],[Grouping]])","v":"Nonfood"},{"$f":"IFERROR(TRIM(RIGHT(_xlfn.XLOOKUP(CDT_Mapping[[#This Row],[ID]],ZCDT_EXPORT[Category Id],ZCDT_EXPORT[Group],\"\"),LEN(_xlfn.XLOOKUP(CDT_Mapping[[#This Row],[ID]],ZCDT_EXPORT[Category Id],ZCDT_EXPORT[Group],\"\"))-FIND(\". \",_xlfn.XLOOKUP(CDT_Mapping[[#This Row],[ID]],ZCDT_EXPORT[Category Id],ZCDT_EXPORT[Group],\"\"),1))),\"\")","v":"Non-Edibles"}]
[null,null,null,null,null,null,null,null,null,null,"Oral care",null,"Nonfood","E.02.02","Consumer electronics",{"$f":"CDT_Mapping[[#This Row],[ID]]&\" \"&CDT_Mapping[[#This Row],[Category name]]","v":"E.02.02 Consumer electronics"},{"$f":"IFERROR(_xlfn.XLOOKUP(\"CDT \"&MAINPAGE_COUNTRY,Table7[[#Headers],[CDT EN]:[CDT LT]],_xlfn.XLOOKUP(CDT_Mapping[[#This Row],[ID]],Table7[CDT ID],Table7[[CDT EN]:[CDT LT]])),CDT_Mapping[[#This Row],[ID & Name]])","v":"E.02.02 Consumer electronics"},{"$f":"RIGHT(CDT_Mapping[[#This Row],[Translation ID & name]],LEN(CDT_Mapping[[#This Row],[Translation ID & name]])-8)","v":"Consumer electronics"},{"$f":"IFERROR(_xlfn.XLOOKUP(CDT_Mapping[[#This Row],[Grouping]],Grouping[Grouping],Grouping[Grouping (translation)]),CDT_Mapping[[#This Row],[Grouping]])","v":"Nonfood"},{"$f":"IFERROR(TRIM(RIGHT(_xlfn.XLOOKUP(CDT_Mapping[[#This Row],[ID]],ZCDT_EXPORT[Category Id],ZCDT_EXPORT[Group],\"\"),LEN(_xlfn.XLOOKUP(CDT_Mapping[[#This Row],[ID]],ZCDT_EXPORT[Category Id],ZCDT_EXPORT[Group],\"\"))-FIND(\". \",_xlfn.XLOOKUP(CDT_Mapping[[#This Row],[ID]],ZCDT_EXPORT[Category Id],ZCDT_EXPORT[Group],\"\"),1))),\"\")","v":"Non-Edibles"}]
[null,null,null,null,null,null,null,null,null,null,"Other homecare (glues, repellents, shoe care)",null,"Nonfood","E.04.07","Home electric appliances",{"$f":"CDT_Mapping[[#This Row],[ID]]&\" \"&CDT_Mapping[[#This Row],[Category name]]","v":"E.04.07 Home electric appliances"},{"$f":"IFERROR(_xlfn.XLOOKUP(\"CDT \"&MAINPAGE_COUNTRY,Table7[[#Headers],[CDT EN]:[CDT LT]],_xlfn.XLOOKUP(CDT_Mapping[[#This Row],[ID]],Table7[CDT ID],Table7[[CDT EN]:[CDT LT]])),CDT_Mapping[[#This Row],[ID & Name]])","v":"E.04.07 Home electric appliances"},{"$f":"RIGHT(CDT_Mapping[[#This Row],[Translation ID & name]],LEN(CDT_Mapping[[#This Row],[Translation ID & name]])-8)","v":"Home electric appliances"},{"$f":"IFERROR(_xlfn.XLOOKUP(CDT_Mapping[[#This Row],[Grouping]],Grouping[Grouping],Grouping[Grouping (translation)]),CDT_Mapping[[#This Row],[Grouping]])","v":"Nonfood"},{"$f":"IFERROR(TRIM(RIGHT(_xlfn.XLOOKUP(CDT_Mapping[[#This Row],[ID]],ZCDT_EXPORT[Category Id],ZCDT_EXPORT[Group],\"\"),LEN(_xlfn.XLOOKUP(CDT_Mapping[[#This Row],[ID]],ZCDT_EXPORT[Category Id],ZCDT_EXPORT[Group],\"\"))-FIND(\". \",_xlfn.XLOOKUP(CDT_Mapping[[#This Row],[ID]],ZCDT_EXPORT[Category Id],ZCDT_EXPORT[Group],\"\"),1))),\"\")","v":"Non-Edibles"}]
[null,null,null,null,null,null,null,null,null,null,"Outdoor furniture and supplies",null,"Nonfood","E.01.01","Beauty electronics",{"$f":"CDT_Mapping[[#This Row],[ID]]&\" \"&CDT_Mapping[[#This Row],[Category name]]","v":"E.01.01 Beauty electronics"},{"$f":"IFERROR(_xlfn.XLOOKUP(\"CDT \"&MAINPAGE_COUNTRY,Table7[[#Headers],[CDT EN]:[CDT LT]],_xlfn.XLOOKUP(CDT_Mapping[[#This Row],[ID]],Table7[CDT ID],Table7[[CDT EN]:[CDT LT]])),CDT_Mapping[[#This Row],[ID & Name]])","v":"E.01.01 Beauty electronics"},{"$f":"RIGHT(CDT_Mapping[[#This Row],[Translation ID & name]],LEN(CDT_Mapping[[#This Row],[Translation ID & name]])-8)","v":"Beauty electronics"},{"$f":"IFERROR(_xlfn.XLOOKUP(CDT_Mapping[[#This Row],[Grouping]],Grouping[Grouping],Grouping[Grouping (translation)]),CDT_Mapping[[#This Row],[Grouping]])","v":"Nonfood"},{"$f":"IFERROR(TRIM(RIGHT(_xlfn.XLOOKUP(CDT_Mapping[[#This Row],[ID]],ZCDT_EXPORT[Category Id],ZCDT_EXPORT[Group],\"\"),LEN(_xlfn.XLOOKUP(CDT_Mapping[[#This Row],[ID]],ZCDT_EXPORT[Category Id],ZCDT_EXPORT[Group],\"\"))-FIND(\". \",_xlfn.XLOOKUP(CDT_Mapping[[#This Row],[ID]],ZCDT_EXPORT[Category Id],ZCDT_EXPORT[Group],\"\"),1))),\"\")","v":"Non-Edibles"}]
[null,null,null,null,null,null,null,null,null,null,"Partner services, lottery tickets",null,"Nonfood","E.06.07","Small domestic appliances",{"$f":"CDT_Mapping[[#This Row],[ID]]&\" \"&CDT_Mapping[[#This Row],[Category name]]","v":"E.06.07 Small domestic appliances"},{"$f":"IFERROR(_xlfn.XLOOKUP(\"CDT \"&MAINPAGE_COUNTRY,Table7[[#Headers],[CDT EN]:[CDT LT]],_xlfn.XLOOKUP(CDT_Mapping[[#This Row],[ID]],Table7[CDT ID],Table7[[CDT EN]:[CDT LT]])),CDT_Mapping[[#This Row],[ID & Name]])","v":"E.06.07 Small domestic appliances"},{"$f":"RIGHT(CDT_Mapping[[#This Row],[Translation ID & name]],LEN(CDT_Mapping[[#This Row],[Translation ID & name]])-8)","v":"Small domestic appliances"},{"$f":"IFERROR(_xlfn.XLOOKUP(CDT_Mapping[[#This Row],[Grouping]],Grouping[Grouping],Grouping[Grouping (translation)]),CDT_Mapping[[#This Row],[Grouping]])","v":"Nonfood"},{"$f":"IFERROR(TRIM(RIGHT(_xlfn.XLOOKUP(CDT_Mapping[[#This Row],[ID]],ZCDT_EXPORT[Category Id],ZCDT_EXPORT[Group],\"\"),LEN(_xlfn.XLOOKUP(CDT_Mapping[[#This Row],[ID]],ZCDT_EXPORT[Category Id],ZCDT_EXPORT[Group],\"\"))-FIND(\". \",_xlfn.XLOOKUP(CDT_Mapping[[#This Row],[ID]],ZCDT_EXPORT[Category Id],ZCDT_EXPORT[Group],\"\"),1))),\"\")","v":"Non-Edibles"}]
[null,null,null,null,null,null,null,null,null,null,"Party accessories",null,"Nonfood","E.04.02","Car accessories and chemicals",{"$f":"CDT_Mapping[[#This Row],[ID]]&\" \"&CDT_Mapping[[#This Row],[Category name]]","v":"E.04.02 Car accessories and chemicals"},{"$f":"IFERROR(_xlfn.XLOOKUP(\"CDT \"&MAINPAGE_COUNTRY,Table7[[#Headers],[CDT EN]:[CDT LT]],_xlfn.XLOOKUP(CDT_Mapping[[#This Row],[ID]],Table7[CDT ID],Table7[[CDT EN]:[CDT LT]])),CDT_Mapping[[#This Row],[ID & Name]])","v":"E.04.02 Car accessories and chemicals"},{"$f":"RIGHT(CDT_Mapping[[#This Row],[Translation ID & name]],LEN(CDT_Mapping[[#This Row],[Translation ID & name]])-8)","v":"Car accessories and chemicals"},{"$f":"IFERROR(_xlfn.XLOOKUP(CDT_Mapping[[#This Row],[Grouping]],Grouping[Grouping],Grouping[Grouping (translation)]),CDT_Mapping[[#This Row],[Grouping]])","v":"Nonfood"},{"$f":"IFERROR(TRIM(RIGHT(_xlfn.XLOOKUP(CDT_Mapping[[#This Row],[ID]],ZCDT_EXPORT[Category Id],ZCDT_EXPORT[Group],\"\"),LEN(_xlfn.XLOOKUP(CDT_Mapping[[#This Row],[ID]],ZCDT_EXPORT[Category Id],ZCDT_EXPORT[Group],\"\"))-FIND(\". \",_xlfn.XLOOKUP(CDT_Mapping[[#This Row],[ID]],ZCDT_EXPORT[Category Id],ZCDT_EXPORT[Group],\"\"),1))),\"\")","v":"Non-Edibles"}]
[null,null,null,null,null,null,null,null,null,null,"Pasta",null,"Nonfood","E.07.04","Grilling",{"$f":"CDT_Mapping[[#This Row],[ID]]&\" \"&CDT_Mapping[[#This Row],[Category name]]","v":"E.07.04 Grilling"},{"$f":"IFERROR(_xlfn.XLOOKUP(\"CDT \"&MAINPAGE_COUNTRY,Table7[[#Headers],[CDT EN]:[CDT LT]],_xlfn.XLOOKUP(CDT_Mapping[[#This Row],[ID]],Table7[CDT ID],Table7[[CDT EN]:[CDT LT]])),CDT_Mapping[[#This Row],[ID & Name]])","v":"E.07.04 Grilling"},{"$f":"RIGHT(CDT_Mapping[[#This Row],[Translation ID & name]],LEN(CDT_Mapping[[#This Row],[Translation ID & name]])-8)","v":"Grilling"},{"$f":"IFERROR(_xlfn.XLOOKUP(CDT_Mapping[[#This Row],[Grouping]],Grouping[Grouping],Grouping[Grouping (translation)]),CDT_Mapping[[#This Row],[Grouping]])","v":"Nonfood"},{"$f":"IFERROR(TRIM(RIGHT(_xlfn.XLOOKUP(CDT_Mapping[[#This Row],[ID]],ZCDT_EXPORT[Category Id],ZCDT_EXPORT[Group],\"\"),LEN(_xlfn.XLOOKUP(CDT_Mapping[[#This Row],[ID]],ZCDT_EXPORT[Category Id],ZCDT_EXPORT[Group],\"\"))-FIND(\". \",_xlfn.XLOOKUP(CDT_Mapping[[#This Row],[ID]],ZCDT_EXPORT[Category Id],ZCDT_EXPORT[Group],\"\"),1))),\"\")","v":"Non-Edibles"}]
[null,null,null,null,null,null,null,null,null,null,"Pet food and accessories",null,"Nonfood","E.07.03","Gardening supplies",{"$f":"CDT_Mapping[[#This Row],[ID]]&\" \"&CDT_Mapping[[#This Row],[Category name]]","v":"E.07.03 Gardening supplies"},{"$f":"IFERROR(_xlfn.XLOOKUP(\"CDT \"&MAINPAGE_COUNTRY,Table7[[#Headers],[CDT EN]:[CDT LT]],_xlfn.XLOOKUP(CDT_Mapping[[#This Row],[ID]],Table7[CDT ID],Table7[[CDT EN]:[CDT LT]])),CDT_Mapping[[#This Row],[ID & Name]])","v":"E.07.03 Gardening supplies"},{"$f":"RIGHT(CDT_Mapping[[#This Row],[Translation ID & name]],LEN(CDT_Mapping[[#This Row],[Translation ID & name]])-8)","v":"Gardening supplies"},{"$f":"IFERROR(_xlfn.XLOOKUP(CDT_Mapping[[#This Row],[Grouping]],Grouping[Grouping],Grouping[Grouping (translation)]),CDT_Mapping[[#This Row],[Grouping]])","v":"Nonfood"},{"$f":"IFERROR(TRIM(RIGHT(_xlfn.XLOOKUP(CDT_Mapping[[#This Row],[ID]],ZCDT_EXPORT[Category Id],ZCDT_EXPORT[Group],\"\"),LEN(_xlfn.XLOOKUP(CDT_Mapping[[#This Row],[ID]],ZCDT_EXPORT[Category Id],ZCDT_EXPORT[Group],\"\"))-FIND(\". \",_xlfn.XLOOKUP(CDT_Mapping[[#This Row],[ID]],ZCDT_EXPORT[Category Id],ZCDT_EXPORT[Group],\"\"),1))),\"\")","v":"Non-Edibles"}]
[null,null,null,null,null,null,null,null,null,null,"Processed fish and seafood",null,"Nonfood","E.04.10","Bathroom",{"$f":"CDT_Mapping[[#This Row],[ID]]&\" \"&CDT_Mapping[[#This Row],[Category name]]","v":"E.04.10 Bathroom"},{"$f":"IFERROR(_xlfn.XLOOKUP(\"CDT \"&MAINPAGE_COUNTRY,Table7[[#Headers],[CDT EN]:[CDT LT]],_xlfn.XLOOKUP(CDT_Mapping[[#This Row],[ID]],Table7[CDT ID],Table7[[CDT EN]:[CDT LT]])),CDT_Mapping[[#This Row],[ID & Name]])","v":"E.04.10 Bathroom"},{"$f":"RIGHT(CDT_Mapping[[#This Row],[Translation ID & name]],LEN(CDT_Mapping[[#This Row],[Translation ID & name]])-8)","v":"Bathroom"},{"$f":"IFERROR(_xlfn.XLOOKUP(CDT_Mapping[[#This Row],[Grouping]],Grouping[Grouping],Grouping[Grouping (translation)]),CDT_Mapping[[#This Row],[Grouping]])","v":"Nonfood"},{"$f":"IFERROR(TRIM(RIGHT(_xlfn.XLOOKUP(CDT_Mapping[[#This Row],[ID]],ZCDT_EXPORT[Category Id],ZCDT_EXPORT[Group],\"\"),LEN(_xlfn.XLOOKUP(CDT_Mapping[[#This Row],[ID]],ZCDT_EXPORT[Category Id],ZCDT_EXPORT[Group],\"\"))-FIND(\". \",_xlfn.XLOOKUP(CDT_Mapping[[#This Row],[ID]],ZCDT_EXPORT[Category Id],ZCDT_EXPORT[Group],\"\"),1))),\"\")","v":"Non-Edibles"}]
[null,null,null,null,null,null,null,null,null,null,"Processed meat",null,"Other Nearfood","D.11.02","National souvenirs",{"$f":"CDT_Mapping[[#This Row],[ID]]&\" \"&CDT_Mapping[[#This Row],[Category name]]","v":"D.11.02 National souvenirs"},{"$f":"IFERROR(_xlfn.XLOOKUP(\"CDT \"&MAINPAGE_COUNTRY,Table7[[#Headers],[CDT EN]:[CDT LT]],_xlfn.XLOOKUP(CDT_Mapping[[#This Row],[ID]],Table7[CDT ID],Table7[[CDT EN]:[CDT LT]])),CDT_Mapping[[#This Row],[ID & Name]])","v":"D.11.02 National souvenirs"},{"$f":"RIGHT(CDT_Mapping[[#This Row],[Translation ID & name]],LEN(CDT_Mapping[[#This Row],[Translation ID & name]])-8)","v":"National souvenirs"},{"$f":"IFERROR(_xlfn.XLOOKUP(CDT_Mapping[[#This Row],[Grouping]],Grouping[Grouping],Grouping[Grouping (translation)]),CDT_Mapping[[#This Row],[Grouping]])","v":"Other Nearfood"},{"$f":"IFERROR(TRIM(RIGHT(_xlfn.XLOOKUP(CDT_Mapping[[#This Row],[ID]],ZCDT_EXPORT[Category Id],ZCDT_EXPORT[Group],\"\"),LEN(_xlfn.XLOOKUP(CDT_Mapping[[#This Row],[ID]],ZCDT_EXPORT[Category Id],ZCDT_EXPORT[Group],\"\"))-FIND(\". \",_xlfn.XLOOKUP(CDT_Mapping[[#This Row],[ID]],ZCDT_EXPORT[Category Id],ZCDT_EXPORT[Group],\"\"),1))),\"\")","v":"Non-Edibles"}]
[null,null,null,null,null,null,null,null,null,null,"Ready to eat food; ready to cook foo",null,"Other Nearfood","D.12.02","Jewelry",{"$f":"CDT_Mapping[[#This Row],[ID]]&\" \"&CDT_Mapping[[#This Row],[Category name]]","v":"D.12.02 Jewelry"},{"$f":"IFERROR(_xlfn.XLOOKUP(\"CDT \"&MAINPAGE_COUNTRY,Table7[[#Headers],[CDT EN]:[CDT LT]],_xlfn.XLOOKUP(CDT_Mapping[[#This Row],[ID]],Table7[CDT ID],Table7[[CDT EN]:[CDT LT]])),CDT_Mapping[[#This Row],[ID & Name]])","v":"D.12.02 Jewelry"},{"$f":"RIGHT(CDT_Mapping[[#This Row],[Translation ID & name]],LEN(CDT_Mapping[[#This Row],[Translation ID & name]])-8)","v":"Jewelry"},{"$f":"IFERROR(_xlfn.XLOOKUP(CDT_Mapping[[#This Row],[Grouping]],Grouping[Grouping],Grouping[Grouping (translation)]),CDT_Mapping[[#This Row],[Grouping]])","v":"Other Nearfood"},{"$f":"IFERROR(TRIM(RIGHT(_xlfn.XLOOKUP(CDT_Mapping[[#This Row],[ID]],ZCDT_EXPORT[Category Id],ZCDT_EXPORT[Group],\"\"),LEN(_xlfn.XLOOKUP(CDT_Mapping[[#This Row],[ID]],ZCDT_EXPORT[Category Id],ZCDT_EXPORT[Group],\"\"))-FIND(\". \",_xlfn.XLOOKUP(CDT_Mapping[[#This Row],[ID]],ZCDT_EXPORT[Category Id],ZCDT_EXPORT[Group],\"\"),1))),\"\")","v":"Non-Edibles"}]
[null,null,null,null,null,null,null,null,null,null,"Rum, whiskey, cognac, brandy",null,"Other Nearfood","D.12.01","Body accessories and sponges",{"$f":"CDT_Mapping[[#This Row],[ID]]&\" \"&CDT_Mapping[[#This Row],[Category name]]","v":"D.12.01 Body accessories and sponges"},{"$f":"IFERROR(_xlfn.XLOOKUP(\"CDT \"&MAINPAGE_COUNTRY,Table7[[#Headers],[CDT EN]:[CDT LT]],_xlfn.XLOOKUP(CDT_Mapping[[#This Row],[ID]],Table7[CDT ID],Table7[[CDT EN]:[CDT LT]])),CDT_Mapping[[#This Row],[ID & Name]])","v":"D.12.01 Body accessories and sponges"},{"$f":"RIGHT(CDT_Mapping[[#This Row],[Translation ID & name]],LEN(CDT_Mapping[[#This Row],[Translation ID & name]])-8)","v":"Body accessories and sponges"},{"$f":"IFERROR(_xlfn.XLOOKUP(CDT_Mapping[[#This Row],[Grouping]],Grouping[Grouping],Grouping[Grouping (translation)]),CDT_Mapping[[#This Row],[Grouping]])","v":"Other Nearfood"},{"$f":"IFERROR(TRIM(RIGHT(_xlfn.XLOOKUP(CDT_Mapping[[#This Row],[ID]],ZCDT_EXPORT[Category Id],ZCDT_EXPORT[Group],\"\"),LEN(_xlfn.XLOOKUP(CDT_Mapping[[#This Row],[ID]],ZCDT_EXPORT[Category Id],ZCDT_EXPORT[Group],\"\"))-FIND(\". \",_xlfn.XLOOKUP(CDT_Mapping[[#This Row],[ID]],ZCDT_EXPORT[Category Id],ZCDT_EXPORT[Group],\"\"),1))),\"\")","v":"Non-Edibles"}]
[null,null,null,null,null,null,null,null,null,null,"Salty dry ingredients",null,"Other Nearfood","D.12.03","Hair accessories",{"$f":"CDT_Mapping[[#This Row],[ID]]&\" \"&CDT_Mapping[[#This Row],[Category name]]","v":"D.12.03 Hair accessories"},{"$f":"IFERROR(_xlfn.XLOOKUP(\"CDT \"&MAINPAGE_COUNTRY,Table7[[#Headers],[CDT EN]:[CDT LT]],_xlfn.XLOOKUP(CDT_Mapping[[#This Row],[ID]],Table7[CDT ID],Table7[[CDT EN]:[CDT LT]])),CDT_Mapping[[#This Row],[ID & Name]])","v":"D.12.03 Hair accessories"},{"$f":"RIGHT(CDT_Mapping[[#This Row],[Translation ID & name]],LEN(CDT_Mapping[[#This Row],[Translation ID & name]])-8)","v":"Hair accessories"},{"$f":"IFERROR(_xlfn.XLOOKUP(CDT_Mapping[[#This Row],[Grouping]],Grouping[Grouping],Grouping[Grouping (translation)]),CDT_Mapping[[#This Row],[Grouping]])","v":"Other Nearfood"},{"$f":"IFERROR(TRIM(RIGHT(_xlfn.XLOOKUP(CDT_Mapping[[#This Row],[ID]],ZCDT_EXPORT[Category Id],ZCDT_EXPORT[Group],\"\"),LEN(_xlfn.XLOOKUP(CDT_Mapping[[#This Row],[ID]],ZCDT_EXPORT[Category Id],ZCDT_EXPORT[Group],\"\"))-FIND(\". \",_xlfn.XLOOKUP(CDT_Mapping[[#This Row],[ID]],ZCDT_EXPORT[Category Id],ZCDT_EXPORT[Group],\"\"),1))),\"\")","v":"Non-Edibles"}]
[null,null,null,null,null,null,null,null,null,null,"School and office supplies",null,"Packed food (grocery)","C.02.01","Biscuits, wafers",{"$f":"CDT_Mapping[[#This Row],[ID]]&\" \"&CDT_Mapping[[#This Row],[Category name]]","v":"C.02.01 Biscuits, wafers"},{"$f":"IFERROR(_xlfn.XLOOKUP(\"CDT \"&MAINPAGE_COUNTRY,Table7[[#Headers],[CDT EN]:[CDT LT]],_xlfn.XLOOKUP(CDT_Mapping[[#This Row],[ID]],Table7[CDT ID],Table7[[CDT EN]:[CDT LT]])),CDT_Mapping[[#This Row],[ID & Name]])","v":"C.02.01 Biscuits, wafers"},{"$f":"RIGHT(CDT_Mapping[[#This Row],[Translation ID & name]],LEN(CDT_Mapping[[#This Row],[Translation ID & name]])-8)","v":"Biscuits, wafers"},{"$f":"IFERROR(_xlfn.XLOOKUP(CDT_Mapping[[#This Row],[Grouping]],Grouping[Grouping],Grouping[Grouping (translation)]),CDT_Mapping[[#This Row],[Grouping]])","v":"Packed food (grocery)"},{"$f":"IFERROR(TRIM(RIGHT(_xlfn.XLOOKUP(CDT_Mapping[[#This Row],[ID]],ZCDT_EXPORT[Category Id],ZCDT_EXPORT[Group],\"\"),LEN(_xlfn.XLOOKUP(CDT_Mapping[[#This Row],[ID]],ZCDT_EXPORT[Category Id],ZCDT_EXPORT[Group],\"\"))-FIND(\". \",_xlfn.XLOOKUP(CDT_Mapping[[#This Row],[ID]],ZCDT_EXPORT[Category Id],ZCDT_EXPORT[Group],\"\"),1))),\"\")","v":"Dry & Frozen"}]
[null,null,null,null,null,null,null,null,null,null,"Small domestic appliances",null,"Packed food (grocery)","C.04.01","Canned (jarred) fruits and berries",{"$f":"CDT_Mapping[[#This Row],[ID]]&\" \"&CDT_Mapping[[#This Row],[Category name]]","v":"C.04.01 Canned (jarred) fruits and berries"},{"$f":"IFERROR(_xlfn.XLOOKUP(\"CDT \"&MAINPAGE_COUNTRY,Table7[[#Headers],[CDT EN]:[CDT LT]],_xlfn.XLOOKUP(CDT_Mapping[[#This Row],[ID]],Table7[CDT ID],Table7[[CDT EN]:[CDT LT]])),CDT_Mapping[[#This Row],[ID & Name]])","v":"C.04.01 Canned (jarred) fruits and berries"},{"$f":"RIGHT(CDT_Mapping[[#This Row],[Translation ID & name]],LEN(CDT_Mapping[[#This Row],[Translation ID & name]])-8)","v":"Canned (jarred) fruits and berries"},{"$f":"IFERROR(_xlfn.XLOOKUP(CDT_Mapping[[#This Row],[Grouping]],Grouping[Grouping],Grouping[Grouping (translation)]),CDT_Mapping[[#This Row],[Grouping]])","v":"Packed food (grocery)"},{"$f":"IFERROR(TRIM(RIGHT(_xlfn.XLOOKUP(CDT_Mapping[[#This Row],[ID]],ZCDT_EXPORT[Category Id],ZCDT_EXPORT[Group],\"\"),LEN(_xlfn.XLOOKUP(CDT_Mapping[[#This Row],[ID]],ZCDT_EXPORT[Category Id],ZCDT_EXPORT[Group],\"\"))-FIND(\". \",_xlfn.XLOOKUP(CDT_Mapping[[#This Row],[ID]],ZCDT_EXPORT[Category Id],ZCDT_EXPORT[Group],\"\"),1))),\"\")","v":"Dry & Frozen"}]
[null,null,null,null,null,null,null,null,null,null,"Soaps, shower gels, bath foams, salt",null,"Packed food (grocery)","C.04.02","Canned (jarred) vegetables, canned p",{"$f":"CDT_Mapping[[#This Row],[ID]]&\" \"&CDT_Mapping[[#This Row],[Category name]]","v":"C.04.02 Canned (jarred) vegetables, canned p"},{"$f":"IFERROR(_xlfn.XLOOKUP(\"CDT \"&MAINPAGE_COUNTRY,Table7[[#Headers],[CDT EN]:[CDT LT]],_xlfn.XLOOKUP(CDT_Mapping[[#This Row],[ID]],Table7[CDT ID],Table7[[CDT EN]:[CDT LT]])),CDT_Mapping[[#This Row],[ID & Name]])","v":"C.04.02 Canned (jarred) vegetables, canned p"},{"$f":"RIGHT(CDT_Mapping[[#This Row],[Translation ID & name]],LEN(CDT_Mapping[[#This Row],[Translation ID & name]])-8)","v":"Canned (jarred) vegetables, canned p"},{"$f":"IFERROR(_xlfn.XLOOKUP(CDT_Mapping[[#This Row],[Grouping]],Grouping[Grouping],Grouping[Grouping (translation)]),CDT_Mapping[[#This Row],[Grouping]])","v":"Packed food (grocery)"},{"$f":"IFERROR(TRIM(RIGHT(_xlfn.XLOOKUP(CDT_Mapping[[#This Row],[ID]],ZCDT_EXPORT[Category Id],ZCDT_EXPORT[Group],\"\"),LEN(_xlfn.XLOOKUP(CDT_Mapping[[#This Row],[ID]],ZCDT_EXPORT[Category Id],ZCDT_EXPORT[Group],\"\"))-FIND(\". \",_xlfn.XLOOKUP(CDT_Mapping[[#This Row],[ID]],ZCDT_EXPORT[Category Id],ZCDT_EXPORT[Group],\"\"),1))),\"\")","v":"Dry & Frozen"}]
[null,null,null,null,null,null,null,null,null,null,"Soft Toys",null,"Packed food (grocery)","C.04.03","Jam, marmalade, puree, honey, sweet spreads and sauces",{"$f":"CDT_Mapping[[#This Row],[ID]]&\" \"&CDT_Mapping[[#This Row],[Category name]]","v":"C.04.03 Jam, marmalade, puree, honey, sweet spreads and sauces"},{"$f":"IFERROR(_xlfn.XLOOKUP(\"CDT \"&MAINPAGE_COUNTRY,Table7[[#Headers],[CDT EN]:[CDT LT]],_xlfn.XLOOKUP(CDT_Mapping[[#This Row],[ID]],Table7[CDT ID],Table7[[CDT EN]:[CDT LT]])),CDT_Mapping[[#This Row],[ID & Name]])","v":"C.04.03 Jam, marmalade, puree, honey, sweet"},{"$f":"RIGHT(CDT_Mapping[[#This Row],[Translation ID & name]],LEN(CDT_Mapping[[#This Row],[Translation ID & name]])-8)","v":"Jam, marmalade, puree, honey, sweet"},{"$f":"IFERROR(_xlfn.XLOOKUP(CDT_Mapping[[#This Row],[Grouping]],Grouping[Grouping],Grouping[Grouping (translation)]),CDT_Mapping[[#This Row],[Grouping]])","v":"Packed food (grocery)"},{"$f":"IFERROR(TRIM(RIGHT(_xlfn.XLOOKUP(CDT_Mapping[[#This Row],[ID]],ZCDT_EXPORT[Category Id],ZCDT_EXPORT[Group],\"\"),LEN(_xlfn.XLOOKUP(CDT_Mapping[[#This Row],[ID]],ZCDT_EXPORT[Category Id],ZCDT_EXPORT[Group],\"\"))-FIND(\". \",_xlfn.XLOOKUP(CDT_Mapping[[#This Row],[ID]],ZCDT_EXPORT[Category Id],ZCDT_EXPORT[Group],\"\"),1))),\"\")","v":"Dry & Frozen"}]
[null,null,null,null,null,null,null,null,null,null,"Sour milk",null,"Packed food (grocery)","C.05.01","Salty dry ingredients",{"$f":"CDT_Mapping[[#This Row],[ID]]&\" \"&CDT_Mapping[[#This Row],[Category name]]","v":"C.05.01 Salty dry ingredients"},{"$f":"IFERROR(_xlfn.XLOOKUP(\"CDT \"&MAINPAGE_COUNTRY,Table7[[#Headers],[CDT EN]:[CDT LT]],_xlfn.XLOOKUP(CDT_Mapping[[#This Row],[ID]],Table7[CDT ID],Table7[[CDT EN]:[CDT LT]])),CDT_Mapping[[#This Row],[ID & Name]])","v":"C.05.01 Salty dry ingredients"},{"$f":"RIGHT(CDT_Mapping[[#This Row],[Translation ID & name]],LEN(CDT_Mapping[[#This Row],[Translation ID & name]])-8)","v":"Salty dry ingredients"},{"$f":"IFERROR(_xlfn.XLOOKUP(CDT_Mapping[[#This Row],[Grouping]],Grouping[Grouping],Grouping[Grouping (translation)]),CDT_Mapping[[#This Row],[Grouping]])","v":"Packed food (grocery)"},{"$f":"IFERROR(TRIM(RIGHT(_xlfn.XLOOKUP(CDT_Mapping[[#This Row],[ID]],ZCDT_EXPORT[Category Id],ZCDT_EXPORT[Group],\"\"),LEN(_xlfn.XLOOKUP(CDT_Mapping[[#This Row],[ID]],ZCDT_EXPORT[Category Id],ZCDT_EXPORT[Group],\"\"))-FIND(\". \",_xlfn.XLOOKUP(CDT_Mapping[[#This Row],[ID]],ZCDT_EXPORT[Category Id],ZCDT_EXPORT[Group],\"\"),1))),\"\")","v":"Dry & Frozen"}]
[null,null,null,null,null,null,null,null,null,null,"Spices",null,"Packed food (grocery)","C.07.01","Nuts, dried fruits, dried fruit and",{"$f":"CDT_Mapping[[#This Row],[ID]]&\" \"&CDT_Mapping[[#This Row],[Category name]]","v":"C.07.01 Nuts, dried fruits, dried fruit and"},{"$f":"IFERROR(_xlfn.XLOOKUP(\"CDT \"&MAINPAGE_COUNTRY,Table7[[#Headers],[CDT EN]:[CDT LT]],_xlfn.XLOOKUP(CDT_Mapping[[#This Row],[ID]],Table7[CDT ID],Table7[[CDT EN]:[CDT LT]])),CDT_Mapping[[#This Row],[ID & Name]])","v":"C.07.01 Nuts, dried fruits, dried fruit and"},{"$f":"RIGHT(CDT_Mapping[[#This Row],[Translation ID & name]],LEN(CDT_Mapping[[#This Row],[Translation ID & name]])-8)","v":"Nuts, dried fruits, dried fruit and"},{"$f":"IFERROR(_xlfn.XLOOKUP(CDT_Mapping[[#This Row],[Grouping]],Grouping[Grouping],Grouping[Grouping (translation)]),CDT_Mapping[[#This Row],[Grouping]])","v":"Packed food (grocery)"},{"$f":"IFERROR(TRIM(RIGHT(_xlfn.XLOOKUP(CDT_Mapping[[#This Row],[ID]],ZCDT_EXPORT[Category Id],ZCDT_EXPORT[Group],\"\"),LEN(_xlfn.XLOOKUP(CDT_Mapping[[#This Row],[ID]],ZCDT_EXPORT[Category Id],ZCDT_EXPORT[Group],\"\"))-FIND(\". \",_xlfn.XLOOKUP(CDT_Mapping[[#This Row],[ID]],ZCDT_EXPORT[Category Id],ZCDT_EXPORT[Group],\"\"),1))),\"\")","v":"Dry & Frozen"}]
[null,null,null,null,null,null,null,null,null,null,"Sport and leisure",null,"Packed food (grocery)","C.08.01","Cereals and muesli products",{"$f":"CDT_Mapping[[#This Row],[ID]]&\" \"&CDT_Mapping[[#This Row],[Category name]]","v":"C.08.01 Cereals and muesli products"},{"$f":"IFERROR(_xlfn.XLOOKUP(\"CDT \"&MAINPAGE_COUNTRY,Table7[[#Headers],[CDT EN]:[CDT LT]],_xlfn.XLOOKUP(CDT_Mapping[[#This Row],[ID]],Table7[CDT ID],Table7[[CDT EN]:[CDT LT]])),CDT_Mapping[[#This Row],[ID & Name]])","v":"C.08.01 Cereals and muesli products"},{"$f":"RIGHT(CDT_Mapping[[#This Row],[Translation ID & name]],LEN(CDT_Mapping[[#This Row],[Translation ID & name]])-8)","v":"Cereals and muesli products"},{"$f":"IFERROR(_xlfn.XLOOKUP(CDT_Mapping[[#This Row],[Grouping]],Grouping[Grouping],Grouping[Grouping (translation)]),CDT_Mapping[[#This Row],[Grouping]])","v":"Packed food (grocery)"},{"$f":"IFERROR(TRIM(RIGHT(_xlfn.XLOOKUP(CDT_Mapping[[#This Row],[ID]],ZCDT_EXPORT[Category Id],ZCDT_EXPORT[Group],\"\"),LEN(_xlfn.XLOOKUP(CDT_Mapping[[#This Row],[ID]],ZCDT_EXPORT[Category Id],ZCDT_EXPORT[Group],\"\"))-FIND(\". \",_xlfn.XLOOKUP(CDT_Mapping[[#This Row],[ID]],ZCDT_EXPORT[Category Id],ZCDT_EXPORT[Group],\"\"),1))),\"\")","v":"Dry & Frozen"}]
[null,null,null,null,null,null,null,null,null,null,"Sports nutrition and supplements",null,"Packed food (grocery)","C.08.02","Flakes,  groats, legume, rice",{"$f":"CDT_Mapping[[#This Row],[ID]]&\" \"&CDT_Mapping[[#This Row],[Category name]]","v":"C.08.02 Flakes,  groats, legume, rice"},{"$f":"IFERROR(_xlfn.XLOOKUP(\"CDT \"&MAINPAGE_COUNTRY,Table7[[#Headers],[CDT EN]:[CDT LT]],_xlfn.XLOOKUP(CDT_Mapping[[#This Row],[ID]],Table7[CDT ID],Table7[[CDT EN]:[CDT LT]])),CDT_Mapping[[#This Row],[ID & Name]])","v":"C.08.02 Flakes,  groats, legume, rice"},{"$f":"RIGHT(CDT_Mapping[[#This Row],[Translation ID & name]],LEN(CDT_Mapping[[#This Row],[Translation ID & name]])-8)","v":"Flakes,  groats, legume, rice"},{"$f":"IFERROR(_xlfn.XLOOKUP(CDT_Mapping[[#This Row],[Grouping]],Grouping[Grouping],Grouping[Grouping (translation)]),CDT_Mapping[[#This Row],[Grouping]])","v":"Packed food (grocery)"},{"$f":"IFERROR(TRIM(RIGHT(_xlfn.XLOOKUP(CDT_Mapping[[#This Row],[ID]],ZCDT_EXPORT[Category Id],ZCDT_EXPORT[Group],\"\"),LEN(_xlfn.XLOOKUP(CDT_Mapping[[#This Row],[ID]],ZCDT_EXPORT[Category Id],ZCDT_EXPORT[Group],\"\"))-FIND(\". \",_xlfn.XLOOKUP(CDT_Mapping[[#This Row],[ID]],ZCDT_EXPORT[Category Id],ZCDT_EXPORT[Group],\"\"),1))),\"\")","v":"Dry & Frozen"}]
[null,null,null,null,null,null,null,null,null,null,"Sweetening agents",null,"Packed food (grocery)","C.08.03","Flours and baking mixtures",{"$f":"CDT_Mapping[[#This Row],[ID]]&\" \"&CDT_Mapping[[#This Row],[Category name]]","v":"C.08.03 Flours and baking mixtures"},{"$f":"IFERROR(_xlfn.XLOOKUP(\"CDT \"&MAINPAGE_COUNTRY,Table7[[#Headers],[CDT EN]:[CDT LT]],_xlfn.XLOOKUP(CDT_Mapping[[#This Row],[ID]],Table7[CDT ID],Table7[[CDT EN]:[CDT LT]])),CDT_Mapping[[#This Row],[ID & Name]])","v":"C.08.03 Flours and baking mixtures"},{"$f":"RIGHT(CDT_Mapping[[#This Row],[Translation ID & name]],LEN(CDT_Mapping[[#This Row],[Translation ID & name]])-8)","v":"Flours and baking mixtures"},{"$f":"IFERROR(_xlfn.XLOOKUP(CDT_Mapping[[#This Row],[Grouping]],Grouping[Grouping],Grouping[Grouping (translation)]),CDT_Mapping[[#This Row],[Grouping]])","v":"Packed food (grocery)"},{"$f":"IFERROR(TRIM(RIGHT(_xlfn.XLOOKUP(CDT_Mapping[[#This Row],[ID]],ZCDT_EXPORT[Category Id],ZCDT_EXPORT[Group],\"\"),LEN(_xlfn.XLOOKUP(CDT_Mapping[[#This Row],[ID]],ZCDT_EXPORT[Category Id],ZCDT_EXPORT[Group],\"\"))-FIND(\". \",_xlfn.XLOOKUP(CDT_Mapping[[#This Row],[ID]],ZCDT_EXPORT[Category Id],ZCDT_EXPORT[Group],\"\"),1))),\"\")","v":"Dry & Frozen"}]
[null,null,null,null,null,null,null,null,null,null,"Sweets bags, children sweets, other",null,"Packed food (grocery)","C.08.04","Pasta",{"$f":"CDT_Mapping[[#This Row],[ID]]&\" \"&CDT_Mapping[[#This Row],[Category name]]","v":"C.08.04 Pasta"},{"$f":"IFERROR(_xlfn.XLOOKUP(\"CDT \"&MAINPAGE_COUNTRY,Table7[[#Headers],[CDT EN]:[CDT LT]],_xlfn.XLOOKUP(CDT_Mapping[[#This Row],[ID]],Table7[CDT ID],Table7[[CDT EN]:[CDT LT]])),CDT_Mapping[[#This Row],[ID & Name]])","v":"C.08.04 Pasta"},{"$f":"RIGHT(CDT_Mapping[[#This Row],[Translation ID & name]],LEN(CDT_Mapping[[#This Row],[Translation ID & name]])-8)","v":"Pasta"},{"$f":"IFERROR(_xlfn.XLOOKUP(CDT_Mapping[[#This Row],[Grouping]],Grouping[Grouping],Grouping[Grouping (translation)]),CDT_Mapping[[#This Row],[Grouping]])","v":"Packed food (grocery)"},{"$f":"IFERROR(TRIM(RIGHT(_xlfn.XLOOKUP(CDT_Mapping[[#This Row],[ID]],ZCDT_EXPORT[Category Id],ZCDT_EXPORT[Group],\"\"),LEN(_xlfn.XLOOKUP(CDT_Mapping[[#This Row],[ID]],ZCDT_EXPORT[Category Id],ZCDT_EXPORT[Group],\"\"))-FIND(\". \",_xlfn.XLOOKUP(CDT_Mapping[[#This Row],[ID]],ZCDT_EXPORT[Category Id],ZCDT_EXPORT[Group],\"\"),1))),\"\")","v":"Dry & Frozen"}]
[null,null,null,null,null,null,null,null,null,null,"Swimwear",null,"Packed food (grocery)","C.11.01","Free from",{"$f":"CDT_Mapping[[#This Row],[ID]]&\" \"&CDT_Mapping[[#This Row],[Category name]]","v":"C.11.01 Free from"},{"$f":"IFERROR(_xlfn.XLOOKUP(\"CDT \"&MAINPAGE_COUNTRY,Table7[[#Headers],[CDT EN]:[CDT LT]],_xlfn.XLOOKUP(CDT_Mapping[[#This Row],[ID]],Table7[CDT ID],Table7[[CDT EN]:[CDT LT]])),CDT_Mapping[[#This Row],[ID & Name]])","v":"C.11.01 Free from"},{"$f":"RIGHT(CDT_Mapping[[#This Row],[Translation ID & name]],LEN(CDT_Mapping[[#This Row],[Translation ID & name]])-8)","v":"Free from"},{"$f":"IFERROR(_xlfn.XLOOKUP(CDT_Mapping[[#This Row],[Grouping]],Grouping[Grouping],Grouping[Grouping (translation)]),CDT_Mapping[[#This Row],[Grouping]])","v":"Packed food (grocery)"},{"$f":"IFERROR(TRIM(RIGHT(_xlfn.XLOOKUP(CDT_Mapping[[#This Row],[ID]],ZCDT_EXPORT[Category Id],ZCDT_EXPORT[Group],\"\"),LEN(_xlfn.XLOOKUP(CDT_Mapping[[#This Row],[ID]],ZCDT_EXPORT[Category Id],ZCDT_EXPORT[Group],\"\"))-FIND(\". \",_xlfn.XLOOKUP(CDT_Mapping[[#This Row],[ID]],ZCDT_EXPORT[Category Id],ZCDT_EXPORT[Group],\"\"),1))),\"\")","v":"Dry & Frozen"}]
[null,null,null,null,null,null,null,null,null,null,"Table serving",null,"Packed food (grocery)","C.11.02","Sports nutrition and supplements",{"$f":"CDT_Mapping[[#This Row],[ID]]&\" \"&CDT_Mapping[[#This Row],[Category name]]","v":"C.11.02 Sports nutrition and supplements"},{"$f":"IFERROR(_xlfn.XLOOKUP(\"CDT \"&MAINPAGE_COUNTRY,Table7[[#Headers],[CDT EN]:[CDT LT]],_xlfn.XLOOKUP(CDT_Mapping[[#This Row],[ID]],Table7[CDT ID],Table7[[CDT EN]:[CDT LT]])),CDT_Mapping[[#This Row],[ID & Name]])","v":"C.11.02 Sports nutrition and supplements"},{"$f":"RIGHT(CDT_Mapping[[#This Row],[Translation ID & name]],LEN(CDT_Mapping[[#This Row],[Translation ID & name]])-8)","v":"Sports nutrition and supplements"},{"$f":"IFERROR(_xlfn.XLOOKUP(CDT_Mapping[[#This Row],[Grouping]],Grouping[Grouping],Grouping[Grouping (translation)]),CDT_Mapping[[#This Row],[Grouping]])","v":"Packed food (grocery)"},{"$f":"IFERROR(TRIM(RIGHT(_xlfn.XLOOKUP(CDT_Mapping[[#This Row],[ID]],ZCDT_EXPORT[Category Id],ZCDT_EXPORT[Group],\"\"),LEN(_xlfn.XLOOKUP(CDT_Mapping[[#This Row],[ID]],ZCDT_EXPORT[Category Id],ZCDT_EXPORT[Group],\"\"))-FIND(\". \",_xlfn.XLOOKUP(CDT_Mapping[[#This Row],[ID]],ZCDT_EXPORT[Category Id],ZCDT_EXPORT[Group],\"\"),1))),\"\")","v":"Dry & Frozen"}]
[null,null,null,null,null,null,null,null,null,null,"Tea",null,"Packed food (grocery)","C.13.01","Baking needs and dessert powders",{"$f":"CDT_Mapping[[#This Row],[ID]]&\" \"&CDT_Mapping[[#This Row],[Category name]]","v":"C.13.01 Baking needs and dessert powders"},{"$f":"IFERROR(_xlfn.XLOOKUP(\"CDT \"&MAINPAGE_COUNTRY,Table7[[#Headers],[CDT EN]:[CDT LT]],_xlfn.XLOOKUP(CDT_Mapping[[#This Row],[ID]],Table7[CDT ID],Table7[[CDT EN]:[CDT LT]])),CDT_Mapping[[#This Row],[ID & Name]])","v":"C.13.01 Baking needs and dessert powders"},{"$f":"RIGHT(CDT_Mapping[[#This Row],[Translation ID & name]],LEN(CDT_Mapping[[#This Row],[Translation ID & name]])-8)","v":"Baking needs and dessert powders"},{"$f":"IFERROR(_xlfn.XLOOKUP(CDT_Mapping[[#This Row],[Grouping]],Grouping[Grouping],Grouping[Grouping (translation)]),CDT_Mapping[[#This Row],[Grouping]])","v":"Packed food (grocery)"},{"$f":"IFERROR(TRIM(RIGHT(_xlfn.XLOOKUP(CDT_Mapping[[#This Row],[ID]],ZCDT_EXPORT[Category Id],ZCDT_EXPORT[Group],\"\"),LEN(_xlfn.XLOOKUP(CDT_Mapping[[#This Row],[ID]],ZCDT_EXPORT[Category Id],ZCDT_EXPORT[Group],\"\"))-FIND(\". \",_xlfn.XLOOKUP(CDT_Mapping[[#This Row],[ID]],ZCDT_EXPORT[Category Id],ZCDT_EXPORT[Group],\"\"),1))),\"\")","v":"Dry & Frozen"}]
[null,null,null,null,null,null,null,null,null,null,"Toilet paper, paper towels, handkerc",null,"Packed food (grocery)","C.13.02","Cooking oils, vinegar",{"$f":"CDT_Mapping[[#This Row],[ID]]&\" \"&CDT_Mapping[[#This Row],[Category name]]","v":"C.13.02 Cooking oils, vinegar"},{"$f":"IFERROR(_xlfn.XLOOKUP(\"CDT \"&MAINPAGE_COUNTRY,Table7[[#Headers],[CDT EN]:[CDT LT]],_xlfn.XLOOKUP(CDT_Mapping[[#This Row],[ID]],Table7[CDT ID],Table7[[CDT EN]:[CDT LT]])),CDT_Mapping[[#This Row],[ID & Name]])","v":"C.13.02 Cooking oils, vinegar"},{"$f":"RIGHT(CDT_Mapping[[#This Row],[Translation ID & name]],LEN(CDT_Mapping[[#This Row],[Translation ID & name]])-8)","v":"Cooking oils, vinegar"},{"$f":"IFERROR(_xlfn.XLOOKUP(CDT_Mapping[[#This Row],[Grouping]],Grouping[Grouping],Grouping[Grouping (translation)]),CDT_Mapping[[#This Row],[Grouping]])","v":"Packed food (grocery)"},{"$f":"IFERROR(TRIM(RIGHT(_xlfn.XLOOKUP(CDT_Mapping[[#This Row],[ID]],ZCDT_EXPORT[Category Id],ZCDT_EXPORT[Group],\"\"),LEN(_xlfn.XLOOKUP(CDT_Mapping[[#This Row],[ID]],ZCDT_EXPORT[Category Id],ZCDT_EXPORT[Group],\"\"))-FIND(\". \",_xlfn.XLOOKUP(CDT_Mapping[[#This Row],[ID]],ZCDT_EXPORT[Category Id],ZCDT_EXPORT[Group],\"\"),1))),\"\")","v":"Dry & Frozen"}]
[null,null,null,null,null,null,null,null,null,null,"Toys for boys",null,"Packed food (grocery)","C.13.03","Ethnic seasoning and meal ingredient",{"$f":"CDT_Mapping[[#This Row],[ID]]&\" \"&CDT_Mapping[[#This Row],[Category name]]","v":"C.13.03 Ethnic seasoning and meal ingredient"},{"$f":"IFERROR(_xlfn.XLOOKUP(\"CDT \"&MAINPAGE_COUNTRY,Table7[[#Headers],[CDT EN]:[CDT LT]],_xlfn.XLOOKUP(CDT_Mapping[[#This Row],[ID]],Table7[CDT ID],Table7[[CDT EN]:[CDT LT]])),CDT_Mapping[[#This Row],[ID & Name]])","v":"C.13.03 Ethnic seasoning and meal ingredient"},{"$f":"RIGHT(CDT_Mapping[[#This Row],[Translation ID & name]],LEN(CDT_Mapping[[#This Row],[Translation ID & name]])-8)","v":"Ethnic seasoning and meal ingredient"},{"$f":"IFERROR(_xlfn.XLOOKUP(CDT_Mapping[[#This Row],[Grouping]],Grouping[Grouping],Grouping[Grouping (translation)]),CDT_Mapping[[#This Row],[Grouping]])","v":"Packed food (grocery)"},{"$f":"IFERROR(TRIM(RIGHT(_xlfn.XLOOKUP(CDT_Mapping[[#This Row],[ID]],ZCDT_EXPORT[Category Id],ZCDT_EXPORT[Group],\"\"),LEN(_xlfn.XLOOKUP(CDT_Mapping[[#This Row],[ID]],ZCDT_EXPORT[Category Id],ZCDT_EXPORT[Group],\"\"))-FIND(\". \",_xlfn.XLOOKUP(CDT_Mapping[[#This Row],[ID]],ZCDT_EXPORT[Category Id],ZCDT_EXPORT[Group],\"\"),1))),\"\")","v":"Dry & Frozen"}]
[null,null,null,null,null,null,null,null,null,null,"Toys for girls",null,"Packed food (grocery)","C.13.04","Mustard, horseradish, sauces and ket",{"$f":"CDT_Mapping[[#This Row],[ID]]&\" \"&CDT_Mapping[[#This Row],[Category name]]","v":"C.13.04 Mustard, horseradish, sauces and ket"},{"$f":"IFERROR(_xlfn.XLOOKUP(\"CDT \"&MAINPAGE_COUNTRY,Table7[[#Headers],[CDT EN]:[CDT LT]],_xlfn.XLOOKUP(CDT_Mapping[[#This Row],[ID]],Table7[CDT ID],Table7[[CDT EN]:[CDT LT]])),CDT_Mapping[[#This Row],[ID & Name]])","v":"C.13.04 Mustard, horseradish, sauces and ket"},{"$f":"RIGHT(CDT_Mapping[[#This Row],[Translation ID & name]],LEN(CDT_Mapping[[#This Row],[Translation ID & name]])-8)","v":"Mustard, horseradish, sauces and ket"},{"$f":"IFERROR(_xlfn.XLOOKUP(CDT_Mapping[[#This Row],[Grouping]],Grouping[Grouping],Grouping[Grouping (translation)]),CDT_Mapping[[#This Row],[Grouping]])","v":"Packed food (grocery)"},{"$f":"IFERROR(TRIM(RIGHT(_xlfn.XLOOKUP(CDT_Mapping[[#This Row],[ID]],ZCDT_EXPORT[Category Id],ZCDT_EXPORT[Group],\"\"),LEN(_xlfn.XLOOKUP(CDT_Mapping[[#This Row],[ID]],ZCDT_EXPORT[Category Id],ZCDT_EXPORT[Group],\"\"))-FIND(\". \",_xlfn.XLOOKUP(CDT_Mapping[[#This Row],[ID]],ZCDT_EXPORT[Category Id],ZCDT_EXPORT[Group],\"\"),1))),\"\")","v":"Dry & Frozen"}]
[null,null,null,null,null,null,null,null,null,null,"Vegan",null,"Packed food (grocery)","C.13.05","Spices",{"$f":"CDT_Mapping[[#This Row],[ID]]&\" \"&CDT_Mapping[[#This Row],[Category name]]","v":"C.13.05 Spices"},{"$f":"IFERROR(_xlfn.XLOOKUP(\"CDT \"&MAINPAGE_COUNTRY,Table7[[#Headers],[CDT EN]:[CDT LT]],_xlfn.XLOOKUP(CDT_Mapping[[#This Row],[ID]],Table7[CDT ID],Table7[[CDT EN]:[CDT LT]])),CDT_Mapping[[#This Row],[ID & Name]])","v":"C.13.05 Spices"},{"$f":"RIGHT(CDT_Mapping[[#This Row],[Translation ID & name]],LEN(CDT_Mapping[[#This Row],[Translation ID & name]])-8)","v":"Spices"},{"$f":"IFERROR(_xlfn.XLOOKUP(CDT_Mapping[[#This Row],[Grouping]],Grouping[Grouping],Grouping[Grouping (translation)]),CDT_Mapping[[#This Row],[Grouping]])","v":"Packed food (grocery)"},{"$f":"IFERROR(TRIM(RIGHT(_xlfn.XLOOKUP(CDT_Mapping[[#This Row],[ID]],ZCDT_EXPORT[Category Id],ZCDT_EXPORT[Group],\"\"),LEN(_xlfn.XLOOKUP(CDT_Mapping[[#This Row],[ID]],ZCDT_EXPORT[Category Id],ZCDT_EXPORT[Group],\"\"))-FIND(\". \",_xlfn.XLOOKUP(CDT_Mapping[[#This Row],[ID]],ZCDT_EXPORT[Category Id],ZCDT_EXPORT[Group],\"\"),1))),\"\")","v":"Dry & Frozen"}]
[null,null,null,null,null,null,null,null,null,null,"Vermouth, sparkling wine",null,"Packed food (grocery)","C.13.06","Sweetening agents",{"$f":"CDT_Mapping[[#This Row],[ID]]&\" \"&CDT_Mapping[[#This Row],[Category name]]","v":"C.13.06 Sweetening agents"},{"$f":"IFERROR(_xlfn.XLOOKUP(\"CDT \"&MAINPAGE_COUNTRY,Table7[[#Headers],[CDT EN]:[CDT LT]],_xlfn.XLOOKUP(CDT_Mapping[[#This Row],[ID]],Table7[CDT ID],Table7[[CDT EN]:[CDT LT]])),CDT_Mapping[[#This Row],[ID & Name]])","v":"C.13.06 Sweetening agents"},{"$f":"RIGHT(CDT_Mapping[[#This Row],[Translation ID & name]],LEN(CDT_Mapping[[#This Row],[Translation ID & name]])-8)","v":"Sweetening agents"},{"$f":"IFERROR(_xlfn.XLOOKUP(CDT_Mapping[[#This Row],[Grouping]],Grouping[Grouping],Grouping[Grouping (translation)]),CDT_Mapping[[#This Row],[Grouping]])","v":"Packed food (grocery)"},{"$f":"IFERROR(TRIM(RIGHT(_xlfn.XLOOKUP(CDT_Mapping[[#This Row],[ID]],ZCDT_EXPORT[Category Id],ZCDT_EXPORT[Group],\"\"),LEN(_xlfn.XLOOKUP(CDT_Mapping[[#This Row],[ID]],ZCDT_EXPORT[Category Id],ZCDT_EXPORT[Group],\"\"))-FIND(\". \",_xlfn.XLOOKUP(CDT_Mapping[[#This Row],[ID]],ZCDT_EXPORT[Category Id],ZCDT_EXPORT[Group],\"\"),1))),\"\")","v":"Dry & Frozen"}]
[null,null,null,null,null,null,null,null,null,null,"Vodka, gin, tequila",null,"Packed food (grocery)","C.15.01","Chips, dip mixes, snacks, popcorn",{"$f":"CDT_Mapping[[#This Row],[ID]]&\" \"&CDT_Mapping[[#This Row],[Category name]]","v":"C.15.01 Chips, dip mixes, snacks, popcorn"},{"$f":"IFERROR(_xlfn.XLOOKUP(\"CDT \"&MAINPAGE_COUNTRY,Table7[[#Headers],[CDT EN]:[CDT LT]],_xlfn.XLOOKUP(CDT_Mapping[[#This Row],[ID]],Table7[CDT ID],Table7[[CDT EN]:[CDT LT]])),CDT_Mapping[[#This Row],[ID & Name]])","v":"C.15.01 Chips, dip mixes, snacks, popcorn"},{"$f":"RIGHT(CDT_Mapping[[#This Row],[Translation ID & name]],LEN(CDT_Mapping[[#This Row],[Translation ID & name]])-8)","v":"Chips, dip mixes, snacks, popcorn"},{"$f":"IFERROR(_xlfn.XLOOKUP(CDT_Mapping[[#This Row],[Grouping]],Grouping[Grouping],Grouping[Grouping (translation)]),CDT_Mapping[[#This Row],[Grouping]])","v":"Packed food (grocery)"},{"$f":"IFERROR(TRIM(RIGHT(_xlfn.XLOOKUP(CDT_Mapping[[#This Row],[ID]],ZCDT_EXPORT[Category Id],ZCDT_EXPORT[Group],\"\"),LEN(_xlfn.XLOOKUP(CDT_Mapping[[#This Row],[ID]],ZCDT_EXPORT[Category Id],ZCDT_EXPORT[Group],\"\"))-FIND(\". \",_xlfn.XLOOKUP(CDT_Mapping[[#This Row],[ID]],ZCDT_EXPORT[Category Id],ZCDT_EXPORT[Group],\"\"),1))),\"\")","v":"Dry & Frozen"}]
[null,null,null,null,null,null,null,null,null,null,"Water, sports drinks",null,"Packed food (grocery)","C.17.01","Chewing gums",{"$f":"CDT_Mapping[[#This Row],[ID]]&\" \"&CDT_Mapping[[#This Row],[Category name]]","v":"C.17.01 Chewing gums"},{"$f":"IFERROR(_xlfn.XLOOKUP(\"CDT \"&MAINPAGE_COUNTRY,Table7[[#Headers],[CDT EN]:[CDT LT]],_xlfn.XLOOKUP(CDT_Mapping[[#This Row],[ID]],Table7[CDT ID],Table7[[CDT EN]:[CDT LT]])),CDT_Mapping[[#This Row],[ID & Name]])","v":"C.17.01 Chewing gums"},{"$f":"RIGHT(CDT_Mapping[[#This Row],[Translation ID & name]],LEN(CDT_Mapping[[#This Row],[Translation ID & name]])-8)","v":"Chewing gums"},{"$f":"IFERROR(_xlfn.XLOOKUP(CDT_Mapping[[#This Row],[Grouping]],Grouping[Grouping],Grouping[Grouping (translation)]),CDT_Mapping[[#This Row],[Grouping]])","v":"Packed food (grocery)"},{"$f":"IFERROR(TRIM(RIGHT(_xlfn.XLOOKUP(CDT_Mapping[[#This Row],[ID]],ZCDT_EXPORT[Category Id],ZCDT_EXPORT[Group],\"\"),LEN(_xlfn.XLOOKUP(CDT_Mapping[[#This Row],[ID]],ZCDT_EXPORT[Category Id],ZCDT_EXPORT[Group],\"\"))-FIND(\". \",_xlfn.XLOOKUP(CDT_Mapping[[#This Row],[ID]],ZCDT_EXPORT[Category Id],ZCDT_EXPORT[Group],\"\"),1))),\"\")","v":"Dry & Frozen"}]
[null,null,null,null,null,null,null,null,null,null,"Wine",null,"Packed food (grocery)","C.17.02","Chocolate tablets and bars",{"$f":"CDT_Mapping[[#This Row],[ID]]&\" \"&CDT_Mapping[[#This Row],[Category name]]","v":"C.17.02 Chocolate tablets and bars"},{"$f":"IFERROR(_xlfn.XLOOKUP(\"CDT \"&MAINPAGE_COUNTRY,Table7[[#Headers],[CDT EN]:[CDT LT]],_xlfn.XLOOKUP(CDT_Mapping[[#This Row],[ID]],Table7[CDT ID],Table7[[CDT EN]:[CDT LT]])),CDT_Mapping[[#This Row],[ID & Name]])","v":"C.17.02 Chocolate tablets and bars"},{"$f":"RIGHT(CDT_Mapping[[#This Row],[Translation ID & name]],LEN(CDT_Mapping[[#This Row],[Translation ID & name]])-8)","v":"Chocolate tablets and bars"},{"$f":"IFERROR(_xlfn.XLOOKUP(CDT_Mapping[[#This Row],[Grouping]],Grouping[Grouping],Grouping[Grouping (translation)]),CDT_Mapping[[#This Row],[Grouping]])","v":"Packed food (grocery)"},{"$f":"IFERROR(TRIM(RIGHT(_xlfn.XLOOKUP(CDT_Mapping[[#This Row],[ID]],ZCDT_EXPORT[Category Id],ZCDT_EXPORT[Group],\"\"),LEN(_xlfn.XLOOKUP(CDT_Mapping[[#This Row],[ID]],ZCDT_EXPORT[Category Id],ZCDT_EXPORT[Group],\"\"))-FIND(\". \",_xlfn.XLOOKUP(CDT_Mapping[[#This Row],[ID]],ZCDT_EXPORT[Category Id],ZCDT_EXPORT[Group],\"\"),1))),\"\")","v":"Dry & Frozen"}]
[null,null,null,null,null,null,null,null,null,null,"Women's socks",null,"Packed food (grocery)","C.17.03","Sweets bags, children sweets, other",{"$f":"CDT_Mapping[[#This Row],[ID]]&\" \"&CDT_Mapping[[#This Row],[Category name]]","v":"C.17.03 Sweets bags, children sweets, other"},{"$f":"IFERROR(_xlfn.XLOOKUP(\"CDT \"&MAINPAGE_COUNTRY,Table7[[#Headers],[CDT EN]:[CDT LT]],_xlfn.XLOOKUP(CDT_Mapping[[#This Row],[ID]],Table7[CDT ID],Table7[[CDT EN]:[CDT LT]])),CDT_Mapping[[#This Row],[ID & Name]])","v":"C.17.03 Sweets bags, children sweets, other"},{"$f":"RIGHT(CDT_Mapping[[#This Row],[Translation ID & name]],LEN(CDT_Mapping[[#This Row],[Translation ID & name]])-8)","v":"Sweets bags, children sweets, other"},{"$f":"IFERROR(_xlfn.XLOOKUP(CDT_Mapping[[#This Row],[Grouping]],Grouping[Grouping],Grouping[Grouping (translation)]),CDT_Mapping[[#This Row],[Grouping]])","v":"Packed food (grocery)"},{"$f":"IFERROR(TRIM(RIGHT(_xlfn.XLOOKUP(CDT_Mapping[[#This Row],[ID]],ZCDT_EXPORT[Category Id],ZCDT_EXPORT[Group],\"\"),LEN(_xlfn.XLOOKUP(CDT_Mapping[[#This Row],[ID]],ZCDT_EXPORT[Category Id],ZCDT_EXPORT[Group],\"\"))-FIND(\". \",_xlfn.XLOOKUP(CDT_Mapping[[#This Row],[ID]],ZCDT_EXPORT[Category Id],ZCDT_EXPORT[Group],\"\"),1))),\"\")","v":"Dry & Frozen"}]
[null,null,null,null,null,null,null,null,null,null,"Women's socks & tights",null,"Pet food","D.09.01","Pet food and accessories",{"$f":"CDT_Mapping[[#This Row],[ID]]&\" \"&CDT_Mapping[[#This Row],[Category name]]","v":"D.09.01 Pet food and accessories"},{"$f":"IFERROR(_xlfn.XLOOKUP(\"CDT \"&MAINPAGE_COUNTRY,Table7[[#Headers],[CDT EN]:[CDT LT]],_xlfn.XLOOKUP(CDT_Mapping[[#This Row],[ID]],Table7[CDT ID],Table7[[CDT EN]:[CDT LT]])),CDT_Mapping[[#This Row],[ID & Name]])","v":"D.09.01 Pet food and accessories"},{"$f":"RIGHT(CDT_Mapping[[#This Row],[Translation ID & name]],LEN(CDT_Mapping[[#This Row],[Translation ID & name]])-8)","v":"Pet food and accessories"},{"$f":"IFERROR(_xlfn.XLOOKUP(CDT_Mapping[[#This Row],[Grouping]],Grouping[Grouping],Grouping[Grouping (translation)]),CDT_Mapping[[#This Row],[Grouping]])","v":"Pet food"},{"$f":"IFERROR(TRIM(RIGHT(_xlfn.XLOOKUP(CDT_Mapping[[#This Row],[ID]],ZCDT_EXPORT[Category Id],ZCDT_EXPORT[Group],\"\"),LEN(_xlfn.XLOOKUP(CDT_Mapping[[#This Row],[ID]],ZCDT_EXPORT[Category Id],ZCDT_EXPORT[Group],\"\"))-FIND(\". \",_xlfn.XLOOKUP(CDT_Mapping[[#This Row],[ID]],ZCDT_EXPORT[Category Id],ZCDT_EXPORT[Group],\"\"),1))),\"\")","v":"Non-Edibles"}]
[null,null,null,null,null,null,null,null,null,null,"Women's underwear",null,"Press, magazines","D.08.01","Media,books,cards,calendars",{"$f":"CDT_Mapping[[#This Row],[ID]]&\" \"&CDT_Mapping[[#This Row],[Category name]]","v":"D.08.01 Media,books,cards,calendars"},{"$f":"IFERROR(_xlfn.XLOOKUP(\"CDT \"&MAINPAGE_COUNTRY,Table7[[#Headers],[CDT EN]:[CDT LT]],_xlfn.XLOOKUP(CDT_Mapping[[#This Row],[ID]],Table7[CDT ID],Table7[[CDT EN]:[CDT LT]])),CDT_Mapping[[#This Row],[ID & Name]])","v":"D.08.01 Media,books,cards,calendars"},{"$f":"RIGHT(CDT_Mapping[[#This Row],[Translation ID & name]],LEN(CDT_Mapping[[#This Row],[Translation ID & name]])-8)","v":"Media,books,cards,calendars"},{"$f":"IFERROR(_xlfn.XLOOKUP(CDT_Mapping[[#This Row],[Grouping]],Grouping[Grouping],Grouping[Grouping (translation)]),CDT_Mapping[[#This Row],[Grouping]])","v":"Press, magazines"},{"$f":"IFERROR(TRIM(RIGHT(_xlfn.XLOOKUP(CDT_Mapping[[#This Row],[ID]],ZCDT_EXPORT[Category Id],ZCDT_EXPORT[Group],\"\"),LEN(_xlfn.XLOOKUP(CDT_Mapping[[#This Row],[ID]],ZCDT_EXPORT[Category Id],ZCDT_EXPORT[Group],\"\"))-FIND(\". \",_xlfn.XLOOKUP(CDT_Mapping[[#This Row],[ID]],ZCDT_EXPORT[Category Id],ZCDT_EXPORT[Group],\"\"),1))),\"\")","v":"Non-Edibles"}]
[null,null,null,null,null,null,null,null,null,null,"Yarns and handicraft",null,"Wine, sparkling wine","C.01.04","Wine",{"$f":"CDT_Mapping[[#This Row],[ID]]&\" \"&CDT_Mapping[[#This Row],[Category name]]","v":"C.01.04 Wine"},{"$f":"IFERROR(_xlfn.XLOOKUP(\"CDT \"&MAINPAGE_COUNTRY,Table7[[#Headers],[CDT EN]:[CDT LT]],_xlfn.XLOOKUP(CDT_Mapping[[#This Row],[ID]],Table7[CDT ID],Table7[[CDT EN]:[CDT LT]])),CDT_Mapping[[#This Row],[ID & Name]])","v":"C.01.04 Wine"},{"$f":"RIGHT(CDT_Mapping[[#This Row],[Translation ID & name]],LEN(CDT_Mapping[[#This Row],[Translation ID & name]])-8)","v":"Wine"},{"$f":"IFERROR(_xlfn.XLOOKUP(CDT_Mapping[[#This Row],[Grouping]],Grouping[Grouping],Grouping[Grouping (translation)]),CDT_Mapping[[#This Row],[Grouping]])","v":"Wine, sparkling wine"},{"$f":"IFERROR(TRIM(RIGHT(_xlfn.XLOOKUP(CDT_Mapping[[#This Row],[ID]],ZCDT_EXPORT[Category Id],ZCDT_EXPORT[Group],\"\"),LEN(_xlfn.XLOOKUP(CDT_Mapping[[#This Row],[ID]],ZCDT_EXPORT[Category Id],ZCDT_EXPORT[Group],\"\"))-FIND(\". \",_xlfn.XLOOKUP(CDT_Mapping[[#This Row],[ID]],ZCDT_EXPORT[Category Id],ZCDT_EXPORT[Group],\"\"),1))),\"\")","v":"Dry & Frozen"}]
[null,null,null,null,null,null,null,null,null,null,"Yogurts",null,"Wine, sparkling wine","C.01.03","Vermouth, sparkling wine (Champagne)",{"$f":"CDT_Mapping[[#This Row],[ID]]&\" \"&CDT_Mapping[[#This Row],[Category name]]","v":"C.01.03 Vermouth, sparkling wine (Champagne)"},{"$f":"IFERROR(_xlfn.XLOOKUP(\"CDT \"&MAINPAGE_COUNTRY,Table7[[#Headers],[CDT EN]:[CDT LT]],_xlfn.XLOOKUP(CDT_Mapping[[#This Row],[ID]],Table7[CDT ID],Table7[[CDT EN]:[CDT LT]])),CDT_Mapping[[#This Row],[ID & Name]])","v":"C.01.03 Vermouth, sparkling wine"},{"$f":"RIGHT(CDT_Mapping[[#This Row],[Translation ID & name]],LEN(CDT_Mapping[[#This Row],[Translation ID & name]])-8)","v":"Vermouth, sparkling wine"},{"$f":"IFERROR(_xlfn.XLOOKUP(CDT_Mapping[[#This Row],[Grouping]],Grouping[Grouping],Grouping[Grouping (translation)]),CDT_Mapping[[#This Row],[Grouping]])","v":"Wine, sparkling wine"},{"$f":"IFERROR(TRIM(RIGHT(_xlfn.XLOOKUP(CDT_Mapping[[#This Row],[ID]],ZCDT_EXPORT[Category Id],ZCDT_EXPORT[Group],\"\"),LEN(_xlfn.XLOOKUP(CDT_Mapping[[#This Row],[ID]],ZCDT_EXPORT[Category Id],ZCDT_EXPORT[Group],\"\"))-FIND(\". \",_xlfn.XLOOKUP(CDT_Mapping[[#This Row],[ID]],ZCDT_EXPORT[Category Id],ZCDT_EXPORT[Group],\"\"),1))),\"\")","v":"Dry & Frozen"}]

{"sheet":"Sheet1","index":5,"n_rows":0,"n_cols":0,"rows_kept":0,"cut":false,"hidden":true,"merged":[]}

{"sheet":"New item proposal","index":6,"n_rows":301,"n_cols":52,"rows_kept":301,"cut":false,"hidden":true,"merged":[[5,0,5,19],[5,46,5,48],[3,1,4,4],[1,1,2,4],[1,6,4,22],[5,49,5,50],[5,20,5,27],[5,28,5,30],[5,31,5,33],[5,34,5,35],[5,37,5,45]]}
["UNIT","AH1_KEY","AH1_TEXT","CDT_TREE_ID","CDT_TREE_TEXT","MDROCKS_BASE_EAN","MDROCKS_FULL_DESCR_EN","MDROCKS_ADDITIONAL_EAN","MDROCKS_BRAND_TEXT","MDROCKS_MNF_FULL","MDROCKS_VENDORNAME","MDROCKS_COUNTRYORI_TEXT","MDROCKS_SHELF_LIFE","MDROCKS_MINREMLIFE","MDROCKS_TEMP_CONDS","MDROCKS_TEMP_MIN","MDROCKS_TEMP_MAX","MDROCKS_PP","MDROCKS_PP_CURR","MDROCKS_PP_UNIT","MDROCKS_NET_CONT","MDROCKS_CONT_UNIT","RR_PACKAGING","MDROCKS_BASE_LENGTH","MDROCKS_BASE_WIDTH","MDROCKS_BASE_HEIGHT","MDROCKS_DPA_QAUNTITY","MDROCKS_DPA_WEIGHT","AVAILABILITY","MDROCKS_COUNTRYSUPPLY","INCOTERMS","IS_REPLACEMENT","REPLACEMENT_EAN","REPLACEMENT_NAME","MARKETING_SUPPORT","MARKETING_COMMENTS","CONTACT_EMAIL","MDROCKS_GMO_IND","MDROCKS_GLUTEN_FREE","MDROCKS_SUGAR_FREE","MDROCKS_LACTOSE_FREE","MDROCKS_DAIRY_FREE","MDROCKS_VEGETARIAN","MDROCKS_VEGAN","MDROCKS_MILK_TYPE","RGFY","MDROCKS_CRT_ORG","MDROCKS_CRT_ENV","MDROCKS_CRT_ETH","MDROCKS_WINE_COLOUR_EN","MDROCKS_WINE_TASTE_EN","COMMENTS"]
["EN","Rimi New item proposal form",null,null,null,"Mandatory field","Do not change sequence and number of columns!"]
[null,null,null,null,null,"Automatic field",null,null,null,null,null,null,null,null,null,null,null,null,null,null,null,null,null,"Length (front)",null,"Length (front)"]
[null,"Please select language and follow field type colour to fill in necessary information.",null,null,null,"Optional field",null,null,null,null,null,null,null,null,null,null,null,null,null,null,null,null,null,"Depth",null,"Depth"]
[null,null,null,null,null,"Input is not allowed",null,null,null,null,null,null,null,null,null,null,null,null,null,null,null,null,null,"Height",null,"Height"]
["Product information",null,null,null,null,null,null,null,null,null,null,null,null,null,null,null,null,null,null,null,"Basic and transport unit data",null,null,null,null,null,null,null,"Availability and delivery",null,null,"Product replacement",null,null,"Product marketing",null,null,"Special product marks",null,null,null,null,null,null,null,null,"Product certification",null,null,"Wine guide"]
["Unit","Product Category ID","Product Category","Category Tree ID","Category Tree","EAN","Article full name","Additional EAN","Brand name","Producer","Vendor name","Country of origin","Shelf life in days","Shelf life in days after opening packaging for weighted items","Need for storing temperature check","Minimum storing temperature","Maximum storing temperature","Purchase price for one unit","Purchase price currency","Purchase price for 1 KG/ 1L","One unit weight, volume or quantity","Unit of measure: weight (KG), volume (L) or quantity (PC)","Retail ready packaging","Basic unit dimensions",null,null,"Number of Basic units in one DPA","One DPA weight (KG)","Product availability, date or period","Local or Baltic offer?","Incoterms","Is the new item replacing some item from current assortment?","Product EAN to be delisted from assortment","Product name to be delisted from assortment","Marketing support","Comments about marketing support","Contact\n(E-Mail)","GMO mark","Gluten-free","Sugars-free","Lactose-free","Dairy-free","Vegetarian","Vegan","Animal milk type","Rimi Good for you","Organic","Environmental","Ethical","Wine colour","Wine taste","Comments"]
["automatic field","automatic field","automatic field","automatic field","pick from list","code","text","code","text","text","text","text","number","number","pick from list","number","number","without VAT","text","automatic field","number","pick from list","pick from list","length (cm)","depth (cm)","height (cm)","number","automatic field","date or period in mm.yyyy format","pick from list","text","pick from list","code","text","pick from list","text","text","pick from list","pick from list","pick from list","pick from list","pick from list","pick from list","pick from list","pick from list","pick from list","pick from list","pick from list","pick from list","pick from list","pick from list","text"]
[{"$f":"_xlfn.XLOOKUP(A$7,'Formating rules'!$F$6:$F$57,_xlfn.XLOOKUP(_xlfn.XLOOKUP(SelectedGroup,Grouping[Grouping (translation)],Grouping[Grouping],\"\"),'Formating rules'!$H$5:$V$5,'Formating rules'!$H$6:$V$57))","v":{"$error":"#N/A"}},{"$f":"_xlfn.XLOOKUP(B$7,'Formating rules'!$F$6:$F$57,_xlfn.XLOOKUP(_xlfn.XLOOKUP(SelectedGroup,Grouping[Grouping (translation)],Grouping[Grouping],\"\"),'Formating rules'!$H$5:$V$5,'Formating rules'!$H$6:$V$57))","v":{"$error":"#N/A"}},{"$f":"_xlfn.XLOOKUP(C$7,'Formating rules'!$F$6:$F$57,_xlfn.XLOOKUP(_xlfn.XLOOKUP(SelectedGroup,Grouping[Grouping (translation)],Grouping[Grouping],\"\"),'Formating rules'!$H$5:$V$5,'Formating rules'!$H$6:$V$57))","v":{"$error":"#N/A"}},{"$f":"_xlfn.XLOOKUP(D$7,'Formating rules'!$F$6:$F$57,_xlfn.XLOOKUP(_xlfn.XLOOKUP(SelectedGroup,Grouping[Grouping (translation)],Grouping[Grouping],\"\"),'Formating rules'!$H$5:$V$5,'Formating rules'!$H$6:$V$57))","v":{"$error":"#N/A"}},{"$f":"_xlfn.XLOOKUP(E$7,'Formating rules'!$F$6:$F$57,_xlfn.XLOOKUP(_xlfn.XLOOKUP(SelectedGroup,Grouping[Grouping (translation)],Grouping[Grouping],\"\"),'Formating rules'!$H$5:$V$5,'Formating rules'!$H$6:$V$57))","v":{"$error":"#N/A"}},{"$f":"_xlfn.XLOOKUP(F$7,'Formating rules'!$F$6:$F$57,_xlfn.XLOOKUP(_xlfn.XLOOKUP(SelectedGroup,Grouping[Grouping (translation)],Grouping[Grouping],\"\"),'Formating rules'!$H$5:$V$5,'Formating rules'!$H$6:$V$57))","v":{"$error":"#N/A"}},{"$f":"_xlfn.XLOOKUP(G$7,'Formating rules'!$F$6:$F$57,_xlfn.XLOOKUP(_xlfn.XLOOKUP(SelectedGroup,Grouping[Grouping (translation)],Grouping[Grouping],\"\"),'Formating rules'!$H$5:$V$5,'Formating rules'!$H$6:$V$57))","v":{"$error":"#N/A"}},{"$f":"_xlfn.XLOOKUP(H$7,'Formating rules'!$F$6:$F$57,_xlfn.XLOOKUP(_xlfn.XLOOKUP(SelectedGroup,Grouping[Grouping (translation)],Grouping[Grouping],\"\"),'Formating rules'!$H$5:$V$5,'Formating rules'!$H$6:$V$57))","v":{"$error":"#N/A"}},{"$f":"_xlfn.XLOOKUP(I$7,'Formating rules'!$F$6:$F$57,_xlfn.XLOOKUP(_xlfn.XLOOKUP(SelectedGroup,Grouping[Grouping (translation)],Grouping[Grouping],\"\"),'Formating rules'!$H$5:$V$5,'Formating rules'!$H$6:$V$57))","v":{"$error":"#N/A"}},{"$f":"_xlfn.XLOOKUP(J$7,'Formating rules'!$F$6:$F$57,_xlfn.XLOOKUP(_xlfn.XLOOKUP(SelectedGroup,Grouping[Grouping (translation)],Grouping[Grouping],\"\"),'Formating rules'!$H$5:$V$5,'Formating rules'!$H$6:$V$57))","v":{"$error":"#N/A"}},{"$f":"_xlfn.XLOOKUP(K$7,'Formating rules'!$F$6:$F$57,_xlfn.XLOOKUP(_xlfn.XLOOKUP(SelectedGroup,Grouping[Grouping (translation)],Grouping[Grouping],\"\"),'Formating rules'!$H$5:$V$5,'Formating rules'!$H$6:$V$57))","v":{"$error":"#N/A"}},{"$f":"_xlfn.XLOOKUP(L$7,'Formating rules'!$F$6:$F$57,_xlfn.XLOOKUP(_xlfn.XLOOKUP(SelectedGroup,Grouping[Grouping (translation)],Grouping[Grouping],\"\"),'Formating rules'!$H$5:$V$5,'Formating rules'!$H$6:$V$57))","v":{"$error":"#N/A"}},{"$f":"_xlfn.XLOOKUP(M$7,'Formating rules'!$F$6:$F$57,_xlfn.XLOOKUP(_xlfn.XLOOKUP(SelectedGroup,Grouping[Grouping (translation)],Grouping[Grouping],\"\"),'Formating rules'!$H$5:$V$5,'Formating rules'!$H$6:$V$57))","v":{"$error":"#N/A"}},{"$f":"_xlfn.XLOOKUP(N$7,'Formating rules'!$F$6:$F$57,_xlfn.XLOOKUP(_xlfn.XLOOKUP(SelectedGroup,Grouping[Grouping (translation)],Grouping[Grouping],\"\"),'Formating rules'!$H$5:$V$5,'Formating rules'!$H$6:$V$57))","v":{"$error":"#N/A"}},{"$f":"_xlfn.XLOOKUP(O$7,'Formating rules'!$F$6:$F$57,_xlfn.XLOOKUP(_xlfn.XLOOKUP(SelectedGroup,Grouping[Grouping (translation)],Grouping[Grouping],\"\"),'Formating rules'!$H$5:$V$5,'Formating rules'!$H$6:$V$57))","v":{"$error":"#N/A"}},{"$f":"_xlfn.XLOOKUP(P$7,'Formating rules'!$F$6:$F$57,_xlfn.XLOOKUP(_xlfn.XLOOKUP(SelectedGroup,Grouping[Grouping (translation)],Grouping[Grouping],\"\"),'Formating rules'!$H$5:$V$5,'Formating rules'!$H$6:$V$57))","v":{"$error":"#N/A"}},{"$f":"_xlfn.XLOOKUP(Q$7,'Formating rules'!$F$6:$F$57,_xlfn.XLOOKUP(_xlfn.XLOOKUP(SelectedGroup,Grouping[Grouping (translation)],Grouping[Grouping],\"\"),'Formating rules'!$H$5:$V$5,'Formating rules'!$H$6:$V$57))","v":{"$error":"#N/A"}},{"$f":"_xlfn.XLOOKUP(R$7,'Formating rules'!$F$6:$F$57,_xlfn.XLOOKUP(_xlfn.XLOOKUP(SelectedGroup,Grouping[Grouping (translation)],Grouping[Grouping],\"\"),'Formating rules'!$H$5:$V$5,'Formating rules'!$H$6:$V$57))","v":{"$error":"#N/A"}},{"$f":"_xlfn.XLOOKUP(S$7,'Formating rules'!$F$6:$F$57,_xlfn.XLOOKUP(_xlfn.XLOOKUP(SelectedGroup,Grouping[Grouping (translation)],Grouping[Grouping],\"\"),'Formating rules'!$H$5:$V$5,'Formating rules'!$H$6:$V$57))","v":{"$error":"#N/A"}},{"$f":"_xlfn.XLOOKUP(T$7,'Formating rules'!$F$6:$F$57,_xlfn.XLOOKUP(_xlfn.XLOOKUP(SelectedGroup,Grouping[Grouping (translation)],Grouping[Grouping],\"\"),'Formating rules'!$H$5:$V$5,'Formating rules'!$H$6:$V$57))","v":{"$error":"#N/A"}},{"$f":"_xlfn.XLOOKUP(U$7,'Formating rules'!$F$6:$F$57,_xlfn.XLOOKUP(_xlfn.XLOOKUP(SelectedGroup,Grouping[Grouping (translation)],Grouping[Grouping],\"\"),'Formating rules'!$H$5:$V$5,'Formating rules'!$H$6:$V$57))","v":{"$error":"#N/A"}},{"$f":"_xlfn.XLOOKUP(V$7,'Formating rules'!$F$6:$F$57,_xlfn.XLOOKUP(_xlfn.XLOOKUP(SelectedGroup,Grouping[Grouping (translation)],Grouping[Grouping],\"\"),'Formating rules'!$H$5:$V$5,'Formating rules'!$H$6:$V$57))","v":{"$error":"#N/A"}},{"$f":"_xlfn.XLOOKUP(W$7,'Formating rules'!$F$6:$F$57,_xlfn.XLOOKUP(_xlfn.XLOOKUP(SelectedGroup,Grouping[Grouping (translation)],Grouping[Grouping],\"\"),'Formating rules'!$H$5:$V$5,'Formating rules'!$H$6:$V$57))","v":{"$error":"#N/A"}},{"$f":"_xlfn.XLOOKUP(X$7,'Formating rules'!$F$6:$F$57,_xlfn.XLOOKUP(_xlfn.XLOOKUP(SelectedGroup,Grouping[Grouping (translation)],Grouping[Grouping],\"\"),'Formating rules'!$H$5:$V$5,'Formating rules'!$H$6:$V$57))","v":{"$error":"#N/A"}},{"$f":"_xlfn.XLOOKUP(X$7,'Formating rules'!$F$6:$F$57,_xlfn.XLOOKUP(_xlfn.XLOOKUP(SelectedGroup,Grouping[Grouping (translation)],Grouping[Grouping],\"\"),'Formating rules'!$H$5:$V$5,'Formating rules'!$H$6:$V$57))","v":{"$error":"#N/A"}},{"$f":"_xlfn.XLOOKUP(X$7,'Formating rules'!$F$6:$F$57,_xlfn.XLOOKUP(_xlfn.XLOOKUP(SelectedGroup,Grouping[Grouping (translation)],Grouping[Grouping],\"\"),'Formating rules'!$H$5:$V$5,'Formating rules'!$H$6:$V$57))","v":{"$error":"#N/A"}},{"$f":"_xlfn.XLOOKUP(AA$7,'Formating rules'!$F$6:$F$57,_xlfn.XLOOKUP(_xlfn.XLOOKUP(SelectedGroup,Grouping[Grouping (translation)],Grouping[Grouping],\"\"),'Formating rules'!$H$5:$V$5,'Formating rules'!$H$6:$V$57))","v":{"$error":"#N/A"}},{"$f":"_xlfn.XLOOKUP(AB$7,'Formating rules'!$F$6:$F$57,_xlfn.XLOOKUP(_xlfn.XLOOKUP(SelectedGroup,Grouping[Grouping (translation)],Grouping[Grouping],\"\"),'Formating rules'!$H$5:$V$5,'Formating rules'!$H$6:$V$57))","v":{"$error":"#N/A"}},{"$f":"_xlfn.XLOOKUP(AC$7,'Formating rules'!$F$6:$F$57,_xlfn.XLOOKUP(_xlfn.XLOOKUP(SelectedGroup,Grouping[Grouping (translation)],Grouping[Grouping],\"\"),'Formating rules'!$H$5:$V$5,'Formating rules'!$H$6:$V$57))","v":{"$error":"#N/A"}},{"$f":"_xlfn.XLOOKUP(AD$7,'Formating rules'!$F$6:$F$57,_xlfn.XLOOKUP(_xlfn.XLOOKUP(SelectedGroup,Grouping[Grouping (translation)],Grouping[Grouping],\"\"),'Formating rules'!$H$5:$V$5,'Formating rules'!$H$6:$V$57))","v":{"$error":"#N/A"}},{"$f":"_xlfn.XLOOKUP(AE$7,'Formating rules'!$F$6:$F$57,_xlfn.XLOOKUP(_xlfn.XLOOKUP(SelectedGroup,Grouping[Grouping (translation)],Grouping[Grouping],\"\"),'Formating rules'!$H$5:$V$5,'Formating rules'!$H$6:$V$57))","v":{"$error":"#N/A"}},{"$f":"_xlfn.XLOOKUP(AF$7,'Formating rules'!$F$6:$F$57,_xlfn.XLOOKUP(_xlfn.XLOOKUP(SelectedGroup,Grouping[Grouping (translation)],Grouping[Grouping],\"\"),'Formating rules'!$H$5:$V$5,'Formating rules'!$H$6:$V$57))","v":{"$error":"#N/A"}},{"$f":"_xlfn.XLOOKUP(AG$7,'Formating rules'!$F$6:$F$57,_xlfn.XLOOKUP(_xlfn.XLOOKUP(SelectedGroup,Grouping[Grouping (translation)],Grouping[Grouping],\"\"),'Formating rules'!$H$5:$V$5,'Formating rules'!$H$6:$V$57))","v":{"$error":"#N/A"}},{"$f":"_xlfn.XLOOKUP(AH$7,'Formating rules'!$F$6:$F$57,_xlfn.XLOOKUP(_xlfn.XLOOKUP(SelectedGroup,Grouping[Grouping (translation)],Grouping[Grouping],\"\"),'Formating rules'!$H$5:$V$5,'Formating rules'!$H$6:$V$57))","v":{"$error":"#N/A"}},{"$f":"_xlfn.XLOOKUP(AI$7,'Formating rules'!$F$6:$F$57,_xlfn.XLOOKUP(_xlfn.XLOOKUP(SelectedGroup,Grouping[Grouping (translation)],Grouping[Grouping],\"\"),'Formating rules'!$H$5:$V$5,'Formating rules'!$H$6:$V$57))","v":{"$error":"#N/A"}},{"$f":"_xlfn.XLOOKUP(AJ$7,'Formating rules'!$F$6:$F$57,_xlfn.XLOOKUP(_xlfn.XLOOKUP(SelectedGroup,Grouping[Grouping (translation)],Grouping[Grouping],\"\"),'Formating rules'!$H$5:$V$5,'Formating rules'!$H$6:$V$57))","v":{"$error":"#N/A"}},{"$f":"_xlfn.XLOOKUP(AK$7,'Formating rules'!$F$6:$F$57,_xlfn.XLOOKUP(_xlfn.XLOOKUP(SelectedGroup,Grouping[Grouping (translation)],Grouping[Grouping],\"\"),'Formating rules'!$H$5:$V$5,'Formating rules'!$H$6:$V$57))","v":{"$error":"#N/A"}},{"$f":"_xlfn.XLOOKUP(AL$7,'Formating rules'!$F$6:$F$57,_xlfn.XLOOKUP(_xlfn.XLOOKUP(SelectedGroup,Grouping[Grouping (translation)],Grouping[Grouping],\"\"),'Formating rules'!$H$5:$V$5,'Formating rules'!$H$6:$V$57))","v":{"$error":"#N/A"}},{"$f":"_xlfn.XLOOKUP(AM$7,'Formating rules'!$F$6:$F$57,_xlfn.XLOOKUP(_xlfn.XLOOKUP(SelectedGroup,Grouping[Grouping (translation)],Grouping[Grouping],\"\"),'Formating rules'!$H$5:$V$5,'Formating rules'!$H$6:$V$57))","v":{"$error":"#N/A"}},{"$f":"_xlfn.XLOOKUP(AN$7,'Formating rules'!$F$6:$F$57,_xlfn.XLOOKUP(_xlfn.XLOOKUP(SelectedGroup,Grouping[Grouping (translation)],Grouping[Grouping],\"\"),'Formating rules'!$H$5:$V$5,'Formating rules'!$H$6:$V$57))","v":{"$error":"#N/A"}},{"$f":"_xlfn.XLOOKUP(AO$7,'Formating rules'!$F$6:$F$57,_xlfn.XLOOKUP(_xlfn.XLOOKUP(SelectedGroup,Grouping[Grouping (translation)],Grouping[Grouping],\"\"),'Formating rules'!$H$5:$V$5,'Formating rules'!$H$6:$V$57))","v":{"$error":"#N/A"}},{"$f":"_xlfn.XLOOKUP(AP$7,'Formating rules'!$F$6:$F$57,_xlfn.XLOOKUP(_xlfn.XLOOKUP(SelectedGroup,Grouping[Grouping (translation)],Grouping[Grouping],\"\"),'Formating rules'!$H$5:$V$5,'Formating rules'!$H$6:$V$57))","v":{"$error":"#N/A"}},{"$f":"_xlfn.XLOOKUP(AQ$7,'Formating rules'!$F$6:$F$57,_xlfn.XLOOKUP(_xlfn.XLOOKUP(SelectedGroup,Grouping[Grouping (translation)],Grouping[Grouping],\"\"),'Formating rules'!$H$5:$V$5,'Formating rules'!$H$6:$V$57))","v":{"$error":"#N/A"}},{"$f":"_xlfn.XLOOKUP(AR$7,'Formating rules'!$F$6:$F$57,_xlfn.XLOOKUP(_xlfn.XLOOKUP(SelectedGroup,Grouping[Grouping (translation)],Grouping[Grouping],\"\"),'Formating rules'!$H$5:$V$5,'Formating rules'!$H$6:$V$57))","v":{"$error":"#N/A"}},{"$f":"_xlfn.XLOOKUP(AS$7,'Formating rules'!$F$6:$F$57,_xlfn.XLOOKUP(_xlfn.XLOOKUP(SelectedGroup,Grouping[Grouping (translation)],Grouping[Grouping],\"\"),'Formating rules'!$H$5:$V$5,'Formating rules'!$H$6:$V$57))","v":{"$error":"#N/A"}},{"$f":"_xlfn.XLOOKUP(AT$7,'Formating rules'!$F$6:$F$57,_xlfn.XLOOKUP(_xlfn.XLOOKUP(SelectedGroup,Grouping[Grouping (translation)],Grouping[Grouping],\"\"),'Formating rules'!$H$5:$V$5,'Formating rules'!$H$6:$V$57))","v":{"$error":"#N/A"}},{"$f":"_xlfn.XLOOKUP(AU$7,'Formating rules'!$F$6:$F$57,_xlfn.XLOOKUP(_xlfn.XLOOKUP(SelectedGroup,Grouping[Grouping (translation)],Grouping[Grouping],\"\"),'Formating rules'!$H$5:$V$5,'Formating rules'!$H$6:$V$57))","v":{"$error":"#N/A"}},{"$f":"_xlfn.XLOOKUP(AV$7,'Formating rules'!$F$6:$F$57,_xlfn.XLOOKUP(_xlfn.XLOOKUP(SelectedGroup,Grouping[Grouping (translation)],Grouping[Grouping],\"\"),'Formating rules'!$H$5:$V$5,'Formating rules'!$H$6:$V$57))","v":{"$error":"#N/A"}},{"$f":"_xlfn.XLOOKUP(AW$7,'Formating rules'!$F$6:$F$57,_xlfn.XLOOKUP(_xlfn.XLOOKUP(SelectedGroup,Grouping[Grouping (translation)],Grouping[Grouping],\"\"),'Formating rules'!$H$5:$V$5,'Formating rules'!$H$6:$V$57))","v":{"$error":"#N/A"}},{"$f":"_xlfn.XLOOKUP(AX$7,'Formating rules'!$F$6:$F$57,_xlfn.XLOOKUP(_xlfn.XLOOKUP(SelectedGroup,Grouping[Grouping (translation)],Grouping[Grouping],\"\"),'Formating rules'!$H$5:$V$5,'Formating rules'!$H$6:$V$57))","v":{"$error":"#N/A"}},{"$f":"_xlfn.XLOOKUP(AY$7,'Formating rules'!$F$6:$F$57,_xlfn.XLOOKUP(_xlfn.XLOOKUP(SelectedGroup,Grouping[Grouping (translation)],Grouping[Grouping],\"\"),'Formating rules'!$H$5:$V$5,'Formating rules'!$H$6:$V$57))","v":{"$error":"#N/A"}},{"$f":"_xlfn.XLOOKUP(AZ$7,'Formating rules'!$F$6:$F$57,_xlfn.XLOOKUP(_xlfn.XLOOKUP(SelectedGroup,Grouping[Grouping (translation)],Grouping[Grouping],\"\"),'Formating rules'!$H$5:$V$5,'Formating rules'!$H$6:$V$57))","v":{"$error":"#N/A"}}]
[{"$f":"IF(OR(E10<>0,F10<>0,G10<>0),_xlfn.XLOOKUP(SelectedCategory,CDT_Mapping[Translation Name],CDT_Mapping[Unit translation name],\"\"),\"\")","v":""},{"$f":"IF(OR(E10<>0,F10<>0,G10<>0),_xlfn.XLOOKUP(SelectedCategory,CDT_Mapping[Translation Name],CDT_Mapping[ID],\"\"),\"\")","v":""},{"$f":"IF(OR(E10<>0,F10<>0,G10<>0),SelectedCategory,\"\")","v":"Please select..."},{"$f":"_xlfn.XLOOKUP(E10,ZCDT_EXPORT_2[CDT Leaf],ZCDT_EXPORT_2[Leaf Node ID],\"\")","v":""},"Please select...",null,null,null,null,null,null,null,null,null,null,null,null,null,null,{"$f":"IF(AND(R10<>0,U10<>0),IFERROR(R10/U10,\"\"),\"\")","v":""},null,null,null,null,null,null,null,{"$f":"IF(AND(AA10<>0,U10<>0),IFERROR(AA10*U10,\"\"),\"\")","v":""}]
[{"$f":"IF(OR(E11<>0,F11<>0,G11<>0),_xlfn.XLOOKUP(SelectedCategory,CDT_Mapping[Translation Name],CDT_Mapping[Unit translation name],\"\"),\"\")","v":""},{"$f":"IF(OR(E11<>0,F11<>0,G11<>0),_xlfn.XLOOKUP(SelectedCategory,CDT_Mapping[Translation Name],CDT_Mapping[ID],\"\"),\"\")","v":""},"",{"$f":"_xlfn.XLOOKUP(E11,ZCDT_EXPORT_2[CDT Leaf],ZCDT_EXPORT_2[Leaf Node ID],\"\")","v":""},null,null,null,null,null,null,null,null,null,null,null,null,null,null,null,{"$f":"IF(AND(R11<>0,U11<>0),IFERROR(R11/U11,\"\"),\"\")","v":""},null,null,null,null,null,null,null,{"$f":"IF(AND(AA11<>0,U11<>0),IFERROR(AA11*U11,\"\"),\"\")","v":""}]
[{"$f":"IF(OR(E12<>0,F12<>0,G12<>0),_xlfn.XLOOKUP(SelectedCategory,CDT_Mapping[Translation Name],CDT_Mapping[Unit translation name],\"\"),\"\")","v":""},{"$f":"IF(OR(E12<>0,F12<>0,G12<>0),_xlfn.XLOOKUP(SelectedCategory,CDT_Mapping[Translation Name],CDT_Mapping[ID],\"\"),\"\")","v":""},"",{"$f":"_xlfn.XLOOKUP(E12,ZCDT_EXPORT_2[CDT Leaf],ZCDT_EXPORT_2[Leaf Node ID],\"\")","v":""},null,null,null,null,null,null,null,null,null,null,null,null,null,null,null,"",null,null,null,null,null,null,null,""]
[{"$f":"IF(OR(E13<>0,F13<>0,G13<>0),_xlfn.XLOOKUP(SelectedCategory,CDT_Mapping[Translation Name],CDT_Mapping[Unit translation name],\"\"),\"\")","v":""},{"$f":"IF(OR(E13<>0,F13<>0,G13<>0),_xlfn.XLOOKUP(SelectedCategory,CDT_Mapping[Translation Name],CDT_Mapping[ID],\"\"),\"\")","v":""},"",{"$f":"_xlfn.XLOOKUP(E13,ZCDT_EXPORT_2[CDT Leaf],ZCDT_EXPORT_2[Leaf Node ID],\"\")","v":""},null,null,null,null,null,null,null,null,null,null,null,null,null,null,null,"",null,null,null,null,null,null,null,""]
[{"$f":"IF(OR(E14<>0,F14<>0,G14<>0),_xlfn.XLOOKUP(SelectedCategory,CDT_Mapping[Translation Name],CDT_Mapping[Unit translation name],\"\"),\"\")","v":""},{"$f":"IF(OR(E14<>0,F14<>0,G14<>0),_xlfn.XLOOKUP(SelectedCategory,CDT_Mapping[Translation Name],CDT_Mapping[ID],\"\"),\"\")","v":""},"",{"$f":"_xlfn.XLOOKUP(E14,ZCDT_EXPORT_2[CDT Leaf],ZCDT_EXPORT_2[Leaf Node ID],\"\")","v":""},null,null,null,null,null,null,null,null,null,null,null,null,null,null,null,"",null,null,null,null,null,null,null,""]
[{"$f":"IF(OR(E15<>0,F15<>0,G15<>0),_xlfn.XLOOKUP(SelectedCategory,CDT_Mapping[Translation Name],CDT_Mapping[Unit translation name],\"\"),\"\")","v":""},{"$f":"IF(OR(E15<>0,F15<>0,G15<>0),_xlfn.XLOOKUP(SelectedCategory,CDT_Mapping[Translation Name],CDT_Mapping[ID],\"\"),\"\")","v":""},"",{"$f":"_xlfn.XLOOKUP(E15,ZCDT_EXPORT_2[CDT Leaf],ZCDT_EXPORT_2[Leaf Node ID],\"\")","v":""},null,null,null,null,null,null,null,null,null,null,null,null,null,null,null,"",null,null,null,null,null,null,null,""]
[{"$f":"IF(OR(E16<>0,F16<>0,G16<>0),_xlfn.XLOOKUP(SelectedCategory,CDT_Mapping[Translation Name],CDT_Mapping[Unit translation name],\"\"),\"\")","v":""},{"$f":"IF(OR(E16<>0,F16<>0,G16<>0),_xlfn.XLOOKUP(SelectedCategory,CDT_Mapping[Translation Name],CDT_Mapping[ID],\"\"),\"\")","v":""},"",{"$f":"_xlfn.XLOOKUP(E16,ZCDT_EXPORT_2[CDT Leaf],ZCDT_EXPORT_2[Leaf Node ID],\"\")","v":""},null,null,null,null,null,null,null,null,null,null,null,null,null,null,null,"",null,null,null,null,null,null,null,""]
[{"$f":"IF(OR(E17<>0,F17<>0,G17<>0),_xlfn.XLOOKUP(SelectedCategory,CDT_Mapping[Translation Name],CDT_Mapping[Unit translation name],\"\"),\"\")","v":""},{"$f":"IF(OR(E17<>0,F17<>0,G17<>0),_xlfn.XLOOKUP(SelectedCategory,CDT_Mapping[Translation Name],CDT_Mapping[ID],\"\"),\"\")","v":""},"",{"$f":"_xlfn.XLOOKUP(E17,ZCDT_EXPORT_2[CDT Leaf],ZCDT_EXPORT_2[Leaf Node ID],\"\")","v":""},null,null,null,null,null,null,null,null,null,null,null,null,null,null,null,"",null,null,null,null,null,null,null,""]
[{"$f":"IF(OR(E18<>0,F18<>0,G18<>0),_xlfn.XLOOKUP(SelectedCategory,CDT_Mapping[Translation Name],CDT_Mapping[Unit translation name],\"\"),\"\")","v":""},{"$f":"IF(OR(E18<>0,F18<>0,G18<>0),_xlfn.XLOOKUP(SelectedCategory,CDT_Mapping[Translation Name],CDT_Mapping[ID],\"\"),\"\")","v":""},"",{"$f":"_xlfn.XLOOKUP(E18,ZCDT_EXPORT_2[CDT Leaf],ZCDT_EXPORT_2[Leaf Node ID],\"\")","v":""},null,null,null,null,null,null,null,null,null,null,null,null,null,null,null,"",null,null,null,null,null,null,null,""]
[{"$f":"IF(OR(E19<>0,F19<>0,G19<>0),_xlfn.XLOOKUP(SelectedCategory,CDT_Mapping[Translation Name],CDT_Mapping[Unit translation name],\"\"),\"\")","v":""},{"$f":"IF(OR(E19<>0,F19<>0,G19<>0),_xlfn.XLOOKUP(SelectedCategory,CDT_Mapping[Translation Name],CDT_Mapping[ID],\"\"),\"\")","v":""},"",{"$f":"_xlfn.XLOOKUP(E19,ZCDT_EXPORT_2[CDT Leaf],ZCDT_EXPORT_2[Leaf Node ID],\"\")","v":""},null,null,null,null,null,null,null,null,null,null,null,null,null,null,null,"",null,null,null,null,null,null,null,""]
[{"$f":"IF(OR(E20<>0,F20<>0,G20<>0),_xlfn.XLOOKUP(SelectedCategory,CDT_Mapping[Translation Name],CDT_Mapping[Unit translation name],\"\"),\"\")","v":""},{"$f":"IF(OR(E20<>0,F20<>0,G20<>0),_xlfn.XLOOKUP(SelectedCategory,CDT_Mapping[Translation Name],CDT_Mapping[ID],\"\"),\"\")","v":""},"",{"$f":"_xlfn.XLOOKUP(E20,ZCDT_EXPORT_2[CDT Leaf],ZCDT_EXPORT_2[Leaf Node ID],\"\")","v":""},null,null,null,null,null,null,null,null,null,null,null,null,null,null,null,"",null,null,null,null,null,null,null,""]
[{"$f":"IF(OR(E21<>0,F21<>0,G21<>0),_xlfn.XLOOKUP(SelectedCategory,CDT_Mapping[Translation Name],CDT_Mapping[Unit translation name],\"\"),\"\")","v":""},{"$f":"IF(OR(E21<>0,F21<>0,G21<>0),_xlfn.XLOOKUP(SelectedCategory,CDT_Mapping[Translation Name],CDT_Mapping[ID],\"\"),\"\")","v":""},"",{"$f":"_xlfn.XLOOKUP(E21,ZCDT_EXPORT_2[CDT Leaf],ZCDT_EXPORT_2[Leaf Node ID],\"\")","v":""},null,null,null,null,null,null,null,null,null,null,null,null,null,null,null,"",null,null,null,null,null,null,null,""]
[{"$f":"IF(OR(E22<>0,F22<>0,G22<>0),_xlfn.XLOOKUP(SelectedCategory,CDT_Mapping[Translation Name],CDT_Mapping[Unit translation name],\"\"),\"\")","v":""},{"$f":"IF(OR(E22<>0,F22<>0,G22<>0),_xlfn.XLOOKUP(SelectedCategory,CDT_Mapping[Translation Name],CDT_Mapping[ID],\"\"),\"\")","v":""},"",{"$f":"_xlfn.XLOOKUP(E22,ZCDT_EXPORT_2[CDT Leaf],ZCDT_EXPORT_2[Leaf Node ID],\"\")","v":""},null,null,null,null,null,null,null,null,null,null,null,null,null,null,null,"",null,null,null,null,null,null,null,""]
[{"$f":"IF(OR(E23<>0,F23<>0,G23<>0),_xlfn.XLOOKUP(SelectedCategory,CDT_Mapping[Translation Name],CDT_Mapping[Unit translation name],\"\"),\"\")","v":""},{"$f":"IF(OR(E23<>0,F23<>0,G23<>0),_xlfn.XLOOKUP(SelectedCategory,CDT_Mapping[Translation Name],CDT_Mapping[ID],\"\"),\"\")","v":""},"",{"$f":"_xlfn.XLOOKUP(E23,ZCDT_EXPORT_2[CDT Leaf],ZCDT_EXPORT_2[Leaf Node ID],\"\")","v":""},null,null,null,null,null,null,null,null,null,null,null,null,null,null,null,"",null,null,null,null,null,null,null,""]
[{"$f":"IF(OR(E24<>0,F24<>0,G24<>0),_xlfn.XLOOKUP(SelectedCategory,CDT_Mapping[Translation Name],CDT_Mapping[Unit translation name],\"\"),\"\")","v":""},{"$f":"IF(OR(E24<>0,F24<>0,G24<>0),_xlfn.XLOOKUP(SelectedCategory,CDT_Mapping[Translation Name],CDT_Mapping[ID],\"\"),\"\")","v":""},"",{"$f":"_xlfn.XLOOKUP(E24,ZCDT_EXPORT_2[CDT Leaf],ZCDT_EXPORT_2[Leaf Node ID],\"\")","v":""},null,null,null,null,null,null,null,null,null,null,null,null,null,null,null,"",null,null,null,null,null,null,null,""]
[{"$f":"IF(OR(E25<>0,F25<>0,G25<>0),_xlfn.XLOOKUP(SelectedCategory,CDT_Mapping[Translation Name],CDT_Mapping[Unit translation name],\"\"),\"\")","v":""},{"$f":"IF(OR(E25<>0,F25<>0,G25<>0),_xlfn.XLOOKUP(SelectedCategory,CDT_Mapping[Translation Name],CDT_Mapping[ID],\"\"),\"\")","v":""},"",{"$f":"_xlfn.XLOOKUP(E25,ZCDT_EXPORT_2[CDT Leaf],ZCDT_EXPORT_2[Leaf Node ID],\"\")","v":""},null,null,null,null,null,null,null,null,null,null,null,null,null,null,null,"",null,null,null,null,null,null,null,""]
[{"$f":"IF(OR(E26<>0,F26<>0,G26<>0),_xlfn.XLOOKUP(SelectedCategory,CDT_Mapping[Translation Name],CDT_Mapping[Unit translation name],\"\"),\"\")","v":""},{"$f":"IF(OR(E26<>0,F26<>0,G26<>0),_xlfn.XLOOKUP(SelectedCategory,CDT_Mapping[Translation Name],CDT_Mapping[ID],\"\"),\"\")","v":""},"",{"$f":"_xlfn.XLOOKUP(E26,ZCDT_EXPORT_2[CDT Leaf],ZCDT_EXPORT_2[Leaf Node ID],\"\")","v":""},null,null,null,null,null,null,null,null,null,null,null,null,null,null,null,"",null,null,null,null,null,null,null,""]
[{"$f":"IF(OR(E27<>0,F27<>0,G27<>0),_xlfn.XLOOKUP(SelectedCategory,CDT_Mapping[Translation Name],CDT_Mapping[Unit translation name],\"\"),\"\")","v":""},{"$f":"IF(OR(E27<>0,F27<>0,G27<>0),_xlfn.XLOOKUP(SelectedCategory,CDT_Mapping[Translation Name],CDT_Mapping[ID],\"\"),\"\")","v":""},"",{"$f":"_xlfn.XLOOKUP(E27,ZCDT_EXPORT_2[CDT Leaf],ZCDT_EXPORT_2[Leaf Node ID],\"\")","v":""},null,null,null,null,null,null,null,null,null,null,null,null,null,null,null,"",null,null,null,null,null,null,null,""]
[{"$f":"IF(OR(E28<>0,F28<>0,G28<>0),_xlfn.XLOOKUP(SelectedCategory,CDT_Mapping[Translation Name],CDT_Mapping[Unit translation name],\"\"),\"\")","v":""},{"$f":"IF(OR(E28<>0,F28<>0,G28<>0),_xlfn.XLOOKUP(SelectedCategory,CDT_Mapping[Translation Name],CDT_Mapping[ID],\"\"),\"\")","v":""},"",{"$f":"_xlfn.XLOOKUP(E28,ZCDT_EXPORT_2[CDT Leaf],ZCDT_EXPORT_2[Leaf Node ID],\"\")","v":""},null,null,null,null,null,null,null,null,null,null,null,null,null,null,null,"",null,null,null,null,null,null,null,""]
[{"$f":"IF(OR(E29<>0,F29<>0,G29<>0),_xlfn.XLOOKUP(SelectedCategory,CDT_Mapping[Translation Name],CDT_Mapping[Unit translation name],\"\"),\"\")","v":""},{"$f":"IF(OR(E29<>0,F29<>0,G29<>0),_xlfn.XLOOKUP(SelectedCategory,CDT_Mapping[Translation Name],CDT_Mapping[ID],\"\"),\"\")","v":""},"",{"$f":"_xlfn.XLOOKUP(E29,ZCDT_EXPORT_2[CDT Leaf],ZCDT_EXPORT_2[Leaf Node ID],\"\")","v":""},null,null,null,null,null,null,null,null,null,null,null,null,null,null,null,"",null,null,null,null,null,null,null,""]
[{"$f":"IF(OR(E30<>0,F30<>0,G30<>0),_xlfn.XLOOKUP(SelectedCategory,CDT_Mapping[Translation Name],CDT_Mapping[Unit translation name],\"\"),\"\")","v":""},{"$f":"IF(OR(E30<>0,F30<>0,G30<>0),_xlfn.XLOOKUP(SelectedCategory,CDT_Mapping[Translation Name],CDT_Mapping[ID],\"\"),\"\")","v":""},"",{"$f":"_xlfn.XLOOKUP(E30,ZCDT_EXPORT_2[CDT Leaf],ZCDT_EXPORT_2[Leaf Node ID],\"\")","v":""},null,null,null,null,null,null,null,null,null,null,null,null,null,null,null,"",null,null,null,null,null,null,null,""]
[{"$f":"IF(OR(E31<>0,F31<>0,G31<>0),_xlfn.XLOOKUP(SelectedCategory,CDT_Mapping[Translation Name],CDT_Mapping[Unit translation name],\"\"),\"\")","v":""},{"$f":"IF(OR(E31<>0,F31<>0,G31<>0),_xlfn.XLOOKUP(SelectedCategory,CDT_Mapping[Translation Name],CDT_Mapping[ID],\"\"),\"\")","v":""},"",{"$f":"_xlfn.XLOOKUP(E31,ZCDT_EXPORT_2[CDT Leaf],ZCDT_EXPORT_2[Leaf Node ID],\"\")","v":""},null,null,null,null,null,null,null,null,null,null,null,null,null,null,null,"",null,null,null,null,null,null,null,""]
[{"$f":"IF(OR(E32<>0,F32<>0,G32<>0),_xlfn.XLOOKUP(SelectedCategory,CDT_Mapping[Translation Name],CDT_Mapping[Unit translation name],\"\"),\"\")","v":""},{"$f":"IF(OR(E32<>0,F32<>0,G32<>0),_xlfn.XLOOKUP(SelectedCategory,CDT_Mapping[Translation Name],CDT_Mapping[ID],\"\"),\"\")","v":""},"",{"$f":"_xlfn.XLOOKUP(E32,ZCDT_EXPORT_2[CDT Leaf],ZCDT_EXPORT_2[Leaf Node ID],\"\")","v":""},null,null,null,null,null,null,null,null,null,null,null,null,null,null,null,"",null,null,null,null,null,null,null,""]
[{"$f":"IF(OR(E33<>0,F33<>0,G33<>0),_xlfn.XLOOKUP(SelectedCategory,CDT_Mapping[Translation Name],CDT_Mapping[Unit translation name],\"\"),\"\")","v":""},{"$f":"IF(OR(E33<>0,F33<>0,G33<>0),_xlfn.XLOOKUP(SelectedCategory,CDT_Mapping[Translation Name],CDT_Mapping[ID],\"\"),\"\")","v":""},"",{"$f":"_xlfn.XLOOKUP(E33,ZCDT_EXPORT_2[CDT Leaf],ZCDT_EXPORT_2[Leaf Node ID],\"\")","v":""},null,null,null,null,null,null,null,null,null,null,null,null,null,null,null,"",null,null,null,null,null,null,null,""]
[{"$f":"IF(OR(E34<>0,F34<>0,G34<>0),_xlfn.XLOOKUP(SelectedCategory,CDT_Mapping[Translation Name],CDT_Mapping[Unit translation name],\"\"),\"\")","v":""},{"$f":"IF(OR(E34<>0,F34<>0,G34<>0),_xlfn.XLOOKUP(SelectedCategory,CDT_Mapping[Translation Name],CDT_Mapping[ID],\"\"),\"\")","v":""},"",{"$f":"_xlfn.XLOOKUP(E34,ZCDT_EXPORT_2[CDT Leaf],ZCDT_EXPORT_2[Leaf Node ID],\"\")","v":""},null,null,null,null,null,null,null,null,null,null,null,null,null,null,null,"",null,null,null,null,null,null,null,""]
[{"$f":"IF(OR(E35<>0,F35<>0,G35<>0),_xlfn.XLOOKUP(SelectedCategory,CDT_Mapping[Translation Name],CDT_Mapping[Unit translation name],\"\"),\"\")","v":""},{"$f":"IF(OR(E35<>0,F35<>0,G35<>0),_xlfn.XLOOKUP(SelectedCategory,CDT_Mapping[Translation Name],CDT_Mapping[ID],\"\"),\"\")","v":""},"",{"$f":"_xlfn.XLOOKUP(E35,ZCDT_EXPORT_2[CDT Leaf],ZCDT_EXPORT_2[Leaf Node ID],\"\")","v":""},null,null,null,null,null,null,null,null,null,null,null,null,null,null,null,"",null,null,null,null,null,null,null,""]
[{"$f":"IF(OR(E36<>0,F36<>0,G36<>0),_xlfn.XLOOKUP(SelectedCategory,CDT_Mapping[Translation Name],CDT_Mapping[Unit translation name],\"\"),\"\")","v":""},{"$f":"IF(OR(E36<>0,F36<>0,G36<>0),_xlfn.XLOOKUP(SelectedCategory,CDT_Mapping[Translation Name],CDT_Mapping[ID],\"\"),\"\")","v":""},"",{"$f":"_xlfn.XLOOKUP(E36,ZCDT_EXPORT_2[CDT Leaf],ZCDT_EXPORT_2[Leaf Node ID],\"\")","v":""},null,null,null,null,null,null,null,null,null,null,null,null,null,null,null,"",null,null,null,null,null,null,null,""]
[{"$f":"IF(OR(E37<>0,F37<>0,G37<>0),_xlfn.XLOOKUP(SelectedCategory,CDT_Mapping[Translation Name],CDT_Mapping[Unit translation name],\"\"),\"\")","v":""},{"$f":"IF(OR(E37<>0,F37<>0,G37<>0),_xlfn.XLOOKUP(SelectedCategory,CDT_Mapping[Translation Name],CDT_Mapping[ID],\"\"),\"\")","v":""},"",{"$f":"_xlfn.XLOOKUP(E37,ZCDT_EXPORT_2[CDT Leaf],ZCDT_EXPORT_2[Leaf Node ID],\"\")","v":""},null,null,null,null,null,null,null,null,null,null,null,null,null,null,null,"",null,null,null,null,null,null,null,""]
[{"$f":"IF(OR(E38<>0,F38<>0,G38<>0),_xlfn.XLOOKUP(SelectedCategory,CDT_Mapping[Translation Name],CDT_Mapping[Unit translation name],\"\"),\"\")","v":""},{"$f":"IF(OR(E38<>0,F38<>0,G38<>0),_xlfn.XLOOKUP(SelectedCategory,CDT_Mapping[Translation Name],CDT_Mapping[ID],\"\"),\"\")","v":""},"",{"$f":"_xlfn.XLOOKUP(E38,ZCDT_EXPORT_2[CDT Leaf],ZCDT_EXPORT_2[Leaf Node ID],\"\")","v":""},null,null,null,null,null,null,null,null,null,null,null,null,null,null,null,"",null,null,null,null,null,null,null,""]
[{"$f":"IF(OR(E39<>0,F39<>0,G39<>0),_xlfn.XLOOKUP(SelectedCategory,CDT_Mapping[Translation Name],CDT_Mapping[Unit translation name],\"\"),\"\")","v":""},{"$f":"IF(OR(E39<>0,F39<>0,G39<>0),_xlfn.XLOOKUP(SelectedCategory,CDT_Mapping[Translation Name],CDT_Mapping[ID],\"\"),\"\")","v":""},"",{"$f":"_xlfn.XLOOKUP(E39,ZCDT_EXPORT_2[CDT Leaf],ZCDT_EXPORT_2[Leaf Node ID],\"\")","v":""},null,null,null,null,null,null,null,null,null,null,null,null,null,null,null,"",null,null,null,null,null,null,null,""]
[{"$f":"IF(OR(E40<>0,F40<>0,G40<>0),_xlfn.XLOOKUP(SelectedCategory,CDT_Mapping[Translation Name],CDT_Mapping[Unit translation name],\"\"),\"\")","v":""},{"$f":"IF(OR(E40<>0,F40<>0,G40<>0),_xlfn.XLOOKUP(SelectedCategory,CDT_Mapping[Translation Name],CDT_Mapping[ID],\"\"),\"\")","v":""},"",{"$f":"_xlfn.XLOOKUP(E40,ZCDT_EXPORT_2[CDT Leaf],ZCDT_EXPORT_2[Leaf Node ID],\"\")","v":""},null,null,null,null,null,null,null,null,null,null,null,null,null,null,null,"",null,null,null,null,null,null,null,""]
[{"$f":"IF(OR(E41<>0,F41<>0,G41<>0),_xlfn.XLOOKUP(SelectedCategory,CDT_Mapping[Translation Name],CDT_Mapping[Unit translation name],\"\"),\"\")","v":""},{"$f":"IF(OR(E41<>0,F41<>0,G41<>0),_xlfn.XLOOKUP(SelectedCategory,CDT_Mapping[Translation Name],CDT_Mapping[ID],\"\"),\"\")","v":""},"",{"$f":"_xlfn.XLOOKUP(E41,ZCDT_EXPORT_2[CDT Leaf],ZCDT_EXPORT_2[Leaf Node ID],\"\")","v":""},null,null,null,null,null,null,null,null,null,null,null,null,null,null,null,"",null,null,null,null,null,null,null,""]
[{"$f":"IF(OR(E42<>0,F42<>0,G42<>0),_xlfn.XLOOKUP(SelectedCategory,CDT_Mapping[Translation Name],CDT_Mapping[Unit translation name],\"\"),\"\")","v":""},{"$f":"IF(OR(E42<>0,F42<>0,G42<>0),_xlfn.XLOOKUP(SelectedCategory,CDT_Mapping[Translation Name],CDT_Mapping[ID],\"\"),\"\")","v":""},"",{"$f":"_xlfn.XLOOKUP(E42,ZCDT_EXPORT_2[CDT Leaf],ZCDT_EXPORT_2[Leaf Node ID],\"\")","v":""},null,null,null,null,null,null,null,null,null,null,null,null,null,null,null,"",null,null,null,null,null,null,null,""]
[{"$f":"IF(OR(E43<>0,F43<>0,G43<>0),_xlfn.XLOOKUP(SelectedCategory,CDT_Mapping[Translation Name],CDT_Mapping[Unit translation name],\"\"),\"\")","v":""},{"$f":"IF(OR(E43<>0,F43<>0,G43<>0),_xlfn.XLOOKUP(SelectedCategory,CDT_Mapping[Translation Name],CDT_Mapping[ID],\"\"),\"\")","v":""},"",{"$f":"_xlfn.XLOOKUP(E43,ZCDT_EXPORT_2[CDT Leaf],ZCDT_EXPORT_2[Leaf Node ID],\"\")","v":""},null,null,null,null,null,null,null,null,null,null,null,null,null,null,null,"",null,null,null,null,null,null,null,""]
[{"$f":"IF(OR(E44<>0,F44<>0,G44<>0),_xlfn.XLOOKUP(SelectedCategory,CDT_Mapping[Translation Name],CDT_Mapping[Unit translation name],\"\"),\"\")","v":""},{"$f":"IF(OR(E44<>0,F44<>0,G44<>0),_xlfn.XLOOKUP(SelectedCategory,CDT_Mapping[Translation Name],CDT_Mapping[ID],\"\"),\"\")","v":""},"",{"$f":"_xlfn.XLOOKUP(E44,ZCDT_EXPORT_2[CDT Leaf],ZCDT_EXPORT_2[Leaf Node ID],\"\")","v":""},null,null,null,null,null,null,null,null,null,null,null,null,null,null,null,"",null,null,null,null,null,null,null,""]
[{"$f":"IF(OR(E45<>0,F45<>0,G45<>0),_xlfn.XLOOKUP(SelectedCategory,CDT_Mapping[Translation Name],CDT_Mapping[Unit translation name],\"\"),\"\")","v":""},{"$f":"IF(OR(E45<>0,F45<>0,G45<>0),_xlfn.XLOOKUP(SelectedCategory,CDT_Mapping[Translation Name],CDT_Mapping[ID],\"\"),\"\")","v":""},"",{"$f":"_xlfn.XLOOKUP(E45,ZCDT_EXPORT_2[CDT Leaf],ZCDT_EXPORT_2[Leaf Node ID],\"\")","v":""},null,null,null,null,null,null,null,null,null,null,null,null,null,null,null,"",null,null,null,null,null,null,null,""]
[{"$f":"IF(OR(E46<>0,F46<>0,G46<>0),_xlfn.XLOOKUP(SelectedCategory,CDT_Mapping[Translation Name],CDT_Mapping[Unit translation name],\"\"),\"\")","v":""},{"$f":"IF(OR(E46<>0,F46<>0,G46<>0),_xlfn.XLOOKUP(SelectedCategory,CDT_Mapping[Translation Name],CDT_Mapping[ID],\"\"),\"\")","v":""},"",{"$f":"_xlfn.XLOOKUP(E46,ZCDT_EXPORT_2[CDT Leaf],ZCDT_EXPORT_2[Leaf Node ID],\"\")","v":""},null,null,null,null,null,null,null,null,null,null,null,null,null,null,null,"",null,null,null,null,null,null,null,""]
[{"$f":"IF(OR(E47<>0,F47<>0,G47<>0),_xlfn.XLOOKUP(SelectedCategory,CDT_Mapping[Translation Name],CDT_Mapping[Unit translation name],\"\"),\"\")","v":""},{"$f":"IF(OR(E47<>0,F47<>0,G47<>0),_xlfn.XLOOKUP(SelectedCategory,CDT_Mapping[Translation Name],CDT_Mapping[ID],\"\"),\"\")","v":""},"",{"$f":"_xlfn.XLOOKUP(E47,ZCDT_EXPORT_2[CDT Leaf],ZCDT_EXPORT_2[Leaf Node ID],\"\")","v":""},null,null,null,null,null,null,null,null,null,null,null,null,null,null,null,"",null,null,null,null,null,null,null,""]
[{"$f":"IF(OR(E48<>0,F48<>0,G48<>0),_xlfn.XLOOKUP(SelectedCategory,CDT_Mapping[Translation Name],CDT_Mapping[Unit translation name],\"\"),\"\")","v":""},{"$f":"IF(OR(E48<>0,F48<>0,G48<>0),_xlfn.XLOOKUP(SelectedCategory,CDT_Mapping[Translation Name],CDT_Mapping[ID],\"\"),\"\")","v":""},"",{"$f":"_xlfn.XLOOKUP(E48,ZCDT_EXPORT_2[CDT Leaf],ZCDT_EXPORT_2[Leaf Node ID],\"\")","v":""},null,null,null,null,null,null,null,null,null,null,null,null,null,null,null,"",null,null,null,null,null,null,null,""]
[{"$f":"IF(OR(E49<>0,F49<>0,G49<>0),_xlfn.XLOOKUP(SelectedCategory,CDT_Mapping[Translation Name],CDT_Mapping[Unit translation name],\"\"),\"\")","v":""},{"$f":"IF(OR(E49<>0,F49<>0,G49<>0),_xlfn.XLOOKUP(SelectedCategory,CDT_Mapping[Translation Name],CDT_Mapping[ID],\"\"),\"\")","v":""},"",{"$f":"_xlfn.XLOOKUP(E49,ZCDT_EXPORT_2[CDT Leaf],ZCDT_EXPORT_2[Leaf Node ID],\"\")","v":""},null,null,null,null,null,null,null,null,null,null,null,null,null,null,null,"",null,null,null,null,null,null,null,""]
[{"$f":"IF(OR(E50<>0,F50<>0,G50<>0),_xlfn.XLOOKUP(SelectedCategory,CDT_Mapping[Translation Name],CDT_Mapping[Unit translation name],\"\"),\"\")","v":""},{"$f":"IF(OR(E50<>0,F50<>0,G50<>0),_xlfn.XLOOKUP(SelectedCategory,CDT_Mapping[Translation Name],CDT_Mapping[ID],\"\"),\"\")","v":""},"",{"$f":"_xlfn.XLOOKUP(E50,ZCDT_EXPORT_2[CDT Leaf],ZCDT_EXPORT_2[Leaf Node ID],\"\")","v":""},null,null,null,null,null,null,null,null,null,null,null,null,null,null,null,"",null,null,null,null,null,null,null,""]
[{"$f":"IF(OR(E51<>0,F51<>0,G51<>0),_xlfn.XLOOKUP(SelectedCategory,CDT_Mapping[Translation Name],CDT_Mapping[Unit translation name],\"\"),\"\")","v":""},{"$f":"IF(OR(E51<>0,F51<>0,G51<>0),_xlfn.XLOOKUP(SelectedCategory,CDT_Mapping[Translation Name],CDT_Mapping[ID],\"\"),\"\")","v":""},"",{"$f":"_xlfn.XLOOKUP(E51,ZCDT_EXPORT_2[CDT Leaf],ZCDT_EXPORT_2[Leaf Node ID],\"\")","v":""},null,null,null,null,null,null,null,null,null,null,null,null,null,null,null,"",null,null,null,null,null,null,null,""]
[{"$f":"IF(OR(E52<>0,F52<>0,G52<>0),_xlfn.XLOOKUP(SelectedCategory,CDT_Mapping[Translation Name],CDT_Mapping[Unit translation name],\"\"),\"\")","v":""},{"$f":"IF(OR(E52<>0,F52<>0,G52<>0),_xlfn.XLOOKUP(SelectedCategory,CDT_Mapping[Translation Name],CDT_Mapping[ID],\"\"),\"\")","v":""},"",{"$f":"_xlfn.XLOOKUP(E52,ZCDT_EXPORT_2[CDT Leaf],ZCDT_EXPORT_2[Leaf Node ID],\"\")","v":""},null,null,null,null,null,null,null,null,null,null,null,null,null,null,null,"",null,null,null,null,null,null,null,""]
[{"$f":"IF(OR(E53<>0,F53<>0,G53<>0),_xlfn.XLOOKUP(SelectedCategory,CDT_Mapping[Translation Name],CDT_Mapping[Unit translation name],\"\"),\"\")","v":""},{"$f":"IF(OR(E53<>0,F53<>0,G53<>0),_xlfn.XLOOKUP(SelectedCategory,CDT_Mapping[Translation Name],CDT_Mapping[ID],\"\"),\"\")","v":""},"",{"$f":"_xlfn.XLOOKUP(E53,ZCDT_EXPORT_2[CDT Leaf],ZCDT_EXPORT_2[Leaf Node ID],\"\")","v":""},null,null,null,null,null,null,null,null,null,null,null,null,null,null,null,"",null,null,null,null,null,null,null,""]
[{"$f":"IF(OR(E54<>0,F54<>0,G54<>0),_xlfn.XLOOKUP(SelectedCategory,CDT_Mapping[Translation Name],CDT_Mapping[Unit translation name],\"\"),\"\")","v":""},{"$f":"IF(OR(E54<>0,F54<>0,G54<>0),_xlfn.XLOOKUP(SelectedCategory,CDT_Mapping[Translation Name],CDT_Mapping[ID],\"\"),\"\")","v":""},"",{"$f":"_xlfn.XLOOKUP(E54,ZCDT_EXPORT_2[CDT Leaf],ZCDT_EXPORT_2[Leaf Node ID],\"\")","v":""},null,null,null,null,null,null,null,null,null,null,null,null,null,null,null,"",null,null,null,null,null,null,null,""]
[{"$f":"IF(OR(E55<>0,F55<>0,G55<>0),_xlfn.XLOOKUP(SelectedCategory,CDT_Mapping[Translation Name],CDT_Mapping[Unit translation name],\"\"),\"\")","v":""},{"$f":"IF(OR(E55<>0,F55<>0,G55<>0),_xlfn.XLOOKUP(SelectedCategory,CDT_Mapping[Translation Name],CDT_Mapping[ID],\"\"),\"\")","v":""},"",{"$f":"_xlfn.XLOOKUP(E55,ZCDT_EXPORT_2[CDT Leaf],ZCDT_EXPORT_2[Leaf Node ID],\"\")","v":""},null,null,null,null,null,null,null,null,null,null,null,null,null,null,null,"",null,null,null,null,null,null,null,""]
[{"$f":"IF(OR(E56<>0,F56<>0,G56<>0),_xlfn.XLOOKUP(SelectedCategory,CDT_Mapping[Translation Name],CDT_Mapping[Unit translation name],\"\"),\"\")","v":""},{"$f":"IF(OR(E56<>0,F56<>0,G56<>0),_xlfn.XLOOKUP(SelectedCategory,CDT_Mapping[Translation Name],CDT_Mapping[ID],\"\"),\"\")","v":""},"",{"$f":"_xlfn.XLOOKUP(E56,ZCDT_EXPORT_2[CDT Leaf],ZCDT_EXPORT_2[Leaf Node ID],\"\")","v":""},null,null,null,null,null,null,null,null,null,null,null,null,null,null,null,"",null,null,null,null,null,null,null,""]
[{"$f":"IF(OR(E57<>0,F57<>0,G57<>0),_xlfn.XLOOKUP(SelectedCategory,CDT_Mapping[Translation Name],CDT_Mapping[Unit translation name],\"\"),\"\")","v":""},{"$f":"IF(OR(E57<>0,F57<>0,G57<>0),_xlfn.XLOOKUP(SelectedCategory,CDT_Mapping[Translation Name],CDT_Mapping[ID],\"\"),\"\")","v":""},"",{"$f":"_xlfn.XLOOKUP(E57,ZCDT_EXPORT_2[CDT Leaf],ZCDT_EXPORT_2[Leaf Node ID],\"\")","v":""},null,null,null,null,null,null,null,null,null,null,null,null,null,null,null,"",null,null,null,null,null,null,null,""]
[{"$f":"IF(OR(E58<>0,F58<>0,G58<>0),_xlfn.XLOOKUP(SelectedCategory,CDT_Mapping[Translation Name],CDT_Mapping[Unit translation name],\"\"),\"\")","v":""},{"$f":"IF(OR(E58<>0,F58<>0,G58<>0),_xlfn.XLOOKUP(SelectedCategory,CDT_Mapping[Translation Name],CDT_Mapping[ID],\"\"),\"\")","v":""},"",{"$f":"_xlfn.XLOOKUP(E58,ZCDT_EXPORT_2[CDT Leaf],ZCDT_EXPORT_2[Leaf Node ID],\"\")","v":""},null,null,null,null,null,null,null,null,null,null,null,null,null,null,null,"",null,null,null,null,null,null,null,""]
[{"$f":"IF(OR(E59<>0,F59<>0,G59<>0),_xlfn.XLOOKUP(SelectedCategory,CDT_Mapping[Translation Name],CDT_Mapping[Unit translation name],\"\"),\"\")","v":""},{"$f":"IF(OR(E59<>0,F59<>0,G59<>0),_xlfn.XLOOKUP(SelectedCategory,CDT_Mapping[Translation Name],CDT_Mapping[ID],\"\"),\"\")","v":""},"",{"$f":"_xlfn.XLOOKUP(E59,ZCDT_EXPORT_2[CDT Leaf],ZCDT_EXPORT_2[Leaf Node ID],\"\")","v":""},null,null,null,null,null,null,null,null,null,null,null,null,null,null,null,"",null,null,null,null,null,null,null,""]
[{"$f":"IF(OR(E60<>0,F60<>0,G60<>0),_xlfn.XLOOKUP(SelectedCategory,CDT_Mapping[Translation Name],CDT_Mapping[Unit translation name],\"\"),\"\")","v":""},{"$f":"IF(OR(E60<>0,F60<>0,G60<>0),_xlfn.XLOOKUP(SelectedCategory,CDT_Mapping[Translation Name],CDT_Mapping[ID],\"\"),\"\")","v":""},"",{"$f":"_xlfn.XLOOKUP(E60,ZCDT_EXPORT_2[CDT Leaf],ZCDT_EXPORT_2[Leaf Node ID],\"\")","v":""},null,null,null,null,null,null,null,null,null,null,null,null,null,null,null,"",null,null,null,null,null,null,null,""]
[{"$f":"IF(OR(E61<>0,F61<>0,G61<>0),_xlfn.XLOOKUP(SelectedCategory,CDT_Mapping[Translation Name],CDT_Mapping[Unit translation name],\"\"),\"\")","v":""},{"$f":"IF(OR(E61<>0,F61<>0,G61<>0),_xlfn.XLOOKUP(SelectedCategory,CDT_Mapping[Translation Name],CDT_Mapping[ID],\"\"),\"\")","v":""},"",{"$f":"_xlfn.XLOOKUP(E61,ZCDT_EXPORT_2[CDT Leaf],ZCDT_EXPORT_2[Leaf Node ID],\"\")","v":""},null,null,null,null,null,null,null,null,null,null,null,null,null,null,null,"",null,null,null,null,null,null,null,""]
[{"$f":"IF(OR(E62<>0,F62<>0,G62<>0),_xlfn.XLOOKUP(SelectedCategory,CDT_Mapping[Translation Name],CDT_Mapping[Unit translation name],\"\"),\"\")","v":""},{"$f":"IF(OR(E62<>0,F62<>0,G62<>0),_xlfn.XLOOKUP(SelectedCategory,CDT_Mapping[Translation Name],CDT_Mapping[ID],\"\"),\"\")","v":""},"",{"$f":"_xlfn.XLOOKUP(E62,ZCDT_EXPORT_2[CDT Leaf],ZCDT_EXPORT_2[Leaf Node ID],\"\")","v":""},null,null,null,null,null,null,null,null,null,null,null,null,null,null,null,"",null,null,null,null,null,null,null,""]
[{"$f":"IF(OR(E63<>0,F63<>0,G63<>0),_xlfn.XLOOKUP(SelectedCategory,CDT_Mapping[Translation Name],CDT_Mapping[Unit translation name],\"\"),\"\")","v":""},{"$f":"IF(OR(E63<>0,F63<>0,G63<>0),_xlfn.XLOOKUP(SelectedCategory,CDT_Mapping[Translation Name],CDT_Mapping[ID],\"\"),\"\")","v":""},"",{"$f":"_xlfn.XLOOKUP(E63,ZCDT_EXPORT_2[CDT Leaf],ZCDT_EXPORT_2[Leaf Node ID],\"\")","v":""},null,null,null,null,null,null,null,null,null,null,null,null,null,null,null,"",null,null,null,null,null,null,null,""]
[{"$f":"IF(OR(E64<>0,F64<>0,G64<>0),_xlfn.XLOOKUP(SelectedCategory,CDT_Mapping[Translation Name],CDT_Mapping[Unit translation name],\"\"),\"\")","v":""},{"$f":"IF(OR(E64<>0,F64<>0,G64<>0),_xlfn.XLOOKUP(SelectedCategory,CDT_Mapping[Translation Name],CDT_Mapping[ID],\"\"),\"\")","v":""},"",{"$f":"_xlfn.XLOOKUP(E64,ZCDT_EXPORT_2[CDT Leaf],ZCDT_EXPORT_2[Leaf Node ID],\"\")","v":""},null,null,null,null,null,null,null,null,null,null,null,null,null,null,null,"",null,null,null,null,null,null,null,""]
[{"$f":"IF(OR(E65<>0,F65<>0,G65<>0),_xlfn.XLOOKUP(SelectedCategory,CDT_Mapping[Translation Name],CDT_Mapping[Unit translation name],\"\"),\"\")","v":""},{"$f":"IF(OR(E65<>0,F65<>0,G65<>0),_xlfn.XLOOKUP(SelectedCategory,CDT_Mapping[Translation Name],CDT_Mapping[ID],\"\"),\"\")","v":""},"",{"$f":"_xlfn.XLOOKUP(E65,ZCDT_EXPORT_2[CDT Leaf],ZCDT_EXPORT_2[Leaf Node ID],\"\")","v":""},null,null,null,null,null,null,null,null,null,null,null,null,null,null,null,"",null,null,null,null,null,null,null,""]
[{"$f":"IF(OR(E66<>0,F66<>0,G66<>0),_xlfn.XLOOKUP(SelectedCategory,CDT_Mapping[Translation Name],CDT_Mapping[Unit translation name],\"\"),\"\")","v":""},{"$f":"IF(OR(E66<>0,F66<>0,G66<>0),_xlfn.XLOOKUP(SelectedCategory,CDT_Mapping[Translation Name],CDT_Mapping[ID],\"\"),\"\")","v":""},"",{"$f":"_xlfn.XLOOKUP(E66,ZCDT_EXPORT_2[CDT Leaf],ZCDT_EXPORT_2[Leaf Node ID],\"\")","v":""},null,null,null,null,null,null,null,null,null,null,null,null,null,null,null,"",null,null,null,null,null,null,null,""]
[{"$f":"IF(OR(E67<>0,F67<>0,G67<>0),_xlfn.XLOOKUP(SelectedCategory,CDT_Mapping[Translation Name],CDT_Mapping[Unit translation name],\"\"),\"\")","v":""},{"$f":"IF(OR(E67<>0,F67<>0,G67<>0),_xlfn.XLOOKUP(SelectedCategory,CDT_Mapping[Translation Name],CDT_Mapping[ID],\"\"),\"\")","v":""},"",{"$f":"_xlfn.XLOOKUP(E67,ZCDT_EXPORT_2[CDT Leaf],ZCDT_EXPORT_2[Leaf Node ID],\"\")","v":""},null,null,null,null,null,null,null,null,null,null,null,null,null,null,null,"",null,null,null,null,null,null,null,""]
[{"$f":"IF(OR(E68<>0,F68<>0,G68<>0),_xlfn.XLOOKUP(SelectedCategory,CDT_Mapping[Translation Name],CDT_Mapping[Unit translation name],\"\"),\"\")","v":""},{"$f":"IF(OR(E68<>0,F68<>0,G68<>0),_xlfn.XLOOKUP(SelectedCategory,CDT_Mapping[Translation Name],CDT_Mapping[ID],\"\"),\"\")","v":""},"",{"$f":"_xlfn.XLOOKUP(E68,ZCDT_EXPORT_2[CDT Leaf],ZCDT_EXPORT_2[Leaf Node ID],\"\")","v":""},null,null,null,null,null,null,null,null,null,null,null,null,null,null,null,"",null,null,null,null,null,null,null,""]
[{"$f":"IF(OR(E69<>0,F69<>0,G69<>0),_xlfn.XLOOKUP(SelectedCategory,CDT_Mapping[Translation Name],CDT_Mapping[Unit translation name],\"\"),\"\")","v":""},{"$f":"IF(OR(E69<>0,F69<>0,G69<>0),_xlfn.XLOOKUP(SelectedCategory,CDT_Mapping[Translation Name],CDT_Mapping[ID],\"\"),\"\")","v":""},"",{"$f":"_xlfn.XLOOKUP(E69,ZCDT_EXPORT_2[CDT Leaf],ZCDT_EXPORT_2[Leaf Node ID],\"\")","v":""},null,null,null,null,null,null,null,null,null,null,null,null,null,null,null,"",null,null,null,null,null,null,null,""]
[{"$f":"IF(OR(E70<>0,F70<>0,G70<>0),_xlfn.XLOOKUP(SelectedCategory,CDT_Mapping[Translation Name],CDT_Mapping[Unit translation name],\"\"),\"\")","v":""},{"$f":"IF(OR(E70<>0,F70<>0,G70<>0),_xlfn.XLOOKUP(SelectedCategory,CDT_Mapping[Translation Name],CDT_Mapping[ID],\"\"),\"\")","v":""},"",{"$f":"_xlfn.XLOOKUP(E70,ZCDT_EXPORT_2[CDT Leaf],ZCDT_EXPORT_2[Leaf Node ID],\"\")","v":""},null,null,null,null,null,null,null,null,null,null,null,null,null,null,null,"",null,null,null,null,null,null,null,""]
[{"$f":"IF(OR(E71<>0,F71<>0,G71<>0),_xlfn.XLOOKUP(SelectedCategory,CDT_Mapping[Translation Name],CDT_Mapping[Unit translation name],\"\"),\"\")","v":""},{"$f":"IF(OR(E71<>0,F71<>0,G71<>0),_xlfn.XLOOKUP(SelectedCategory,CDT_Mapping[Translation Name],CDT_Mapping[ID],\"\"),\"\")","v":""},"",{"$f":"_xlfn.XLOOKUP(E71,ZCDT_EXPORT_2[CDT Leaf],ZCDT_EXPORT_2[Leaf Node ID],\"\")","v":""},null,null,null,null,null,null,null,null,null,null,null,null,null,null,null,"",null,null,null,null,null,null,null,""]
[{"$f":"IF(OR(E72<>0,F72<>0,G72<>0),_xlfn.XLOOKUP(SelectedCategory,CDT_Mapping[Translation Name],CDT_Mapping[Unit translation name],\"\"),\"\")","v":""},{"$f":"IF(OR(E72<>0,F72<>0,G72<>0),_xlfn.XLOOKUP(SelectedCategory,CDT_Mapping[Translation Name],CDT_Mapping[ID],\"\"),\"\")","v":""},"",{"$f":"_xlfn.XLOOKUP(E72,ZCDT_EXPORT_2[CDT Leaf],ZCDT_EXPORT_2[Leaf Node ID],\"\")","v":""},null,null,null,null,null,null,null,null,null,null,null,null,null,null,null,"",null,null,null,null,null,null,null,""]
[{"$f":"IF(OR(E73<>0,F73<>0,G73<>0),_xlfn.XLOOKUP(SelectedCategory,CDT_Mapping[Translation Name],CDT_Mapping[Unit translation name],\"\"),\"\")","v":""},{"$f":"IF(OR(E73<>0,F73<>0,G73<>0),_xlfn.XLOOKUP(SelectedCategory,CDT_Mapping[Translation Name],CDT_Mapping[ID],\"\"),\"\")","v":""},"",{"$f":"_xlfn.XLOOKUP(E73,ZCDT_EXPORT_2[CDT Leaf],ZCDT_EXPORT_2[Leaf Node ID],\"\")","v":""},null,null,null,null,null,null,null,null,null,null,null,null,null,null,null,"",null,null,null,null,null,null,null,""]
[{"$f":"IF(OR(E74<>0,F74<>0,G74<>0),_xlfn.XLOOKUP(SelectedCategory,CDT_Mapping[Translation Name],CDT_Mapping[Unit translation name],\"\"),\"\")","v":""},{"$f":"IF(OR(E74<>0,F74<>0,G74<>0),_xlfn.XLOOKUP(SelectedCategory,CDT_Mapping[Translation Name],CDT_Mapping[ID],\"\"),\"\")","v":""},{"$f":"IF(OR(E74<>0,F74<>0,G74<>0),SelectedCategory,\"\")","v":""},{"$f":"_xlfn.XLOOKUP(E74,ZCDT_EXPORT_2[CDT Leaf],ZCDT_EXPORT_2[Leaf Node ID],\"\")","v":""},null,null,null,null,null,null,null,null,null,null,null,null,null,null,null,"",null,null,null,null,null,null,null,""]
[{"$f":"IF(OR(E75<>0,F75<>0,G75<>0),_xlfn.XLOOKUP(SelectedCategory,CDT_Mapping[Translation Name],CDT_Mapping[Unit translation name],\"\"),\"\")","v":""},{"$f":"IF(OR(E75<>0,F75<>0,G75<>0),_xlfn.XLOOKUP(SelectedCategory,CDT_Mapping[Translation Name],CDT_Mapping[ID],\"\"),\"\")","v":""},"",{"$f":"_xlfn.XLOOKUP(E75,ZCDT_EXPORT_2[CDT Leaf],ZCDT_EXPORT_2[Leaf Node ID],\"\")","v":""},null,null,null,null,null,null,null,null,null,null,null,null,null,null,null,{"$f":"IF(AND(R75<>0,U75<>0),IFERROR(R75/U75,\"\"),\"\")","v":""},null,null,null,null,null,null,null,{"$f":"IF(AND(AA75<>0,U75<>0),IFERROR(AA75*U75,\"\"),\"\")","v":""}]
[{"$f":"IF(OR(E76<>0,F76<>0,G76<>0),_xlfn.XLOOKUP(SelectedCategory,CDT_Mapping[Translation Name],CDT_Mapping[Unit translation name],\"\"),\"\")","v":""},{"$f":"IF(OR(E76<>0,F76<>0,G76<>0),_xlfn.XLOOKUP(SelectedCategory,CDT_Mapping[Translation Name],CDT_Mapping[ID],\"\"),\"\")","v":""},"",{"$f":"_xlfn.XLOOKUP(E76,ZCDT_EXPORT_2[CDT Leaf],ZCDT_EXPORT_2[Leaf Node ID],\"\")","v":""},null,null,null,null,null,null,null,null,null,null,null,null,null,null,null,"",null,null,null,null,null,null,null,""]
[{"$f":"IF(OR(E77<>0,F77<>0,G77<>0),_xlfn.XLOOKUP(SelectedCategory,CDT_Mapping[Translation Name],CDT_Mapping[Unit translation name],\"\"),\"\")","v":""},{"$f":"IF(OR(E77<>0,F77<>0,G77<>0),_xlfn.XLOOKUP(SelectedCategory,CDT_Mapping[Translation Name],CDT_Mapping[ID],\"\"),\"\")","v":""},"",{"$f":"_xlfn.XLOOKUP(E77,ZCDT_EXPORT_2[CDT Leaf],ZCDT_EXPORT_2[Leaf Node ID],\"\")","v":""},null,null,null,null,null,null,null,null,null,null,null,null,null,null,null,"",null,null,null,null,null,null,null,""]
[{"$f":"IF(OR(E78<>0,F78<>0,G78<>0),_xlfn.XLOOKUP(SelectedCategory,CDT_Mapping[Translation Name],CDT_Mapping[Unit translation name],\"\"),\"\")","v":""},{"$f":"IF(OR(E78<>0,F78<>0,G78<>0),_xlfn.XLOOKUP(SelectedCategory,CDT_Mapping[Translation Name],CDT_Mapping[ID],\"\"),\"\")","v":""},"",{"$f":"_xlfn.XLOOKUP(E78,ZCDT_EXPORT_2[CDT Leaf],ZCDT_EXPORT_2[Leaf Node ID],\"\")","v":""},null,null,null,null,null,null,null,null,null,null,null,null,null,null,null,"",null,null,null,null,null,null,null,""]
[{"$f":"IF(OR(E79<>0,F79<>0,G79<>0),_xlfn.XLOOKUP(SelectedCategory,CDT_Mapping[Translation Name],CDT_Mapping[Unit translation name],\"\"),\"\")","v":""},{"$f":"IF(OR(E79<>0,F79<>0,G79<>0),_xlfn.XLOOKUP(SelectedCategory,CDT_Mapping[Translation Name],CDT_Mapping[ID],\"\"),\"\")","v":""},"",{"$f":"_xlfn.XLOOKUP(E79,ZCDT_EXPORT_2[CDT Leaf],ZCDT_EXPORT_2[Leaf Node ID],\"\")","v":""},null,null,null,null,null,null,null,null,null,null,null,null,null,null,null,"",null,null,null,null,null,null,null,""]
[{"$f":"IF(OR(E80<>0,F80<>0,G80<>0),_xlfn.XLOOKUP(SelectedCategory,CDT_Mapping[Translation Name],CDT_Mapping[Unit translation name],\"\"),\"\")","v":""},{"$f":"IF(OR(E80<>0,F80<>0,G80<>0),_xlfn.XLOOKUP(SelectedCategory,CDT_Mapping[Translation Name],CDT_Mapping[ID],\"\"),\"\")","v":""},"",{"$f":"_xlfn.XLOOKUP(E80,ZCDT_EXPORT_2[CDT Leaf],ZCDT_EXPORT_2[Leaf Node ID],\"\")","v":""},null,null,null,null,null,null,null,null,null,null,null,null,null,null,null,"",null,null,null,null,null,null,null,""]
[{"$f":"IF(OR(E81<>0,F81<>0,G81<>0),_xlfn.XLOOKUP(SelectedCategory,CDT_Mapping[Translation Name],CDT_Mapping[Unit translation name],\"\"),\"\")","v":""},{"$f":"IF(OR(E81<>0,F81<>0,G81<>0),_xlfn.XLOOKUP(SelectedCategory,CDT_Mapping[Translation Name],CDT_Mapping[ID],\"\"),\"\")","v":""},"",{"$f":"_xlfn.XLOOKUP(E81,ZCDT_EXPORT_2[CDT Leaf],ZCDT_EXPORT_2[Leaf Node ID],\"\")","v":""},null,null,null,null,null,null,null,null,null,null,null,null,null,null,null,"",null,null,null,null,null,null,null,""]
[{"$f":"IF(OR(E82<>0,F82<>0,G82<>0),_xlfn.XLOOKUP(SelectedCategory,CDT_Mapping[Translation Name],CDT_Mapping[Unit translation name],\"\"),\"\")","v":""},{"$f":"IF(OR(E82<>0,F82<>0,G82<>0),_xlfn.XLOOKUP(SelectedCategory,CDT_Mapping[Translation Name],CDT_Mapping[ID],\"\"),\"\")","v":""},"",{"$f":"_xlfn.XLOOKUP(E82,ZCDT_EXPORT_2[CDT Leaf],ZCDT_EXPORT_2[Leaf Node ID],\"\")","v":""},null,null,null,null,null,null,null,null,null,null,null,null,null,null,null,"",null,null,null,null,null,null,null,""]
[{"$f":"IF(OR(E83<>0,F83<>0,G83<>0),_xlfn.XLOOKUP(SelectedCategory,CDT_Mapping[Translation Name],CDT_Mapping[Unit translation name],\"\"),\"\")","v":""},{"$f":"IF(OR(E83<>0,F83<>0,G83<>0),_xlfn.XLOOKUP(SelectedCategory,CDT_Mapping[Translation Name],CDT_Mapping[ID],\"\"),\"\")","v":""},"",{"$f":"_xlfn.XLOOKUP(E83,ZCDT_EXPORT_2[CDT Leaf],ZCDT_EXPORT_2[Leaf Node ID],\"\")","v":""},null,null,null,null,null,null,null,null,null,null,null,null,null,null,null,"",null,null,null,null,null,null,null,""]
[{"$f":"IF(OR(E84<>0,F84<>0,G84<>0),_xlfn.XLOOKUP(SelectedCategory,CDT_Mapping[Translation Name],CDT_Mapping[Unit translation name],\"\"),\"\")","v":""},{"$f":"IF(OR(E84<>0,F84<>0,G84<>0),_xlfn.XLOOKUP(SelectedCategory,CDT_Mapping[Translation Name],CDT_Mapping[ID],\"\"),\"\")","v":""},"",{"$f":"_xlfn.XLOOKUP(E84,ZCDT_EXPORT_2[CDT Leaf],ZCDT_EXPORT_2[Leaf Node ID],\"\")","v":""},null,null,null,null,null,null,null,null,null,null,null,null,null,null,null,"",null,null,null,null,null,null,null,""]
[{"$f":"IF(OR(E85<>0,F85<>0,G85<>0),_xlfn.XLOOKUP(SelectedCategory,CDT_Mapping[Translation Name],CDT_Mapping[Unit translation name],\"\"),\"\")","v":""},{"$f":"IF(OR(E85<>0,F85<>0,G85<>0),_xlfn.XLOOKUP(SelectedCategory,CDT_Mapping[Translation Name],CDT_Mapping[ID],\"\"),\"\")","v":""},"",{"$f":"_xlfn.XLOOKUP(E85,ZCDT_EXPORT_2[CDT Leaf],ZCDT_EXPORT_2[Leaf Node ID],\"\")","v":""},null,null,null,null,null,null,null,null,null,null,null,null,null,null,null,"",null,null,null,null,null,null,null,""]
[{"$f":"IF(OR(E86<>0,F86<>0,G86<>0),_xlfn.XLOOKUP(SelectedCategory,CDT_Mapping[Translation Name],CDT_Mapping[Unit translation name],\"\"),\"\")","v":""},{"$f":"IF(OR(E86<>0,F86<>0,G86<>0),_xlfn.XLOOKUP(SelectedCategory,CDT_Mapping[Translation Name],CDT_Mapping[ID],\"\"),\"\")","v":""},"",{"$f":"_xlfn.XLOOKUP(E86,ZCDT_EXPORT_2[CDT Leaf],ZCDT_EXPORT_2[Leaf Node ID],\"\")","v":""},null,null,null,null,null,null,null,null,null,null,null,null,null,null,null,"",null,null,null,null,null,null,null,""]
[{"$f":"IF(OR(E87<>0,F87<>0,G87<>0),_xlfn.XLOOKUP(SelectedCategory,CDT_Mapping[Translation Name],CDT_Mapping[Unit translation name],\"\"),\"\")","v":""},{"$f":"IF(OR(E87<>0,F87<>0,G87<>0),_xlfn.XLOOKUP(SelectedCategory,CDT_Mapping[Translation Name],CDT_Mapping[ID],\"\"),\"\")","v":""},"",{"$f":"_xlfn.XLOOKUP(E87,ZCDT_EXPORT_2[CDT Leaf],ZCDT_EXPORT_2[Leaf Node ID],\"\")","v":""},null,null,null,null,null,null,null,null,null,null,null,null,null,null,null,"",null,null,null,null,null,null,null,""]
[{"$f":"IF(OR(E88<>0,F88<>0,G88<>0),_xlfn.XLOOKUP(SelectedCategory,CDT_Mapping[Translation Name],CDT_Mapping[Unit translation name],\"\"),\"\")","v":""},{"$f":"IF(OR(E88<>0,F88<>0,G88<>0),_xlfn.XLOOKUP(SelectedCategory,CDT_Mapping[Translation Name],CDT_Mapping[ID],\"\"),\"\")","v":""},"",{"$f":"_xlfn.XLOOKUP(E88,ZCDT_EXPORT_2[CDT Leaf],ZCDT_EXPORT_2[Leaf Node ID],\"\")","v":""},null,null,null,null,null,null,null,null,null,null,null,null,null,null,null,"",null,null,null,null,null,null,null,""]
[{"$f":"IF(OR(E89<>0,F89<>0,G89<>0),_xlfn.XLOOKUP(SelectedCategory,CDT_Mapping[Translation Name],CDT_Mapping[Unit translation name],\"\"),\"\")","v":""},{"$f":"IF(OR(E89<>0,F89<>0,G89<>0),_xlfn.XLOOKUP(SelectedCategory,CDT_Mapping[Translation Name],CDT_Mapping[ID],\"\"),\"\")","v":""},"",{"$f":"_xlfn.XLOOKUP(E89,ZCDT_EXPORT_2[CDT Leaf],ZCDT_EXPORT_2[Leaf Node ID],\"\")","v":""},null,null,null,null,null,null,null,null,null,null,null,null,null,null,null,"",null,null,null,null,null,null,null,""]
[{"$f":"IF(OR(E90<>0,F90<>0,G90<>0),_xlfn.XLOOKUP(SelectedCategory,CDT_Mapping[Translation Name],CDT_Mapping[Unit translation name],\"\"),\"\")","v":""},{"$f":"IF(OR(E90<>0,F90<>0,G90<>0),_xlfn.XLOOKUP(SelectedCategory,CDT_Mapping[Translation Name],CDT_Mapping[ID],\"\"),\"\")","v":""},"",{"$f":"_xlfn.XLOOKUP(E90,ZCDT_EXPORT_2[CDT Leaf],ZCDT_EXPORT_2[Leaf Node ID],\"\")","v":""},null,null,null,null,null,null,null,null,null,null,null,null,null,null,null,"",null,null,null,null,null,null,null,""]
[{"$f":"IF(OR(E91<>0,F91<>0,G91<>0),_xlfn.XLOOKUP(SelectedCategory,CDT_Mapping[Translation Name],CDT_Mapping[Unit translation name],\"\"),\"\")","v":""},{"$f":"IF(OR(E91<>0,F91<>0,G91<>0),_xlfn.XLOOKUP(SelectedCategory,CDT_Mapping[Translation Name],CDT_Mapping[ID],\"\"),\"\")","v":""},"",{"$f":"_xlfn.XLOOKUP(E91,ZCDT_EXPORT_2[CDT Leaf],ZCDT_EXPORT_2[Leaf Node ID],\"\")","v":""},null,null,null,null,null,null,null,null,null,null,null,null,null,null,null,"",null,null,null,null,null,null,null,""]
[{"$f":"IF(OR(E92<>0,F92<>0,G92<>0),_xlfn.XLOOKUP(SelectedCategory,CDT_Mapping[Translation Name],CDT_Mapping[Unit translation name],\"\"),\"\")","v":""},{"$f":"IF(OR(E92<>0,F92<>0,G92<>0),_xlfn.XLOOKUP(SelectedCategory,CDT_Mapping[Translation Name],CDT_Mapping[ID],\"\"),\"\")","v":""},"",{"$f":"_xlfn.XLOOKUP(E92,ZCDT_EXPORT_2[CDT Leaf],ZCDT_EXPORT_2[Leaf Node ID],\"\")","v":""},null,null,null,null,null,null,null,null,null,null,null,null,null,null,null,"",null,null,null,null,null,null,null,""]
[{"$f":"IF(OR(E93<>0,F93<>0,G93<>0),_xlfn.XLOOKUP(SelectedCategory,CDT_Mapping[Translation Name],CDT_Mapping[Unit translation name],\"\"),\"\")","v":""},{"$f":"IF(OR(E93<>0,F93<>0,G93<>0),_xlfn.XLOOKUP(SelectedCategory,CDT_Mapping[Translation Name],CDT_Mapping[ID],\"\"),\"\")","v":""},"",{"$f":"_xlfn.XLOOKUP(E93,ZCDT_EXPORT_2[CDT Leaf],ZCDT_EXPORT_2[Leaf Node ID],\"\")","v":""},null,null,null,null,null,null,null,null,null,null,null,null,null,null,null,"",null,null,null,null,null,null,null,""]
[{"$f":"IF(OR(E94<>0,F94<>0,G94<>0),_xlfn.XLOOKUP(SelectedCategory,CDT_Mapping[Translation Name],CDT_Mapping[Unit translation name],\"\"),\"\")","v":""},{"$f":"IF(OR(E94<>0,F94<>0,G94<>0),_xlfn.XLOOKUP(SelectedCategory,CDT_Mapping[Translation Name],CDT_Mapping[ID],\"\"),\"\")","v":""},"",{"$f":"_xlfn.XLOOKUP(E94,ZCDT_EXPORT_2[CDT Leaf],ZCDT_EXPORT_2[Leaf Node ID],\"\")","v":""},null,null,null,null,null,null,null,null,null,null,null,null,null,null,null,"",null,null,null,null,null,null,null,""]
[{"$f":"IF(OR(E95<>0,F95<>0,G95<>0),_xlfn.XLOOKUP(SelectedCategory,CDT_Mapping[Translation Name],CDT_Mapping[Unit translation name],\"\"),\"\")","v":""},{"$f":"IF(OR(E95<>0,F95<>0,G95<>0),_xlfn.XLOOKUP(SelectedCategory,CDT_Mapping[Translation Name],CDT_Mapping[ID],\"\"),\"\")","v":""},"",{"$f":"_xlfn.XLOOKUP(E95,ZCDT_EXPORT_2[CDT Leaf],ZCDT_EXPORT_2[Leaf Node ID],\"\")","v":""},null,null,null,null,null,null,null,null,null,null,null,null,null,null,null,"",null,null,null,null,null,null,null,""]
[{"$f":"IF(OR(E96<>0,F96<>0,G96<>0),_xlfn.XLOOKUP(SelectedCategory,CDT_Mapping[Translation Name],CDT_Mapping[Unit translation name],\"\"),\"\")","v":""},{"$f":"IF(OR(E96<>0,F96<>0,G96<>0),_xlfn.XLOOKUP(SelectedCategory,CDT_Mapping[Translation Name],CDT_Mapping[ID],\"\"),\"\")","v":""},"",{"$f":"_xlfn.XLOOKUP(E96,ZCDT_EXPORT_2[CDT Leaf],ZCDT_EXPORT_2[Leaf Node ID],\"\")","v":""},null,null,null,null,null,null,null,null,null,null,null,null,null,null,null,"",null,null,null,null,null,null,null,""]
[{"$f":"IF(OR(E97<>0,F97<>0,G97<>0),_xlfn.XLOOKUP(SelectedCategory,CDT_Mapping[Translation Name],CDT_Mapping[Unit translation name],\"\"),\"\")","v":""},{"$f":"IF(OR(E97<>0,F97<>0,G97<>0),_xlfn.XLOOKUP(SelectedCategory,CDT_Mapping[Translation Name],CDT_Mapping[ID],\"\"),\"\")","v":""},"",{"$f":"_xlfn.XLOOKUP(E97,ZCDT_EXPORT_2[CDT Leaf],ZCDT_EXPORT_2[Leaf Node ID],\"\")","v":""},null,null,null,null,null,null,null,null,null,null,null,null,null,null,null,"",null,null,null,null,null,null,null,""]
[{"$f":"IF(OR(E98<>0,F98<>0,G98<>0),_xlfn.XLOOKUP(SelectedCategory,CDT_Mapping[Translation Name],CDT_Mapping[Unit translation name],\"\"),\"\")","v":""},{"$f":"IF(OR(E98<>0,F98<>0,G98<>0),_xlfn.XLOOKUP(SelectedCategory,CDT_Mapping[Translation Name],CDT_Mapping[ID],\"\"),\"\")","v":""},"",{"$f":"_xlfn.XLOOKUP(E98,ZCDT_EXPORT_2[CDT Leaf],ZCDT_EXPORT_2[Leaf Node ID],\"\")","v":""},null,null,null,null,null,null,null,null,null,null,null,null,null,null,null,"",null,null,null,null,null,null,null,""]
[{"$f":"IF(OR(E99<>0,F99<>0,G99<>0),_xlfn.XLOOKUP(SelectedCategory,CDT_Mapping[Translation Name],CDT_Mapping[Unit translation name],\"\"),\"\")","v":""},{"$f":"IF(OR(E99<>0,F99<>0,G99<>0),_xlfn.XLOOKUP(SelectedCategory,CDT_Mapping[Translation Name],CDT_Mapping[ID],\"\"),\"\")","v":""},"",{"$f":"_xlfn.XLOOKUP(E99,ZCDT_EXPORT_2[CDT Leaf],ZCDT_EXPORT_2[Leaf Node ID],\"\")","v":""},null,null,null,null,null,null,null,null,null,null,null,null,null,null,null,"",null,null,null,null,null,null,null,""]
[{"$f":"IF(OR(E100<>0,F100<>0,G100<>0),_xlfn.XLOOKUP(SelectedCategory,CDT_Mapping[Translation Name],CDT_Mapping[Unit translation name],\"\"),\"\")","v":""},{"$f":"IF(OR(E100<>0,F100<>0,G100<>0),_xlfn.XLOOKUP(SelectedCategory,CDT_Mapping[Translation Name],CDT_Mapping[ID],\"\"),\"\")","v":""},"",{"$f":"_xlfn.XLOOKUP(E100,ZCDT_EXPORT_2[CDT Leaf],ZCDT_EXPORT_2[Leaf Node ID],\"\")","v":""},null,null,null,null,null,null,null,null,null,null,null,null,null,null,null,"",null,null,null,null,null,null,null,""]
[{"$f":"IF(OR(E101<>0,F101<>0,G101<>0),_xlfn.XLOOKUP(SelectedCategory,CDT_Mapping[Translation Name],CDT_Mapping[Unit translation name],\"\"),\"\")","v":""},{"$f":"IF(OR(E101<>0,F101<>0,G101<>0),_xlfn.XLOOKUP(SelectedCategory,CDT_Mapping[Translation Name],CDT_Mapping[ID],\"\"),\"\")","v":""},"",{"$f":"_xlfn.XLOOKUP(E101,ZCDT_EXPORT_2[CDT Leaf],ZCDT_EXPORT_2[Leaf Node ID],\"\")","v":""},null,null,null,null,null,null,null,null,null,null,null,null,null,null,null,"",null,null,null,null,null,null,null,""]
[{"$f":"IF(OR(E102<>0,F102<>0,G102<>0),_xlfn.XLOOKUP(SelectedCategory,CDT_Mapping[Translation Name],CDT_Mapping[Unit translation name],\"\"),\"\")","v":""},{"$f":"IF(OR(E102<>0,F102<>0,G102<>0),_xlfn.XLOOKUP(SelectedCategory,CDT_Mapping[Translation Name],CDT_Mapping[ID],\"\"),\"\")","v":""},"",{"$f":"_xlfn.XLOOKUP(E102,ZCDT_EXPORT_2[CDT Leaf],ZCDT_EXPORT_2[Leaf Node ID],\"\")","v":""},null,null,null,null,null,null,null,null,null,null,null,null,null,null,null,"",null,null,null,null,null,null,null,""]
[{"$f":"IF(OR(E103<>0,F103<>0,G103<>0),_xlfn.XLOOKUP(SelectedCategory,CDT_Mapping[Translation Name],CDT_Mapping[Unit translation name],\"\"),\"\")","v":""},{"$f":"IF(OR(E103<>0,F103<>0,G103<>0),_xlfn.XLOOKUP(SelectedCategory,CDT_Mapping[Translation Name],CDT_Mapping[ID],\"\"),\"\")","v":""},"",{"$f":"_xlfn.XLOOKUP(E103,ZCDT_EXPORT_2[CDT Leaf],ZCDT_EXPORT_2[Leaf Node ID],\"\")","v":""},null,null,null,null,null,null,null,null,null,null,null,null,null,null,null,"",null,null,null,null,null,null,null,""]
[{"$f":"IF(OR(E104<>0,F104<>0,G104<>0),_xlfn.XLOOKUP(SelectedCategory,CDT_Mapping[Translation Name],CDT_Mapping[Unit translation name],\"\"),\"\")","v":""},{"$f":"IF(OR(E104<>0,F104<>0,G104<>0),_xlfn.XLOOKUP(SelectedCategory,CDT_Mapping[Translation Name],CDT_Mapping[ID],\"\"),\"\")","v":""},"",{"$f":"_xlfn.XLOOKUP(E104,ZCDT_EXPORT_2[CDT Leaf],ZCDT_EXPORT_2[Leaf Node ID],\"\")","v":""},null,null,null,null,null,null,null,null,null,null,null,null,null,null,null,"",null,null,null,null,null,null,null,""]
[{"$f":"IF(OR(E105<>0,F105<>0,G105<>0),_xlfn.XLOOKUP(SelectedCategory,CDT_Mapping[Translation Name],CDT_Mapping[Unit translation name],\"\"),\"\")","v":""},{"$f":"IF(OR(E105<>0,F105<>0,G105<>0),_xlfn.XLOOKUP(SelectedCategory,CDT_Mapping[Translation Name],CDT_Mapping[ID],\"\"),\"\")","v":""},"",{"$f":"_xlfn.XLOOKUP(E105,ZCDT_EXPORT_2[CDT Leaf],ZCDT_EXPORT_2[Leaf Node ID],\"\")","v":""},null,null,null,null,null,null,null,null,null,null,null,null,null,null,null,"",null,null,null,null,null,null,null,""]
[{"$f":"IF(OR(E106<>0,F106<>0,G106<>0),_xlfn.XLOOKUP(SelectedCategory,CDT_Mapping[Translation Name],CDT_Mapping[Unit translation name],\"\"),\"\")","v":""},{"$f":"IF(OR(E106<>0,F106<>0,G106<>0),_xlfn.XLOOKUP(SelectedCategory,CDT_Mapping[Translation Name],CDT_Mapping[ID],\"\"),\"\")","v":""},"",{"$f":"_xlfn.XLOOKUP(E106,ZCDT_EXPORT_2[CDT Leaf],ZCDT_EXPORT_2[Leaf Node ID],\"\")","v":""},null,null,null,null,null,null,null,null,null,null,null,null,null,null,null,"",null,null,null,null,null,null,null,""]
[{"$f":"IF(OR(E107<>0,F107<>0,G107<>0),_xlfn.XLOOKUP(SelectedCategory,CDT_Mapping[Translation Name],CDT_Mapping[Unit translation name],\"\"),\"\")","v":""},{"$f":"IF(OR(E107<>0,F107<>0,G107<>0),_xlfn.XLOOKUP(SelectedCategory,CDT_Mapping[Translation Name],CDT_Mapping[ID],\"\"),\"\")","v":""},"",{"$f":"_xlfn.XLOOKUP(E107,ZCDT_EXPORT_2[CDT Leaf],ZCDT_EXPORT_2[Leaf Node ID],\"\")","v":""},null,null,null,null,null,null,null,null,null,null,null,null,null,null,null,"",null,null,null,null,null,null,null,""]
[{"$f":"IF(OR(E108<>0,F108<>0,G108<>0),_xlfn.XLOOKUP(SelectedCategory,CDT_Mapping[Translation Name],CDT_Mapping[Unit translation name],\"\"),\"\")","v":""},{"$f":"IF(OR(E108<>0,F108<>0,G108<>0),_xlfn.XLOOKUP(SelectedCategory,CDT_Mapping[Translation Name],CDT_Mapping[ID],\"\"),\"\")","v":""},"",{"$f":"_xlfn.XLOOKUP(E108,ZCDT_EXPORT_2[CDT Leaf],ZCDT_EXPORT_2[Leaf Node ID],\"\")","v":""},null,null,null,null,null,null,null,null,null,null,null,null,null,null,null,"",null,null,null,null,null,null,null,""]
[{"$f":"IF(OR(E109<>0,F109<>0,G109<>0),_xlfn.XLOOKUP(SelectedCategory,CDT_Mapping[Translation Name],CDT_Mapping[Unit translation name],\"\"),\"\")","v":""},{"$f":"IF(OR(E109<>0,F109<>0,G109<>0),_xlfn.XLOOKUP(SelectedCategory,CDT_Mapping[Translation Name],CDT_Mapping[ID],\"\"),\"\")","v":""},"",{"$f":"_xlfn.XLOOKUP(E109,ZCDT_EXPORT_2[CDT Leaf],ZCDT_EXPORT_2[Leaf Node ID],\"\")","v":""},null,null,null,null,null,null,null,null,null,null,null,null,null,null,null,"",null,null,null,null,null,null,null,""]
[{"$f":"IF(OR(E110<>0,F110<>0,G110<>0),_xlfn.XLOOKUP(SelectedCategory,CDT_Mapping[Translation Name],CDT_Mapping[Unit translation name],\"\"),\"\")","v":""},{"$f":"IF(OR(E110<>0,F110<>0,G110<>0),_xlfn.XLOOKUP(SelectedCategory,CDT_Mapping[Translation Name],CDT_Mapping[ID],\"\"),\"\")","v":""},"",{"$f":"_xlfn.XLOOKUP(E110,ZCDT_EXPORT_2[CDT Leaf],ZCDT_EXPORT_2[Leaf Node ID],\"\")","v":""},null,null,null,null,null,null,null,null,null,null,null,null,null,null,null,"",null,null,null,null,null,null,null,""]
[{"$f":"IF(OR(E111<>0,F111<>0,G111<>0),_xlfn.XLOOKUP(SelectedCategory,CDT_Mapping[Translation Name],CDT_Mapping[Unit translation name],\"\"),\"\")","v":""},{"$f":"IF(OR(E111<>0,F111<>0,G111<>0),_xlfn.XLOOKUP(SelectedCategory,CDT_Mapping[Translation Name],CDT_Mapping[ID],\"\"),\"\")","v":""},"",{"$f":"_xlfn.XLOOKUP(E111,ZCDT_EXPORT_2[CDT Leaf],ZCDT_EXPORT_2[Leaf Node ID],\"\")","v":""},null,null,null,null,null,null,null,null,null,null,null,null,null,null,null,"",null,null,null,null,null,null,null,""]
[{"$f":"IF(OR(E112<>0,F112<>0,G112<>0),_xlfn.XLOOKUP(SelectedCategory,CDT_Mapping[Translation Name],CDT_Mapping[Unit translation name],\"\"),\"\")","v":""},{"$f":"IF(OR(E112<>0,F112<>0,G112<>0),_xlfn.XLOOKUP(SelectedCategory,CDT_Mapping[Translation Name],CDT_Mapping[ID],\"\"),\"\")","v":""},"",{"$f":"_xlfn.XLOOKUP(E112,ZCDT_EXPORT_2[CDT Leaf],ZCDT_EXPORT_2[Leaf Node ID],\"\")","v":""},null,null,null,null,null,null,null,null,null,null,null,null,null,null,null,"",null,null,null,null,null,null,null,""]
[{"$f":"IF(OR(E113<>0,F113<>0,G113<>0),_xlfn.XLOOKUP(SelectedCategory,CDT_Mapping[Translation Name],CDT_Mapping[Unit translation name],\"\"),\"\")","v":""},{"$f":"IF(OR(E113<>0,F113<>0,G113<>0),_xlfn.XLOOKUP(SelectedCategory,CDT_Mapping[Translation Name],CDT_Mapping[ID],\"\"),\"\")","v":""},"",{"$f":"_xlfn.XLOOKUP(E113,ZCDT_EXPORT_2[CDT Leaf],ZCDT_EXPORT_2[Leaf Node ID],\"\")","v":""},null,null,null,null,null,null,null,null,null,null,null,null,null,null,null,"",null,null,null,null,null,null,null,""]
[{"$f":"IF(OR(E114<>0,F114<>0,G114<>0),_xlfn.XLOOKUP(SelectedCategory,CDT_Mapping[Translation Name],CDT_Mapping[Unit translation name],\"\"),\"\")","v":""},{"$f":"IF(OR(E114<>0,F114<>0,G114<>0),_xlfn.XLOOKUP(SelectedCategory,CDT_Mapping[Translation Name],CDT_Mapping[ID],\"\"),\"\")","v":""},"",{"$f":"_xlfn.XLOOKUP(E114,ZCDT_EXPORT_2[CDT Leaf],ZCDT_EXPORT_2[Leaf Node ID],\"\")","v":""},null,null,null,null,null,null,null,null,null,null,null,null,null,null,null,"",null,null,null,null,null,null,null,""]
[{"$f":"IF(OR(E115<>0,F115<>0,G115<>0),_xlfn.XLOOKUP(SelectedCategory,CDT_Mapping[Translation Name],CDT_Mapping[Unit translation name],\"\"),\"\")","v":""},{"$f":"IF(OR(E115<>0,F115<>0,G115<>0),_xlfn.XLOOKUP(SelectedCategory,CDT_Mapping[Translation Name],CDT_Mapping[ID],\"\"),\"\")","v":""},"",{"$f":"_xlfn.XLOOKUP(E115,ZCDT_EXPORT_2[CDT Leaf],ZCDT_EXPORT_2[Leaf Node ID],\"\")","v":""},null,null,null,null,null,null,null,null,null,null,null,null,null,null,null,"",null,null,null,null,null,null,null,""]
[{"$f":"IF(OR(E116<>0,F116<>0,G116<>0),_xlfn.XLOOKUP(SelectedCategory,CDT_Mapping[Translation Name],CDT_Mapping[Unit translation name],\"\"),\"\")","v":""},{"$f":"IF(OR(E116<>0,F116<>0,G116<>0),_xlfn.XLOOKUP(SelectedCategory,CDT_Mapping[Translation Name],CDT_Mapping[ID],\"\"),\"\")","v":""},"",{"$f":"_xlfn.XLOOKUP(E116,ZCDT_EXPORT_2[CDT Leaf],ZCDT_EXPORT_2[Leaf Node ID],\"\")","v":""},null,null,null,null,null,null,null,null,null,null,null,null,null,null,null,"",null,null,null,null,null,null,null,""]
[{"$f":"IF(OR(E117<>0,F117<>0,G117<>0),_xlfn.XLOOKUP(SelectedCategory,CDT_Mapping[Translation Name],CDT_Mapping[Unit translation name],\"\"),\"\")","v":""},{"$f":"IF(OR(E117<>0,F117<>0,G117<>0),_xlfn.XLOOKUP(SelectedCategory,CDT_Mapping[Translation Name],CDT_Mapping[ID],\"\"),\"\")","v":""},"",{"$f":"_xlfn.XLOOKUP(E117,ZCDT_EXPORT_2[CDT Leaf],ZCDT_EXPORT_2[Leaf Node ID],\"\")","v":""},null,null,null,null,null,null,null,null,null,null,null,null,null,null,null,"",null,null,null,null,null,null,null,""]
[{"$f":"IF(OR(E118<>0,F118<>0,G118<>0),_xlfn.XLOOKUP(SelectedCategory,CDT_Mapping[Translation Name],CDT_Mapping[Unit translation name],\"\"),\"\")","v":""},{"$f":"IF(OR(E118<>0,F118<>0,G118<>0),_xlfn.XLOOKUP(SelectedCategory,CDT_Mapping[Translation Name],CDT_Mapping[ID],\"\"),\"\")","v":""},"",{"$f":"_xlfn.XLOOKUP(E118,ZCDT_EXPORT_2[CDT Leaf],ZCDT_EXPORT_2[Leaf Node ID],\"\")","v":""},null,null,null,null,null,null,null,null,null,null,null,null,null,null,null,"",null,null,null,null,null,null,null,""]
[{"$f":"IF(OR(E119<>0,F119<>0,G119<>0),_xlfn.XLOOKUP(SelectedCategory,CDT_Mapping[Translation Name],CDT_Mapping[Unit translation name],\"\"),\"\")","v":""},{"$f":"IF(OR(E119<>0,F119<>0,G119<>0),_xlfn.XLOOKUP(SelectedCategory,CDT_Mapping[Translation Name],CDT_Mapping[ID],\"\"),\"\")","v":""},"",{"$f":"_xlfn.XLOOKUP(E119,ZCDT_EXPORT_2[CDT Leaf],ZCDT_EXPORT_2[Leaf Node ID],\"\")","v":""},null,null,null,null,null,null,null,null,null,null,null,null,null,null,null,"",null,null,null,null,null,null,null,""]
[{"$f":"IF(OR(E120<>0,F120<>0,G120<>0),_xlfn.XLOOKUP(SelectedCategory,CDT_Mapping[Translation Name],CDT_Mapping[Unit translation name],\"\"),\"\")","v":""},{"$f":"IF(OR(E120<>0,F120<>0,G120<>0),_xlfn.XLOOKUP(SelectedCategory,CDT_Mapping[Translation Name],CDT_Mapping[ID],\"\"),\"\")","v":""},"",{"$f":"_xlfn.XLOOKUP(E120,ZCDT_EXPORT_2[CDT Leaf],ZCDT_EXPORT_2[Leaf Node ID],\"\")","v":""},null,null,null,null,null,null,null,null,null,null,null,null,null,null,null,"",null,null,null,null,null,null,null,""]
[{"$f":"IF(OR(E121<>0,F121<>0,G121<>0),_xlfn.XLOOKUP(SelectedCategory,CDT_Mapping[Translation Name],CDT_Mapping[Unit translation name],\"\"),\"\")","v":""},{"$f":"IF(OR(E121<>0,F121<>0,G121<>0),_xlfn.XLOOKUP(SelectedCategory,CDT_Mapping[Translation Name],CDT_Mapping[ID],\"\"),\"\")","v":""},"",{"$f":"_xlfn.XLOOKUP(E121,ZCDT_EXPORT_2[CDT Leaf],ZCDT_EXPORT_2[Leaf Node ID],\"\")","v":""},null,null,null,null,null,null,null,null,null,null,null,null,null,null,null,"",null,null,null,null,null,null,null,""]
[{"$f":"IF(OR(E122<>0,F122<>0,G122<>0),_xlfn.XLOOKUP(SelectedCategory,CDT_Mapping[Translation Name],CDT_Mapping[Unit translation name],\"\"),\"\")","v":""},{"$f":"IF(OR(E122<>0,F122<>0,G122<>0),_xlfn.XLOOKUP(SelectedCategory,CDT_Mapping[Translation Name],CDT_Mapping[ID],\"\"),\"\")","v":""},"",{"$f":"_xlfn.XLOOKUP(E122,ZCDT_EXPORT_2[CDT Leaf],ZCDT_EXPORT_2[Leaf Node ID],\"\")","v":""},null,null,null,null,null,null,null,null,null,null,null,null,null,null,null,"",null,null,null,null,null,null,null,""]
[{"$f":"IF(OR(E123<>0,F123<>0,G123<>0),_xlfn.XLOOKUP(SelectedCategory,CDT_Mapping[Translation Name],CDT_Mapping[Unit translation name],\"\"),\"\")","v":""},{"$f":"IF(OR(E123<>0,F123<>0,G123<>0),_xlfn.XLOOKUP(SelectedCategory,CDT_Mapping[Translation Name],CDT_Mapping[ID],\"\"),\"\")","v":""},"",{"$f":"_xlfn.XLOOKUP(E123,ZCDT_EXPORT_2[CDT Leaf],ZCDT_EXPORT_2[Leaf Node ID],\"\")","v":""},null,null,null,null,null,null,null,null,null,null,null,null,null,null,null,"",null,null,null,null,null,null,null,""]
[{"$f":"IF(OR(E124<>0,F124<>0,G124<>0),_xlfn.XLOOKUP(SelectedCategory,CDT_Mapping[Translation Name],CDT_Mapping[Unit translation name],\"\"),\"\")","v":""},{"$f":"IF(OR(E124<>0,F124<>0,G124<>0),_xlfn.XLOOKUP(SelectedCategory,CDT_Mapping[Translation Name],CDT_Mapping[ID],\"\"),\"\")","v":""},"",{"$f":"_xlfn.XLOOKUP(E124,ZCDT_EXPORT_2[CDT Leaf],ZCDT_EXPORT_2[Leaf Node ID],\"\")","v":""},null,null,null,null,null,null,null,null,null,null,null,null,null,null,null,"",null,null,null,null,null,null,null,""]
[{"$f":"IF(OR(E125<>0,F125<>0,G125<>0),_xlfn.XLOOKUP(SelectedCategory,CDT_Mapping[Translation Name],CDT_Mapping[Unit translation name],\"\"),\"\")","v":""},{"$f":"IF(OR(E125<>0,F125<>0,G125<>0),_xlfn.XLOOKUP(SelectedCategory,CDT_Mapping[Translation Name],CDT_Mapping[ID],\"\"),\"\")","v":""},"",{"$f":"_xlfn.XLOOKUP(E125,ZCDT_EXPORT_2[CDT Leaf],ZCDT_EXPORT_2[Leaf Node ID],\"\")","v":""},null,null,null,null,null,null,null,null,null,null,null,null,null,null,null,"",null,null,null,null,null,null,null,""]
[{"$f":"IF(OR(E126<>0,F126<>0,G126<>0),_xlfn.XLOOKUP(SelectedCategory,CDT_Mapping[Translation Name],CDT_Mapping[Unit translation name],\"\"),\"\")","v":""},{"$f":"IF(OR(E126<>0,F126<>0,G126<>0),_xlfn.XLOOKUP(SelectedCategory,CDT_Mapping[Translation Name],CDT_Mapping[ID],\"\"),\"\")","v":""},"",{"$f":"_xlfn.XLOOKUP(E126,ZCDT_EXPORT_2[CDT Leaf],ZCDT_EXPORT_2[Leaf Node ID],\"\")","v":""},null,null,null,null,null,null,null,null,null,null,null,null,null,null,null,"",null,null,null,null,null,null,null,""]
[{"$f":"IF(OR(E127<>0,F127<>0,G127<>0),_xlfn.XLOOKUP(SelectedCategory,CDT_Mapping[Translation Name],CDT_Mapping[Unit translation name],\"\"),\"\")","v":""},{"$f":"IF(OR(E127<>0,F127<>0,G127<>0),_xlfn.XLOOKUP(SelectedCategory,CDT_Mapping[Translation Name],CDT_Mapping[ID],\"\"),\"\")","v":""},"",{"$f":"_xlfn.XLOOKUP(E127,ZCDT_EXPORT_2[CDT Leaf],ZCDT_EXPORT_2[Leaf Node ID],\"\")","v":""},null,null,null,null,null,null,null,null,null,null,null,null,null,null,null,"",null,null,null,null,null,null,null,""]
[{"$f":"IF(OR(E128<>0,F128<>0,G128<>0),_xlfn.XLOOKUP(SelectedCategory,CDT_Mapping[Translation Name],CDT_Mapping[Unit translation name],\"\"),\"\")","v":""},{"$f":"IF(OR(E128<>0,F128<>0,G128<>0),_xlfn.XLOOKUP(SelectedCategory,CDT_Mapping[Translation Name],CDT_Mapping[ID],\"\"),\"\")","v":""},"",{"$f":"_xlfn.XLOOKUP(E128,ZCDT_EXPORT_2[CDT Leaf],ZCDT_EXPORT_2[Leaf Node ID],\"\")","v":""},null,null,null,null,null,null,null,null,null,null,null,null,null,null,null,"",null,null,null,null,null,null,null,""]
[{"$f":"IF(OR(E129<>0,F129<>0,G129<>0),_xlfn.XLOOKUP(SelectedCategory,CDT_Mapping[Translation Name],CDT_Mapping[Unit translation name],\"\"),\"\")","v":""},{"$f":"IF(OR(E129<>0,F129<>0,G129<>0),_xlfn.XLOOKUP(SelectedCategory,CDT_Mapping[Translation Name],CDT_Mapping[ID],\"\"),\"\")","v":""},"",{"$f":"_xlfn.XLOOKUP(E129,ZCDT_EXPORT_2[CDT Leaf],ZCDT_EXPORT_2[Leaf Node ID],\"\")","v":""},null,null,null,null,null,null,null,null,null,null,null,null,null,null,null,"",null,null,null,null,null,null,null,""]
[{"$f":"IF(OR(E130<>0,F130<>0,G130<>0),_xlfn.XLOOKUP(SelectedCategory,CDT_Mapping[Translation Name],CDT_Mapping[Unit translation name],\"\"),\"\")","v":""},{"$f":"IF(OR(E130<>0,F130<>0,G130<>0),_xlfn.XLOOKUP(SelectedCategory,CDT_Mapping[Translation Name],CDT_Mapping[ID],\"\"),\"\")","v":""},"",{"$f":"_xlfn.XLOOKUP(E130,ZCDT_EXPORT_2[CDT Leaf],ZCDT_EXPORT_2[Leaf Node ID],\"\")","v":""},null,null,null,null,null,null,null,null,null,null,null,null,null,null,null,"",null,null,null,null,null,null,null,""]
[{"$f":"IF(OR(E131<>0,F131<>0,G131<>0),_xlfn.XLOOKUP(SelectedCategory,CDT_Mapping[Translation Name],CDT_Mapping[Unit translation name],\"\"),\"\")","v":""},{"$f":"IF(OR(E131<>0,F131<>0,G131<>0),_xlfn.XLOOKUP(SelectedCategory,CDT_Mapping[Translation Name],CDT_Mapping[ID],\"\"),\"\")","v":""},"",{"$f":"_xlfn.XLOOKUP(E131,ZCDT_EXPORT_2[CDT Leaf],ZCDT_EXPORT_2[Leaf Node ID],\"\")","v":""},null,null,null,null,null,null,null,null,null,null,null,null,null,null,null,"",null,null,null,null,null,null,null,""]
[{"$f":"IF(OR(E132<>0,F132<>0,G132<>0),_xlfn.XLOOKUP(SelectedCategory,CDT_Mapping[Translation Name],CDT_Mapping[Unit translation name],\"\"),\"\")","v":""},{"$f":"IF(OR(E132<>0,F132<>0,G132<>0),_xlfn.XLOOKUP(SelectedCategory,CDT_Mapping[Translation Name],CDT_Mapping[ID],\"\"),\"\")","v":""},"",{"$f":"_xlfn.XLOOKUP(E132,ZCDT_EXPORT_2[CDT Leaf],ZCDT_EXPORT_2[Leaf Node ID],\"\")","v":""},null,null,null,null,null,null,null,null,null,null,null,null,null,null,null,"",null,null,null,null,null,null,null,""]
[{"$f":"IF(OR(E133<>0,F133<>0,G133<>0),_xlfn.XLOOKUP(SelectedCategory,CDT_Mapping[Translation Name],CDT_Mapping[Unit translation name],\"\"),\"\")","v":""},{"$f":"IF(OR(E133<>0,F133<>0,G133<>0),_xlfn.XLOOKUP(SelectedCategory,CDT_Mapping[Translation Name],CDT_Mapping[ID],\"\"),\"\")","v":""},"",{"$f":"_xlfn.XLOOKUP(E133,ZCDT_EXPORT_2[CDT Leaf],ZCDT_EXPORT_2[Leaf Node ID],\"\")","v":""},null,null,null,null,null,null,null,null,null,null,null,null,null,null,null,"",null,null,null,null,null,null,null,""]
[{"$f":"IF(OR(E134<>0,F134<>0,G134<>0),_xlfn.XLOOKUP(SelectedCategory,CDT_Mapping[Translation Name],CDT_Mapping[Unit translation name],\"\"),\"\")","v":""},{"$f":"IF(OR(E134<>0,F134<>0,G134<>0),_xlfn.XLOOKUP(SelectedCategory,CDT_Mapping[Translation Name],CDT_Mapping[ID],\"\"),\"\")","v":""},"",{"$f":"_xlfn.XLOOKUP(E134,ZCDT_EXPORT_2[CDT Leaf],ZCDT_EXPORT_2[Leaf Node ID],\"\")","v":""},null,null,null,null,null,null,null,null,null,null,null,null,null,null,null,"",null,null,null,null,null,null,null,""]
[{"$f":"IF(OR(E135<>0,F135<>0,G135<>0),_xlfn.XLOOKUP(SelectedCategory,CDT_Mapping[Translation Name],CDT_Mapping[Unit translation name],\"\"),\"\")","v":""},{"$f":"IF(OR(E135<>0,F135<>0,G135<>0),_xlfn.XLOOKUP(SelectedCategory,CDT_Mapping[Translation Name],CDT_Mapping[ID],\"\"),\"\")","v":""},"",{"$f":"_xlfn.XLOOKUP(E135,ZCDT_EXPORT_2[CDT Leaf],ZCDT_EXPORT_2[Leaf Node ID],\"\")","v":""},null,null,null,null,null,null,null,null,null,null,null,null,null,null,null,"",null,null,null,null,null,null,null,""]
[{"$f":"IF(OR(E136<>0,F136<>0,G136<>0),_xlfn.XLOOKUP(SelectedCategory,CDT_Mapping[Translation Name],CDT_Mapping[Unit translation name],\"\"),\"\")","v":""},{"$f":"IF(OR(E136<>0,F136<>0,G136<>0),_xlfn.XLOOKUP(SelectedCategory,CDT_Mapping[Translation Name],CDT_Mapping[ID],\"\"),\"\")","v":""},"",{"$f":"_xlfn.XLOOKUP(E136,ZCDT_EXPORT_2[CDT Leaf],ZCDT_EXPORT_2[Leaf Node ID],\"\")","v":""},null,null,null,null,null,null,null,null,null,null,null,null,null,null,null,"",null,null,null,null,null,null,null,""]
[{"$f":"IF(OR(E137<>0,F137<>0,G137<>0),_xlfn.XLOOKUP(SelectedCategory,CDT_Mapping[Translation Name],CDT_Mapping[Unit translation name],\"\"),\"\")","v":""},{"$f":"IF(OR(E137<>0,F137<>0,G137<>0),_xlfn.XLOOKUP(SelectedCategory,CDT_Mapping[Translation Name],CDT_Mapping[ID],\"\"),\"\")","v":""},"",{"$f":"_xlfn.XLOOKUP(E137,ZCDT_EXPORT_2[CDT Leaf],ZCDT_EXPORT_2[Leaf Node ID],\"\")","v":""},null,null,null,null,null,null,null,null,null,null,null,null,null,null,null,"",null,null,null,null,null,null,null,""]
[{"$f":"IF(OR(E138<>0,F138<>0,G138<>0),_xlfn.XLOOKUP(SelectedCategory,CDT_Mapping[Translation Name],CDT_Mapping[Unit translation name],\"\"),\"\")","v":""},{"$f":"IF(OR(E138<>0,F138<>0,G138<>0),_xlfn.XLOOKUP(SelectedCategory,CDT_Mapping[Translation Name],CDT_Mapping[ID],\"\"),\"\")","v":""},{"$f":"IF(OR(E138<>0,F138<>0,G138<>0),SelectedCategory,\"\")","v":""},{"$f":"_xlfn.XLOOKUP(E138,ZCDT_EXPORT_2[CDT Leaf],ZCDT_EXPORT_2[Leaf Node ID],\"\")","v":""},null,null,null,null,null,null,null,null,null,null,null,null,null,null,null,"",null,null,null,null,null,null,null,""]
[{"$f":"IF(OR(E139<>0,F139<>0,G139<>0),_xlfn.XLOOKUP(SelectedCategory,CDT_Mapping[Translation Name],CDT_Mapping[Unit translation name],\"\"),\"\")","v":""},{"$f":"IF(OR(E139<>0,F139<>0,G139<>0),_xlfn.XLOOKUP(SelectedCategory,CDT_Mapping[Translation Name],CDT_Mapping[ID],\"\"),\"\")","v":""},"",{"$f":"_xlfn.XLOOKUP(E139,ZCDT_EXPORT_2[CDT Leaf],ZCDT_EXPORT_2[Leaf Node ID],\"\")","v":""},null,null,null,null,null,null,null,null,null,null,null,null,null,null,null,{"$f":"IF(AND(R139<>0,U139<>0),IFERROR(R139/U139,\"\"),\"\")","v":""},null,null,null,null,null,null,null,{"$f":"IF(AND(AA139<>0,U139<>0),IFERROR(AA139*U139,\"\"),\"\")","v":""}]
[{"$f":"IF(OR(E140<>0,F140<>0,G140<>0),_xlfn.XLOOKUP(SelectedCategory,CDT_Mapping[Translation Name],CDT_Mapping[Unit translation name],\"\"),\"\")","v":""},{"$f":"IF(OR(E140<>0,F140<>0,G140<>0),_xlfn.XLOOKUP(SelectedCategory,CDT_Mapping[Translation Name],CDT_Mapping[ID],\"\"),\"\")","v":""},"",{"$f":"_xlfn.XLOOKUP(E140,ZCDT_EXPORT_2[CDT Leaf],ZCDT_EXPORT_2[Leaf Node ID],\"\")","v":""},null,null,null,null,null,null,null,null,null,null,null,null,null,null,null,"",null,null,null,null,null,null,null,""]
[{"$f":"IF(OR(E141<>0,F141<>0,G141<>0),_xlfn.XLOOKUP(SelectedCategory,CDT_Mapping[Translation Name],CDT_Mapping[Unit translation name],\"\"),\"\")","v":""},{"$f":"IF(OR(E141<>0,F141<>0,G141<>0),_xlfn.XLOOKUP(SelectedCategory,CDT_Mapping[Translation Name],CDT_Mapping[ID],\"\"),\"\")","v":""},"",{"$f":"_xlfn.XLOOKUP(E141,ZCDT_EXPORT_2[CDT Leaf],ZCDT_EXPORT_2[Leaf Node ID],\"\")","v":""},null,null,null,null,null,null,null,null,null,null,null,null,null,null,null,"",null,null,null,null,null,null,null,""]
[{"$f":"IF(OR(E142<>0,F142<>0,G142<>0),_xlfn.XLOOKUP(SelectedCategory,CDT_Mapping[Translation Name],CDT_Mapping[Unit translation name],\"\"),\"\")","v":""},{"$f":"IF(OR(E142<>0,F142<>0,G142<>0),_xlfn.XLOOKUP(SelectedCategory,CDT_Mapping[Translation Name],CDT_Mapping[ID],\"\"),\"\")","v":""},"",{"$f":"_xlfn.XLOOKUP(E142,ZCDT_EXPORT_2[CDT Leaf],ZCDT_EXPORT_2[Leaf Node ID],\"\")","v":""},null,null,null,null,null,null,null,null,null,null,null,null,null,null,null,"",null,null,null,null,null,null,null,""]
[{"$f":"IF(OR(E143<>0,F143<>0,G143<>0),_xlfn.XLOOKUP(SelectedCategory,CDT_Mapping[Translation Name],CDT_Mapping[Unit translation name],\"\"),\"\")","v":""},{"$f":"IF(OR(E143<>0,F143<>0,G143<>0),_xlfn.XLOOKUP(SelectedCategory,CDT_Mapping[Translation Name],CDT_Mapping[ID],\"\"),\"\")","v":""},"",{"$f":"_xlfn.XLOOKUP(E143,ZCDT_EXPORT_2[CDT Leaf],ZCDT_EXPORT_2[Leaf Node ID],\"\")","v":""},null,null,null,null,null,null,null,null,null,null,null,null,null,null,null,"",null,null,null,null,null,null,null,""]
[{"$f":"IF(OR(E144<>0,F144<>0,G144<>0),_xlfn.XLOOKUP(SelectedCategory,CDT_Mapping[Translation Name],CDT_Mapping[Unit translation name],\"\"),\"\")","v":""},{"$f":"IF(OR(E144<>0,F144<>0,G144<>0),_xlfn.XLOOKUP(SelectedCategory,CDT_Mapping[Translation Name],CDT_Mapping[ID],\"\"),\"\")","v":""},"",{"$f":"_xlfn.XLOOKUP(E144,ZCDT_EXPORT_2[CDT Leaf],ZCDT_EXPORT_2[Leaf Node ID],\"\")","v":""},null,null,null,null,null,null,null,null,null,null,null,null,null,null,null,"",null,null,null,null,null,null,null,""]
[{"$f":"IF(OR(E145<>0,F145<>0,G145<>0),_xlfn.XLOOKUP(SelectedCategory,CDT_Mapping[Translation Name],CDT_Mapping[Unit translation name],\"\"),\"\")","v":""},{"$f":"IF(OR(E145<>0,F145<>0,G145<>0),_xlfn.XLOOKUP(SelectedCategory,CDT_Mapping[Translation Name],CDT_Mapping[ID],\"\"),\"\")","v":""},"",{"$f":"_xlfn.XLOOKUP(E145,ZCDT_EXPORT_2[CDT Leaf],ZCDT_EXPORT_2[Leaf Node ID],\"\")","v":""},null,null,null,null,null,null,null,null,null,null,null,null,null,null,null,"",null,null,null,null,null,null,null,""]
[{"$f":"IF(OR(E146<>0,F146<>0,G146<>0),_xlfn.XLOOKUP(SelectedCategory,CDT_Mapping[Translation Name],CDT_Mapping[Unit translation name],\"\"),\"\")","v":""},{"$f":"IF(OR(E146<>0,F146<>0,G146<>0),_xlfn.XLOOKUP(SelectedCategory,CDT_Mapping[Translation Name],CDT_Mapping[ID],\"\"),\"\")","v":""},"",{"$f":"_xlfn.XLOOKUP(E146,ZCDT_EXPORT_2[CDT Leaf],ZCDT_EXPORT_2[Leaf Node ID],\"\")","v":""},null,null,null,null,null,null,null,null,null,null,null,null,null,null,null,"",null,null,null,null,null,null,null,""]
[{"$f":"IF(OR(E147<>0,F147<>0,G147<>0),_xlfn.XLOOKUP(SelectedCategory,CDT_Mapping[Translation Name],CDT_Mapping[Unit translation name],\"\"),\"\")","v":""},{"$f":"IF(OR(E147<>0,F147<>0,G147<>0),_xlfn.XLOOKUP(SelectedCategory,CDT_Mapping[Translation Name],CDT_Mapping[ID],\"\"),\"\")","v":""},"",{"$f":"_xlfn.XLOOKUP(E147,ZCDT_EXPORT_2[CDT Leaf],ZCDT_EXPORT_2[Leaf Node ID],\"\")","v":""},null,null,null,null,null,null,null,null,null,null,null,null,null,null,null,"",null,null,null,null,null,null,null,""]
[{"$f":"IF(OR(E148<>0,F148<>0,G148<>0),_xlfn.XLOOKUP(SelectedCategory,CDT_Mapping[Translation Name],CDT_Mapping[Unit translation name],\"\"),\"\")","v":""},{"$f":"IF(OR(E148<>0,F148<>0,G148<>0),_xlfn.XLOOKUP(SelectedCategory,CDT_Mapping[Translation Name],CDT_Mapping[ID],\"\"),\"\")","v":""},"",{"$f":"_xlfn.XLOOKUP(E148,ZCDT_EXPORT_2[CDT Leaf],ZCDT_EXPORT_2[Leaf Node ID],\"\")","v":""},null,null,null,null,null,null,null,null,null,null,null,null,null,null,null,"",null,null,null,null,null,null,null,""]
[{"$f":"IF(OR(E149<>0,F149<>0,G149<>0),_xlfn.XLOOKUP(SelectedCategory,CDT_Mapping[Translation Name],CDT_Mapping[Unit translation name],\"\"),\"\")","v":""},{"$f":"IF(OR(E149<>0,F149<>0,G149<>0),_xlfn.XLOOKUP(SelectedCategory,CDT_Mapping[Translation Name],CDT_Mapping[ID],\"\"),\"\")","v":""},"",{"$f":"_xlfn.XLOOKUP(E149,ZCDT_EXPORT_2[CDT Leaf],ZCDT_EXPORT_2[Leaf Node ID],\"\")","v":""},null,null,null,null,null,null,null,null,null,null,null,null,null,null,null,"",null,null,null,null,null,null,null,""]
[{"$f":"IF(OR(E150<>0,F150<>0,G150<>0),_xlfn.XLOOKUP(SelectedCategory,CDT_Mapping[Translation Name],CDT_Mapping[Unit translation name],\"\"),\"\")","v":""},{"$f":"IF(OR(E150<>0,F150<>0,G150<>0),_xlfn.XLOOKUP(SelectedCategory,CDT_Mapping[Translation Name],CDT_Mapping[ID],\"\"),\"\")","v":""},"",{"$f":"_xlfn.XLOOKUP(E150,ZCDT_EXPORT_2[CDT Leaf],ZCDT_EXPORT_2[Leaf Node ID],\"\")","v":""},null,null,null,null,null,null,null,null,null,null,null,null,null,null,null,"",null,null,null,null,null,null,null,""]
[{"$f":"IF(OR(E151<>0,F151<>0,G151<>0),_xlfn.XLOOKUP(SelectedCategory,CDT_Mapping[Translation Name],CDT_Mapping[Unit translation name],\"\"),\"\")","v":""},{"$f":"IF(OR(E151<>0,F151<>0,G151<>0),_xlfn.XLOOKUP(SelectedCategory,CDT_Mapping[Translation Name],CDT_Mapping[ID],\"\"),\"\")","v":""},"",{"$f":"_xlfn.XLOOKUP(E151,ZCDT_EXPORT_2[CDT Leaf],ZCDT_EXPORT_2[Leaf Node ID],\"\")","v":""},null,null,null,null,null,null,null,null,null,null,null,null,null,null,null,"",null,null,null,null,null,null,null,""]
[{"$f":"IF(OR(E152<>0,F152<>0,G152<>0),_xlfn.XLOOKUP(SelectedCategory,CDT_Mapping[Translation Name],CDT_Mapping[Unit translation name],\"\"),\"\")","v":""},{"$f":"IF(OR(E152<>0,F152<>0,G152<>0),_xlfn.XLOOKUP(SelectedCategory,CDT_Mapping[Translation Name],CDT_Mapping[ID],\"\"),\"\")","v":""},"",{"$f":"_xlfn.XLOOKUP(E152,ZCDT_EXPORT_2[CDT Leaf],ZCDT_EXPORT_2[Leaf Node ID],\"\")","v":""},null,null,null,null,null,null,null,null,null,null,null,null,null,null,null,"",null,null,null,null,null,null,null,""]
[{"$f":"IF(OR(E153<>0,F153<>0,G153<>0),_xlfn.XLOOKUP(SelectedCategory,CDT_Mapping[Translation Name],CDT_Mapping[Unit translation name],\"\"),\"\")","v":""},{"$f":"IF(OR(E153<>0,F153<>0,G153<>0),_xlfn.XLOOKUP(SelectedCategory,CDT_Mapping[Translation Name],CDT_Mapping[ID],\"\"),\"\")","v":""},"",{"$f":"_xlfn.XLOOKUP(E153,ZCDT_EXPORT_2[CDT Leaf],ZCDT_EXPORT_2[Leaf Node ID],\"\")","v":""},null,null,null,null,null,null,null,null,null,null,null,null,null,null,null,"",null,null,null,null,null,null,null,""]
[{"$f":"IF(OR(E154<>0,F154<>0,G154<>0),_xlfn.XLOOKUP(SelectedCategory,CDT_Mapping[Translation Name],CDT_Mapping[Unit translation name],\"\"),\"\")","v":""},{"$f":"IF(OR(E154<>0,F154<>0,G154<>0),_xlfn.XLOOKUP(SelectedCategory,CDT_Mapping[Translation Name],CDT_Mapping[ID],\"\"),\"\")","v":""},"",{"$f":"_xlfn.XLOOKUP(E154,ZCDT_EXPORT_2[CDT Leaf],ZCDT_EXPORT_2[Leaf Node ID],\"\")","v":""},null,null,null,null,null,null,null,null,null,null,null,null,null,null,null,"",null,null,null,null,null,null,null,""]
[{"$f":"IF(OR(E155<>0,F155<>0,G155<>0),_xlfn.XLOOKUP(SelectedCategory,CDT_Mapping[Translation Name],CDT_Mapping[Unit translation name],\"\"),\"\")","v":""},{"$f":"IF(OR(E155<>0,F155<>0,G155<>0),_xlfn.XLOOKUP(SelectedCategory,CDT_Mapping[Translation Name],CDT_Mapping[ID],\"\"),\"\")","v":""},"",{"$f":"_xlfn.XLOOKUP(E155,ZCDT_EXPORT_2[CDT Leaf],ZCDT_EXPORT_2[Leaf Node ID],\"\")","v":""},null,null,null,null,null,null,null,null,null,null,null,null,null,null,null,"",null,null,null,null,null,null,null,""]
[{"$f":"IF(OR(E156<>0,F156<>0,G156<>0),_xlfn.XLOOKUP(SelectedCategory,CDT_Mapping[Translation Name],CDT_Mapping[Unit translation name],\"\"),\"\")","v":""},{"$f":"IF(OR(E156<>0,F156<>0,G156<>0),_xlfn.XLOOKUP(SelectedCategory,CDT_Mapping[Translation Name],CDT_Mapping[ID],\"\"),\"\")","v":""},"",{"$f":"_xlfn.XLOOKUP(E156,ZCDT_EXPORT_2[CDT Leaf],ZCDT_EXPORT_2[Leaf Node ID],\"\")","v":""},null,null,null,null,null,null,null,null,null,null,null,null,null,null,null,"",null,null,null,null,null,null,null,""]
[{"$f":"IF(OR(E157<>0,F157<>0,G157<>0),_xlfn.XLOOKUP(SelectedCategory,CDT_Mapping[Translation Name],CDT_Mapping[Unit translation name],\"\"),\"\")","v":""},{"$f":"IF(OR(E157<>0,F157<>0,G157<>0),_xlfn.XLOOKUP(SelectedCategory,CDT_Mapping[Translation Name],CDT_Mapping[ID],\"\"),\"\")","v":""},"",{"$f":"_xlfn.XLOOKUP(E157,ZCDT_EXPORT_2[CDT Leaf],ZCDT_EXPORT_2[Leaf Node ID],\"\")","v":""},null,null,null,null,null,null,null,null,null,null,null,null,null,null,null,"",null,null,null,null,null,null,null,""]
[{"$f":"IF(OR(E158<>0,F158<>0,G158<>0),_xlfn.XLOOKUP(SelectedCategory,CDT_Mapping[Translation Name],CDT_Mapping[Unit translation name],\"\"),\"\")","v":""},{"$f":"IF(OR(E158<>0,F158<>0,G158<>0),_xlfn.XLOOKUP(SelectedCategory,CDT_Mapping[Translation Name],CDT_Mapping[ID],\"\"),\"\")","v":""},"",{"$f":"_xlfn.XLOOKUP(E158,ZCDT_EXPORT_2[CDT Leaf],ZCDT_EXPORT_2[Leaf Node ID],\"\")","v":""},null,null,null,null,null,null,null,null,null,null,null,null,null,null,null,"",null,null,null,null,null,null,null,""]
[{"$f":"IF(OR(E159<>0,F159<>0,G159<>0),_xlfn.XLOOKUP(SelectedCategory,CDT_Mapping[Translation Name],CDT_Mapping[Unit translation name],\"\"),\"\")","v":""},{"$f":"IF(OR(E159<>0,F159<>0,G159<>0),_xlfn.XLOOKUP(SelectedCategory,CDT_Mapping[Translation Name],CDT_Mapping[ID],\"\"),\"\")","v":""},"",{"$f":"_xlfn.XLOOKUP(E159,ZCDT_EXPORT_2[CDT Leaf],ZCDT_EXPORT_2[Leaf Node ID],\"\")","v":""},null,null,null,null,null,null,null,null,null,null,null,null,null,null,null,"",null,null,null,null,null,null,null,""]
[{"$f":"IF(OR(E160<>0,F160<>0,G160<>0),_xlfn.XLOOKUP(SelectedCategory,CDT_Mapping[Translation Name],CDT_Mapping[Unit translation name],\"\"),\"\")","v":""},{"$f":"IF(OR(E160<>0,F160<>0,G160<>0),_xlfn.XLOOKUP(SelectedCategory,CDT_Mapping[Translation Name],CDT_Mapping[ID],\"\"),\"\")","v":""},"",{"$f":"_xlfn.XLOOKUP(E160,ZCDT_EXPORT_2[CDT Leaf],ZCDT_EXPORT_2[Leaf Node ID],\"\")","v":""},null,null,null,null,null,null,null,null,null,null,null,null,null,null,null,"",null,null,null,null,null,null,null,""]
[{"$f":"IF(OR(E161<>0,F161<>0,G161<>0),_xlfn.XLOOKUP(SelectedCategory,CDT_Mapping[Translation Name],CDT_Mapping[Unit translation name],\"\"),\"\")","v":""},{"$f":"IF(OR(E161<>0,F161<>0,G161<>0),_xlfn.XLOOKUP(SelectedCategory,CDT_Mapping[Translation Name],CDT_Mapping[ID],\"\"),\"\")","v":""},"",{"$f":"_xlfn.XLOOKUP(E161,ZCDT_EXPORT_2[CDT Leaf],ZCDT_EXPORT_2[Leaf Node ID],\"\")","v":""},null,null,null,null,null,null,null,null,null,null,null,null,null,null,null,"",null,null,null,null,null,null,null,""]
[{"$f":"IF(OR(E162<>0,F162<>0,G162<>0),_xlfn.XLOOKUP(SelectedCategory,CDT_Mapping[Translation Name],CDT_Mapping[Unit translation name],\"\"),\"\")","v":""},{"$f":"IF(OR(E162<>0,F162<>0,G162<>0),_xlfn.XLOOKUP(SelectedCategory,CDT_Mapping[Translation Name],CDT_Mapping[ID],\"\"),\"\")","v":""},"",{"$f":"_xlfn.XLOOKUP(E162,ZCDT_EXPORT_2[CDT Leaf],ZCDT_EXPORT_2[Leaf Node ID],\"\")","v":""},null,null,null,null,null,null,null,null,null,null,null,null,null,null,null,"",null,null,null,null,null,null,null,""]
[{"$f":"IF(OR(E163<>0,F163<>0,G163<>0),_xlfn.XLOOKUP(SelectedCategory,CDT_Mapping[Translation Name],CDT_Mapping[Unit translation name],\"\"),\"\")","v":""},{"$f":"IF(OR(E163<>0,F163<>0,G163<>0),_xlfn.XLOOKUP(SelectedCategory,CDT_Mapping[Translation Name],CDT_Mapping[ID],\"\"),\"\")","v":""},"",{"$f":"_xlfn.XLOOKUP(E163,ZCDT_EXPORT_2[CDT Leaf],ZCDT_EXPORT_2[Leaf Node ID],\"\")","v":""},null,null,null,null,null,null,null,null,null,null,null,null,null,null,null,"",null,null,null,null,null,null,null,""]
[{"$f":"IF(OR(E164<>0,F164<>0,G164<>0),_xlfn.XLOOKUP(SelectedCategory,CDT_Mapping[Translation Name],CDT_Mapping[Unit translation name],\"\"),\"\")","v":""},{"$f":"IF(OR(E164<>0,F164<>0,G164<>0),_xlfn.XLOOKUP(SelectedCategory,CDT_Mapping[Translation Name],CDT_Mapping[ID],\"\"),\"\")","v":""},"",{"$f":"_xlfn.XLOOKUP(E164,ZCDT_EXPORT_2[CDT Leaf],ZCDT_EXPORT_2[Leaf Node ID],\"\")","v":""},null,null,null,null,null,null,null,null,null,null,null,null,null,null,null,"",null,null,null,null,null,null,null,""]
[{"$f":"IF(OR(E165<>0,F165<>0,G165<>0),_xlfn.XLOOKUP(SelectedCategory,CDT_Mapping[Translation Name],CDT_Mapping[Unit translation name],\"\"),\"\")","v":""},{"$f":"IF(OR(E165<>0,F165<>0,G165<>0),_xlfn.XLOOKUP(SelectedCategory,CDT_Mapping[Translation Name],CDT_Mapping[ID],\"\"),\"\")","v":""},"",{"$f":"_xlfn.XLOOKUP(E165,ZCDT_EXPORT_2[CDT Leaf],ZCDT_EXPORT_2[Leaf Node ID],\"\")","v":""},null,null,null,null,null,null,null,null,null,null,null,null,null,null,null,"",null,null,null,null,null,null,null,""]
[{"$f":"IF(OR(E166<>0,F166<>0,G166<>0),_xlfn.XLOOKUP(SelectedCategory,CDT_Mapping[Translation Name],CDT_Mapping[Unit translation name],\"\"),\"\")","v":""},{"$f":"IF(OR(E166<>0,F166<>0,G166<>0),_xlfn.XLOOKUP(SelectedCategory,CDT_Mapping[Translation Name],CDT_Mapping[ID],\"\"),\"\")","v":""},"",{"$f":"_xlfn.XLOOKUP(E166,ZCDT_EXPORT_2[CDT Leaf],ZCDT_EXPORT_2[Leaf Node ID],\"\")","v":""},null,null,null,null,null,null,null,null,null,null,null,null,null,null,null,"",null,null,null,null,null,null,null,""]
[{"$f":"IF(OR(E167<>0,F167<>0,G167<>0),_xlfn.XLOOKUP(SelectedCategory,CDT_Mapping[Translation Name],CDT_Mapping[Unit translation name],\"\"),\"\")","v":""},{"$f":"IF(OR(E167<>0,F167<>0,G167<>0),_xlfn.XLOOKUP(SelectedCategory,CDT_Mapping[Translation Name],CDT_Mapping[ID],\"\"),\"\")","v":""},"",{"$f":"_xlfn.XLOOKUP(E167,ZCDT_EXPORT_2[CDT Leaf],ZCDT_EXPORT_2[Leaf Node ID],\"\")","v":""},null,null,null,null,null,null,null,null,null,null,null,null,null,null,null,"",null,null,null,null,null,null,null,""]
[{"$f":"IF(OR(E168<>0,F168<>0,G168<>0),_xlfn.XLOOKUP(SelectedCategory,CDT_Mapping[Translation Name],CDT_Mapping[Unit translation name],\"\"),\"\")","v":""},{"$f":"IF(OR(E168<>0,F168<>0,G168<>0),_xlfn.XLOOKUP(SelectedCategory,CDT_Mapping[Translation Name],CDT_Mapping[ID],\"\"),\"\")","v":""},"",{"$f":"_xlfn.XLOOKUP(E168,ZCDT_EXPORT_2[CDT Leaf],ZCDT_EXPORT_2[Leaf Node ID],\"\")","v":""},null,null,null,null,null,null,null,null,null,null,null,null,null,null,null,"",null,null,null,null,null,null,null,""]
[{"$f":"IF(OR(E169<>0,F169<>0,G169<>0),_xlfn.XLOOKUP(SelectedCategory,CDT_Mapping[Translation Name],CDT_Mapping[Unit translation name],\"\"),\"\")","v":""},{"$f":"IF(OR(E169<>0,F169<>0,G169<>0),_xlfn.XLOOKUP(SelectedCategory,CDT_Mapping[Translation Name],CDT_Mapping[ID],\"\"),\"\")","v":""},"",{"$f":"_xlfn.XLOOKUP(E169,ZCDT_EXPORT_2[CDT Leaf],ZCDT_EXPORT_2[Leaf Node ID],\"\")","v":""},null,null,null,null,null,null,null,null,null,null,null,null,null,null,null,"",null,null,null,null,null,null,null,""]
[{"$f":"IF(OR(E170<>0,F170<>0,G170<>0),_xlfn.XLOOKUP(SelectedCategory,CDT_Mapping[Translation Name],CDT_Mapping[Unit translation name],\"\"),\"\")","v":""},{"$f":"IF(OR(E170<>0,F170<>0,G170<>0),_xlfn.XLOOKUP(SelectedCategory,CDT_Mapping[Translation Name],CDT_Mapping[ID],\"\"),\"\")","v":""},"",{"$f":"_xlfn.XLOOKUP(E170,ZCDT_EXPORT_2[CDT Leaf],ZCDT_EXPORT_2[Leaf Node ID],\"\")","v":""},null,null,null,null,null,null,null,null,null,null,null,null,null,null,null,"",null,null,null,null,null,null,null,""]
[{"$f":"IF(OR(E171<>0,F171<>0,G171<>0),_xlfn.XLOOKUP(SelectedCategory,CDT_Mapping[Translation Name],CDT_Mapping[Unit translation name],\"\"),\"\")","v":""},{"$f":"IF(OR(E171<>0,F171<>0,G171<>0),_xlfn.XLOOKUP(SelectedCategory,CDT_Mapping[Translation Name],CDT_Mapping[ID],\"\"),\"\")","v":""},"",{"$f":"_xlfn.XLOOKUP(E171,ZCDT_EXPORT_2[CDT Leaf],ZCDT_EXPORT_2[Leaf Node ID],\"\")","v":""},null,null,null,null,null,null,null,null,null,null,null,null,null,null,null,"",null,null,null,null,null,null,null,""]
[{"$f":"IF(OR(E172<>0,F172<>0,G172<>0),_xlfn.XLOOKUP(SelectedCategory,CDT_Mapping[Translation Name],CDT_Mapping[Unit translation name],\"\"),\"\")","v":""},{"$f":"IF(OR(E172<>0,F172<>0,G172<>0),_xlfn.XLOOKUP(SelectedCategory,CDT_Mapping[Translation Name],CDT_Mapping[ID],\"\"),\"\")","v":""},"",{"$f":"_xlfn.XLOOKUP(E172,ZCDT_EXPORT_2[CDT Leaf],ZCDT_EXPORT_2[Leaf Node ID],\"\")","v":""},null,null,null,null,null,null,null,null,null,null,null,null,null,null,null,"",null,null,null,null,null,null,null,""]
[{"$f":"IF(OR(E173<>0,F173<>0,G173<>0),_xlfn.XLOOKUP(SelectedCategory,CDT_Mapping[Translation Name],CDT_Mapping[Unit translation name],\"\"),\"\")","v":""},{"$f":"IF(OR(E173<>0,F173<>0,G173<>0),_xlfn.XLOOKUP(SelectedCategory,CDT_Mapping[Translation Name],CDT_Mapping[ID],\"\"),\"\")","v":""},"",{"$f":"_xlfn.XLOOKUP(E173,ZCDT_EXPORT_2[CDT Leaf],ZCDT_EXPORT_2[Leaf Node ID],\"\")","v":""},null,null,null,null,null,null,null,null,null,null,null,null,null,null,null,"",null,null,null,null,null,null,null,""]
[{"$f":"IF(OR(E174<>0,F174<>0,G174<>0),_xlfn.XLOOKUP(SelectedCategory,CDT_Mapping[Translation Name],CDT_Mapping[Unit translation name],\"\"),\"\")","v":""},{"$f":"IF(OR(E174<>0,F174<>0,G174<>0),_xlfn.XLOOKUP(SelectedCategory,CDT_Mapping[Translation Name],CDT_Mapping[ID],\"\"),\"\")","v":""},"",{"$f":"_xlfn.XLOOKUP(E174,ZCDT_EXPORT_2[CDT Leaf],ZCDT_EXPORT_2[Leaf Node ID],\"\")","v":""},null,null,null,null,null,null,null,null,null,null,null,null,null,null,null,"",null,null,null,null,null,null,null,""]
[{"$f":"IF(OR(E175<>0,F175<>0,G175<>0),_xlfn.XLOOKUP(SelectedCategory,CDT_Mapping[Translation Name],CDT_Mapping[Unit translation name],\"\"),\"\")","v":""},{"$f":"IF(OR(E175<>0,F175<>0,G175<>0),_xlfn.XLOOKUP(SelectedCategory,CDT_Mapping[Translation Name],CDT_Mapping[ID],\"\"),\"\")","v":""},"",{"$f":"_xlfn.XLOOKUP(E175,ZCDT_EXPORT_2[CDT Leaf],ZCDT_EXPORT_2[Leaf Node ID],\"\")","v":""},null,null,null,null,null,null,null,null,null,null,null,null,null,null,null,"",null,null,null,null,null,null,null,""]
[{"$f":"IF(OR(E176<>0,F176<>0,G176<>0),_xlfn.XLOOKUP(SelectedCategory,CDT_Mapping[Translation Name],CDT_Mapping[Unit translation name],\"\"),\"\")","v":""},{"$f":"IF(OR(E176<>0,F176<>0,G176<>0),_xlfn.XLOOKUP(SelectedCategory,CDT_Mapping[Translation Name],CDT_Mapping[ID],\"\"),\"\")","v":""},"",{"$f":"_xlfn.XLOOKUP(E176,ZCDT_EXPORT_2[CDT Leaf],ZCDT_EXPORT_2[Leaf Node ID],\"\")","v":""},null,null,null,null,null,null,null,null,null,null,null,null,null,null,null,"",null,null,null,null,null,null,null,""]
[{"$f":"IF(OR(E177<>0,F177<>0,G177<>0),_xlfn.XLOOKUP(SelectedCategory,CDT_Mapping[Translation Name],CDT_Mapping[Unit translation name],\"\"),\"\")","v":""},{"$f":"IF(OR(E177<>0,F177<>0,G177<>0),_xlfn.XLOOKUP(SelectedCategory,CDT_Mapping[Translation Name],CDT_Mapping[ID],\"\"),\"\")","v":""},"",{"$f":"_xlfn.XLOOKUP(E177,ZCDT_EXPORT_2[CDT Leaf],ZCDT_EXPORT_2[Leaf Node ID],\"\")","v":""},null,null,null,null,null,null,null,null,null,null,null,null,null,null,null,"",null,null,null,null,null,null,null,""]
[{"$f":"IF(OR(E178<>0,F178<>0,G178<>0),_xlfn.XLOOKUP(SelectedCategory,CDT_Mapping[Translation Name],CDT_Mapping[Unit translation name],\"\"),\"\")","v":""},{"$f":"IF(OR(E178<>0,F178<>0,G178<>0),_xlfn.XLOOKUP(SelectedCategory,CDT_Mapping[Translation Name],CDT_Mapping[ID],\"\"),\"\")","v":""},"",{"$f":"_xlfn.XLOOKUP(E178,ZCDT_EXPORT_2[CDT Leaf],ZCDT_EXPORT_2[Leaf Node ID],\"\")","v":""},null,null,null,null,null,null,null,null,null,null,null,null,null,null,null,"",null,null,null,null,null,null,null,""]
[{"$f":"IF(OR(E179<>0,F179<>0,G179<>0),_xlfn.XLOOKUP(SelectedCategory,CDT_Mapping[Translation Name],CDT_Mapping[Unit translation name],\"\"),\"\")","v":""},{"$f":"IF(OR(E179<>0,F179<>0,G179<>0),_xlfn.XLOOKUP(SelectedCategory,CDT_Mapping[Translation Name],CDT_Mapping[ID],\"\"),\"\")","v":""},"",{"$f":"_xlfn.XLOOKUP(E179,ZCDT_EXPORT_2[CDT Leaf],ZCDT_EXPORT_2[Leaf Node ID],\"\")","v":""},null,null,null,null,null,null,null,null,null,null,null,null,null,null,null,"",null,null,null,null,null,null,null,""]
[{"$f":"IF(OR(E180<>0,F180<>0,G180<>0),_xlfn.XLOOKUP(SelectedCategory,CDT_Mapping[Translation Name],CDT_Mapping[Unit translation name],\"\"),\"\")","v":""},{"$f":"IF(OR(E180<>0,F180<>0,G180<>0),_xlfn.XLOOKUP(SelectedCategory,CDT_Mapping[Translation Name],CDT_Mapping[ID],\"\"),\"\")","v":""},"",{"$f":"_xlfn.XLOOKUP(E180,ZCDT_EXPORT_2[CDT Leaf],ZCDT_EXPORT_2[Leaf Node ID],\"\")","v":""},null,null,null,null,null,null,null,null,null,null,null,null,null,null,null,"",null,null,null,null,null,null,null,""]
[{"$f":"IF(OR(E181<>0,F181<>0,G181<>0),_xlfn.XLOOKUP(SelectedCategory,CDT_Mapping[Translation Name],CDT_Mapping[Unit translation name],\"\"),\"\")","v":""},{"$f":"IF(OR(E181<>0,F181<>0,G181<>0),_xlfn.XLOOKUP(SelectedCategory,CDT_Mapping[Translation Name],CDT_Mapping[ID],\"\"),\"\")","v":""},"",{"$f":"_xlfn.XLOOKUP(E181,ZCDT_EXPORT_2[CDT Leaf],ZCDT_EXPORT_2[Leaf Node ID],\"\")","v":""},null,null,null,null,null,null,null,null,null,null,null,null,null,null,null,"",null,null,null,null,null,null,null,""]
[{"$f":"IF(OR(E182<>0,F182<>0,G182<>0),_xlfn.XLOOKUP(SelectedCategory,CDT_Mapping[Translation Name],CDT_Mapping[Unit translation name],\"\"),\"\")","v":""},{"$f":"IF(OR(E182<>0,F182<>0,G182<>0),_xlfn.XLOOKUP(SelectedCategory,CDT_Mapping[Translation Name],CDT_Mapping[ID],\"\"),\"\")","v":""},"",{"$f":"_xlfn.XLOOKUP(E182,ZCDT_EXPORT_2[CDT Leaf],ZCDT_EXPORT_2[Leaf Node ID],\"\")","v":""},null,null,null,null,null,null,null,null,null,null,null,null,null,null,null,"",null,null,null,null,null,null,null,""]
[{"$f":"IF(OR(E183<>0,F183<>0,G183<>0),_xlfn.XLOOKUP(SelectedCategory,CDT_Mapping[Translation Name],CDT_Mapping[Unit translation name],\"\"),\"\")","v":""},{"$f":"IF(OR(E183<>0,F183<>0,G183<>0),_xlfn.XLOOKUP(SelectedCategory,CDT_Mapping[Translation Name],CDT_Mapping[ID],\"\"),\"\")","v":""},"",{"$f":"_xlfn.XLOOKUP(E183,ZCDT_EXPORT_2[CDT Leaf],ZCDT_EXPORT_2[Leaf Node ID],\"\")","v":""},null,null,null,null,null,null,null,null,null,null,null,null,null,null,null,"",null,null,null,null,null,null,null,""]
[{"$f":"IF(OR(E184<>0,F184<>0,G184<>0),_xlfn.XLOOKUP(SelectedCategory,CDT_Mapping[Translation Name],CDT_Mapping[Unit translation name],\"\"),\"\")","v":""},{"$f":"IF(OR(E184<>0,F184<>0,G184<>0),_xlfn.XLOOKUP(SelectedCategory,CDT_Mapping[Translation Name],CDT_Mapping[ID],\"\"),\"\")","v":""},"",{"$f":"_xlfn.XLOOKUP(E184,ZCDT_EXPORT_2[CDT Leaf],ZCDT_EXPORT_2[Leaf Node ID],\"\")","v":""},null,null,null,null,null,null,null,null,null,null,null,null,null,null,null,"",null,null,null,null,null,null,null,""]
[{"$f":"IF(OR(E185<>0,F185<>0,G185<>0),_xlfn.XLOOKUP(SelectedCategory,CDT_Mapping[Translation Name],CDT_Mapping[Unit translation name],\"\"),\"\")","v":""},{"$f":"IF(OR(E185<>0,F185<>0,G185<>0),_xlfn.XLOOKUP(SelectedCategory,CDT_Mapping[Translation Name],CDT_Mapping[ID],\"\"),\"\")","v":""},"",{"$f":"_xlfn.XLOOKUP(E185,ZCDT_EXPORT_2[CDT Leaf],ZCDT_EXPORT_2[Leaf Node ID],\"\")","v":""},null,null,null,null,null,null,null,null,null,null,null,null,null,null,null,"",null,null,null,null,null,null,null,""]
[{"$f":"IF(OR(E186<>0,F186<>0,G186<>0),_xlfn.XLOOKUP(SelectedCategory,CDT_Mapping[Translation Name],CDT_Mapping[Unit translation name],\"\"),\"\")","v":""},{"$f":"IF(OR(E186<>0,F186<>0,G186<>0),_xlfn.XLOOKUP(SelectedCategory,CDT_Mapping[Translation Name],CDT_Mapping[ID],\"\"),\"\")","v":""},"",{"$f":"_xlfn.XLOOKUP(E186,ZCDT_EXPORT_2[CDT Leaf],ZCDT_EXPORT_2[Leaf Node ID],\"\")","v":""},null,null,null,null,null,null,null,null,null,null,null,null,null,null,null,"",null,null,null,null,null,null,null,""]
[{"$f":"IF(OR(E187<>0,F187<>0,G187<>0),_xlfn.XLOOKUP(SelectedCategory,CDT_Mapping[Translation Name],CDT_Mapping[Unit translation name],\"\"),\"\")","v":""},{"$f":"IF(OR(E187<>0,F187<>0,G187<>0),_xlfn.XLOOKUP(SelectedCategory,CDT_Mapping[Translation Name],CDT_Mapping[ID],\"\"),\"\")","v":""},"",{"$f":"_xlfn.XLOOKUP(E187,ZCDT_EXPORT_2[CDT Leaf],ZCDT_EXPORT_2[Leaf Node ID],\"\")","v":""},null,null,null,null,null,null,null,null,null,null,null,null,null,null,null,"",null,null,null,null,null,null,null,""]
[{"$f":"IF(OR(E188<>0,F188<>0,G188<>0),_xlfn.XLOOKUP(SelectedCategory,CDT_Mapping[Translation Name],CDT_Mapping[Unit translation name],\"\"),\"\")","v":""},{"$f":"IF(OR(E188<>0,F188<>0,G188<>0),_xlfn.XLOOKUP(SelectedCategory,CDT_Mapping[Translation Name],CDT_Mapping[ID],\"\"),\"\")","v":""},"",{"$f":"_xlfn.XLOOKUP(E188,ZCDT_EXPORT_2[CDT Leaf],ZCDT_EXPORT_2[Leaf Node ID],\"\")","v":""},null,null,null,null,null,null,null,null,null,null,null,null,null,null,null,"",null,null,null,null,null,null,null,""]
[{"$f":"IF(OR(E189<>0,F189<>0,G189<>0),_xlfn.XLOOKUP(SelectedCategory,CDT_Mapping[Translation Name],CDT_Mapping[Unit translation name],\"\"),\"\")","v":""},{"$f":"IF(OR(E189<>0,F189<>0,G189<>0),_xlfn.XLOOKUP(SelectedCategory,CDT_Mapping[Translation Name],CDT_Mapping[ID],\"\"),\"\")","v":""},"",{"$f":"_xlfn.XLOOKUP(E189,ZCDT_EXPORT_2[CDT Leaf],ZCDT_EXPORT_2[Leaf Node ID],\"\")","v":""},null,null,null,null,null,null,null,null,null,null,null,null,null,null,null,"",null,null,null,null,null,null,null,""]
[{"$f":"IF(OR(E190<>0,F190<>0,G190<>0),_xlfn.XLOOKUP(SelectedCategory,CDT_Mapping[Translation Name],CDT_Mapping[Unit translation name],\"\"),\"\")","v":""},{"$f":"IF(OR(E190<>0,F190<>0,G190<>0),_xlfn.XLOOKUP(SelectedCategory,CDT_Mapping[Translation Name],CDT_Mapping[ID],\"\"),\"\")","v":""},"",{"$f":"_xlfn.XLOOKUP(E190,ZCDT_EXPORT_2[CDT Leaf],ZCDT_EXPORT_2[Leaf Node ID],\"\")","v":""},null,null,null,null,null,null,null,null,null,null,null,null,null,null,null,"",null,null,null,null,null,null,null,""]
[{"$f":"IF(OR(E191<>0,F191<>0,G191<>0),_xlfn.XLOOKUP(SelectedCategory,CDT_Mapping[Translation Name],CDT_Mapping[Unit translation name],\"\"),\"\")","v":""},{"$f":"IF(OR(E191<>0,F191<>0,G191<>0),_xlfn.XLOOKUP(SelectedCategory,CDT_Mapping[Translation Name],CDT_Mapping[ID],\"\"),\"\")","v":""},"",{"$f":"_xlfn.XLOOKUP(E191,ZCDT_EXPORT_2[CDT Leaf],ZCDT_EXPORT_2[Leaf Node ID],\"\")","v":""},null,null,null,null,null,null,null,null,null,null,null,null,null,null,null,"",null,null,null,null,null,null,null,""]
[{"$f":"IF(OR(E192<>0,F192<>0,G192<>0),_xlfn.XLOOKUP(SelectedCategory,CDT_Mapping[Translation Name],CDT_Mapping[Unit translation name],\"\"),\"\")","v":""},{"$f":"IF(OR(E192<>0,F192<>0,G192<>0),_xlfn.XLOOKUP(SelectedCategory,CDT_Mapping[Translation Name],CDT_Mapping[ID],\"\"),\"\")","v":""},"",{"$f":"_xlfn.XLOOKUP(E192,ZCDT_EXPORT_2[CDT Leaf],ZCDT_EXPORT_2[Leaf Node ID],\"\")","v":""},null,null,null,null,null,null,null,null,null,null,null,null,null,null,null,"",null,null,null,null,null,null,null,""]
[{"$f":"IF(OR(E193<>0,F193<>0,G193<>0),_xlfn.XLOOKUP(SelectedCategory,CDT_Mapping[Translation Name],CDT_Mapping[Unit translation name],\"\"),\"\")","v":""},{"$f":"IF(OR(E193<>0,F193<>0,G193<>0),_xlfn.XLOOKUP(SelectedCategory,CDT_Mapping[Translation Name],CDT_Mapping[ID],\"\"),\"\")","v":""},"",{"$f":"_xlfn.XLOOKUP(E193,ZCDT_EXPORT_2[CDT Leaf],ZCDT_EXPORT_2[Leaf Node ID],\"\")","v":""},null,null,null,null,null,null,null,null,null,null,null,null,null,null,null,"",null,null,null,null,null,null,null,""]
[{"$f":"IF(OR(E194<>0,F194<>0,G194<>0),_xlfn.XLOOKUP(SelectedCategory,CDT_Mapping[Translation Name],CDT_Mapping[Unit translation name],\"\"),\"\")","v":""},{"$f":"IF(OR(E194<>0,F194<>0,G194<>0),_xlfn.XLOOKUP(SelectedCategory,CDT_Mapping[Translation Name],CDT_Mapping[ID],\"\"),\"\")","v":""},"",{"$f":"_xlfn.XLOOKUP(E194,ZCDT_EXPORT_2[CDT Leaf],ZCDT_EXPORT_2[Leaf Node ID],\"\")","v":""},null,null,null,null,null,null,null,null,null,null,null,null,null,null,null,"",null,null,null,null,null,null,null,""]
[{"$f":"IF(OR(E195<>0,F195<>0,G195<>0),_xlfn.XLOOKUP(SelectedCategory,CDT_Mapping[Translation Name],CDT_Mapping[Unit translation name],\"\"),\"\")","v":""},{"$f":"IF(OR(E195<>0,F195<>0,G195<>0),_xlfn.XLOOKUP(SelectedCategory,CDT_Mapping[Translation Name],CDT_Mapping[ID],\"\"),\"\")","v":""},"",{"$f":"_xlfn.XLOOKUP(E195,ZCDT_EXPORT_2[CDT Leaf],ZCDT_EXPORT_2[Leaf Node ID],\"\")","v":""},null,null,null,null,null,null,null,null,null,null,null,null,null,null,null,"",null,null,null,null,null,null,null,""]
[{"$f":"IF(OR(E196<>0,F196<>0,G196<>0),_xlfn.XLOOKUP(SelectedCategory,CDT_Mapping[Translation Name],CDT_Mapping[Unit translation name],\"\"),\"\")","v":""},{"$f":"IF(OR(E196<>0,F196<>0,G196<>0),_xlfn.XLOOKUP(SelectedCategory,CDT_Mapping[Translation Name],CDT_Mapping[ID],\"\"),\"\")","v":""},"",{"$f":"_xlfn.XLOOKUP(E196,ZCDT_EXPORT_2[CDT Leaf],ZCDT_EXPORT_2[Leaf Node ID],\"\")","v":""},null,null,null,null,null,null,null,null,null,null,null,null,null,null,null,"",null,null,null,null,null,null,null,""]
[{"$f":"IF(OR(E197<>0,F197<>0,G197<>0),_xlfn.XLOOKUP(SelectedCategory,CDT_Mapping[Translation Name],CDT_Mapping[Unit translation name],\"\"),\"\")","v":""},{"$f":"IF(OR(E197<>0,F197<>0,G197<>0),_xlfn.XLOOKUP(SelectedCategory,CDT_Mapping[Translation Name],CDT_Mapping[ID],\"\"),\"\")","v":""},"",{"$f":"_xlfn.XLOOKUP(E197,ZCDT_EXPORT_2[CDT Leaf],ZCDT_EXPORT_2[Leaf Node ID],\"\")","v":""},null,null,null,null,null,null,null,null,null,null,null,null,null,null,null,"",null,null,null,null,null,null,null,""]
[{"$f":"IF(OR(E198<>0,F198<>0,G198<>0),_xlfn.XLOOKUP(SelectedCategory,CDT_Mapping[Translation Name],CDT_Mapping[Unit translation name],\"\"),\"\")","v":""},{"$f":"IF(OR(E198<>0,F198<>0,G198<>0),_xlfn.XLOOKUP(SelectedCategory,CDT_Mapping[Translation Name],CDT_Mapping[ID],\"\"),\"\")","v":""},"",{"$f":"_xlfn.XLOOKUP(E198,ZCDT_EXPORT_2[CDT Leaf],ZCDT_EXPORT_2[Leaf Node ID],\"\")","v":""},null,null,null,null,null,null,null,null,null,null,null,null,null,null,null,"",null,null,null,null,null,null,null,""]
[{"$f":"IF(OR(E199<>0,F199<>0,G199<>0),_xlfn.XLOOKUP(SelectedCategory,CDT_Mapping[Translation Name],CDT_Mapping[Unit translation name],\"\"),\"\")","v":""},{"$f":"IF(OR(E199<>0,F199<>0,G199<>0),_xlfn.XLOOKUP(SelectedCategory,CDT_Mapping[Translation Name],CDT_Mapping[ID],\"\"),\"\")","v":""},"",{"$f":"_xlfn.XLOOKUP(E199,ZCDT_EXPORT_2[CDT Leaf],ZCDT_EXPORT_2[Leaf Node ID],\"\")","v":""},null,null,null,null,null,null,null,null,null,null,null,null,null,null,null,"",null,null,null,null,null,null,null,""]
[{"$f":"IF(OR(E200<>0,F200<>0,G200<>0),_xlfn.XLOOKUP(SelectedCategory,CDT_Mapping[Translation Name],CDT_Mapping[Unit translation name],\"\"),\"\")","v":""},{"$f":"IF(OR(E200<>0,F200<>0,G200<>0),_xlfn.XLOOKUP(SelectedCategory,CDT_Mapping[Translation Name],CDT_Mapping[ID],\"\"),\"\")","v":""},"",{"$f":"_xlfn.XLOOKUP(E200,ZCDT_EXPORT_2[CDT Leaf],ZCDT_EXPORT_2[Leaf Node ID],\"\")","v":""},null,null,null,null,null,null,null,null,null,null,null,null,null,null,null,"",null,null,null,null,null,null,null,""]
[{"$f":"IF(OR(E201<>0,F201<>0,G201<>0),_xlfn.XLOOKUP(SelectedCategory,CDT_Mapping[Translation Name],CDT_Mapping[Unit translation name],\"\"),\"\")","v":""},{"$f":"IF(OR(E201<>0,F201<>0,G201<>0),_xlfn.XLOOKUP(SelectedCategory,CDT_Mapping[Translation Name],CDT_Mapping[ID],\"\"),\"\")","v":""},"",{"$f":"_xlfn.XLOOKUP(E201,ZCDT_EXPORT_2[CDT Leaf],ZCDT_EXPORT_2[Leaf Node ID],\"\")","v":""},null,null,null,null,null,null,null,null,null,null,null,null,null,null,null,"",null,null,null,null,null,null,null,""]
[{"$f":"IF(OR(E202<>0,F202<>0,G202<>0),_xlfn.XLOOKUP(SelectedCategory,CDT_Mapping[Translation Name],CDT_Mapping[Unit translation name],\"\"),\"\")","v":""},{"$f":"IF(OR(E202<>0,F202<>0,G202<>0),_xlfn.XLOOKUP(SelectedCategory,CDT_Mapping[Translation Name],CDT_Mapping[ID],\"\"),\"\")","v":""},{"$f":"IF(OR(E202<>0,F202<>0,G202<>0),SelectedCategory,\"\")","v":""},{"$f":"_xlfn.XLOOKUP(E202,ZCDT_EXPORT_2[CDT Leaf],ZCDT_EXPORT_2[Leaf Node ID],\"\")","v":""},null,null,null,null,null,null,null,null,null,null,null,null,null,null,null,"",null,null,null,null,null,null,null,""]
[{"$f":"IF(OR(E203<>0,F203<>0,G203<>0),_xlfn.XLOOKUP(SelectedCategory,CDT_Mapping[Translation Name],CDT_Mapping[Unit translation name],\"\"),\"\")","v":""},{"$f":"IF(OR(E203<>0,F203<>0,G203<>0),_xlfn.XLOOKUP(SelectedCategory,CDT_Mapping[Translation Name],CDT_Mapping[ID],\"\"),\"\")","v":""},"",{"$f":"_xlfn.XLOOKUP(E203,ZCDT_EXPORT_2[CDT Leaf],ZCDT_EXPORT_2[Leaf Node ID],\"\")","v":""},null,null,null,null,null,null,null,null,null,null,null,null,null,null,null,{"$f":"IF(AND(R203<>0,U203<>0),IFERROR(R203/U203,\"\"),\"\")","v":""},null,null,null,null,null,null,null,{"$f":"IF(AND(AA203<>0,U203<>0),IFERROR(AA203*U203,\"\"),\"\")","v":""}]
[{"$f":"IF(OR(E204<>0,F204<>0,G204<>0),_xlfn.XLOOKUP(SelectedCategory,CDT_Mapping[Translation Name],CDT_Mapping[Unit translation name],\"\"),\"\")","v":""},{"$f":"IF(OR(E204<>0,F204<>0,G204<>0),_xlfn.XLOOKUP(SelectedCategory,CDT_Mapping[Translation Name],CDT_Mapping[ID],\"\"),\"\")","v":""},"",{"$f":"_xlfn.XLOOKUP(E204,ZCDT_EXPORT_2[CDT Leaf],ZCDT_EXPORT_2[Leaf Node ID],\"\")","v":""},null,null,null,null,null,null,null,null,null,null,null,null,null,null,null,"",null,null,null,null,null,null,null,""]
[{"$f":"IF(OR(E205<>0,F205<>0,G205<>0),_xlfn.XLOOKUP(SelectedCategory,CDT_Mapping[Translation Name],CDT_Mapping[Unit translation name],\"\"),\"\")","v":""},{"$f":"IF(OR(E205<>0,F205<>0,G205<>0),_xlfn.XLOOKUP(SelectedCategory,CDT_Mapping[Translation Name],CDT_Mapping[ID],\"\"),\"\")","v":""},"",{"$f":"_xlfn.XLOOKUP(E205,ZCDT_EXPORT_2[CDT Leaf],ZCDT_EXPORT_2[Leaf Node ID],\"\")","v":""},null,null,null,null,null,null,null,null,null,null,null,null,null,null,null,"",null,null,null,null,null,null,null,""]
[{"$f":"IF(OR(E206<>0,F206<>0,G206<>0),_xlfn.XLOOKUP(SelectedCategory,CDT_Mapping[Translation Name],CDT_Mapping[Unit translation name],\"\"),\"\")","v":""},{"$f":"IF(OR(E206<>0,F206<>0,G206<>0),_xlfn.XLOOKUP(SelectedCategory,CDT_Mapping[Translation Name],CDT_Mapping[ID],\"\"),\"\")","v":""},"",{"$f":"_xlfn.XLOOKUP(E206,ZCDT_EXPORT_2[CDT Leaf],ZCDT_EXPORT_2[Leaf Node ID],\"\")","v":""},null,null,null,null,null,null,null,null,null,null,null,null,null,null,null,"",null,null,null,null,null,null,null,""]
[{"$f":"IF(OR(E207<>0,F207<>0,G207<>0),_xlfn.XLOOKUP(SelectedCategory,CDT_Mapping[Translation Name],CDT_Mapping[Unit translation name],\"\"),\"\")","v":""},{"$f":"IF(OR(E207<>0,F207<>0,G207<>0),_xlfn.XLOOKUP(SelectedCategory,CDT_Mapping[Translation Name],CDT_Mapping[ID],\"\"),\"\")","v":""},"",{"$f":"_xlfn.XLOOKUP(E207,ZCDT_EXPORT_2[CDT Leaf],ZCDT_EXPORT_2[Leaf Node ID],\"\")","v":""},null,null,null,null,null,null,null,null,null,null,null,null,null,null,null,"",null,null,null,null,null,null,null,""]
[{"$f":"IF(OR(E208<>0,F208<>0,G208<>0),_xlfn.XLOOKUP(SelectedCategory,CDT_Mapping[Translation Name],CDT_Mapping[Unit translation name],\"\"),\"\")","v":""},{"$f":"IF(OR(E208<>0,F208<>0,G208<>0),_xlfn.XLOOKUP(SelectedCategory,CDT_Mapping[Translation Name],CDT_Mapping[ID],\"\"),\"\")","v":""},"",{"$f":"_xlfn.XLOOKUP(E208,ZCDT_EXPORT_2[CDT Leaf],ZCDT_EXPORT_2[Leaf Node ID],\"\")","v":""},null,null,null,null,null,null,null,null,null,null,null,null,null,null,null,"",null,null,null,null,null,null,null,""]
[{"$f":"IF(OR(E209<>0,F209<>0,G209<>0),_xlfn.XLOOKUP(SelectedCategory,CDT_Mapping[Translation Name],CDT_Mapping[Unit translation name],\"\"),\"\")","v":""},{"$f":"IF(OR(E209<>0,F209<>0,G209<>0),_xlfn.XLOOKUP(SelectedCategory,CDT_Mapping[Translation Name],CDT_Mapping[ID],\"\"),\"\")","v":""},"",{"$f":"_xlfn.XLOOKUP(E209,ZCDT_EXPORT_2[CDT Leaf],ZCDT_EXPORT_2[Leaf Node ID],\"\")","v":""},null,null,null,null,null,null,null,null,null,null,null,null,null,null,null,"",null,null,null,null,null,null,null,""]
[{"$f":"IF(OR(E210<>0,F210<>0,G210<>0),_xlfn.XLOOKUP(SelectedCategory,CDT_Mapping[Translation Name],CDT_Mapping[Unit translation name],\"\"),\"\")","v":""},{"$f":"IF(OR(E210<>0,F210<>0,G210<>0),_xlfn.XLOOKUP(SelectedCategory,CDT_Mapping[Translation Name],CDT_Mapping[ID],\"\"),\"\")","v":""},"",{"$f":"_xlfn.XLOOKUP(E210,ZCDT_EXPORT_2[CDT Leaf],ZCDT_EXPORT_2[Leaf Node ID],\"\")","v":""},null,null,null,null,null,null,null,null,null,null,null,null,null,null,null,"",null,null,null,null,null,null,null,""]
[{"$f":"IF(OR(E211<>0,F211<>0,G211<>0),_xlfn.XLOOKUP(SelectedCategory,CDT_Mapping[Translation Name],CDT_Mapping[Unit translation name],\"\"),\"\")","v":""},{"$f":"IF(OR(E211<>0,F211<>0,G211<>0),_xlfn.XLOOKUP(SelectedCategory,CDT_Mapping[Translation Name],CDT_Mapping[ID],\"\"),\"\")","v":""},"",{"$f":"_xlfn.XLOOKUP(E211,ZCDT_EXPORT_2[CDT Leaf],ZCDT_EXPORT_2[Leaf Node ID],\"\")","v":""},null,null,null,null,null,null,null,null,null,null,null,null,null,null,null,"",null,null,null,null,null,null,null,""]
[{"$f":"IF(OR(E212<>0,F212<>0,G212<>0),_xlfn.XLOOKUP(SelectedCategory,CDT_Mapping[Translation Name],CDT_Mapping[Unit translation name],\"\"),\"\")","v":""},{"$f":"IF(OR(E212<>0,F212<>0,G212<>0),_xlfn.XLOOKUP(SelectedCategory,CDT_Mapping[Translation Name],CDT_Mapping[ID],\"\"),\"\")","v":""},"",{"$f":"_xlfn.XLOOKUP(E212,ZCDT_EXPORT_2[CDT Leaf],ZCDT_EXPORT_2[Leaf Node ID],\"\")","v":""},null,null,null,null,null,null,null,null,null,null,null,null,null,null,null,"",null,null,null,null,null,null,null,""]
[{"$f":"IF(OR(E213<>0,F213<>0,G213<>0),_xlfn.XLOOKUP(SelectedCategory,CDT_Mapping[Translation Name],CDT_Mapping[Unit translation name],\"\"),\"\")","v":""},{"$f":"IF(OR(E213<>0,F213<>0,G213<>0),_xlfn.XLOOKUP(SelectedCategory,CDT_Mapping[Translation Name],CDT_Mapping[ID],\"\"),\"\")","v":""},"",{"$f":"_xlfn.XLOOKUP(E213,ZCDT_EXPORT_2[CDT Leaf],ZCDT_EXPORT_2[Leaf Node ID],\"\")","v":""},null,null,null,null,null,null,null,null,null,null,null,null,null,null,null,"",null,null,null,null,null,null,null,""]
[{"$f":"IF(OR(E214<>0,F214<>0,G214<>0),_xlfn.XLOOKUP(SelectedCategory,CDT_Mapping[Translation Name],CDT_Mapping[Unit translation name],\"\"),\"\")","v":""},{"$f":"IF(OR(E214<>0,F214<>0,G214<>0),_xlfn.XLOOKUP(SelectedCategory,CDT_Mapping[Translation Name],CDT_Mapping[ID],\"\"),\"\")","v":""},"",{"$f":"_xlfn.XLOOKUP(E214,ZCDT_EXPORT_2[CDT Leaf],ZCDT_EXPORT_2[Leaf Node ID],\"\")","v":""},null,null,null,null,null,null,null,null,null,null,null,null,null,null,null,"",null,null,null,null,null,null,null,""]
[{"$f":"IF(OR(E215<>0,F215<>0,G215<>0),_xlfn.XLOOKUP(SelectedCategory,CDT_Mapping[Translation Name],CDT_Mapping[Unit translation name],\"\"),\"\")","v":""},{"$f":"IF(OR(E215<>0,F215<>0,G215<>0),_xlfn.XLOOKUP(SelectedCategory,CDT_Mapping[Translation Name],CDT_Mapping[ID],\"\"),\"\")","v":""},"",{"$f":"_xlfn.XLOOKUP(E215,ZCDT_EXPORT_2[CDT Leaf],ZCDT_EXPORT_2[Leaf Node ID],\"\")","v":""},null,null,null,null,null,null,null,null,null,null,null,null,null,null,null,"",null,null,null,null,null,null,null,""]
[{"$f":"IF(OR(E216<>0,F216<>0,G216<>0),_xlfn.XLOOKUP(SelectedCategory,CDT_Mapping[Translation Name],CDT_Mapping[Unit translation name],\"\"),\"\")","v":""},{"$f":"IF(OR(E216<>0,F216<>0,G216<>0),_xlfn.XLOOKUP(SelectedCategory,CDT_Mapping[Translation Name],CDT_Mapping[ID],\"\"),\"\")","v":""},"",{"$f":"_xlfn.XLOOKUP(E216,ZCDT_EXPORT_2[CDT Leaf],ZCDT_EXPORT_2[Leaf Node ID],\"\")","v":""},null,null,null,null,null,null,null,null,null,null,null,null,null,null,null,"",null,null,null,null,null,null,null,""]
[{"$f":"IF(OR(E217<>0,F217<>0,G217<>0),_xlfn.XLOOKUP(SelectedCategory,CDT_Mapping[Translation Name],CDT_Mapping[Unit translation name],\"\"),\"\")","v":""},{"$f":"IF(OR(E217<>0,F217<>0,G217<>0),_xlfn.XLOOKUP(SelectedCategory,CDT_Mapping[Translation Name],CDT_Mapping[ID],\"\"),\"\")","v":""},"",{"$f":"_xlfn.XLOOKUP(E217,ZCDT_EXPORT_2[CDT Leaf],ZCDT_EXPORT_2[Leaf Node ID],\"\")","v":""},null,null,null,null,null,null,null,null,null,null,null,null,null,null,null,"",null,null,null,null,null,null,null,""]
[{"$f":"IF(OR(E218<>0,F218<>0,G218<>0),_xlfn.XLOOKUP(SelectedCategory,CDT_Mapping[Translation Name],CDT_Mapping[Unit translation name],\"\"),\"\")","v":""},{"$f":"IF(OR(E218<>0,F218<>0,G218<>0),_xlfn.XLOOKUP(SelectedCategory,CDT_Mapping[Translation Name],CDT_Mapping[ID],\"\"),\"\")","v":""},"",{"$f":"_xlfn.XLOOKUP(E218,ZCDT_EXPORT_2[CDT Leaf],ZCDT_EXPORT_2[Leaf Node ID],\"\")","v":""},null,null,null,null,null,null,null,null,null,null,null,null,null,null,null,"",null,null,null,null,null,null,null,""]
[{"$f":"IF(OR(E219<>0,F219<>0,G219<>0),_xlfn.XLOOKUP(SelectedCategory,CDT_Mapping[Translation Name],CDT_Mapping[Unit translation name],\"\"),\"\")","v":""},{"$f":"IF(OR(E219<>0,F219<>0,G219<>0),_xlfn.XLOOKUP(SelectedCategory,CDT_Mapping[Translation Name],CDT_Mapping[ID],\"\"),\"\")","v":""},"",{"$f":"_xlfn.XLOOKUP(E219,ZCDT_EXPORT_2[CDT Leaf],ZCDT_EXPORT_2[Leaf Node ID],\"\")","v":""},null,null,null,null,null,null,null,null,null,null,null,null,null,null,null,"",null,null,null,null,null,null,null,""]
[{"$f":"IF(OR(E220<>0,F220<>0,G220<>0),_xlfn.XLOOKUP(SelectedCategory,CDT_Mapping[Translation Name],CDT_Mapping[Unit translation name],\"\"),\"\")","v":""},{"$f":"IF(OR(E220<>0,F220<>0,G220<>0),_xlfn.XLOOKUP(SelectedCategory,CDT_Mapping[Translation Name],CDT_Mapping[ID],\"\"),\"\")","v":""},"",{"$f":"_xlfn.XLOOKUP(E220,ZCDT_EXPORT_2[CDT Leaf],ZCDT_EXPORT_2[Leaf Node ID],\"\")","v":""},null,null,null,null,null,null,null,null,null,null,null,null,null,null,null,"",null,null,null,null,null,null,null,""]
[{"$f":"IF(OR(E221<>0,F221<>0,G221<>0),_xlfn.XLOOKUP(SelectedCategory,CDT_Mapping[Translation Name],CDT_Mapping[Unit translation name],\"\"),\"\")","v":""},{"$f":"IF(OR(E221<>0,F221<>0,G221<>0),_xlfn.XLOOKUP(SelectedCategory,CDT_Mapping[Translation Name],CDT_Mapping[ID],\"\"),\"\")","v":""},"",{"$f":"_xlfn.XLOOKUP(E221,ZCDT_EXPORT_2[CDT Leaf],ZCDT_EXPORT_2[Leaf Node ID],\"\")","v":""},null,null,null,null,null,null,null,null,null,null,null,null,null,null,null,"",null,null,null,null,null,null,null,""]
[{"$f":"IF(OR(E222<>0,F222<>0,G222<>0),_xlfn.XLOOKUP(SelectedCategory,CDT_Mapping[Translation Name],CDT_Mapping[Unit translation name],\"\"),\"\")","v":""},{"$f":"IF(OR(E222<>0,F222<>0,G222<>0),_xlfn.XLOOKUP(SelectedCategory,CDT_Mapping[Translation Name],CDT_Mapping[ID],\"\"),\"\")","v":""},"",{"$f":"_xlfn.XLOOKUP(E222,ZCDT_EXPORT_2[CDT Leaf],ZCDT_EXPORT_2[Leaf Node ID],\"\")","v":""},null,null,null,null,null,null,null,null,null,null,null,null,null,null,null,"",null,null,null,null,null,null,null,""]
[{"$f":"IF(OR(E223<>0,F223<>0,G223<>0),_xlfn.XLOOKUP(SelectedCategory,CDT_Mapping[Translation Name],CDT_Mapping[Unit translation name],\"\"),\"\")","v":""},{"$f":"IF(OR(E223<>0,F223<>0,G223<>0),_xlfn.XLOOKUP(SelectedCategory,CDT_Mapping[Translation Name],CDT_Mapping[ID],\"\"),\"\")","v":""},"",{"$f":"_xlfn.XLOOKUP(E223,ZCDT_EXPORT_2[CDT Leaf],ZCDT_EXPORT_2[Leaf Node ID],\"\")","v":""},null,null,null,null,null,null,null,null,null,null,null,null,null,null,null,"",null,null,null,null,null,null,null,""]
[{"$f":"IF(OR(E224<>0,F224<>0,G224<>0),_xlfn.XLOOKUP(SelectedCategory,CDT_Mapping[Translation Name],CDT_Mapping[Unit translation name],\"\"),\"\")","v":""},{"$f":"IF(OR(E224<>0,F224<>0,G224<>0),_xlfn.XLOOKUP(SelectedCategory,CDT_Mapping[Translation Name],CDT_Mapping[ID],\"\"),\"\")","v":""},"",{"$f":"_xlfn.XLOOKUP(E224,ZCDT_EXPORT_2[CDT Leaf],ZCDT_EXPORT_2[Leaf Node ID],\"\")","v":""},null,null,null,null,null,null,null,null,null,null,null,null,null,null,null,"",null,null,null,null,null,null,null,""]
[{"$f":"IF(OR(E225<>0,F225<>0,G225<>0),_xlfn.XLOOKUP(SelectedCategory,CDT_Mapping[Translation Name],CDT_Mapping[Unit translation name],\"\"),\"\")","v":""},{"$f":"IF(OR(E225<>0,F225<>0,G225<>0),_xlfn.XLOOKUP(SelectedCategory,CDT_Mapping[Translation Name],CDT_Mapping[ID],\"\"),\"\")","v":""},"",{"$f":"_xlfn.XLOOKUP(E225,ZCDT_EXPORT_2[CDT Leaf],ZCDT_EXPORT_2[Leaf Node ID],\"\")","v":""},null,null,null,null,null,null,null,null,null,null,null,null,null,null,null,"",null,null,null,null,null,null,null,""]
[{"$f":"IF(OR(E226<>0,F226<>0,G226<>0),_xlfn.XLOOKUP(SelectedCategory,CDT_Mapping[Translation Name],CDT_Mapping[Unit translation name],\"\"),\"\")","v":""},{"$f":"IF(OR(E226<>0,F226<>0,G226<>0),_xlfn.XLOOKUP(SelectedCategory,CDT_Mapping[Translation Name],CDT_Mapping[ID],\"\"),\"\")","v":""},"",{"$f":"_xlfn.XLOOKUP(E226,ZCDT_EXPORT_2[CDT Leaf],ZCDT_EXPORT_2[Leaf Node ID],\"\")","v":""},null,null,null,null,null,null,null,null,null,null,null,null,null,null,null,"",null,null,null,null,null,null,null,""]
[{"$f":"IF(OR(E227<>0,F227<>0,G227<>0),_xlfn.XLOOKUP(SelectedCategory,CDT_Mapping[Translation Name],CDT_Mapping[Unit translation name],\"\"),\"\")","v":""},{"$f":"IF(OR(E227<>0,F227<>0,G227<>0),_xlfn.XLOOKUP(SelectedCategory,CDT_Mapping[Translation Name],CDT_Mapping[ID],\"\"),\"\")","v":""},"",{"$f":"_xlfn.XLOOKUP(E227,ZCDT_EXPORT_2[CDT Leaf],ZCDT_EXPORT_2[Leaf Node ID],\"\")","v":""},null,null,null,null,null,null,null,null,null,null,null,null,null,null,null,"",null,null,null,null,null,null,null,""]
[{"$f":"IF(OR(E228<>0,F228<>0,G228<>0),_xlfn.XLOOKUP(SelectedCategory,CDT_Mapping[Translation Name],CDT_Mapping[Unit translation name],\"\"),\"\")","v":""},{"$f":"IF(OR(E228<>0,F228<>0,G228<>0),_xlfn.XLOOKUP(SelectedCategory,CDT_Mapping[Translation Name],CDT_Mapping[ID],\"\"),\"\")","v":""},"",{"$f":"_xlfn.XLOOKUP(E228,ZCDT_EXPORT_2[CDT Leaf],ZCDT_EXPORT_2[Leaf Node ID],\"\")","v":""},null,null,null,null,null,null,null,null,null,null,null,null,null,null,null,"",null,null,null,null,null,null,null,""]
[{"$f":"IF(OR(E229<>0,F229<>0,G229<>0),_xlfn.XLOOKUP(SelectedCategory,CDT_Mapping[Translation Name],CDT_Mapping[Unit translation name],\"\"),\"\")","v":""},{"$f":"IF(OR(E229<>0,F229<>0,G229<>0),_xlfn.XLOOKUP(SelectedCategory,CDT_Mapping[Translation Name],CDT_Mapping[ID],\"\"),\"\")","v":""},"",{"$f":"_xlfn.XLOOKUP(E229,ZCDT_EXPORT_2[CDT Leaf],ZCDT_EXPORT_2[Leaf Node ID],\"\")","v":""},null,null,null,null,null,null,null,null,null,null,null,null,null,null,null,"",null,null,null,null,null,null,null,""]
[{"$f":"IF(OR(E230<>0,F230<>0,G230<>0),_xlfn.XLOOKUP(SelectedCategory,CDT_Mapping[Translation Name],CDT_Mapping[Unit translation name],\"\"),\"\")","v":""},{"$f":"IF(OR(E230<>0,F230<>0,G230<>0),_xlfn.XLOOKUP(SelectedCategory,CDT_Mapping[Translation Name],CDT_Mapping[ID],\"\"),\"\")","v":""},"",{"$f":"_xlfn.XLOOKUP(E230,ZCDT_EXPORT_2[CDT Leaf],ZCDT_EXPORT_2[Leaf Node ID],\"\")","v":""},null,null,null,null,null,null,null,null,null,null,null,null,null,null,null,"",null,null,null,null,null,null,null,""]
[{"$f":"IF(OR(E231<>0,F231<>0,G231<>0),_xlfn.XLOOKUP(SelectedCategory,CDT_Mapping[Translation Name],CDT_Mapping[Unit translation name],\"\"),\"\")","v":""},{"$f":"IF(OR(E231<>0,F231<>0,G231<>0),_xlfn.XLOOKUP(SelectedCategory,CDT_Mapping[Translation Name],CDT_Mapping[ID],\"\"),\"\")","v":""},"",{"$f":"_xlfn.XLOOKUP(E231,ZCDT_EXPORT_2[CDT Leaf],ZCDT_EXPORT_2[Leaf Node ID],\"\")","v":""},null,null,null,null,null,null,null,null,null,null,null,null,null,null,null,"",null,null,null,null,null,null,null,""]
[{"$f":"IF(OR(E232<>0,F232<>0,G232<>0),_xlfn.XLOOKUP(SelectedCategory,CDT_Mapping[Translation Name],CDT_Mapping[Unit translation name],\"\"),\"\")","v":""},{"$f":"IF(OR(E232<>0,F232<>0,G232<>0),_xlfn.XLOOKUP(SelectedCategory,CDT_Mapping[Translation Name],CDT_Mapping[ID],\"\"),\"\")","v":""},"",{"$f":"_xlfn.XLOOKUP(E232,ZCDT_EXPORT_2[CDT Leaf],ZCDT_EXPORT_2[Leaf Node ID],\"\")","v":""},null,null,null,null,null,null,null,null,null,null,null,null,null,null,null,"",null,null,null,null,null,null,null,""]
[{"$f":"IF(OR(E233<>0,F233<>0,G233<>0),_xlfn.XLOOKUP(SelectedCategory,CDT_Mapping[Translation Name],CDT_Mapping[Unit translation name],\"\"),\"\")","v":""},{"$f":"IF(OR(E233<>0,F233<>0,G233<>0),_xlfn.XLOOKUP(SelectedCategory,CDT_Mapping[Translation Name],CDT_Mapping[ID],\"\"),\"\")","v":""},"",{"$f":"_xlfn.XLOOKUP(E233,ZCDT_EXPORT_2[CDT Leaf],ZCDT_EXPORT_2[Leaf Node ID],\"\")","v":""},null,null,null,null,null,null,null,null,null,null,null,null,null,null,null,"",null,null,null,null,null,null,null,""]
[{"$f":"IF(OR(E234<>0,F234<>0,G234<>0),_xlfn.XLOOKUP(SelectedCategory,CDT_Mapping[Translation Name],CDT_Mapping[Unit translation name],\"\"),\"\")","v":""},{"$f":"IF(OR(E234<>0,F234<>0,G234<>0),_xlfn.XLOOKUP(SelectedCategory,CDT_Mapping[Translation Name],CDT_Mapping[ID],\"\"),\"\")","v":""},"",{"$f":"_xlfn.XLOOKUP(E234,ZCDT_EXPORT_2[CDT Leaf],ZCDT_EXPORT_2[Leaf Node ID],\"\")","v":""},null,null,null,null,null,null,null,null,null,null,null,null,null,null,null,"",null,null,null,null,null,null,null,""]
[{"$f":"IF(OR(E235<>0,F235<>0,G235<>0),_xlfn.XLOOKUP(SelectedCategory,CDT_Mapping[Translation Name],CDT_Mapping[Unit translation name],\"\"),\"\")","v":""},{"$f":"IF(OR(E235<>0,F235<>0,G235<>0),_xlfn.XLOOKUP(SelectedCategory,CDT_Mapping[Translation Name],CDT_Mapping[ID],\"\"),\"\")","v":""},"",{"$f":"_xlfn.XLOOKUP(E235,ZCDT_EXPORT_2[CDT Leaf],ZCDT_EXPORT_2[Leaf Node ID],\"\")","v":""},null,null,null,null,null,null,null,null,null,null,null,null,null,null,null,"",null,null,null,null,null,null,null,""]
[{"$f":"IF(OR(E236<>0,F236<>0,G236<>0),_xlfn.XLOOKUP(SelectedCategory,CDT_Mapping[Translation Name],CDT_Mapping[Unit translation name],\"\"),\"\")","v":""},{"$f":"IF(OR(E236<>0,F236<>0,G236<>0),_xlfn.XLOOKUP(SelectedCategory,CDT_Mapping[Translation Name],CDT_Mapping[ID],\"\"),\"\")","v":""},"",{"$f":"_xlfn.XLOOKUP(E236,ZCDT_EXPORT_2[CDT Leaf],ZCDT_EXPORT_2[Leaf Node ID],\"\")","v":""},null,null,null,null,null,null,null,null,null,null,null,null,null,null,null,"",null,null,null,null,null,null,null,""]
[{"$f":"IF(OR(E237<>0,F237<>0,G237<>0),_xlfn.XLOOKUP(SelectedCategory,CDT_Mapping[Translation Name],CDT_Mapping[Unit translation name],\"\"),\"\")","v":""},{"$f":"IF(OR(E237<>0,F237<>0,G237<>0),_xlfn.XLOOKUP(SelectedCategory,CDT_Mapping[Translation Name],CDT_Mapping[ID],\"\"),\"\")","v":""},"",{"$f":"_xlfn.XLOOKUP(E237,ZCDT_EXPORT_2[CDT Leaf],ZCDT_EXPORT_2[Leaf Node ID],\"\")","v":""},null,null,null,null,null,null,null,null,null,null,null,null,null,null,null,"",null,null,null,null,null,null,null,""]
[{"$f":"IF(OR(E238<>0,F238<>0,G238<>0),_xlfn.XLOOKUP(SelectedCategory,CDT_Mapping[Translation Name],CDT_Mapping[Unit translation name],\"\"),\"\")","v":""},{"$f":"IF(OR(E238<>0,F238<>0,G238<>0),_xlfn.XLOOKUP(SelectedCategory,CDT_Mapping[Translation Name],CDT_Mapping[ID],\"\"),\"\")","v":""},"",{"$f":"_xlfn.XLOOKUP(E238,ZCDT_EXPORT_2[CDT Leaf],ZCDT_EXPORT_2[Leaf Node ID],\"\")","v":""},null,null,null,null,null,null,null,null,null,null,null,null,null,null,null,"",null,null,null,null,null,null,null,""]
[{"$f":"IF(OR(E239<>0,F239<>0,G239<>0),_xlfn.XLOOKUP(SelectedCategory,CDT_Mapping[Translation Name],CDT_Mapping[Unit translation name],\"\"),\"\")","v":""},{"$f":"IF(OR(E239<>0,F239<>0,G239<>0),_xlfn.XLOOKUP(SelectedCategory,CDT_Mapping[Translation Name],CDT_Mapping[ID],\"\"),\"\")","v":""},"",{"$f":"_xlfn.XLOOKUP(E239,ZCDT_EXPORT_2[CDT Leaf],ZCDT_EXPORT_2[Leaf Node ID],\"\")","v":""},null,null,null,null,null,null,null,null,null,null,null,null,null,null,null,"",null,null,null,null,null,null,null,""]
[{"$f":"IF(OR(E240<>0,F240<>0,G240<>0),_xlfn.XLOOKUP(SelectedCategory,CDT_Mapping[Translation Name],CDT_Mapping[Unit translation name],\"\"),\"\")","v":""},{"$f":"IF(OR(E240<>0,F240<>0,G240<>0),_xlfn.XLOOKUP(SelectedCategory,CDT_Mapping[Translation Name],CDT_Mapping[ID],\"\"),\"\")","v":""},"",{"$f":"_xlfn.XLOOKUP(E240,ZCDT_EXPORT_2[CDT Leaf],ZCDT_EXPORT_2[Leaf Node ID],\"\")","v":""},null,null,null,null,null,null,null,null,null,null,null,null,null,null,null,"",null,null,null,null,null,null,null,""]
[{"$f":"IF(OR(E241<>0,F241<>0,G241<>0),_xlfn.XLOOKUP(SelectedCategory,CDT_Mapping[Translation Name],CDT_Mapping[Unit translation name],\"\"),\"\")","v":""},{"$f":"IF(OR(E241<>0,F241<>0,G241<>0),_xlfn.XLOOKUP(SelectedCategory,CDT_Mapping[Translation Name],CDT_Mapping[ID],\"\"),\"\")","v":""},"",{"$f":"_xlfn.XLOOKUP(E241,ZCDT_EXPORT_2[CDT Leaf],ZCDT_EXPORT_2[Leaf Node ID],\"\")","v":""},null,null,null,null,null,null,null,null,null,null,null,null,null,null,null,"",null,null,null,null,null,null,null,""]
[{"$f":"IF(OR(E242<>0,F242<>0,G242<>0),_xlfn.XLOOKUP(SelectedCategory,CDT_Mapping[Translation Name],CDT_Mapping[Unit translation name],\"\"),\"\")","v":""},{"$f":"IF(OR(E242<>0,F242<>0,G242<>0),_xlfn.XLOOKUP(SelectedCategory,CDT_Mapping[Translation Name],CDT_Mapping[ID],\"\"),\"\")","v":""},"",{"$f":"_xlfn.XLOOKUP(E242,ZCDT_EXPORT_2[CDT Leaf],ZCDT_EXPORT_2[Leaf Node ID],\"\")","v":""},null,null,null,null,null,null,null,null,null,null,null,null,null,null,null,"",null,null,null,null,null,null,null,""]
[{"$f":"IF(OR(E243<>0,F243<>0,G243<>0),_xlfn.XLOOKUP(SelectedCategory,CDT_Mapping[Translation Name],CDT_Mapping[Unit translation name],\"\"),\"\")","v":""},{"$f":"IF(OR(E243<>0,F243<>0,G243<>0),_xlfn.XLOOKUP(SelectedCategory,CDT_Mapping[Translation Name],CDT_Mapping[ID],\"\"),\"\")","v":""},"",{"$f":"_xlfn.XLOOKUP(E243,ZCDT_EXPORT_2[CDT Leaf],ZCDT_EXPORT_2[Leaf Node ID],\"\")","v":""},null,null,null,null,null,null,null,null,null,null,null,null,null,null,null,"",null,null,null,null,null,null,null,""]
[{"$f":"IF(OR(E244<>0,F244<>0,G244<>0),_xlfn.XLOOKUP(SelectedCategory,CDT_Mapping[Translation Name],CDT_Mapping[Unit translation name],\"\"),\"\")","v":""},{"$f":"IF(OR(E244<>0,F244<>0,G244<>0),_xlfn.XLOOKUP(SelectedCategory,CDT_Mapping[Translation Name],CDT_Mapping[ID],\"\"),\"\")","v":""},"",{"$f":"_xlfn.XLOOKUP(E244,ZCDT_EXPORT_2[CDT Leaf],ZCDT_EXPORT_2[Leaf Node ID],\"\")","v":""},null,null,null,null,null,null,null,null,null,null,null,null,null,null,null,"",null,null,null,null,null,null,null,""]
[{"$f":"IF(OR(E245<>0,F245<>0,G245<>0),_xlfn.XLOOKUP(SelectedCategory,CDT_Mapping[Translation Name],CDT_Mapping[Unit translation name],\"\"),\"\")","v":""},{"$f":"IF(OR(E245<>0,F245<>0,G245<>0),_xlfn.XLOOKUP(SelectedCategory,CDT_Mapping[Translation Name],CDT_Mapping[ID],\"\"),\"\")","v":""},"",{"$f":"_xlfn.XLOOKUP(E245,ZCDT_EXPORT_2[CDT Leaf],ZCDT_EXPORT_2[Leaf Node ID],\"\")","v":""},null,null,null,null,null,null,null,null,null,null,null,null,null,null,null,"",null,null,null,null,null,null,null,""]
[{"$f":"IF(OR(E246<>0,F246<>0,G246<>0),_xlfn.XLOOKUP(SelectedCategory,CDT_Mapping[Translation Name],CDT_Mapping[Unit translation name],\"\"),\"\")","v":""},{"$f":"IF(OR(E246<>0,F246<>0,G246<>0),_xlfn.XLOOKUP(SelectedCategory,CDT_Mapping[Translation Name],CDT_Mapping[ID],\"\"),\"\")","v":""},"",{"$f":"_xlfn.XLOOKUP(E246,ZCDT_EXPORT_2[CDT Leaf],ZCDT_EXPORT_2[Leaf Node ID],\"\")","v":""},null,null,null,null,null,null,null,null,null,null,null,null,null,null,null,"",null,null,null,null,null,null,null,""]
[{"$f":"IF(OR(E247<>0,F247<>0,G247<>0),_xlfn.XLOOKUP(SelectedCategory,CDT_Mapping[Translation Name],CDT_Mapping[Unit translation name],\"\"),\"\")","v":""},{"$f":"IF(OR(E247<>0,F247<>0,G247<>0),_xlfn.XLOOKUP(SelectedCategory,CDT_Mapping[Translation Name],CDT_Mapping[ID],\"\"),\"\")","v":""},"",{"$f":"_xlfn.XLOOKUP(E247,ZCDT_EXPORT_2[CDT Leaf],ZCDT_EXPORT_2[Leaf Node ID],\"\")","v":""},null,null,null,null,null,null,null,null,null,null,null,null,null,null,null,"",null,null,null,null,null,null,null,""]
[{"$f":"IF(OR(E248<>0,F248<>0,G248<>0),_xlfn.XLOOKUP(SelectedCategory,CDT_Mapping[Translation Name],CDT_Mapping[Unit translation name],\"\"),\"\")","v":""},{"$f":"IF(OR(E248<>0,F248<>0,G248<>0),_xlfn.XLOOKUP(SelectedCategory,CDT_Mapping[Translation Name],CDT_Mapping[ID],\"\"),\"\")","v":""},"",{"$f":"_xlfn.XLOOKUP(E248,ZCDT_EXPORT_2[CDT Leaf],ZCDT_EXPORT_2[Leaf Node ID],\"\")","v":""},null,null,null,null,null,null,null,null,null,null,null,null,null,null,null,"",null,null,null,null,null,null,null,""]
[{"$f":"IF(OR(E249<>0,F249<>0,G249<>0),_xlfn.XLOOKUP(SelectedCategory,CDT_Mapping[Translation Name],CDT_Mapping[Unit translation name],\"\"),\"\")","v":""},{"$f":"IF(OR(E249<>0,F249<>0,G249<>0),_xlfn.XLOOKUP(SelectedCategory,CDT_Mapping[Translation Name],CDT_Mapping[ID],\"\"),\"\")","v":""},"",{"$f":"_xlfn.XLOOKUP(E249,ZCDT_EXPORT_2[CDT Leaf],ZCDT_EXPORT_2[Leaf Node ID],\"\")","v":""},null,null,null,null,null,null,null,null,null,null,null,null,null,null,null,"",null,null,null,null,null,null,null,""]
[{"$f":"IF(OR(E250<>0,F250<>0,G250<>0),_xlfn.XLOOKUP(SelectedCategory,CDT_Mapping[Translation Name],CDT_Mapping[Unit translation name],\"\"),\"\")","v":""},{"$f":"IF(OR(E250<>0,F250<>0,G250<>0),_xlfn.XLOOKUP(SelectedCategory,CDT_Mapping[Translation Name],CDT_Mapping[ID],\"\"),\"\")","v":""},"",{"$f":"_xlfn.XLOOKUP(E250,ZCDT_EXPORT_2[CDT Leaf],ZCDT_EXPORT_2[Leaf Node ID],\"\")","v":""},null,null,null,null,null,null,null,null,null,null,null,null,null,null,null,"",null,null,null,null,null,null,null,""]
[{"$f":"IF(OR(E251<>0,F251<>0,G251<>0),_xlfn.XLOOKUP(SelectedCategory,CDT_Mapping[Translation Name],CDT_Mapping[Unit translation name],\"\"),\"\")","v":""},{"$f":"IF(OR(E251<>0,F251<>0,G251<>0),_xlfn.XLOOKUP(SelectedCategory,CDT_Mapping[Translation Name],CDT_Mapping[ID],\"\"),\"\")","v":""},"",{"$f":"_xlfn.XLOOKUP(E251,ZCDT_EXPORT_2[CDT Leaf],ZCDT_EXPORT_2[Leaf Node ID],\"\")","v":""},null,null,null,null,null,null,null,null,null,null,null,null,null,null,null,"",null,null,null,null,null,null,null,""]
[{"$f":"IF(OR(E252<>0,F252<>0,G252<>0),_xlfn.XLOOKUP(SelectedCategory,CDT_Mapping[Translation Name],CDT_Mapping[Unit translation name],\"\"),\"\")","v":""},{"$f":"IF(OR(E252<>0,F252<>0,G252<>0),_xlfn.XLOOKUP(SelectedCategory,CDT_Mapping[Translation Name],CDT_Mapping[ID],\"\"),\"\")","v":""},"",{"$f":"_xlfn.XLOOKUP(E252,ZCDT_EXPORT_2[CDT Leaf],ZCDT_EXPORT_2[Leaf Node ID],\"\")","v":""},null,null,null,null,null,null,null,null,null,null,null,null,null,null,null,"",null,null,null,null,null,null,null,""]
[{"$f":"IF(OR(E253<>0,F253<>0,G253<>0),_xlfn.XLOOKUP(SelectedCategory,CDT_Mapping[Translation Name],CDT_Mapping[Unit translation name],\"\"),\"\")","v":""},{"$f":"IF(OR(E253<>0,F253<>0,G253<>0),_xlfn.XLOOKUP(SelectedCategory,CDT_Mapping[Translation Name],CDT_Mapping[ID],\"\"),\"\")","v":""},"",{"$f":"_xlfn.XLOOKUP(E253,ZCDT_EXPORT_2[CDT Leaf],ZCDT_EXPORT_2[Leaf Node ID],\"\")","v":""},null,null,null,null,null,null,null,null,null,null,null,null,null,null,null,"",null,null,null,null,null,null,null,""]
[{"$f":"IF(OR(E254<>0,F254<>0,G254<>0),_xlfn.XLOOKUP(SelectedCategory,CDT_Mapping[Translation Name],CDT_Mapping[Unit translation name],\"\"),\"\")","v":""},{"$f":"IF(OR(E254<>0,F254<>0,G254<>0),_xlfn.XLOOKUP(SelectedCategory,CDT_Mapping[Translation Name],CDT_Mapping[ID],\"\"),\"\")","v":""},"",{"$f":"_xlfn.XLOOKUP(E254,ZCDT_EXPORT_2[CDT Leaf],ZCDT_EXPORT_2[Leaf Node ID],\"\")","v":""},null,null,null,null,null,null,null,null,null,null,null,null,null,null,null,"",null,null,null,null,null,null,null,""]
[{"$f":"IF(OR(E255<>0,F255<>0,G255<>0),_xlfn.XLOOKUP(SelectedCategory,CDT_Mapping[Translation Name],CDT_Mapping[Unit translation name],\"\"),\"\")","v":""},{"$f":"IF(OR(E255<>0,F255<>0,G255<>0),_xlfn.XLOOKUP(SelectedCategory,CDT_Mapping[Translation Name],CDT_Mapping[ID],\"\"),\"\")","v":""},"",{"$f":"_xlfn.XLOOKUP(E255,ZCDT_EXPORT_2[CDT Leaf],ZCDT_EXPORT_2[Leaf Node ID],\"\")","v":""},null,null,null,null,null,null,null,null,null,null,null,null,null,null,null,"",null,null,null,null,null,null,null,""]
[{"$f":"IF(OR(E256<>0,F256<>0,G256<>0),_xlfn.XLOOKUP(SelectedCategory,CDT_Mapping[Translation Name],CDT_Mapping[Unit translation name],\"\"),\"\")","v":""},{"$f":"IF(OR(E256<>0,F256<>0,G256<>0),_xlfn.XLOOKUP(SelectedCategory,CDT_Mapping[Translation Name],CDT_Mapping[ID],\"\"),\"\")","v":""},"",{"$f":"_xlfn.XLOOKUP(E256,ZCDT_EXPORT_2[CDT Leaf],ZCDT_EXPORT_2[Leaf Node ID],\"\")","v":""},null,null,null,null,null,null,null,null,null,null,null,null,null,null,null,"",null,null,null,null,null,null,null,""]
[{"$f":"IF(OR(E257<>0,F257<>0,G257<>0),_xlfn.XLOOKUP(SelectedCategory,CDT_Mapping[Translation Name],CDT_Mapping[Unit translation name],\"\"),\"\")","v":""},{"$f":"IF(OR(E257<>0,F257<>0,G257<>0),_xlfn.XLOOKUP(SelectedCategory,CDT_Mapping[Translation Name],CDT_Mapping[ID],\"\"),\"\")","v":""},"",{"$f":"_xlfn.XLOOKUP(E257,ZCDT_EXPORT_2[CDT Leaf],ZCDT_EXPORT_2[Leaf Node ID],\"\")","v":""},null,null,null,null,null,null,null,null,null,null,null,null,null,null,null,"",null,null,null,null,null,null,null,""]
[{"$f":"IF(OR(E258<>0,F258<>0,G258<>0),_xlfn.XLOOKUP(SelectedCategory,CDT_Mapping[Translation Name],CDT_Mapping[Unit translation name],\"\"),\"\")","v":""},{"$f":"IF(OR(E258<>0,F258<>0,G258<>0),_xlfn.XLOOKUP(SelectedCategory,CDT_Mapping[Translation Name],CDT_Mapping[ID],\"\"),\"\")","v":""},"",{"$f":"_xlfn.XLOOKUP(E258,ZCDT_EXPORT_2[CDT Leaf],ZCDT_EXPORT_2[Leaf Node ID],\"\")","v":""},null,null,null,null,null,null,null,null,null,null,null,null,null,null,null,"",null,null,null,null,null,null,null,""]
[{"$f":"IF(OR(E259<>0,F259<>0,G259<>0),_xlfn.XLOOKUP(SelectedCategory,CDT_Mapping[Translation Name],CDT_Mapping[Unit translation name],\"\"),\"\")","v":""},{"$f":"IF(OR(E259<>0,F259<>0,G259<>0),_xlfn.XLOOKUP(SelectedCategory,CDT_Mapping[Translation Name],CDT_Mapping[ID],\"\"),\"\")","v":""},"",{"$f":"_xlfn.XLOOKUP(E259,ZCDT_EXPORT_2[CDT Leaf],ZCDT_EXPORT_2[Leaf Node ID],\"\")","v":""},null,null,null,null,null,null,null,null,null,null,null,null,null,null,null,"",null,null,null,null,null,null,null,""]
[{"$f":"IF(OR(E260<>0,F260<>0,G260<>0),_xlfn.XLOOKUP(SelectedCategory,CDT_Mapping[Translation Name],CDT_Mapping[Unit translation name],\"\"),\"\")","v":""},{"$f":"IF(OR(E260<>0,F260<>0,G260<>0),_xlfn.XLOOKUP(SelectedCategory,CDT_Mapping[Translation Name],CDT_Mapping[ID],\"\"),\"\")","v":""},"",{"$f":"_xlfn.XLOOKUP(E260,ZCDT_EXPORT_2[CDT Leaf],ZCDT_EXPORT_2[Leaf Node ID],\"\")","v":""},null,null,null,null,null,null,null,null,null,null,null,null,null,null,null,"",null,null,null,null,null,null,null,""]
[{"$f":"IF(OR(E261<>0,F261<>0,G261<>0),_xlfn.XLOOKUP(SelectedCategory,CDT_Mapping[Translation Name],CDT_Mapping[Unit translation name],\"\"),\"\")","v":""},{"$f":"IF(OR(E261<>0,F261<>0,G261<>0),_xlfn.XLOOKUP(SelectedCategory,CDT_Mapping[Translation Name],CDT_Mapping[ID],\"\"),\"\")","v":""},"",{"$f":"_xlfn.XLOOKUP(E261,ZCDT_EXPORT_2[CDT Leaf],ZCDT_EXPORT_2[Leaf Node ID],\"\")","v":""},null,null,null,null,null,null,null,null,null,null,null,null,null,null,null,"",null,null,null,null,null,null,null,""]
[{"$f":"IF(OR(E262<>0,F262<>0,G262<>0),_xlfn.XLOOKUP(SelectedCategory,CDT_Mapping[Translation Name],CDT_Mapping[Unit translation name],\"\"),\"\")","v":""},{"$f":"IF(OR(E262<>0,F262<>0,G262<>0),_xlfn.XLOOKUP(SelectedCategory,CDT_Mapping[Translation Name],CDT_Mapping[ID],\"\"),\"\")","v":""},"",{"$f":"_xlfn.XLOOKUP(E262,ZCDT_EXPORT_2[CDT Leaf],ZCDT_EXPORT_2[Leaf Node ID],\"\")","v":""},null,null,null,null,null,null,null,null,null,null,null,null,null,null,null,"",null,null,null,null,null,null,null,""]
[{"$f":"IF(OR(E263<>0,F263<>0,G263<>0),_xlfn.XLOOKUP(SelectedCategory,CDT_Mapping[Translation Name],CDT_Mapping[Unit translation name],\"\"),\"\")","v":""},{"$f":"IF(OR(E263<>0,F263<>0,G263<>0),_xlfn.XLOOKUP(SelectedCategory,CDT_Mapping[Translation Name],CDT_Mapping[ID],\"\"),\"\")","v":""},"",{"$f":"_xlfn.XLOOKUP(E263,ZCDT_EXPORT_2[CDT Leaf],ZCDT_EXPORT_2[Leaf Node ID],\"\")","v":""},null,null,null,null,null,null,null,null,null,null,null,null,null,null,null,"",null,null,null,null,null,null,null,""]
[{"$f":"IF(OR(E264<>0,F264<>0,G264<>0),_xlfn.XLOOKUP(SelectedCategory,CDT_Mapping[Translation Name],CDT_Mapping[Unit translation name],\"\"),\"\")","v":""},{"$f":"IF(OR(E264<>0,F264<>0,G264<>0),_xlfn.XLOOKUP(SelectedCategory,CDT_Mapping[Translation Name],CDT_Mapping[ID],\"\"),\"\")","v":""},"",{"$f":"_xlfn.XLOOKUP(E264,ZCDT_EXPORT_2[CDT Leaf],ZCDT_EXPORT_2[Leaf Node ID],\"\")","v":""},null,null,null,null,null,null,null,null,null,null,null,null,null,null,null,"",null,null,null,null,null,null,null,""]
[{"$f":"IF(OR(E265<>0,F265<>0,G265<>0),_xlfn.XLOOKUP(SelectedCategory,CDT_Mapping[Translation Name],CDT_Mapping[Unit translation name],\"\"),\"\")","v":""},{"$f":"IF(OR(E265<>0,F265<>0,G265<>0),_xlfn.XLOOKUP(SelectedCategory,CDT_Mapping[Translation Name],CDT_Mapping[ID],\"\"),\"\")","v":""},"",{"$f":"_xlfn.XLOOKUP(E265,ZCDT_EXPORT_2[CDT Leaf],ZCDT_EXPORT_2[Leaf Node ID],\"\")","v":""},null,null,null,null,null,null,null,null,null,null,null,null,null,null,null,"",null,null,null,null,null,null,null,""]
[{"$f":"IF(OR(E266<>0,F266<>0,G266<>0),_xlfn.XLOOKUP(SelectedCategory,CDT_Mapping[Translation Name],CDT_Mapping[Unit translation name],\"\"),\"\")","v":""},{"$f":"IF(OR(E266<>0,F266<>0,G266<>0),_xlfn.XLOOKUP(SelectedCategory,CDT_Mapping[Translation Name],CDT_Mapping[ID],\"\"),\"\")","v":""},{"$f":"IF(OR(E266<>0,F266<>0,G266<>0),SelectedCategory,\"\")","v":""},{"$f":"_xlfn.XLOOKUP(E266,ZCDT_EXPORT_2[CDT Leaf],ZCDT_EXPORT_2[Leaf Node ID],\"\")","v":""},null,null,null,null,null,null,null,null,null,null,null,null,null,null,null,"",null,null,null,null,null,null,null,""]
[{"$f":"IF(OR(E267<>0,F267<>0,G267<>0),_xlfn.XLOOKUP(SelectedCategory,CDT_Mapping[Translation Name],CDT_Mapping[Unit translation name],\"\"),\"\")","v":""},{"$f":"IF(OR(E267<>0,F267<>0,G267<>0),_xlfn.XLOOKUP(SelectedCategory,CDT_Mapping[Translation Name],CDT_Mapping[ID],\"\"),\"\")","v":""},"",{"$f":"_xlfn.XLOOKUP(E267,ZCDT_EXPORT_2[CDT Leaf],ZCDT_EXPORT_2[Leaf Node ID],\"\")","v":""},null,null,null,null,null,null,null,null,null,null,null,null,null,null,null,{"$f":"IF(AND(R267<>0,U267<>0),IFERROR(R267/U267,\"\"),\"\")","v":""},null,null,null,null,null,null,null,{"$f":"IF(AND(AA267<>0,U267<>0),IFERROR(AA267*U267,\"\"),\"\")","v":""}]
[{"$f":"IF(OR(E268<>0,F268<>0,G268<>0),_xlfn.XLOOKUP(SelectedCategory,CDT_Mapping[Translation Name],CDT_Mapping[Unit translation name],\"\"),\"\")","v":""},{"$f":"IF(OR(E268<>0,F268<>0,G268<>0),_xlfn.XLOOKUP(SelectedCategory,CDT_Mapping[Translation Name],CDT_Mapping[ID],\"\"),\"\")","v":""},"",{"$f":"_xlfn.XLOOKUP(E268,ZCDT_EXPORT_2[CDT Leaf],ZCDT_EXPORT_2[Leaf Node ID],\"\")","v":""},null,null,null,null,null,null,null,null,null,null,null,null,null,null,null,"",null,null,null,null,null,null,null,""]
[{"$f":"IF(OR(E269<>0,F269<>0,G269<>0),_xlfn.XLOOKUP(SelectedCategory,CDT_Mapping[Translation Name],CDT_Mapping[Unit translation name],\"\"),\"\")","v":""},{"$f":"IF(OR(E269<>0,F269<>0,G269<>0),_xlfn.XLOOKUP(SelectedCategory,CDT_Mapping[Translation Name],CDT_Mapping[ID],\"\"),\"\")","v":""},"",{"$f":"_xlfn.XLOOKUP(E269,ZCDT_EXPORT_2[CDT Leaf],ZCDT_EXPORT_2[Leaf Node ID],\"\")","v":""},null,null,null,null,null,null,null,null,null,null,null,null,null,null,null,"",null,null,null,null,null,null,null,""]
[{"$f":"IF(OR(E270<>0,F270<>0,G270<>0),_xlfn.XLOOKUP(SelectedCategory,CDT_Mapping[Translation Name],CDT_Mapping[Unit translation name],\"\"),\"\")","v":""},{"$f":"IF(OR(E270<>0,F270<>0,G270<>0),_xlfn.XLOOKUP(SelectedCategory,CDT_Mapping[Translation Name],CDT_Mapping[ID],\"\"),\"\")","v":""},"",{"$f":"_xlfn.XLOOKUP(E270,ZCDT_EXPORT_2[CDT Leaf],ZCDT_EXPORT_2[Leaf Node ID],\"\")","v":""},null,null,null,null,null,null,null,null,null,null,null,null,null,null,null,"",null,null,null,null,null,null,null,""]
[{"$f":"IF(OR(E271<>0,F271<>0,G271<>0),_xlfn.XLOOKUP(SelectedCategory,CDT_Mapping[Translation Name],CDT_Mapping[Unit translation name],\"\"),\"\")","v":""},{"$f":"IF(OR(E271<>0,F271<>0,G271<>0),_xlfn.XLOOKUP(SelectedCategory,CDT_Mapping[Translation Name],CDT_Mapping[ID],\"\"),\"\")","v":""},"",{"$f":"_xlfn.XLOOKUP(E271,ZCDT_EXPORT_2[CDT Leaf],ZCDT_EXPORT_2[Leaf Node ID],\"\")","v":""},null,null,null,null,null,null,null,null,null,null,null,null,null,null,null,"",null,null,null,null,null,null,null,""]
[{"$f":"IF(OR(E272<>0,F272<>0,G272<>0),_xlfn.XLOOKUP(SelectedCategory,CDT_Mapping[Translation Name],CDT_Mapping[Unit translation name],\"\"),\"\")","v":""},{"$f":"IF(OR(E272<>0,F272<>0,G272<>0),_xlfn.XLOOKUP(SelectedCategory,CDT_Mapping[Translation Name],CDT_Mapping[ID],\"\"),\"\")","v":""},"",{"$f":"_xlfn.XLOOKUP(E272,ZCDT_EXPORT_2[CDT Leaf],ZCDT_EXPORT_2[Leaf Node ID],\"\")","v":""},null,null,null,null,null,null,null,null,null,null,null,null,null,null,null,"",null,null,null,null,null,null,null,""]
[{"$f":"IF(OR(E273<>0,F273<>0,G273<>0),_xlfn.XLOOKUP(SelectedCategory,CDT_Mapping[Translation Name],CDT_Mapping[Unit translation name],\"\"),\"\")","v":""},{"$f":"IF(OR(E273<>0,F273<>0,G273<>0),_xlfn.XLOOKUP(SelectedCategory,CDT_Mapping[Translation Name],CDT_Mapping[ID],\"\"),\"\")","v":""},"",{"$f":"_xlfn.XLOOKUP(E273,ZCDT_EXPORT_2[CDT Leaf],ZCDT_EXPORT_2[Leaf Node ID],\"\")","v":""},null,null,null,null,null,null,null,null,null,null,null,null,null,null,null,"",null,null,null,null,null,null,null,""]
[{"$f":"IF(OR(E274<>0,F274<>0,G274<>0),_xlfn.XLOOKUP(SelectedCategory,CDT_Mapping[Translation Name],CDT_Mapping[Unit translation name],\"\"),\"\")","v":""},{"$f":"IF(OR(E274<>0,F274<>0,G274<>0),_xlfn.XLOOKUP(SelectedCategory,CDT_Mapping[Translation Name],CDT_Mapping[ID],\"\"),\"\")","v":""},"",{"$f":"_xlfn.XLOOKUP(E274,ZCDT_EXPORT_2[CDT Leaf],ZCDT_EXPORT_2[Leaf Node ID],\"\")","v":""},null,null,null,null,null,null,null,null,null,null,null,null,null,null,null,"",null,null,null,null,null,null,null,""]
[{"$f":"IF(OR(E275<>0,F275<>0,G275<>0),_xlfn.XLOOKUP(SelectedCategory,CDT_Mapping[Translation Name],CDT_Mapping[Unit translation name],\"\"),\"\")","v":""},{"$f":"IF(OR(E275<>0,F275<>0,G275<>0),_xlfn.XLOOKUP(SelectedCategory,CDT_Mapping[Translation Name],CDT_Mapping[ID],\"\"),\"\")","v":""},"",{"$f":"_xlfn.XLOOKUP(E275,ZCDT_EXPORT_2[CDT Leaf],ZCDT_EXPORT_2[Leaf Node ID],\"\")","v":""},null,null,null,null,null,null,null,null,null,null,null,null,null,null,null,"",null,null,null,null,null,null,null,""]
[{"$f":"IF(OR(E276<>0,F276<>0,G276<>0),_xlfn.XLOOKUP(SelectedCategory,CDT_Mapping[Translation Name],CDT_Mapping[Unit translation name],\"\"),\"\")","v":""},{"$f":"IF(OR(E276<>0,F276<>0,G276<>0),_xlfn.XLOOKUP(SelectedCategory,CDT_Mapping[Translation Name],CDT_Mapping[ID],\"\"),\"\")","v":""},"",{"$f":"_xlfn.XLOOKUP(E276,ZCDT_EXPORT_2[CDT Leaf],ZCDT_EXPORT_2[Leaf Node ID],\"\")","v":""},null,null,null,null,null,null,null,null,null,null,null,null,null,null,null,"",null,null,null,null,null,null,null,""]
[{"$f":"IF(OR(E277<>0,F277<>0,G277<>0),_xlfn.XLOOKUP(SelectedCategory,CDT_Mapping[Translation Name],CDT_Mapping[Unit translation name],\"\"),\"\")","v":""},{"$f":"IF(OR(E277<>0,F277<>0,G277<>0),_xlfn.XLOOKUP(SelectedCategory,CDT_Mapping[Translation Name],CDT_Mapping[ID],\"\"),\"\")","v":""},"",{"$f":"_xlfn.XLOOKUP(E277,ZCDT_EXPORT_2[CDT Leaf],ZCDT_EXPORT_2[Leaf Node ID],\"\")","v":""},null,null,null,null,null,null,null,null,null,null,null,null,null,null,null,"",null,null,null,null,null,null,null,""]
[{"$f":"IF(OR(E278<>0,F278<>0,G278<>0),_xlfn.XLOOKUP(SelectedCategory,CDT_Mapping[Translation Name],CDT_Mapping[Unit translation name],\"\"),\"\")","v":""},{"$f":"IF(OR(E278<>0,F278<>0,G278<>0),_xlfn.XLOOKUP(SelectedCategory,CDT_Mapping[Translation Name],CDT_Mapping[ID],\"\"),\"\")","v":""},"",{"$f":"_xlfn.XLOOKUP(E278,ZCDT_EXPORT_2[CDT Leaf],ZCDT_EXPORT_2[Leaf Node ID],\"\")","v":""},null,null,null,null,null,null,null,null,null,null,null,null,null,null,null,"",null,null,null,null,null,null,null,""]
[{"$f":"IF(OR(E279<>0,F279<>0,G279<>0),_xlfn.XLOOKUP(SelectedCategory,CDT_Mapping[Translation Name],CDT_Mapping[Unit translation name],\"\"),\"\")","v":""},{"$f":"IF(OR(E279<>0,F279<>0,G279<>0),_xlfn.XLOOKUP(SelectedCategory,CDT_Mapping[Translation Name],CDT_Mapping[ID],\"\"),\"\")","v":""},"",{"$f":"_xlfn.XLOOKUP(E279,ZCDT_EXPORT_2[CDT Leaf],ZCDT_EXPORT_2[Leaf Node ID],\"\")","v":""},null,null,null,null,null,null,null,null,null,null,null,null,null,null,null,"",null,null,null,null,null,null,null,""]
[{"$f":"IF(OR(E280<>0,F280<>0,G280<>0),_xlfn.XLOOKUP(SelectedCategory,CDT_Mapping[Translation Name],CDT_Mapping[Unit translation name],\"\"),\"\")","v":""},{"$f":"IF(OR(E280<>0,F280<>0,G280<>0),_xlfn.XLOOKUP(SelectedCategory,CDT_Mapping[Translation Name],CDT_Mapping[ID],\"\"),\"\")","v":""},"",{"$f":"_xlfn.XLOOKUP(E280,ZCDT_EXPORT_2[CDT Leaf],ZCDT_EXPORT_2[Leaf Node ID],\"\")","v":""},null,null,null,null,null,null,null,null,null,null,null,null,null,null,null,"",null,null,null,null,null,null,null,""]
[{"$f":"IF(OR(E281<>0,F281<>0,G281<>0),_xlfn.XLOOKUP(SelectedCategory,CDT_Mapping[Translation Name],CDT_Mapping[Unit translation name],\"\"),\"\")","v":""},{"$f":"IF(OR(E281<>0,F281<>0,G281<>0),_xlfn.XLOOKUP(SelectedCategory,CDT_Mapping[Translation Name],CDT_Mapping[ID],\"\"),\"\")","v":""},"",{"$f":"_xlfn.XLOOKUP(E281,ZCDT_EXPORT_2[CDT Leaf],ZCDT_EXPORT_2[Leaf Node ID],\"\")","v":""},null,null,null,null,null,null,null,null,null,null,null,null,null,null,null,"",null,null,null,null,null,null,null,""]
[{"$f":"IF(OR(E282<>0,F282<>0,G282<>0),_xlfn.XLOOKUP(SelectedCategory,CDT_Mapping[Translation Name],CDT_Mapping[Unit translation name],\"\"),\"\")","v":""},{"$f":"IF(OR(E282<>0,F282<>0,G282<>0),_xlfn.XLOOKUP(SelectedCategory,CDT_Mapping[Translation Name],CDT_Mapping[ID],\"\"),\"\")","v":""},"",{"$f":"_xlfn.XLOOKUP(E282,ZCDT_EXPORT_2[CDT Leaf],ZCDT_EXPORT_2[Leaf Node ID],\"\")","v":""},null,null,null,null,null,null,null,null,null,null,null,null,null,null,null,"",null,null,null,null,null,null,null,""]
[{"$f":"IF(OR(E283<>0,F283<>0,G283<>0),_xlfn.XLOOKUP(SelectedCategory,CDT_Mapping[Translation Name],CDT_Mapping[Unit translation name],\"\"),\"\")","v":""},{"$f":"IF(OR(E283<>0,F283<>0,G283<>0),_xlfn.XLOOKUP(SelectedCategory,CDT_Mapping[Translation Name],CDT_Mapping[ID],\"\"),\"\")","v":""},"",{"$f":"_xlfn.XLOOKUP(E283,ZCDT_EXPORT_2[CDT Leaf],ZCDT_EXPORT_2[Leaf Node ID],\"\")","v":""},null,null,null,null,null,null,null,null,null,null,null,null,null,null,null,"",null,null,null,null,null,null,null,""]
[{"$f":"IF(OR(E284<>0,F284<>0,G284<>0),_xlfn.XLOOKUP(SelectedCategory,CDT_Mapping[Translation Name],CDT_Mapping[Unit translation name],\"\"),\"\")","v":""},{"$f":"IF(OR(E284<>0,F284<>0,G284<>0),_xlfn.XLOOKUP(SelectedCategory,CDT_Mapping[Translation Name],CDT_Mapping[ID],\"\"),\"\")","v":""},"",{"$f":"_xlfn.XLOOKUP(E284,ZCDT_EXPORT_2[CDT Leaf],ZCDT_EXPORT_2[Leaf Node ID],\"\")","v":""},null,null,null,null,null,null,null,null,null,null,null,null,null,null,null,"",null,null,null,null,null,null,null,""]
[{"$f":"IF(OR(E285<>0,F285<>0,G285<>0),_xlfn.XLOOKUP(SelectedCategory,CDT_Mapping[Translation Name],CDT_Mapping[Unit translation name],\"\"),\"\")","v":""},{"$f":"IF(OR(E285<>0,F285<>0,G285<>0),_xlfn.XLOOKUP(SelectedCategory,CDT_Mapping[Translation Name],CDT_Mapping[ID],\"\"),\"\")","v":""},"",{"$f":"_xlfn.XLOOKUP(E285,ZCDT_EXPORT_2[CDT Leaf],ZCDT_EXPORT_2[Leaf Node ID],\"\")","v":""},null,null,null,null,null,null,null,null,null,null,null,null,null,null,null,"",null,null,null,null,null,null,null,""]
[{"$f":"IF(OR(E286<>0,F286<>0,G286<>0),_xlfn.XLOOKUP(SelectedCategory,CDT_Mapping[Translation Name],CDT_Mapping[Unit translation name],\"\"),\"\")","v":""},{"$f":"IF(OR(E286<>0,F286<>0,G286<>0),_xlfn.XLOOKUP(SelectedCategory,CDT_Mapping[Translation Name],CDT_Mapping[ID],\"\"),\"\")","v":""},"",{"$f":"_xlfn.XLOOKUP(E286,ZCDT_EXPORT_2[CDT Leaf],ZCDT_EXPORT_2[Leaf Node ID],\"\")","v":""},null,null,null,null,null,null,null,null,null,null,null,null,null,null,null,"",null,null,null,null,null,null,null,""]
[{"$f":"IF(OR(E287<>0,F287<>0,G287<>0),_xlfn.XLOOKUP(SelectedCategory,CDT_Mapping[Translation Name],CDT_Mapping[Unit translation name],\"\"),\"\")","v":""},{"$f":"IF(OR(E287<>0,F287<>0,G287<>0),_xlfn.XLOOKUP(SelectedCategory,CDT_Mapping[Translation Name],CDT_Mapping[ID],\"\"),\"\")","v":""},"",{"$f":"_xlfn.XLOOKUP(E287,ZCDT_EXPORT_2[CDT Leaf],ZCDT_EXPORT_2[Leaf Node ID],\"\")","v":""},null,null,null,null,null,null,null,null,null,null,null,null,null,null,null,"",null,null,null,null,null,null,null,""]
[{"$f":"IF(OR(E288<>0,F288<>0,G288<>0),_xlfn.XLOOKUP(SelectedCategory,CDT_Mapping[Translation Name],CDT_Mapping[Unit translation name],\"\"),\"\")","v":""},{"$f":"IF(OR(E288<>0,F288<>0,G288<>0),_xlfn.XLOOKUP(SelectedCategory,CDT_Mapping[Translation Name],CDT_Mapping[ID],\"\"),\"\")","v":""},"",{"$f":"_xlfn.XLOOKUP(E288,ZCDT_EXPORT_2[CDT Leaf],ZCDT_EXPORT_2[Leaf Node ID],\"\")","v":""},null,null,null,null,null,null,null,null,null,null,null,null,null,null,null,"",null,null,null,null,null,null,null,""]
[{"$f":"IF(OR(E289<>0,F289<>0,G289<>0),_xlfn.XLOOKUP(SelectedCategory,CDT_Mapping[Translation Name],CDT_Mapping[Unit translation name],\"\"),\"\")","v":""},{"$f":"IF(OR(E289<>0,F289<>0,G289<>0),_xlfn.XLOOKUP(SelectedCategory,CDT_Mapping[Translation Name],CDT_Mapping[ID],\"\"),\"\")","v":""},"",{"$f":"_xlfn.XLOOKUP(E289,ZCDT_EXPORT_2[CDT Leaf],ZCDT_EXPORT_2[Leaf Node ID],\"\")","v":""},null,null,null,null,null,null,null,null,null,null,null,null,null,null,null,"",null,null,null,null,null,null,null,""]
[{"$f":"IF(OR(E290<>0,F290<>0,G290<>0),_xlfn.XLOOKUP(SelectedCategory,CDT_Mapping[Translation Name],CDT_Mapping[Unit translation name],\"\"),\"\")","v":""},{"$f":"IF(OR(E290<>0,F290<>0,G290<>0),_xlfn.XLOOKUP(SelectedCategory,CDT_Mapping[Translation Name],CDT_Mapping[ID],\"\"),\"\")","v":""},"",{"$f":"_xlfn.XLOOKUP(E290,ZCDT_EXPORT_2[CDT Leaf],ZCDT_EXPORT_2[Leaf Node ID],\"\")","v":""},null,null,null,null,null,null,null,null,null,null,null,null,null,null,null,"",null,null,null,null,null,null,null,""]
[{"$f":"IF(OR(E291<>0,F291<>0,G291<>0),_xlfn.XLOOKUP(SelectedCategory,CDT_Mapping[Translation Name],CDT_Mapping[Unit translation name],\"\"),\"\")","v":""},{"$f":"IF(OR(E291<>0,F291<>0,G291<>0),_xlfn.XLOOKUP(SelectedCategory,CDT_Mapping[Translation Name],CDT_Mapping[ID],\"\"),\"\")","v":""},"",{"$f":"_xlfn.XLOOKUP(E291,ZCDT_EXPORT_2[CDT Leaf],ZCDT_EXPORT_2[Leaf Node ID],\"\")","v":""},null,null,null,null,null,null,null,null,null,null,null,null,null,null,null,"",null,null,null,null,null,null,null,""]
[{"$f":"IF(OR(E292<>0,F292<>0,G292<>0),_xlfn.XLOOKUP(SelectedCategory,CDT_Mapping[Translation Name],CDT_Mapping[Unit translation name],\"\"),\"\")","v":""},{"$f":"IF(OR(E292<>0,F292<>0,G292<>0),_xlfn.XLOOKUP(SelectedCategory,CDT_Mapping[Translation Name],CDT_Mapping[ID],\"\"),\"\")","v":""},"",{"$f":"_xlfn.XLOOKUP(E292,ZCDT_EXPORT_2[CDT Leaf],ZCDT_EXPORT_2[Leaf Node ID],\"\")","v":""},null,null,null,null,null,null,null,null,null,null,null,null,null,null,null,"",null,null,null,null,null,null,null,""]
[{"$f":"IF(OR(E293<>0,F293<>0,G293<>0),_xlfn.XLOOKUP(SelectedCategory,CDT_Mapping[Translation Name],CDT_Mapping[Unit translation name],\"\"),\"\")","v":""},{"$f":"IF(OR(E293<>0,F293<>0,G293<>0),_xlfn.XLOOKUP(SelectedCategory,CDT_Mapping[Translation Name],CDT_Mapping[ID],\"\"),\"\")","v":""},"",{"$f":"_xlfn.XLOOKUP(E293,ZCDT_EXPORT_2[CDT Leaf],ZCDT_EXPORT_2[Leaf Node ID],\"\")","v":""},null,null,null,null,null,null,null,null,null,null,null,null,null,null,null,"",null,null,null,null,null,null,null,""]
[{"$f":"IF(OR(E294<>0,F294<>0,G294<>0),_xlfn.XLOOKUP(SelectedCategory,CDT_Mapping[Translation Name],CDT_Mapping[Unit translation name],\"\"),\"\")","v":""},{"$f":"IF(OR(E294<>0,F294<>0,G294<>0),_xlfn.XLOOKUP(SelectedCategory,CDT_Mapping[Translation Name],CDT_Mapping[ID],\"\"),\"\")","v":""},"",{"$f":"_xlfn.XLOOKUP(E294,ZCDT_EXPORT_2[CDT Leaf],ZCDT_EXPORT_2[Leaf Node ID],\"\")","v":""},null,null,null,null,null,null,null,null,null,null,null,null,null,null,null,"",null,null,null,null,null,null,null,""]
[{"$f":"IF(OR(E295<>0,F295<>0,G295<>0),_xlfn.XLOOKUP(SelectedCategory,CDT_Mapping[Translation Name],CDT_Mapping[Unit translation name],\"\"),\"\")","v":""},{"$f":"IF(OR(E295<>0,F295<>0,G295<>0),_xlfn.XLOOKUP(SelectedCategory,CDT_Mapping[Translation Name],CDT_Mapping[ID],\"\"),\"\")","v":""},"",{"$f":"_xlfn.XLOOKUP(E295,ZCDT_EXPORT_2[CDT Leaf],ZCDT_EXPORT_2[Leaf Node ID],\"\")","v":""},null,null,null,null,null,null,null,null,null,null,null,null,null,null,null,"",null,null,null,null,null,null,null,""]
[{"$f":"IF(OR(E296<>0,F296<>0,G296<>0),_xlfn.XLOOKUP(SelectedCategory,CDT_Mapping[Translation Name],CDT_Mapping[Unit translation name],\"\"),\"\")","v":""},{"$f":"IF(OR(E296<>0,F296<>0,G296<>0),_xlfn.XLOOKUP(SelectedCategory,CDT_Mapping[Translation Name],CDT_Mapping[ID],\"\"),\"\")","v":""},"",{"$f":"_xlfn.XLOOKUP(E296,ZCDT_EXPORT_2[CDT Leaf],ZCDT_EXPORT_2[Leaf Node ID],\"\")","v":""},null,null,null,null,null,null,null,null,null,null,null,null,null,null,null,"",null,null,null,null,null,null,null,""]
[{"$f":"IF(OR(E297<>0,F297<>0,G297<>0),_xlfn.XLOOKUP(SelectedCategory,CDT_Mapping[Translation Name],CDT_Mapping[Unit translation name],\"\"),\"\")","v":""},{"$f":"IF(OR(E297<>0,F297<>0,G297<>0),_xlfn.XLOOKUP(SelectedCategory,CDT_Mapping[Translation Name],CDT_Mapping[ID],\"\"),\"\")","v":""},"",{"$f":"_xlfn.XLOOKUP(E297,ZCDT_EXPORT_2[CDT Leaf],ZCDT_EXPORT_2[Leaf Node ID],\"\")","v":""},null,null,null,null,null,null,null,null,null,null,null,null,null,null,null,"",null,null,null,null,null,null,null,""]
[{"$f":"IF(OR(E298<>0,F298<>0,G298<>0),_xlfn.XLOOKUP(SelectedCategory,CDT_Mapping[Translation Name],CDT_Mapping[Unit translation name],\"\"),\"\")","v":""},{"$f":"IF(OR(E298<>0,F298<>0,G298<>0),_xlfn.XLOOKUP(SelectedCategory,CDT_Mapping[Translation Name],CDT_Mapping[ID],\"\"),\"\")","v":""},"",{"$f":"_xlfn.XLOOKUP(E298,ZCDT_EXPORT_2[CDT Leaf],ZCDT_EXPORT_2[Leaf Node ID],\"\")","v":""},null,null,null,null,null,null,null,null,null,null,null,null,null,null,null,"",null,null,null,null,null,null,null,""]
[{"$f":"IF(OR(E299<>0,F299<>0,G299<>0),_xlfn.XLOOKUP(SelectedCategory,CDT_Mapping[Translation Name],CDT_Mapping[Unit translation name],\"\"),\"\")","v":""},{"$f":"IF(OR(E299<>0,F299<>0,G299<>0),_xlfn.XLOOKUP(SelectedCategory,CDT_Mapping[Translation Name],CDT_Mapping[ID],\"\"),\"\")","v":""},"",{"$f":"_xlfn.XLOOKUP(E299,ZCDT_EXPORT_2[CDT Leaf],ZCDT_EXPORT_2[Leaf Node ID],\"\")","v":""},null,null,null,null,null,null,null,null,null,null,null,null,null,null,null,"",null,null,null,null,null,null,null,""]
[{"$f":"IF(OR(E300<>0,F300<>0,G300<>0),_xlfn.XLOOKUP(SelectedCategory,CDT_Mapping[Translation Name],CDT_Mapping[Unit translation name],\"\"),\"\")","v":""},{"$f":"IF(OR(E300<>0,F300<>0,G300<>0),_xlfn.XLOOKUP(SelectedCategory,CDT_Mapping[Translation Name],CDT_Mapping[ID],\"\"),\"\")","v":""},"",{"$f":"_xlfn.XLOOKUP(E300,ZCDT_EXPORT_2[CDT Leaf],ZCDT_EXPORT_2[Leaf Node ID],\"\")","v":""},null,null,null,null,null,null,null,null,null,null,null,null,null,null,null,"",null,null,null,null,null,null,null,""]
[{"$f":"IF(OR(E301<>0,F301<>0,G301<>0),_xlfn.XLOOKUP(SelectedCategory,CDT_Mapping[Translation Name],CDT_Mapping[Unit translation name],\"\"),\"\")","v":""},{"$f":"IF(OR(E301<>0,F301<>0,G301<>0),_xlfn.XLOOKUP(SelectedCategory,CDT_Mapping[Translation Name],CDT_Mapping[ID],\"\"),\"\")","v":""},"",{"$f":"_xlfn.XLOOKUP(E301,ZCDT_EXPORT_2[CDT Leaf],ZCDT_EXPORT_2[Leaf Node ID],\"\")","v":""},null,null,null,null,null,null,null,null,null,null,null,null,null,null,null,"",null,null,null,null,null,null,null,""]

{"sheet":"Dropdowns","index":7,"n_rows":145,"n_cols":24,"rows_kept":145,"cut":false,"hidden":true,"merged":[]}
["CDT EN","CDT EE","CDT LV","CDT LT","CDT ID","Ethical_Validation","Animal Milk type_EN","Animal Milk type_EE","Animal Milk type_LV","Animal Milk type_LT","RGYF_Validation","Environmental_validation","Wine Taste_EN","Wine Taste_EE","Wine Taste_LV","Wine Taste_LT",null,"ENG","EE","LV","LT","UoM_Validate","Baltic/Local_Validate","DAP Rimi DC"]
["A.01.01 Cheese","A.01.01 Juust","A.01.01 Siers","A.01.01 Sūris",{"$f":"LEFT(A2,7)","v":"A.01.01"},"Fairtrade","Cow milk","Lehmapiim","Govs piens","Karvės pienas","Nordic Keyhole","EU Ecolabel","Dry","Kuiv","Sauss","Sausas",null,"Yes","Jah","Jā","Taip","KG","EE","FCA"]
["A.01.01 Cheese (seasonal)","A.01.01 Juust (hooajaline)","A.01.01 Siers (sezonāls)","A.01.01 Sūris (sezoninės prekės)","A.01.01","Rainforest Alliance","Goat milk","Kitsepiim","Kazas piens","Ožkos pienas","ICA Gott liv","Forest Stewardship Council","Semi dry","Poolkuiv","Pussauss","Pusiau sausas",null,"No","Ei","Nē","Ne","PC","LV"]
["A.02.01 Creams","A.02.01 Koored","A.02.01 Krējums","A.02.01 Grietinė","A.02.01","UTZ Certified","Sheep milk","Lambapiim","Aitas piens","Avies pienas","Rimi Good for you","Good Environmental choice","Semi sweet","Poolmagus","Pussalds","Pusiau saldus",null,null,null,null,null,"L","LT"]
["A.02.02 Curd and cottage cheese","A.02.02 Kohupiim ja kodujuust","A.02.02 Mājas siers un biezbiens","A.02.02 Varškė ir varškės produktai","A.02.02",null,"Buffalo milk","Pühvlipiim","Bifeļa piens","Buivolės pienas",null,"Global Organic Textile Standard","Sweet","Magus","Salds","Saldus",null,null,null,null,null,null,"LV&EE"]
["A.02.03 Mayonnaise","A.02.03 Majonees","A.02.03 Majonēze","A.02.03 Majonezas","A.02.03",null,null,null,null,null,null,"Marine Stewardship Council (MSC)","Brut (Sparkling only)","Brut (ainult vahuvein)","Brut (tikai dzirkstošais)","Brut (tik putojantis)",null,null,null,null,null,null,"LV&LT"]
["A.02.04 Milk","A.02.04 Piim","A.02.04 Piens","A.02.04 Pienas","A.02.04",null,null,null,null,null,null,"Aquaculture Stewardship Council (ASC)","Extra dry (Sparkling only)","Extra dry (ainult vahuvein)","Extra Dry (tikai dzirkstošais)","Extra dry (tik putojantis)",null,null,null,null,null,null,"EE&LT"]
["A.02.05 Sour milk","A.02.05 Hapupiim","A.02.05 Kefīrs","A.02.05 Kefyras","A.02.05",null,"GMO_EN","GMO_EE","GMO_LV","GMO_LT",null,"Nordic Swan","Semi sec (Sparkling only)","Semi sec (ainult vahuvein)","Semi Sec (tikai dzirkstošais)","Semi sec (tik putojantis)",null,null,null,null,null,null,"EE&LV&LT"]
["A.03.01 Edible fats","A.03.01 Söödav rasv","A.03.01 Pārtikas tauki","A.03.01 Valgomieji riebalai","A.03.01",null,"Product is GMO","GMO toode","Produkts ir ĢMO","GMO produktas",null,"Roundtable of Sustainable Palm Oil","Fortified dry","Kangendatud kuiv","Stiprināts sauss","Spirituotas sausas"]
["A.04.01 Eggs","A.04.01 Munad","A.04.01 Olas","A.04.01 Kiaušiniai","A.04.01",null,"Contains GMO","Sisaldab GMO toodet","Produkts satur ĢMO","Produkto sudėtyje yra GMO",null,"EcoCert","Fortified semi dry","Kangendatud poolkuiv","Stiprināts pussauss","Spirituotas pusiau sausas"]
["A.05.01 Canned fish and seafood, Canned meat","A.05.01 Konserveeritud kala ja mereannid, Konserveeritud liha","A.05.01 Konservēta gaļa, zivis un jūras veltes","A.05.01 Konservai - žuvis, jūros gėrybės, mėsa","A.05.01",null,null,null,null,null,null,"Cosmos","Fortified semi sweet","Kangendatud poolmagus","Stiprināts pussalds","Spirituotas pusiau saldus"]
["A.06.01 Fresh fish","A.06.01 Värske kala","A.06.01 Svaigas zivis","A.06.01 Šviežia žuvis","A.06.01",null,"Row 1 translations","EE","LV","LT",null,"ProTerra standards","Fortified sweet","Kangendatud magus","Stiprināts salds","Spirituotas saldus"]
["A.06.02 Processed fish and seafood","A.06.02 Töödeldud kala ja merannid","A.06.02 Pārstrādātas zivis un jūras veltes","A.06.02 Apdorota žuvis ir jūros gėrybės","A.06.02",null,"Rimi New item proposal form","Rimi uute toodete pakkumise vorm","Rimi Jaunu produktu piedāvājuma forma","RIMI Naujos prekės pasiūlymo forma",null,"The Round Table on Responsible Soy","Dessert","Dessert","Deserta","Desertinis"]
["A.07.01 Bread, Rimi production bread product","A.07.01 Värske leib-sai, RIMI tootmise leib-sai","A.07.01 Maize, Rimi ražošanas maizes produkti","A.07.01 Duona, Rimi gamybos duonos gaminiai","A.07.01",null,"Do not change sequence and number of columns!","Mitte muuta veergude järjestust! ","Lūdzu nemainiet kolonnu secību un skaitu!","Nekeiskite stulpelių sekos ir skaičiaus!"]
["A.07.02 Coffee buns, Rimi production coffee","A.07.02 Kohvisai, värsked küpsised, RIMI kaupluses küpsetatud kohvisaiad","A.07.02 Kafijas maizītes, Rimi ražošanas kafijas maizītes","A.07.02 Bandelės, Rimi gamybos bandelės","A.07.02"]
["A.07.03 Confectionery, Rimi production confe","A.07.03 Kondiitritooted, RIMI tootmise kondiitritooted","A.07.03 Konditoreja, Rimi ražošanas konditoreja","A.07.03 Konditerija, Rimi gamybos konditerijos gaminiai","A.07.03"]
["A.08.01 Frozen fish and seafood","A.08.01 Külmutatud kala ja mereannid","A.08.01 Saldētas zivis un jūras veltes","A.08.01 Šaldyta žuvis ir jūros gėrybės","A.08.01"]
["A.08.02 Frozen food, meat, F&V","A.08.02 Külmutatud puu- ja juurviljad, köögiviljad ning liha","A.08.02 Saldēti produkti, gaļa, augļi un dārzeņi","A.08.02 Šaldytas maistas, mėsa, vaisiai, daržovės","A.08.02",null,"Please select…","Palun vali…","Lūdzu izvēlieties…","Prašome pasirinkti...",null,null,"Wine Color_EN","Wine Color_EE","Wine Color_LV","Wine Color_LT"]
["A.09.01 Ice cream, ice products","A.09.01 Jäätis","A.09.01 Saldējums un ledus","A.09.01 Ledai ir ledo kubeliai","A.09.01",null,null,null,null,null,null,null,"Red ","Punane","Sarkans","Raudonas"]
["A.10.01 Fresh meat marinade","A.10.01 Marineeritud liha","A.10.01 Svaigas gaļas marināde","A.10.01 Šviežia marinuota mėsa","A.10.01",null,"Main page translations",null,null,null,null,null,"White","Valge","Balts","Baltas"]
["A.10.02 Fresh meat pork, beef, lamb","A.10.02 Sea-, veise-, lambaliha","A.10.02 Svaiga cūkgaļa, lielopa gaļa, jēra gaļa","A.10.02 Šviežia mėsa - kiauliena, jautiena, aviena","A.10.02",null,"EN","EE","LV","LT",null,null,"Pink","Roosa","Rozā","Rožinis"]
["A.10.03 Fresh meat poultry","A.10.03 Linnuliha","A.10.03 Svaiga putnu gaļa","A.10.03 Šviežia paukštiena","A.10.03",null,"Welcome to Rimi New Item Proposal Form!","Tere tulemast Rimi uue toote pakkumise vormile!","Laipni lūgti Rimi Jaunu produktu piedāvājuma formā!","Sveiki atvykę i Rimi naujos prekės pasiūlymo formą!"]
["A.10.04 Fresh minced meat","A.10.04 Hakkliha","A.10.04 Svaiga maltā gaļa","A.10.04 Šviežia malta mėsa","A.10.04",null,"Please select language:","Palun vali keel:","Lūdzu izvēlieties valodu:","Pasirinkite kalbą:"]
["A.11.01 Ready to eat food; ready to cook foo","A.11.01 Valmistoit, Rimi tootmise valmistoit","A.11.01 Gatavie ēdieni","A.11.01 Pagamintas maistas","A.11.01",null,"Please select Product Group:","Palun vali tootegrupp:","Lūdzu izvēlieties produktu grupu:","Pasirinkite produkto grupę:"]
["A.12.01 Processed meat","A.12.01 Töödeldud liha","A.12.01 Pārstrādāta gaļa","A.12.01 Apdorota mėsa","A.12.01",null,"Please select Product Category:","Palun vali tootekategooria:","Lūdzu izvēlieties produktu kategoriju:","Pasirinkite produkto kategoriją:"]
["A.14.01 Curd bars","A.14.01 Kohukesed","A.14.01 Biezpiena sieriņi","A.14.01 Varškės sūreliai","A.14.01",null,"Press here when finalized:","Pärast lõpetamist vajuta siia:","Nospiediet šeit kad pabeigts:","Baigę spauskite čia:"]
["A.14.02 Desserts and snacks","A.14.02 Desserdid ja snäkid","A.14.02 Deserti","A.14.02 Desertai ir užkandžiai","A.14.02",null,"Input is done","Andmed sisestatud","Dati ievadīti","Atlikta"]
["A.14.03 Yogurts","A.14.03 Jogurtid","A.14.03 Jogurti","A.14.03 Jogurtai","A.14.03"]
["A.15.01 Vegan","A.15.01 Vegan","A.15.01 Produkti vegāniem","A.15.01 Veganiškas maistas","A.15.01"]
["C.01.01 Bitter drinks, vermouth, liquors","C.01.01 Bitterid, vermutid, liköörid","C.01.01 Liķieris, balzāms un vermuts","C.01.01 Trauktinės, likeriai, vermutai","C.01.01",null,"New Item proposal sheet - columns, headers translations"]
["C.01.02 Rum, whiskey, cognac, brandy","C.01.02 Rumm, viski, konjak ja brändi","C.01.02 Rums, viskijs, konjaks un brendijs","C.01.02 Romas, viskis, konjakas, brandis","C.01.02",null,"EN","EE","LV","LT"]
["C.01.03 Vermouth, sparkling wine","C.01.03 Vermut, vahuvein","C.01.03 Vermuts, dzirkstošais vīns","C.01.03 Vermutas, putojantis vynas","C.01.03",null,"Mandatory field","Kohustuslik väli","Obligātais lauks","Privalomas laukas"]
["C.01.04 Wine","C.01.04 Veinid","C.01.04 Vīns","C.01.04 Vynas","C.01.04",null,"Automatic field","Automaatne väli","Automātiskais lauks","Automatinis laukas"]
["C.01.05 Vodka, gin, tequila","C.01.05 Viin, dzinn ja tekiila","C.01.05 Degvīns, džins un tekila","C.01.05 Degtinė, džinas, tekila",{"$f":"LEFT(A34,7)","v":"C.01.05"},null,"Optional field","Valikuline väli","Izvēles lauks","Neprivalomas laukas"]
["C.02.01 Biscuits, wafers","C.02.01 Küpsised ja vahvlid","C.02.01 Cepumi un vafeles","C.02.01 Sausainiai, vafliai","C.02.01",null,"Input is not allowed","Sisend pole lubatud","Atstāt lauku tukšu","Įvestis neleidžiama"]
["C.03.01 Beer, cider, long drinks, cocktails","C.03.01 Õlu, siider, long drink, kokteilid (ka alkoholivabad)","C.03.01 Alus, sidrs un kokteiļi","C.03.01 Alus, sidras, alkoholiniai kokteiliai","C.03.01",null,"Please select language and follow field type colour to fill in necessary information.","Valige keel, järgige lahtrite taustavärvi loogikat ja sisestage teave vastavalt nõutule.","Lūdzu izvēlieties valodu un sekojiet aizpildāmo lauku krāsu norādēm lai aizpildītu nepieciešamo informāciju.","Pasirinkite kalbą ir užpildykite reikiamą informaciją kita spalva pažymėtuose laukeliuose."]
["C.04.01 Canned (jarred) fruits and berries","C.04.01 Konserveeritud (purgis) puuviljad ja marjad","C.04.01 Konservēti augļi un ogas","C.04.01 Konservuoti vaisiai ir uogos","C.04.01"]
["C.04.02 Canned (jarred) vegetables, canned p","C.04.02 Konserveeritud (purgis) juurviljad, konserveeritud valmistoit","C.04.02 Konservēti dārzeņi un konservēts gatavais ēdiens","C.04.02 Konservuotos daržovės, konservuoti gaminiai","C.04.02"]
["C.04.03 Jam, marmalade, puree, honey, sweet","C.04.03 Moos, marmelaad, püree, mesi, magusad kastmed ja ekstraktid, šokolaadi-ja pähklivõi","C.04.03 Ievārījums, marmelāde, biezeņi, medus un saldās mērces","C.04.03 Uogienės, marmeladai, medus, saldūs padažai","C.04.03",null,"Product group translations"]
["C.05.01 Salty dry ingredients","C.05.01 Soolased kuivad koostisosad (pakisupid, nuudliroad, puljongid)","C.05.01 Sausie pusfabrikāti","C.05.01 Sūrus, sausi pusgaminiai (sriubos, sultiniai, makaronai ir pan.)","C.05.01",null,"EN","EE","LV","LT"]
["C.06.01 Cash zone","C.06.01 Kassatsoon","C.06.01 Kases zona","C.06.01 Kasų zona","C.06.01",null,"Alcohol","Alkohol","Alkohols","Alkoholis"]
["C.07.01 Nuts, dried fruits, dried fruit and","C.07.01 Pähklid, kuivatatud puuviljad, kuivatatud puuviljade ja pähklite segud, seemned","C.07.01 Žāvēti augļi un rieksti","C.07.01 Riešutai, džiovinti vaisiai, džiovintų riešutų, vaisių mišiniai, sėklos","C.07.01",null,"Baby food","Lastetoidud","Bērnu pārtika","Kūdikių maistas"]
["C.08.01 Cereals and muesli products","C.08.01 Hommikusöögihelbed ja müslid","C.08.01 Sausās brokastis un musli produkti","C.08.01 Pusryčių dribsniai ir miusli produktai","C.08.01",null,"Cosmetics, hygiene and body care products","Kosmeetika, hügieeni ja kehahoolduse tooted","Kosmētika, higiēnas un ķermeņa kopšanas preces","Kosmetika, higienos ir kūno priežiūros prekės"]
["C.08.02 Flakes,  groats, legume, rice","C.08.02 Helbed, tangud, kaunviljad, riis","C.08.02 Pārslas, putraimi, zirņi, pupiņas un rīsi","C.08.02 Kruopos, kruopų dribsniai, ankštiniai, ryžiai","C.08.02",null,"Fresh food","Värsked toiduained","Svaigā pārtika","Šviežūs produktai"]
["C.08.03 Flours and baking mixtures","C.08.03 Jahud ja jahusegud","C.08.03 Milti un miltu maisījumi","C.08.03 Miltai, miltų mišiniai","C.08.03",null,"Household chemicals","Kodukeemia","Sadzīves ķīmija","Buitinė chemija"]
["C.08.04 Pasta","C.08.04 Pastatooted (makaronid)","C.08.04 Makaroni","C.08.04 Makaronai","C.08.04",null,"Non-alcoholic beverages","Mitte alkohoolsed joogid","Bezalkoholiskie dzērieni","Nealkoholiniai gėrimai"]
["C.09.01 Coffee, cocoa","C.09.01 Kohv, kakao","C.09.01 Kafija un kakao","C.09.01 Kava, kakava","C.09.01",null,"Nonfood","Nonfood","Nepārtikas preces","Nemaisto prekės"]
["C.09.02 Tea","C.09.02 Tee","C.09.02 Tēja","C.09.02 Arbata","C.09.02",null,"Packed food (grocery)","Kauasäiliv toidukaup","Iepakotā pārtika","Supakuotas maistas (bakalėja)"]
["C.10.01 Juices and nectars, concentrates and","C.10.01 Mahlad, nektarid, mahlajoogid, konsentraadid ja siirup","C.10.01 Sulas, nektāri, sīrupi un sulu koncentrāti","C.10.01 Sultys, nektarai","C.10.01",null,"Pet food","Loomatoit","Dzīvnieku barība","Naminių gyvūnų maistas"]
["C.11.01 Free from","C.11.01 Tervisetooted","C.11.01 Speciālais uzturs","C.11.01 Produktai Be...","C.11.01",null,"Wine, sparkling wine","Vein ja vahuvein","Vīni un dzirkstošie vīni","Vynas ir putojantis vynas"]
["C.11.02 Sports nutrition and supplements","C.11.02 Spordi toidulisandid","C.11.02 Sporta uzturs ","C.11.02 Papildai, maistas sportuojantiems","C.11.02",null,"Cigarettes, cigars, other tobacco","Sigaretid, sigarid ja teised tubaka tooted","Cigaretes, cigāri un citi tabakas izstrādājumi","Cigaretės, cigarai ir kiti tabako gaminiai"]
["C.12.01 Seasonal Assortment (Alco&Wine)","C.12.01 Hooajaline sortiment (alkohol ja vein)","C.12.01 Sezonālais sortiments (alkohols un vīns)","C.12.01 Sezoninis asortimentas (alus ir vynas)","C.12.01",null,"Press, magazines","Ajalehed ja ajakirjad","Žurnāli un preses izdevumi","Spauda ir žurnalai"]
["C.12.01 Seasonal Assortment (Sweets)","C.12.01 Hooajaline sortiment (maiustused)","C.12.01 Sezonālais sortiments (saldumi)","C.12.01 Sezoninis asortimentas (saldumynai)","C.12.01",null,"Frozen food","Külmutatud toiduained","Saldētā pārtika","Šaldyti produktai"]
["C.13.01 Baking needs and dessert powders","C.13.01 Küpsetamiseks ja desserdipulbrid","C.13.01 Cepamie un desertu pulveri","C.13.01 Kepimo ir dekoravimo priedai","C.13.01",null,"Lottery tickets, prepaid mobile cards","Loterii piletid ja kõnekaardid","Loterijas biļetes un priekšapmaksas kartes","Loterijos bilietai ir išankstinio apmokėjimo mobilaus telefono kortelės"]
["C.13.02 Cooking oils, vinegar","C.13.02 Küpsetusõlid, äädikad","C.13.02 Eļļas un etiķi","C.13.02 Aliejai, actai","C.13.02",null,"Other Nearfood","Muud nearfood tooted","Citas piepārtikas preces","Kitos nemaisto prekės"]
["C.13.03 Ethnic seasoning and meal ingredient","C.13.03 Rahvusköögi maitseained ja toidu koostisosad","C.13.03 Etniskie un eksotiskie ēdieni","C.13.03 Etninių virtuvių gaminiai ","C.13.03"]
["C.13.04 Mustard, horseradish, sauces and ket","C.13.04 Sinep, mädarõigas, kastmed ja ketšup","C.13.04 Sinepes, mārrutki, mērces un kečupi","C.13.04 Padažai, krienai, garstyčios","C.13.04"]
["C.13.05 Spices","C.13.05 Maitseained, vürtsid","C.13.05 Garšvielas","C.13.05 Prieskoniai","C.13.05"]
["C.13.06 Sweetening agents","C.13.06 Suhkur, suhkruasendajad","C.13.06 Cukurs un saldinātāji","C.13.06 Cukrus ir kiti saldikliai","C.13.06"]
["C.14.01 Cigarettes, tobacco & accessories","C.14.01 Sigaretid, tubakad ja erinevad tarvikud","C.14.01 Cigaretes, cigāri, tabakas izstrādājumi un piederumi","C.14.01 Cigaretės, tabakas ir kiti aksesuarai","C.14.01"]
["C.15.01 Chips, dip mixes, snacks, popcorn","C.15.01 Krõpsud, snäkid, popkorn, dipikastme pulbrid","C.15.01 Čipsi, čipsu mērce-dips, uzkodas un popkorns","C.15.01 Užkandžiai, traškučiai, spragėsiai","C.15.01"]
["C.16.01 Lemonade, ice tea, kvass, tonic, par","C.16.01 Limonaad, jäätee, kali, energiajook, toonik","C.16.01 Limonāde, ledus tēja, kvass un toniks","C.16.01 Limonadai, šalta arbata, gira, sultys","C.16.01"]
["C.16.02 Water, sports drinks","C.16.02 Vesi, spordijoogid","C.16.02 Ūdens un sporta dzērieni","C.16.02 Vanduo, vandens gėrimai","C.16.02"]
["C.17.01 Chewing gums","C.17.01 Närimiskummid","C.17.01 Košļājamās gumijas","C.17.01 Kramtomoji guma","C.17.01"]
["C.17.02 Chocolate tablets and bars","C.17.02 Šokolaaditahvlid ja batoonid","C.17.02 Šokolādes tāfeles un batoniņi","C.17.02 Šokoladas, šokoladiniai batonėliai","C.17.02"]
["C.17.03 Sweets bags, children sweets, other","C.17.03 Kommipakid, kommikarbid, muud maiustused (v.a.šokolaadid)","C.17.03 Konfektes un sveramie saldumi","C.17.03 Saldainiai, saldainių dėžutės",{"$f":"LEFT(A66,7)","v":"C.17.03"}]
["D.01.01 Baby food","D.01.01 Toidud imikutele","D.01.01 Zīdaiņu pārtika","D.01.01 Kūdikių maistas","D.01.01"]
["D.02.02 Deodorants; Fragrances","D.02.02 Deodorandid; Lõhnad","D.02.02 Dezodoranti; Smaržas","D.02.02 Dezodorantai; Kvepalai","D.02.02"]
["D.02.03 Depilation and shaving","D.02.03 Depileerimine, raseerimine","D.02.03 Depilācijas un skūšanās produkti","D.02.03 Skutimosi ir depiliacijos priemonės","D.02.03"]
["D.02.04 Hair wash and styling","D.02.04 Juuksehooldus, juukseviimistlus","D.02.04 Matu mazgāšanas un veidošanas produkti","D.02.04 Plaukų priežiūros priemonės ir formavimo priemonės","D.02.04"]
["D.02.05 Hand creams, foot care, body lotion","D.02.05 Kätehooldus, jalahooldus, kehapiimad, päevitustooted","D.02.05 Roku, pēdu, ķermeņa krēmi un losjoni","D.02.05 Kūno, rankų ir pėdų priežiūros priemonės","D.02.05"]
["D.02.07 Oral care","D.02.07 Suuhooldus","D.02.07 Mutes kopšana","D.02.07 Dantų priežiūros priemonės","D.02.07"]
["D.02.08 Soaps, shower gels, bath foams, salt","D.02.08 Seebid, duššigeelid, vanni vahud, vanni soolad","D.02.08 Ziepes, dušas želejas, vannas putas un sāls","D.02.08 Muilas, dušo želės, vonios putos ir druska","D.02.08"]
["D.03.01 Cotton, moist wipes","D.03.01 Puuvill, niisked salvrätikud","D.03.01 Vate un mitrās salvetes","D.03.01 Vatos diskeliai, drėgnos servetėlės","D.03.01"]
["D.03.02 Home pharmacy","D.03.02 Koduapteek","D.03.02 Mājas aptiekas produkti","D.03.02 Namų vaistinėlė","D.03.02"]
["D.04.01 Face care","D.04.01 Näohooldus","D.04.01 Sejas kopšanas produkti","D.04.01 Veido priežiūros priemonės","D.04.01"]
["D.04.03 Gift sets in cosmetics (seasonal)","D.04.03 Kosmeetika kinkepakid","D.04.03 Kosmētikas dāvanu komplekti (sezonāli)","D.04.03 Kosmetiniai dovanų rinkiniai (sezoninės prekės)","D.04.03"]
["D.04.04 Make-up","D.04.04 Näomeik","D.04.04 Meikaps","D.04.04 Makiažo priemonės","D.04.04"]
["D.04.05 Nail care treatments","D.04.05 Küüntehooldus","D.04.05 Nagu kopšanas produkti","D.04.05 Nagų priežiūros priemonės","D.04.05"]
["D.05.01 Home laundry","D.05.01 Kodune pesupesemine","D.05.01 Veļas mazgāšanas un kopšanas produkti","D.05.01 Skalbikliai","D.05.01"]
["D.05.02 Household cleaning and dishwashing","D.05.02 Puhastusvahendid ja kodune nõudepesu","D.05.02 Mājas tīrīšanas un trauku mazgāšanas produkti","D.05.02 Valikliai ir indų plovikliai","D.05.02"]
["D.05.03 Other homecare (glues, repellents, shoe care)","D.05.03 Muu koduhooldus (liimid, tõrjevahendid, jalatsihooldus)","D.05.03 Cita mājas aprūpe (līmes, repelenti, apavu kopšana)","D.05.03 Kitos namų priežiūros priemonės (klijai, repelentai, batų priežiūra)","D.05.03"]
["D.06.01 Intimate hygiene","D.06.01 Intiimhügieen","D.06.01 Intīmās higiēnas piederumi","D.06.01 Intymi higiena","D.06.01"]
["D.07.01 Diapers and baby care","D.07.01 Mähkmed ja kehahooldustooted imikutele","D.07.01 Autiņbiksītes un bērnu kopšanas produkti","D.07.01 Sauskelnės ir priemonės kūdikių priežiūrai","D.07.01"]
["D.08.01 Media,books,cards,calendars","D.08.01 Meedia, raamatud, kaardid, kalendrid","D.08.01 Prese, grāmatas, kartiņas un kalendāri","D.08.01 Knygos, žurnalai, kalendoriai","D.08.01"]
["D.08.02 Partner services, lottery tickets","D.08.02 Partnerite teenused, lotopiletid","D.08.02 Partneru pakalpojumi un loterijas biļetes","D.08.02 Partnerių paslaugos, loterijos bilietai","D.08.02"]
["D.09.01 Pet food and accessories","D.09.01 Lemmikloomatoidud ja tarvikud","D.09.01 Dzīvnieku barība un kopšanas piederumi","D.09.01 Gyvūnų maistas ir aksesuarai","D.09.01"]
["D.10.01 Toilet paper, paper towels, handkerc","D.10.01 Tualettpaber, majapidamispaber, taskurätikud","D.10.01 Tualetes papīrs, papīra dvieļi un kabatas lakatiņi","D.10.01 Tualetinis popierius, popieriniai rankšluosčiai, popierinės servetėlės","D.10.01"]
["D.11.02 National souvenirs","D.11.02 Suveniirid","D.11.02 Nacionālie suvenīri","D.11.02 Nacionaliniai suvenyrai","D.11.02"]
["D.12.01 Body accessories and sponges","D.12.01 Kehahooldustarvikud ja käsnad","D.12.01 Ķermeņa kopšanas aksesuāri un sūkļi","D.12.01 Kūno priežiūros aksesuarai ir kempinės","D.12.01"]
["D.12.02 Jewelry","D.12.02 Ehted","D.12.02 Rotaslietas","D.12.02 Papuošalai","D.12.02"]
["D.12.03 Hair accessories","D.12.03 Juuste tarvikud","D.12.03 Matu aksesuāri","D.12.03 Plaukų aksesuarai","D.12.03"]
["E.01.01 Beauty electronics","E.01.01 Elektrilised ilutooted","E.01.01 Skaistumkopšanas elektrotehnika","E.01.01 Grožio ir sveikatos smulki technika","E.01.01"]
["E.01.03 Optical products","E.01.03 Optika tooted","E.01.03 Optikas produkti","E.01.03 Optikos prekės","E.01.03"]
["E.01.04 Terry towels and accesories","E.01.04 Froteerätikud ja aksessuaarid","E.01.04 Frotē dvieļi un aksesuāri","E.01.04 Vonios rankšluosčiai ir kiti vonios priedai","E.01.04"]
["E.02.01 Batteries","E.02.01 Patareid","E.02.01 Baterijas","E.02.01 Baterijos","E.02.01"]
["E.02.02 Consumer electronics","E.02.02 Koduelektroonika","E.02.02 Elektrotehnika","E.02.02 Buitinė technika","E.02.02"]
["E.02.03 Gifts and hobby","E.02.03 Kingitused ja hobikaubad","E.02.03 Dāvanas un hobijs","E.02.03 Rankdarbių priemonės ir dovanų askesuarai",{"$f":"LEFT(A98,7)","v":"E.02.03"}]
["E.02.06 School and office supplies","E.02.06 Kooli- ja kontoritarbed","E.02.06 Skolas un biroja piederumi","E.02.06 Kanceliarinės priemonės","E.02.06"]
["E.03.01 Adult's clothing--> Clothing accessories","E.03.01 Täiskasvanute rõivad--> Rõivaste aksessuaarid","E.03.01 Pieaugušo apģērbs -> apģērba piederumi","E.03.01 Tekstilė suaugusiems","E.03.01"]
["E.03.02 Bags and umbrellas","E.03.02 Kotid ja vihmavarjud","E.03.02 Somas un lietussargi","E.03.02 Krepšiai, rankinės, skėčiai","E.03.02"]
["E.03.03 Children underwear","E.03.03 Laste aluspesu","E.03.03 Bērnu apakšveļa","E.03.03 Vaikiški apatiniai drabužiai","E.03.03"]
["E.03.04 Children`s clothing","E.03.04 Laste rõivad","E.03.04 Bērnu apģērbs","E.03.04 Vaikų drabužiai","E.03.04"]
["E.03.05 Children's socks & tights","E.03.05 Laste sokid ja sukapüksid","E.03.05 Bērnu zeķes un zeķubikses","E.03.05 Vaikų kojinės ir pėdkelnės","E.03.05"]
["E.03.06 Footwear","E.03.06 Jalanõud","E.03.06 Apavi","E.03.06 Avalynė","E.03.06"]
["E.03.07 Men's socks","E.03.07 Meeste sokid","E.03.07 Vīriešu zeķes","E.03.07 Vyriškos kojinės","E.03.07"]
["E.03.08 Men's underwear","E.03.08 Meeste aluspesu","E.03.08 Vīriešu apakšveļa","E.03.08 Vyrų apatiniai drabužiai","E.03.08"]
["E.03.09 Swimwear","E.03.09 Ujumisriided","E.03.09 Peldkostīmi","E.03.09 Maudymosi apranga","E.03.09"]
["E.03.10 Women's socks & tights","E.03.10 Naiste sokid ja sukapüksid","E.03.10 Sieviešu zeķes un zeķubikses","E.03.10 Moteriškos kojinės ir pėdkelnės","E.03.10"]
["E.03.11 Women's underwear","E.03.11 Naiste aluspesu","E.03.11 Sieviešu apakšveļa","E.03.11 Moteriški apatiniai drabužiai","E.03.11"]
["E.03.12 Women's socks","E.03.12 Naiste sokid","E.03.12 Sieviešu zeķes","E.03.12 Moteriškos kojinės","E.03.12"]
["E.04.01 Candles","E.04.01 Küünlad","E.04.01 Sveces","E.04.01 Žvakės","E.04.01"]
["E.04.02 Car accessories and chemicals","E.04.02 Autotarvikud ja -keemia","E.04.02 Auto aksesuāri un ķīmija","E.04.02 Automobilinė chemija ir aksesuarai","E.04.02"]
["E.04.03 Cleaning tools and accessories","E.04.03 Koristustarvikud ja aksessuaarid","E.04.03 Tīrīšanas darba rīki un piederumi","E.04.03 Valymo įrankiai ir aksesuarai","E.04.03"]
["E.04.04 DIY","E.04.04 \"Tee ise\" tooted","E.04.04 Lampas un elektroinstalācijas priekšmeti","E.04.04 Namų remonto ir kiti įrankiai","E.04.04"]
["E.04.05 Electric Bulbs","E.04.05 Elektripirnid","E.04.05 Spuldzes","E.04.05 Elektros lemputės","E.04.05"]
["E.04.06 Home care accessories","E.04.06 Koduhooldus tarvikud","E.04.06 Mājas kopšanas produkti","E.04.06 Namų apyvokos reikmenys","E.04.06"]
["E.04.07 Home electric appliances","E.04.07 Kodused elektriseadmed","E.04.07 Sadzīves tehnika","E.04.07 Namų apyvokos įranga","E.04.07"]
["E.04.08 Home textiles","E.04.08 Kodutekstiil","E.04.08 Mājas tekstils","E.04.08 Namų tekstilė","E.04.08"]
["E.04.09 Yarns and handicraft","E.04.09 Lõngad ja käsitöö","E.04.09 Dzijas un rokdarbi","E.04.09 Siūlai ir rankdarbių priemonės","E.04.09"]
["E.04.10 Bathroom","E.04.10 Vannituba","E.04.10 Vannas istaba","E.04.10 Vonia","E.04.10"]
["E.05.01 Activity toys","E.05.01 Aktiivsusmänguasjad","E.05.01 Aktivitāšu rotaļlietas","E.05.01 Lauko žaislai","E.05.01"]
["E.05.02 Baby Toys","E.05.02 Beebide mänguasjad","E.05.02 Bērnu rotaļlietas","E.05.02 Žaislai kūdikiams","E.05.02"]
["E.05.03 Construction sets","E.05.03 Ehitamise komplektid","E.05.03 Celtniecības komplekti","E.05.03 Konstravimo rinkiniai","E.05.03"]
["E.05.04 Soft Toys","E.05.04 Pehmed mänguasjad","E.05.04 Mīkstās rotaļlietas","E.05.04 Pliušiniai, minkšti žaislai","E.05.04"]
["E.05.05 Toys for boys","E.05.05 änguasjad poistele","E.05.05 Rotaļlietas zēniem","E.05.05 Žaislai berniukams","E.05.05"]
["E.05.06 Toys for girls","E.05.06 Mänguasjad tüdrukutele","E.05.06 Rotaļlietas meitenēm","E.05.06 Žaislai mergaitėms","E.05.06"]
["E.05.07 Baby accesories","E.05.07 Beebi aksessuaarid","E.05.07 Bērnu aksesuāri","E.05.07 Kūdikių priežiūros aksesuarai","E.05.07"]
["E.05.08 Creative and educational toys","E.05.08 Loovus ja arendavad mänguasjad","E.05.08 Radošas un izglītojošas rotaļlietas","E.05.08 Kūrybiniai rinkiniai, ugdomieji žaislai","E.05.08"]
["E.05.09 Games","E.05.09 Mängud","E.05.09 Spēles","E.05.09 Stalo žaidimai",{"$f":"LEFT(A130,7)","v":"E.05.09"}]
["E.06.01 Disposable tableware","E.06.01 Ühekordsed lauanõud","E.06.01 Vienreizējās lietošanas trauki","E.06.01 Vienkartiniai indai ir įrankiai","E.06.01"]
["E.06.02 Food preparation","E.06.02 Toidu valmistamine","E.06.02 Ēdienu pagatavošana","E.06.02 Maisto gamybos ir stalo įrankiai","E.06.02"]
["E.06.03 Kitchen Gadgets","E.06.03 Köögiriistad","E.06.03 Virtuves piederumi","E.06.03 Virtuviniai, maisto gamybos aksesuarai","E.06.03"]
["E.06.04 Disposable materials","E.06.04 Toidusäilitus materjalid","E.06.04 Vienreizējās lietošanas materiāli","E.06.04 Vienkartinės priemonės","E.06.04"]
["E.06.05 Kitchen textiles","E.06.05 Köögitekstiilid","E.06.05 Virtuves tekstilizstrādājumi","E.06.05 Virtuvinė tekstilė","E.06.05"]
["E.06.06 Party accessories","E.06.06 Peotarbed","E.06.06 Ballīšu aksesuāri","E.06.06 Šventiniai, gimtadienių aksesuarai","E.06.06"]
["E.06.07 Small domestic appliances","E.06.07 Väikesed kodumasinad","E.06.07 Maza izmēra sadzīves tehnika","E.06.07 Smulki buitinė technika","E.06.07"]
["E.06.08 Table serving","E.06.08 Lauanõud","E.06.08 Galda piederumi","E.06.08 Stalo serviravimo prekės","E.06.08"]
["E.06.09 Kitchen storage","E.06.09 Köögitarvikud","E.06.09 Uzglabāšanas piederumi virtuvei","E.06.09 Maisto saugojimo indai","E.06.09"]
["E.06.10 Napkins and table cover","E.06.10 Salvrätikud ja lauakatted","E.06.10 Salvetes un galdauti","E.06.10 Staltiesės ir servetėlės","E.06.10"]
["E.07.03 Gardening supplies","E.07.03 Aiakaubad","E.07.03 Dārza piederumi","E.07.03 Sodo ir daržo priemonės","E.07.03"]
["E.07.04 Grilling","E.07.04 Grillimistarvikud","E.07.04 Grilēšana","E.07.04 Grilio priemonės ir aksesuarai","E.07.04"]
["E.07.06 Outdoor furniture and supplies","E.07.06 Aiamööbel ja tarvikud","E.07.06 Āra mēbeles un piederumi","E.07.06 Lauko baldai","E.07.06"]
["E.07.07 Sport and leisure","E.07.07 Sport ja vaba aeg","E.07.07 Sports un atpūta","E.07.07 Sporto ir laisvalaikio priemonės","E.07.07"]
["E.07.09 Festivity","E.07.09 Pühad","E.07.09 Svētki","E.07.09 Šventinės dekoracijos","E.07.09"]